{"text_format":"1","workbook":"xlsx","n_sheets":15,"sheets":["FUNDING SHEET","TRANSACTION_REPORT","MONTHLY_TOTALS","OCT","NOV","DEC","JAN","FEB","MAR","APR","MAY","JUN","JUL","AUG","SEP"],"not_rendered":{"charts":0,"images":0,"macros":1,"external_links":0,"defined_names":31,"comments":0,"pivot_tables":0},"unopened":[],"bounds":{"document_bytes":16777216,"sheet_cells":100000,"rows_first":2000,"rows_last":500,"rows_between":2000,"halvings":0,"cell_chars":16384,"cell_head_chars":4096},"cells_cut":0,"cells_raw":0,"read":"whole","date_system":"1900"}

{"sheet":"FUNDING SHEET","index":0,"n_rows":229,"n_cols":12,"rows_kept":229,"cut":false,"hidden":false,"merged":[[2,0,2,8],[28,0,28,8],[0,0,0,8],[1,11,1,12],[0,11,0,12],[3,12,27,13],[2,11,2,13]]}
["PURCHASE ORDER LOG",null,null,null,null,null,null,null,null,null,"FISCAL YEAR"]
["DATE","PR #","DESCRIPTION","PROJECT NUMBER","TASK NUMBER","BOC","BEGINNING BALANCE","INCREASE / DECREASE","FUNDED BALANCE",null,"LAST FOUR OF CREDIT CARD:"]
["INITIAL ACCOUNTING LINE FUNDING",null,null,null,null,null,null,null,null,null,"CARDHOLDER NAME:"]
[null,null,null,null,null,{"$f":"IF(C4=\"\",\"\",VLOOKUP(C4,$K$4:$L$40,2,FALSE))","v":""},null,null,{"$f":"IF(G4=\"\",\"\",G4+H4)","v":""},{"$f":"D4&\"  \"&E4&\"  \"&F4","v":"    "}]
[null,null,null,null,null,"",null,null,"",{"$f":"D5&\"  \"&E5&\"  \"&F5","v":"    "},"AUTOMOTIVE MAINT. SUPPLIES",26090]
[null,null,null,null,null,"",null,null,"","    ","BUILDING/GROUNDS MAINT SUPPLIES",26110]
[null,null,null,null,null,"",null,null,"","    ","BUILDING/GROUNDS MAINT/REPAIR",25408]
[null,null,null,null,null,"",null,null,"","    ","ENVIRONMENTAL COMPLIANCE",25404]
[null,null,null,null,null,"",null,null,"","    ","FUEL - LIQUIFIED PETROLEUM",26360]
[null,null,null,null,null,"",null,null,"","    ","LAB, SCIENTIFIC & TESTING SUPPLIES",26550]
[null,null,null,null,null,"",null,null,"","    ","OFFICE SUPPLIES - GSA",26880]
[null,null,null,null,null,"",null,null,"","    ","OFFICE SUPPLIES - OTHER",26620]
[null,null,null,null,null,"",null,null,"","    ","OPERATION OF FACILITIES",25413]
[null,null,null,null,null,"",null,null,"","    ","OTHER SUPPLIES",26960]
[null,null,null,null,null,"",null,null,"","    ","POSTAGE",23380]
[null,null,null,null,null,"",null,null,"","    ","PRINTING & PRODUCTION",24090]
[null,null,null,null,null,"",null,null,"","    ","RENT - BLDG - TECHNICAL",23260]
[null,null,null,null,null,"",null,null,"","    ","RENT - FURNITURE","233I0"]
[null,null,null,null,null,"",null,null,"","    ","RENT - OFFICE SPACE - GSA",23130]
[null,null,null,null,null,"",null,null,"","    ","RENT - OFFICE SPACE - OTHER",23230]
[null,null,null,null,null,"",null,null,"","    ","RENT - WHSE / STORAGE",23160]
[null,null,null,null,null,"",null,null,"","    ","SAFETY SUPPLIES",26690]
[null,null,null,null,null,"",null,null,"","    ","TELEPHONE & INTERNET","233X0"]
[null,null,null,null,null,"",null,null,"","    ","TRANSPORT GOV'T PROPERTY",22110]
[null,null,null,null,null,"",null,null,"","    ","UTILITIES - ELECTRICITY","233T0"]
[null,null,null,null,null,"",null,null,"","    ","UTILITIES - GAS/PROPANE","233Q0"]
[null,null,null,null,null,"",null,null,"","    ","UTILITIES - NATURAL GAS","233R0"]
[null,null,null,null,null,"",null,null,"","    ","UTILITIES - OTHER","233V0"]
["INCREASES / DECREASES TO INITIAL FUNDING LINES",null,null,null,null,null,null,null,null,null,"UTILITIES - WATER & SEWER","233U0"]
[null,null,null,null,null,{"$f":"IF(C30=\"\",\"\",VLOOKUP(C30,$K$4:$L$40,2,FALSE))","v":""},null,null,{"$f":"IF(A30=\"\",\"\",(SUMIF($J$4:$J$28,J30,$I$4:$I$28)+SUMIF($J$30:$J30,$J30,$H$30:H30)))","v":""},"    ","FURNITURE & OFFICE EQUIPMENT",31110]
[null,null,null,null,null,"",null,null,{"$f":"IF(A31=\"\",\"\",(SUMIF($J$4:$J$28,J31,$I$4:$I$28)+SUMIF($J$30:$J31,$J31,$H$30:H31)))","v":""},"    ","OPERATING EQUIP - MAINT/REP",25714]
[null,null,null,null,null,"",null,null,{"$f":"IF(A32=\"\",\"\",(SUMIF($J$4:$J$28,J32,$I$4:$I$28)+SUMIF($J$30:$J32,$J32,$H$30:H32)))","v":""},"    ","OTHER SERVICES",25215]
[null,null,null,null,null,"",null,null,{"$f":"IF(A33=\"\",\"\",(SUMIF($J$4:$J$28,J33,$I$4:$I$28)+SUMIF($J$30:$J33,$J33,$H$30:H33)))","v":""},"    ","EQUIPMENT PARTS/SERVICE",25715]
[null,null,null,null,null,"",null,null,{"$f":"IF(A34=\"\",\"\",(SUMIF($J$4:$J$28,J34,$I$4:$I$28)+SUMIF($J$30:$J34,$J34,$H$30:H34)))","v":""},"    "]
[null,null,null,null,null,"",null,null,{"$f":"IF(A35=\"\",\"\",(SUMIF($J$4:$J$28,J35,$I$4:$I$28)+SUMIF($J$30:$J35,$J35,$H$30:H35)))","v":""},"    "]
[null,null,null,null,null,"",null,null,{"$f":"IF(A36=\"\",\"\",(SUMIF($J$4:$J$28,J36,$I$4:$I$28)+SUMIF($J$30:$J36,$J36,$H$30:H36)))","v":""},"    "]
[null,null,null,null,null,"",null,null,{"$f":"IF(A37=\"\",\"\",(SUMIF($J$4:$J$28,J37,$I$4:$I$28)+SUMIF($J$30:$J37,$J37,$H$30:H37)))","v":""},"    "]
[null,null,null,null,null,"",null,null,{"$f":"IF(A38=\"\",\"\",(SUMIF($J$4:$J$28,J38,$I$4:$I$28)+SUMIF($J$30:$J38,$J38,$H$30:H38)))","v":""},"    "]
[null,null,null,null,null,"",null,null,{"$f":"IF(A39=\"\",\"\",(SUMIF($J$4:$J$28,J39,$I$4:$I$28)+SUMIF($J$30:$J39,$J39,$H$30:H39)))","v":""},"    "]
[null,null,null,null,null,"",null,null,{"$f":"IF(A40=\"\",\"\",(SUMIF($J$4:$J$28,J40,$I$4:$I$28)+SUMIF($J$30:$J40,$J40,$H$30:H40)))","v":""},"    "]
[null,null,null,null,null,"",null,null,{"$f":"IF(A41=\"\",\"\",(SUMIF($J$4:$J$28,J41,$I$4:$I$28)+SUMIF($J$30:$J41,$J41,$H$30:H41)))","v":""},"    "]
[null,null,null,null,null,"",null,null,{"$f":"IF(A42=\"\",\"\",(SUMIF($J$4:$J$28,J42,$I$4:$I$28)+SUMIF($J$30:$J42,$J42,$H$30:H42)))","v":""},"    "]
[null,null,null,null,null,"",null,null,{"$f":"IF(A43=\"\",\"\",(SUMIF($J$4:$J$28,J43,$I$4:$I$28)+SUMIF($J$30:$J43,$J43,$H$30:H43)))","v":""},"    "]
[null,null,null,null,null,"",null,null,{"$f":"IF(A44=\"\",\"\",(SUMIF($J$4:$J$28,J44,$I$4:$I$28)+SUMIF($J$30:$J44,$J44,$H$30:H44)))","v":""},"    "]
[null,null,null,null,null,"",null,null,{"$f":"IF(A45=\"\",\"\",(SUMIF($J$4:$J$28,J45,$I$4:$I$28)+SUMIF($J$30:$J45,$J45,$H$30:H45)))","v":""},"    "]
[null,null,null,null,null,"",null,null,{"$f":"IF(A46=\"\",\"\",(SUMIF($J$4:$J$28,J46,$I$4:$I$28)+SUMIF($J$30:$J46,$J46,$H$30:H46)))","v":""},"    "]
[null,null,null,null,null,"",null,null,{"$f":"IF(A47=\"\",\"\",(SUMIF($J$4:$J$28,J47,$I$4:$I$28)+SUMIF($J$30:$J47,$J47,$H$30:H47)))","v":""},"    "]
[null,null,null,null,null,"",null,null,{"$f":"IF(A48=\"\",\"\",(SUMIF($J$4:$J$28,J48,$I$4:$I$28)+SUMIF($J$30:$J48,$J48,$H$30:H48)))","v":""},"    "]
[null,null,null,null,null,"",null,null,{"$f":"IF(A49=\"\",\"\",(SUMIF($J$4:$J$28,J49,$I$4:$I$28)+SUMIF($J$30:$J49,$J49,$H$30:H49)))","v":""},"    "]
[null,null,null,null,null,"",null,null,{"$f":"IF(A50=\"\",\"\",(SUMIF($J$4:$J$28,J50,$I$4:$I$28)+SUMIF($J$30:$J50,$J50,$H$30:H50)))","v":""},"    "]
[null,null,null,null,null,"",null,null,{"$f":"IF(A51=\"\",\"\",(SUMIF($J$4:$J$28,J51,$I$4:$I$28)+SUMIF($J$30:$J51,$J51,$H$30:H51)))","v":""},"    "]
[null,null,null,null,null,"",null,null,{"$f":"IF(A52=\"\",\"\",(SUMIF($J$4:$J$28,J52,$I$4:$I$28)+SUMIF($J$30:$J52,$J52,$H$30:H52)))","v":""},"    "]
[null,null,null,null,null,"",null,null,{"$f":"IF(A53=\"\",\"\",(SUMIF($J$4:$J$28,J53,$I$4:$I$28)+SUMIF($J$30:$J53,$J53,$H$30:H53)))","v":""},"    "]
[null,null,null,null,null,"",null,null,{"$f":"IF(A54=\"\",\"\",(SUMIF($J$4:$J$28,J54,$I$4:$I$28)+SUMIF($J$30:$J54,$J54,$H$30:H54)))","v":""},"    "]
[null,null,null,null,null,"",null,null,{"$f":"IF(A55=\"\",\"\",(SUMIF($J$4:$J$28,J55,$I$4:$I$28)+SUMIF($J$30:$J55,$J55,$H$30:H55)))","v":""},"    "]
[null,null,null,null,null,"",null,null,{"$f":"IF(A56=\"\",\"\",(SUMIF($J$4:$J$28,J56,$I$4:$I$28)+SUMIF($J$30:$J56,$J56,$H$30:H56)))","v":""},"    "]
[null,null,null,null,null,"",null,null,{"$f":"IF(A57=\"\",\"\",(SUMIF($J$4:$J$28,J57,$I$4:$I$28)+SUMIF($J$30:$J57,$J57,$H$30:H57)))","v":""},"    "]
[null,null,null,null,null,"",null,null,{"$f":"IF(A58=\"\",\"\",(SUMIF($J$4:$J$28,J58,$I$4:$I$28)+SUMIF($J$30:$J58,$J58,$H$30:H58)))","v":""},"    "]
[null,null,null,null,null,"",null,null,{"$f":"IF(A59=\"\",\"\",(SUMIF($J$4:$J$28,J59,$I$4:$I$28)+SUMIF($J$30:$J59,$J59,$H$30:H59)))","v":""},"    "]
[null,null,null,null,null,"",null,null,{"$f":"IF(A60=\"\",\"\",(SUMIF($J$4:$J$28,J60,$I$4:$I$28)+SUMIF($J$30:$J60,$J60,$H$30:H60)))","v":""},"    "]
[null,null,null,null,null,"",null,null,{"$f":"IF(A61=\"\",\"\",(SUMIF($J$4:$J$28,J61,$I$4:$I$28)+SUMIF($J$30:$J61,$J61,$H$30:H61)))","v":""},"    "]
[null,null,null,null,null,{"$f":"IF(C62=\"\",\"\",VLOOKUP(C62,$K$4:$L$40,2,FALSE))","v":""},null,null,{"$f":"IF(A62=\"\",\"\",(SUMIF($J$4:$J$28,J62,$I$4:$I$28)+SUMIF($J$30:$J62,$J62,$H$30:H62)))","v":""},"    "]
[null,null,null,null,null,"",null,null,{"$f":"IF(A63=\"\",\"\",(SUMIF($J$4:$J$28,J63,$I$4:$I$28)+SUMIF($J$30:$J63,$J63,$H$30:H63)))","v":""},"    "]
[null,null,null,null,null,"",null,null,{"$f":"IF(A64=\"\",\"\",(SUMIF($J$4:$J$28,J64,$I$4:$I$28)+SUMIF($J$30:$J64,$J64,$H$30:H64)))","v":""},"    "]
[null,null,null,null,null,"",null,null,{"$f":"IF(A65=\"\",\"\",(SUMIF($J$4:$J$28,J65,$I$4:$I$28)+SUMIF($J$30:$J65,$J65,$H$30:H65)))","v":""},"    "]
[null,null,null,null,null,"",null,null,{"$f":"IF(A66=\"\",\"\",(SUMIF($J$4:$J$28,J66,$I$4:$I$28)+SUMIF($J$30:$J66,$J66,$H$30:H66)))","v":""},"    "]
[null,null,null,null,null,"",null,null,{"$f":"IF(A67=\"\",\"\",(SUMIF($J$4:$J$28,J67,$I$4:$I$28)+SUMIF($J$30:$J67,$J67,$H$30:H67)))","v":""},"    "]
[null,null,null,null,null,"",null,null,{"$f":"IF(A68=\"\",\"\",(SUMIF($J$4:$J$28,J68,$I$4:$I$28)+SUMIF($J$30:$J68,$J68,$H$30:H68)))","v":""},"    "]
[null,null,null,null,null,"",null,null,{"$f":"IF(A69=\"\",\"\",(SUMIF($J$4:$J$28,J69,$I$4:$I$28)+SUMIF($J$30:$J69,$J69,$H$30:H69)))","v":""},{"$f":"D69&\"  \"&E69&\"  \"&F69","v":"    "}]
[null,null,null,null,null,"",null,null,{"$f":"IF(A70=\"\",\"\",(SUMIF($J$4:$J$28,J70,$I$4:$I$28)+SUMIF($J$30:$J70,$J70,$H$30:H70)))","v":""},"    "]
[null,null,null,null,null,"",null,null,{"$f":"IF(A71=\"\",\"\",(SUMIF($J$4:$J$28,J71,$I$4:$I$28)+SUMIF($J$30:$J71,$J71,$H$30:H71)))","v":""},"    "]
[null,null,null,null,null,"",null,null,{"$f":"IF(A72=\"\",\"\",(SUMIF($J$4:$J$28,J72,$I$4:$I$28)+SUMIF($J$30:$J72,$J72,$H$30:H72)))","v":""},"    "]
[null,null,null,null,null,"",null,null,{"$f":"IF(A73=\"\",\"\",(SUMIF($J$4:$J$28,J73,$I$4:$I$28)+SUMIF($J$30:$J73,$J73,$H$30:H73)))","v":""},"    "]
[null,null,null,null,null,"",null,null,{"$f":"IF(A74=\"\",\"\",(SUMIF($J$4:$J$28,J74,$I$4:$I$28)+SUMIF($J$30:$J74,$J74,$H$30:H74)))","v":""},"    "]
[null,null,null,null,null,"",null,null,{"$f":"IF(A75=\"\",\"\",(SUMIF($J$4:$J$28,J75,$I$4:$I$28)+SUMIF($J$30:$J75,$J75,$H$30:H75)))","v":""},"    "]
[null,null,null,null,null,"",null,null,{"$f":"IF(A76=\"\",\"\",(SUMIF($J$4:$J$28,J76,$I$4:$I$28)+SUMIF($J$30:$J76,$J76,$H$30:H76)))","v":""},"    "]
[null,null,null,null,null,"",null,null,{"$f":"IF(A77=\"\",\"\",(SUMIF($J$4:$J$28,J77,$I$4:$I$28)+SUMIF($J$30:$J77,$J77,$H$30:H77)))","v":""},"    "]
[null,null,null,null,null,"",null,null,{"$f":"IF(A78=\"\",\"\",(SUMIF($J$4:$J$28,J78,$I$4:$I$28)+SUMIF($J$30:$J78,$J78,$H$30:H78)))","v":""},"    "]
[null,null,null,null,null,"",null,null,{"$f":"IF(A79=\"\",\"\",(SUMIF($J$4:$J$28,J79,$I$4:$I$28)+SUMIF($J$30:$J79,$J79,$H$30:H79)))","v":""},"    "]
[null,null,null,null,null,"",null,null,{"$f":"IF(A80=\"\",\"\",(SUMIF($J$4:$J$28,J80,$I$4:$I$28)+SUMIF($J$30:$J80,$J80,$H$30:H80)))","v":""},"    "]
[null,null,null,null,null,"",null,null,{"$f":"IF(A81=\"\",\"\",(SUMIF($J$4:$J$28,J81,$I$4:$I$28)+SUMIF($J$30:$J81,$J81,$H$30:H81)))","v":""},"    "]
[null,null,null,null,null,"",null,null,{"$f":"IF(A82=\"\",\"\",(SUMIF($J$4:$J$28,J82,$I$4:$I$28)+SUMIF($J$30:$J82,$J82,$H$30:H82)))","v":""},"    "]
[null,null,null,null,null,"",null,null,{"$f":"IF(A83=\"\",\"\",(SUMIF($J$4:$J$28,J83,$I$4:$I$28)+SUMIF($J$30:$J83,$J83,$H$30:H83)))","v":""},"    "]
[null,null,null,null,null,"",null,null,{"$f":"IF(A84=\"\",\"\",(SUMIF($J$4:$J$28,J84,$I$4:$I$28)+SUMIF($J$30:$J84,$J84,$H$30:H84)))","v":""},"    "]
[null,null,null,null,null,"",null,null,{"$f":"IF(A85=\"\",\"\",(SUMIF($J$4:$J$28,J85,$I$4:$I$28)+SUMIF($J$30:$J85,$J85,$H$30:H85)))","v":""},"    "]
[null,null,null,null,null,"",null,null,{"$f":"IF(A86=\"\",\"\",(SUMIF($J$4:$J$28,J86,$I$4:$I$28)+SUMIF($J$30:$J86,$J86,$H$30:H86)))","v":""},"    "]
[null,null,null,null,null,"",null,null,{"$f":"IF(A87=\"\",\"\",(SUMIF($J$4:$J$28,J87,$I$4:$I$28)+SUMIF($J$30:$J87,$J87,$H$30:H87)))","v":""},"    "]
[null,null,null,null,null,"",null,null,{"$f":"IF(A88=\"\",\"\",(SUMIF($J$4:$J$28,J88,$I$4:$I$28)+SUMIF($J$30:$J88,$J88,$H$30:H88)))","v":""},"    "]
[null,null,null,null,null,"",null,null,{"$f":"IF(A89=\"\",\"\",(SUMIF($J$4:$J$28,J89,$I$4:$I$28)+SUMIF($J$30:$J89,$J89,$H$30:H89)))","v":""},"    "]
[null,null,null,null,null,"",null,null,{"$f":"IF(A90=\"\",\"\",(SUMIF($J$4:$J$28,J90,$I$4:$I$28)+SUMIF($J$30:$J90,$J90,$H$30:H90)))","v":""},"    "]
[null,null,null,null,null,"",null,null,{"$f":"IF(A91=\"\",\"\",(SUMIF($J$4:$J$28,J91,$I$4:$I$28)+SUMIF($J$30:$J91,$J91,$H$30:H91)))","v":""},"    "]
[null,null,null,null,null,"",null,null,{"$f":"IF(A92=\"\",\"\",(SUMIF($J$4:$J$28,J92,$I$4:$I$28)+SUMIF($J$30:$J92,$J92,$H$30:H92)))","v":""},"    "]
[null,null,null,null,null,"",null,null,{"$f":"IF(A93=\"\",\"\",(SUMIF($J$4:$J$28,J93,$I$4:$I$28)+SUMIF($J$30:$J93,$J93,$H$30:H93)))","v":""},"    "]
[null,null,null,null,null,{"$f":"IF(C94=\"\",\"\",VLOOKUP(C94,$K$4:$L$40,2,FALSE))","v":""},null,null,{"$f":"IF(A94=\"\",\"\",(SUMIF($J$4:$J$28,J94,$I$4:$I$28)+SUMIF($J$30:$J94,$J94,$H$30:H94)))","v":""},"    "]
[null,null,null,null,null,"",null,null,{"$f":"IF(A95=\"\",\"\",(SUMIF($J$4:$J$28,J95,$I$4:$I$28)+SUMIF($J$30:$J95,$J95,$H$30:H95)))","v":""},"    "]
[null,null,null,null,null,"",null,null,{"$f":"IF(A96=\"\",\"\",(SUMIF($J$4:$J$28,J96,$I$4:$I$28)+SUMIF($J$30:$J96,$J96,$H$30:H96)))","v":""},"    "]
[null,null,null,null,null,"",null,null,{"$f":"IF(A97=\"\",\"\",(SUMIF($J$4:$J$28,J97,$I$4:$I$28)+SUMIF($J$30:$J97,$J97,$H$30:H97)))","v":""},"    "]
[null,null,null,null,null,"",null,null,{"$f":"IF(A98=\"\",\"\",(SUMIF($J$4:$J$28,J98,$I$4:$I$28)+SUMIF($J$30:$J98,$J98,$H$30:H98)))","v":""},"    "]
[null,null,null,null,null,"",null,null,{"$f":"IF(A99=\"\",\"\",(SUMIF($J$4:$J$28,J99,$I$4:$I$28)+SUMIF($J$30:$J99,$J99,$H$30:H99)))","v":""},"    "]
[null,null,null,null,null,"",null,null,{"$f":"IF(A100=\"\",\"\",(SUMIF($J$4:$J$28,J100,$I$4:$I$28)+SUMIF($J$30:$J100,$J100,$H$30:H100)))","v":""},"    "]
[null,null,null,null,null,"",null,null,{"$f":"IF(A101=\"\",\"\",(SUMIF($J$4:$J$28,J101,$I$4:$I$28)+SUMIF($J$30:$J101,$J101,$H$30:H101)))","v":""},"    "]
[null,null,null,null,null,"",null,null,{"$f":"IF(A102=\"\",\"\",(SUMIF($J$4:$J$28,J102,$I$4:$I$28)+SUMIF($J$30:$J102,$J102,$H$30:H102)))","v":""},"    "]
[null,null,null,null,null,"",null,null,{"$f":"IF(A103=\"\",\"\",(SUMIF($J$4:$J$28,J103,$I$4:$I$28)+SUMIF($J$30:$J103,$J103,$H$30:H103)))","v":""},"    "]
[null,null,null,null,null,"",null,null,{"$f":"IF(A104=\"\",\"\",(SUMIF($J$4:$J$28,J104,$I$4:$I$28)+SUMIF($J$30:$J104,$J104,$H$30:H104)))","v":""},"    "]
[null,null,null,null,null,"",null,null,{"$f":"IF(A105=\"\",\"\",(SUMIF($J$4:$J$28,J105,$I$4:$I$28)+SUMIF($J$30:$J105,$J105,$H$30:H105)))","v":""},"    "]
[null,null,null,null,null,"",null,null,{"$f":"IF(A106=\"\",\"\",(SUMIF($J$4:$J$28,J106,$I$4:$I$28)+SUMIF($J$30:$J106,$J106,$H$30:H106)))","v":""},"    "]
[null,null,null,null,null,"",null,null,{"$f":"IF(A107=\"\",\"\",(SUMIF($J$4:$J$28,J107,$I$4:$I$28)+SUMIF($J$30:$J107,$J107,$H$30:H107)))","v":""},"    "]
[null,null,null,null,null,"",null,null,{"$f":"IF(A108=\"\",\"\",(SUMIF($J$4:$J$28,J108,$I$4:$I$28)+SUMIF($J$30:$J108,$J108,$H$30:H108)))","v":""},"    "]
[null,null,null,null,null,"",null,null,{"$f":"IF(A109=\"\",\"\",(SUMIF($J$4:$J$28,J109,$I$4:$I$28)+SUMIF($J$30:$J109,$J109,$H$30:H109)))","v":""},"    "]
[null,null,null,null,null,"",null,null,{"$f":"IF(A110=\"\",\"\",(SUMIF($J$4:$J$28,J110,$I$4:$I$28)+SUMIF($J$30:$J110,$J110,$H$30:H110)))","v":""},"    "]
[null,null,null,null,null,"",null,null,{"$f":"IF(A111=\"\",\"\",(SUMIF($J$4:$J$28,J111,$I$4:$I$28)+SUMIF($J$30:$J111,$J111,$H$30:H111)))","v":""},"    "]
[null,null,null,null,null,"",null,null,{"$f":"IF(A112=\"\",\"\",(SUMIF($J$4:$J$28,J112,$I$4:$I$28)+SUMIF($J$30:$J112,$J112,$H$30:H112)))","v":""},"    "]
[null,null,null,null,null,"",null,null,{"$f":"IF(A113=\"\",\"\",(SUMIF($J$4:$J$28,J113,$I$4:$I$28)+SUMIF($J$30:$J113,$J113,$H$30:H113)))","v":""},"    "]
[null,null,null,null,null,"",null,null,{"$f":"IF(A114=\"\",\"\",(SUMIF($J$4:$J$28,J114,$I$4:$I$28)+SUMIF($J$30:$J114,$J114,$H$30:H114)))","v":""},"    "]
[null,null,null,null,null,"",null,null,{"$f":"IF(A115=\"\",\"\",(SUMIF($J$4:$J$28,J115,$I$4:$I$28)+SUMIF($J$30:$J115,$J115,$H$30:H115)))","v":""},"    "]
[null,null,null,null,null,"",null,null,{"$f":"IF(A116=\"\",\"\",(SUMIF($J$4:$J$28,J116,$I$4:$I$28)+SUMIF($J$30:$J116,$J116,$H$30:H116)))","v":""},"    "]
[null,null,null,null,null,"",null,null,{"$f":"IF(A117=\"\",\"\",(SUMIF($J$4:$J$28,J117,$I$4:$I$28)+SUMIF($J$30:$J117,$J117,$H$30:H117)))","v":""},"    "]
[null,null,null,null,null,"",null,null,{"$f":"IF(A118=\"\",\"\",(SUMIF($J$4:$J$28,J118,$I$4:$I$28)+SUMIF($J$30:$J118,$J118,$H$30:H118)))","v":""},"    "]
[null,null,null,null,null,"",null,null,{"$f":"IF(A119=\"\",\"\",(SUMIF($J$4:$J$28,J119,$I$4:$I$28)+SUMIF($J$30:$J119,$J119,$H$30:H119)))","v":""},"    "]
[null,null,null,null,null,"",null,null,{"$f":"IF(A120=\"\",\"\",(SUMIF($J$4:$J$28,J120,$I$4:$I$28)+SUMIF($J$30:$J120,$J120,$H$30:H120)))","v":""},"    "]
[null,null,null,null,null,"",null,null,{"$f":"IF(A121=\"\",\"\",(SUMIF($J$4:$J$28,J121,$I$4:$I$28)+SUMIF($J$30:$J121,$J121,$H$30:H121)))","v":""},"    "]
[null,null,null,null,null,"",null,null,{"$f":"IF(A122=\"\",\"\",(SUMIF($J$4:$J$28,J122,$I$4:$I$28)+SUMIF($J$30:$J122,$J122,$H$30:H122)))","v":""},"    "]
[null,null,null,null,null,"",null,null,{"$f":"IF(A123=\"\",\"\",(SUMIF($J$4:$J$28,J123,$I$4:$I$28)+SUMIF($J$30:$J123,$J123,$H$30:H123)))","v":""},"    "]
[null,null,null,null,null,"",null,null,{"$f":"IF(A124=\"\",\"\",(SUMIF($J$4:$J$28,J124,$I$4:$I$28)+SUMIF($J$30:$J124,$J124,$H$30:H124)))","v":""},"    "]
[null,null,null,null,null,"",null,null,{"$f":"IF(A125=\"\",\"\",(SUMIF($J$4:$J$28,J125,$I$4:$I$28)+SUMIF($J$30:$J125,$J125,$H$30:H125)))","v":""},"    "]
[null,null,null,null,null,{"$f":"IF(C126=\"\",\"\",VLOOKUP(C126,$K$4:$L$40,2,FALSE))","v":""},null,null,{"$f":"IF(A126=\"\",\"\",(SUMIF($J$4:$J$28,J126,$I$4:$I$28)+SUMIF($J$30:$J126,$J126,$H$30:H126)))","v":""},"    "]
[null,null,null,null,null,"",null,null,{"$f":"IF(A127=\"\",\"\",(SUMIF($J$4:$J$28,J127,$I$4:$I$28)+SUMIF($J$30:$J127,$J127,$H$30:H127)))","v":""},"    "]
[null,null,null,null,null,"",null,null,{"$f":"IF(A128=\"\",\"\",(SUMIF($J$4:$J$28,J128,$I$4:$I$28)+SUMIF($J$30:$J128,$J128,$H$30:H128)))","v":""},"    "]
[null,null,null,null,null,"",null,null,{"$f":"IF(A129=\"\",\"\",(SUMIF($J$4:$J$28,J129,$I$4:$I$28)+SUMIF($J$30:$J129,$J129,$H$30:H129)))","v":""},"    "]
[null,null,null,null,null,"",null,null,{"$f":"IF(A130=\"\",\"\",(SUMIF($J$4:$J$28,J130,$I$4:$I$28)+SUMIF($J$30:$J130,$J130,$H$30:H130)))","v":""},"    "]
[null,null,null,null,null,"",null,null,{"$f":"IF(A131=\"\",\"\",(SUMIF($J$4:$J$28,J131,$I$4:$I$28)+SUMIF($J$30:$J131,$J131,$H$30:H131)))","v":""},"    "]
[null,null,null,null,null,"",null,null,{"$f":"IF(A132=\"\",\"\",(SUMIF($J$4:$J$28,J132,$I$4:$I$28)+SUMIF($J$30:$J132,$J132,$H$30:H132)))","v":""},"    "]
[null,null,null,null,null,"",null,null,{"$f":"IF(A133=\"\",\"\",(SUMIF($J$4:$J$28,J133,$I$4:$I$28)+SUMIF($J$30:$J133,$J133,$H$30:H133)))","v":""},{"$f":"D133&\"  \"&E133&\"  \"&F133","v":"    "}]
[null,null,null,null,null,"",null,null,{"$f":"IF(A134=\"\",\"\",(SUMIF($J$4:$J$28,J134,$I$4:$I$28)+SUMIF($J$30:$J134,$J134,$H$30:H134)))","v":""},"    "]
[null,null,null,null,null,"",null,null,{"$f":"IF(A135=\"\",\"\",(SUMIF($J$4:$J$28,J135,$I$4:$I$28)+SUMIF($J$30:$J135,$J135,$H$30:H135)))","v":""},"    "]
[null,null,null,null,null,"",null,null,{"$f":"IF(A136=\"\",\"\",(SUMIF($J$4:$J$28,J136,$I$4:$I$28)+SUMIF($J$30:$J136,$J136,$H$30:H136)))","v":""},"    "]
[null,null,null,null,null,"",null,null,{"$f":"IF(A137=\"\",\"\",(SUMIF($J$4:$J$28,J137,$I$4:$I$28)+SUMIF($J$30:$J137,$J137,$H$30:H137)))","v":""},"    "]
[null,null,null,null,null,"",null,null,{"$f":"IF(A138=\"\",\"\",(SUMIF($J$4:$J$28,J138,$I$4:$I$28)+SUMIF($J$30:$J138,$J138,$H$30:H138)))","v":""},"    "]
[null,null,null,null,null,"",null,null,{"$f":"IF(A139=\"\",\"\",(SUMIF($J$4:$J$28,J139,$I$4:$I$28)+SUMIF($J$30:$J139,$J139,$H$30:H139)))","v":""},"    "]
[null,null,null,null,null,"",null,null,{"$f":"IF(A140=\"\",\"\",(SUMIF($J$4:$J$28,J140,$I$4:$I$28)+SUMIF($J$30:$J140,$J140,$H$30:H140)))","v":""},"    "]
[null,null,null,null,null,"",null,null,{"$f":"IF(A141=\"\",\"\",(SUMIF($J$4:$J$28,J141,$I$4:$I$28)+SUMIF($J$30:$J141,$J141,$H$30:H141)))","v":""},"    "]
[null,null,null,null,null,"",null,null,{"$f":"IF(A142=\"\",\"\",(SUMIF($J$4:$J$28,J142,$I$4:$I$28)+SUMIF($J$30:$J142,$J142,$H$30:H142)))","v":""},"    "]
[null,null,null,null,null,"",null,null,{"$f":"IF(A143=\"\",\"\",(SUMIF($J$4:$J$28,J143,$I$4:$I$28)+SUMIF($J$30:$J143,$J143,$H$30:H143)))","v":""},"    "]
[null,null,null,null,null,"",null,null,{"$f":"IF(A144=\"\",\"\",(SUMIF($J$4:$J$28,J144,$I$4:$I$28)+SUMIF($J$30:$J144,$J144,$H$30:H144)))","v":""},"    "]
[null,null,null,null,null,"",null,null,{"$f":"IF(A145=\"\",\"\",(SUMIF($J$4:$J$28,J145,$I$4:$I$28)+SUMIF($J$30:$J145,$J145,$H$30:H145)))","v":""},"    "]
[null,null,null,null,null,"",null,null,{"$f":"IF(A146=\"\",\"\",(SUMIF($J$4:$J$28,J146,$I$4:$I$28)+SUMIF($J$30:$J146,$J146,$H$30:H146)))","v":""},"    "]
[null,null,null,null,null,"",null,null,{"$f":"IF(A147=\"\",\"\",(SUMIF($J$4:$J$28,J147,$I$4:$I$28)+SUMIF($J$30:$J147,$J147,$H$30:H147)))","v":""},"    "]
[null,null,null,null,null,"",null,null,{"$f":"IF(A148=\"\",\"\",(SUMIF($J$4:$J$28,J148,$I$4:$I$28)+SUMIF($J$30:$J148,$J148,$H$30:H148)))","v":""},"    "]
[null,null,null,null,null,"",null,null,{"$f":"IF(A149=\"\",\"\",(SUMIF($J$4:$J$28,J149,$I$4:$I$28)+SUMIF($J$30:$J149,$J149,$H$30:H149)))","v":""},"    "]
[null,null,null,null,null,"",null,null,{"$f":"IF(A150=\"\",\"\",(SUMIF($J$4:$J$28,J150,$I$4:$I$28)+SUMIF($J$30:$J150,$J150,$H$30:H150)))","v":""},"    "]
[null,null,null,null,null,"",null,null,{"$f":"IF(A151=\"\",\"\",(SUMIF($J$4:$J$28,J151,$I$4:$I$28)+SUMIF($J$30:$J151,$J151,$H$30:H151)))","v":""},"    "]
[null,null,null,null,null,"",null,null,{"$f":"IF(A152=\"\",\"\",(SUMIF($J$4:$J$28,J152,$I$4:$I$28)+SUMIF($J$30:$J152,$J152,$H$30:H152)))","v":""},"    "]
[null,null,null,null,null,"",null,null,{"$f":"IF(A153=\"\",\"\",(SUMIF($J$4:$J$28,J153,$I$4:$I$28)+SUMIF($J$30:$J153,$J153,$H$30:H153)))","v":""},"    "]
[null,null,null,null,null,"",null,null,{"$f":"IF(A154=\"\",\"\",(SUMIF($J$4:$J$28,J154,$I$4:$I$28)+SUMIF($J$30:$J154,$J154,$H$30:H154)))","v":""},"    "]
[null,null,null,null,null,"",null,null,{"$f":"IF(A155=\"\",\"\",(SUMIF($J$4:$J$28,J155,$I$4:$I$28)+SUMIF($J$30:$J155,$J155,$H$30:H155)))","v":""},"    "]
[null,null,null,null,null,"",null,null,{"$f":"IF(A156=\"\",\"\",(SUMIF($J$4:$J$28,J156,$I$4:$I$28)+SUMIF($J$30:$J156,$J156,$H$30:H156)))","v":""},"    "]
[null,null,null,null,null,"",null,null,{"$f":"IF(A157=\"\",\"\",(SUMIF($J$4:$J$28,J157,$I$4:$I$28)+SUMIF($J$30:$J157,$J157,$H$30:H157)))","v":""},"    "]
[null,null,null,null,null,{"$f":"IF(C158=\"\",\"\",VLOOKUP(C158,$K$4:$L$40,2,FALSE))","v":""},null,null,{"$f":"IF(A158=\"\",\"\",(SUMIF($J$4:$J$28,J158,$I$4:$I$28)+SUMIF($J$30:$J158,$J158,$H$30:H158)))","v":""},"    "]
[null,null,null,null,null,"",null,null,{"$f":"IF(A159=\"\",\"\",(SUMIF($J$4:$J$28,J159,$I$4:$I$28)+SUMIF($J$30:$J159,$J159,$H$30:H159)))","v":""},"    "]
[null,null,null,null,null,"",null,null,{"$f":"IF(A160=\"\",\"\",(SUMIF($J$4:$J$28,J160,$I$4:$I$28)+SUMIF($J$30:$J160,$J160,$H$30:H160)))","v":""},"    "]
[null,null,null,null,null,"",null,null,{"$f":"IF(A161=\"\",\"\",(SUMIF($J$4:$J$28,J161,$I$4:$I$28)+SUMIF($J$30:$J161,$J161,$H$30:H161)))","v":""},"    "]
[null,null,null,null,null,"",null,null,{"$f":"IF(A162=\"\",\"\",(SUMIF($J$4:$J$28,J162,$I$4:$I$28)+SUMIF($J$30:$J162,$J162,$H$30:H162)))","v":""},"    "]
[null,null,null,null,null,"",null,null,{"$f":"IF(A163=\"\",\"\",(SUMIF($J$4:$J$28,J163,$I$4:$I$28)+SUMIF($J$30:$J163,$J163,$H$30:H163)))","v":""},"    "]
[null,null,null,null,null,"",null,null,{"$f":"IF(A164=\"\",\"\",(SUMIF($J$4:$J$28,J164,$I$4:$I$28)+SUMIF($J$30:$J164,$J164,$H$30:H164)))","v":""},"    "]
[null,null,null,null,null,"",null,null,{"$f":"IF(A165=\"\",\"\",(SUMIF($J$4:$J$28,J165,$I$4:$I$28)+SUMIF($J$30:$J165,$J165,$H$30:H165)))","v":""},"    "]
[null,null,null,null,null,"",null,null,{"$f":"IF(A166=\"\",\"\",(SUMIF($J$4:$J$28,J166,$I$4:$I$28)+SUMIF($J$30:$J166,$J166,$H$30:H166)))","v":""},"    "]
[null,null,null,null,null,"",null,null,{"$f":"IF(A167=\"\",\"\",(SUMIF($J$4:$J$28,J167,$I$4:$I$28)+SUMIF($J$30:$J167,$J167,$H$30:H167)))","v":""},"    "]
[null,null,null,null,null,"",null,null,{"$f":"IF(A168=\"\",\"\",(SUMIF($J$4:$J$28,J168,$I$4:$I$28)+SUMIF($J$30:$J168,$J168,$H$30:H168)))","v":""},"    "]
[null,null,null,null,null,"",null,null,{"$f":"IF(A169=\"\",\"\",(SUMIF($J$4:$J$28,J169,$I$4:$I$28)+SUMIF($J$30:$J169,$J169,$H$30:H169)))","v":""},"    "]
[null,null,null,null,null,"",null,null,{"$f":"IF(A170=\"\",\"\",(SUMIF($J$4:$J$28,J170,$I$4:$I$28)+SUMIF($J$30:$J170,$J170,$H$30:H170)))","v":""},"    "]
[null,null,null,null,null,"",null,null,{"$f":"IF(A171=\"\",\"\",(SUMIF($J$4:$J$28,J171,$I$4:$I$28)+SUMIF($J$30:$J171,$J171,$H$30:H171)))","v":""},"    "]
[null,null,null,null,null,"",null,null,{"$f":"IF(A172=\"\",\"\",(SUMIF($J$4:$J$28,J172,$I$4:$I$28)+SUMIF($J$30:$J172,$J172,$H$30:H172)))","v":""},"    "]
[null,null,null,null,null,"",null,null,{"$f":"IF(A173=\"\",\"\",(SUMIF($J$4:$J$28,J173,$I$4:$I$28)+SUMIF($J$30:$J173,$J173,$H$30:H173)))","v":""},"    "]
[null,null,null,null,null,"",null,null,{"$f":"IF(A174=\"\",\"\",(SUMIF($J$4:$J$28,J174,$I$4:$I$28)+SUMIF($J$30:$J174,$J174,$H$30:H174)))","v":""},"    "]
[null,null,null,null,null,"",null,null,{"$f":"IF(A175=\"\",\"\",(SUMIF($J$4:$J$28,J175,$I$4:$I$28)+SUMIF($J$30:$J175,$J175,$H$30:H175)))","v":""},"    "]
[null,null,null,null,null,"",null,null,{"$f":"IF(A176=\"\",\"\",(SUMIF($J$4:$J$28,J176,$I$4:$I$28)+SUMIF($J$30:$J176,$J176,$H$30:H176)))","v":""},"    "]
[null,null,null,null,null,"",null,null,{"$f":"IF(A177=\"\",\"\",(SUMIF($J$4:$J$28,J177,$I$4:$I$28)+SUMIF($J$30:$J177,$J177,$H$30:H177)))","v":""},"    "]
[null,null,null,null,null,"",null,null,{"$f":"IF(A178=\"\",\"\",(SUMIF($J$4:$J$28,J178,$I$4:$I$28)+SUMIF($J$30:$J178,$J178,$H$30:H178)))","v":""},"    "]
[null,null,null,null,null,"",null,null,{"$f":"IF(A179=\"\",\"\",(SUMIF($J$4:$J$28,J179,$I$4:$I$28)+SUMIF($J$30:$J179,$J179,$H$30:H179)))","v":""},"    "]
[null,null,null,null,null,"",null,null,{"$f":"IF(A180=\"\",\"\",(SUMIF($J$4:$J$28,J180,$I$4:$I$28)+SUMIF($J$30:$J180,$J180,$H$30:H180)))","v":""},"    "]
[null,null,null,null,null,"",null,null,{"$f":"IF(A181=\"\",\"\",(SUMIF($J$4:$J$28,J181,$I$4:$I$28)+SUMIF($J$30:$J181,$J181,$H$30:H181)))","v":""},"    "]
[null,null,null,null,null,"",null,null,{"$f":"IF(A182=\"\",\"\",(SUMIF($J$4:$J$28,J182,$I$4:$I$28)+SUMIF($J$30:$J182,$J182,$H$30:H182)))","v":""},"    "]
[null,null,null,null,null,"",null,null,{"$f":"IF(A183=\"\",\"\",(SUMIF($J$4:$J$28,J183,$I$4:$I$28)+SUMIF($J$30:$J183,$J183,$H$30:H183)))","v":""},"    "]
[null,null,null,null,null,"",null,null,{"$f":"IF(A184=\"\",\"\",(SUMIF($J$4:$J$28,J184,$I$4:$I$28)+SUMIF($J$30:$J184,$J184,$H$30:H184)))","v":""},"    "]
[null,null,null,null,null,"",null,null,{"$f":"IF(A185=\"\",\"\",(SUMIF($J$4:$J$28,J185,$I$4:$I$28)+SUMIF($J$30:$J185,$J185,$H$30:H185)))","v":""},"    "]
[null,null,null,null,null,"",null,null,{"$f":"IF(A186=\"\",\"\",(SUMIF($J$4:$J$28,J186,$I$4:$I$28)+SUMIF($J$30:$J186,$J186,$H$30:H186)))","v":""},"    "]
[null,null,null,null,null,"",null,null,{"$f":"IF(A187=\"\",\"\",(SUMIF($J$4:$J$28,J187,$I$4:$I$28)+SUMIF($J$30:$J187,$J187,$H$30:H187)))","v":""},"    "]
[null,null,null,null,null,"",null,null,{"$f":"IF(A188=\"\",\"\",(SUMIF($J$4:$J$28,J188,$I$4:$I$28)+SUMIF($J$30:$J188,$J188,$H$30:H188)))","v":""},"    "]
[null,null,null,null,null,"",null,null,{"$f":"IF(A189=\"\",\"\",(SUMIF($J$4:$J$28,J189,$I$4:$I$28)+SUMIF($J$30:$J189,$J189,$H$30:H189)))","v":""},"    "]
[null,null,null,null,null,{"$f":"IF(C190=\"\",\"\",VLOOKUP(C190,$K$4:$L$40,2,FALSE))","v":""},null,null,{"$f":"IF(A190=\"\",\"\",(SUMIF($J$4:$J$28,J190,$I$4:$I$28)+SUMIF($J$30:$J190,$J190,$H$30:H190)))","v":""},"    "]
[null,null,null,null,null,"",null,null,{"$f":"IF(A191=\"\",\"\",(SUMIF($J$4:$J$28,J191,$I$4:$I$28)+SUMIF($J$30:$J191,$J191,$H$30:H191)))","v":""},"    "]
[null,null,null,null,null,"",null,null,{"$f":"IF(A192=\"\",\"\",(SUMIF($J$4:$J$28,J192,$I$4:$I$28)+SUMIF($J$30:$J192,$J192,$H$30:H192)))","v":""},"    "]
[null,null,null,null,null,"",null,null,{"$f":"IF(A193=\"\",\"\",(SUMIF($J$4:$J$28,J193,$I$4:$I$28)+SUMIF($J$30:$J193,$J193,$H$30:H193)))","v":""},"    "]
[null,null,null,null,null,"",null,null,{"$f":"IF(A194=\"\",\"\",(SUMIF($J$4:$J$28,J194,$I$4:$I$28)+SUMIF($J$30:$J194,$J194,$H$30:H194)))","v":""},"    "]
[null,null,null,null,null,"",null,null,{"$f":"IF(A195=\"\",\"\",(SUMIF($J$4:$J$28,J195,$I$4:$I$28)+SUMIF($J$30:$J195,$J195,$H$30:H195)))","v":""},"    "]
[null,null,null,null,null,"",null,null,{"$f":"IF(A196=\"\",\"\",(SUMIF($J$4:$J$28,J196,$I$4:$I$28)+SUMIF($J$30:$J196,$J196,$H$30:H196)))","v":""},"    "]
[null,null,null,null,null,"",null,null,{"$f":"IF(A197=\"\",\"\",(SUMIF($J$4:$J$28,J197,$I$4:$I$28)+SUMIF($J$30:$J197,$J197,$H$30:H197)))","v":""},{"$f":"D197&\"  \"&E197&\"  \"&F197","v":"    "}]
[null,null,null,null,null,"",null,null,{"$f":"IF(A198=\"\",\"\",(SUMIF($J$4:$J$28,J198,$I$4:$I$28)+SUMIF($J$30:$J198,$J198,$H$30:H198)))","v":""},"    "]
[null,null,null,null,null,"",null,null,{"$f":"IF(A199=\"\",\"\",(SUMIF($J$4:$J$28,J199,$I$4:$I$28)+SUMIF($J$30:$J199,$J199,$H$30:H199)))","v":""},"    "]
[null,null,null,null,null,"",null,null,{"$f":"IF(A200=\"\",\"\",(SUMIF($J$4:$J$28,J200,$I$4:$I$28)+SUMIF($J$30:$J200,$J200,$H$30:H200)))","v":""},"    "]
[null,null,null,null,null,"",null,null,{"$f":"IF(A201=\"\",\"\",(SUMIF($J$4:$J$28,J201,$I$4:$I$28)+SUMIF($J$30:$J201,$J201,$H$30:H201)))","v":""},"    "]
[null,null,null,null,null,"",null,null,{"$f":"IF(A202=\"\",\"\",(SUMIF($J$4:$J$28,J202,$I$4:$I$28)+SUMIF($J$30:$J202,$J202,$H$30:H202)))","v":""},"    "]
[null,null,null,null,null,"",null,null,{"$f":"IF(A203=\"\",\"\",(SUMIF($J$4:$J$28,J203,$I$4:$I$28)+SUMIF($J$30:$J203,$J203,$H$30:H203)))","v":""},"    "]
[null,null,null,null,null,"",null,null,{"$f":"IF(A204=\"\",\"\",(SUMIF($J$4:$J$28,J204,$I$4:$I$28)+SUMIF($J$30:$J204,$J204,$H$30:H204)))","v":""},"    "]
[null,null,null,null,null,"",null,null,{"$f":"IF(A205=\"\",\"\",(SUMIF($J$4:$J$28,J205,$I$4:$I$28)+SUMIF($J$30:$J205,$J205,$H$30:H205)))","v":""},"    "]
[null,null,null,null,null,"",null,null,{"$f":"IF(A206=\"\",\"\",(SUMIF($J$4:$J$28,J206,$I$4:$I$28)+SUMIF($J$30:$J206,$J206,$H$30:H206)))","v":""},"    "]
[null,null,null,null,null,"",null,null,{"$f":"IF(A207=\"\",\"\",(SUMIF($J$4:$J$28,J207,$I$4:$I$28)+SUMIF($J$30:$J207,$J207,$H$30:H207)))","v":""},"    "]
[null,null,null,null,null,"",null,null,{"$f":"IF(A208=\"\",\"\",(SUMIF($J$4:$J$28,J208,$I$4:$I$28)+SUMIF($J$30:$J208,$J208,$H$30:H208)))","v":""},"    "]
[null,null,null,null,null,"",null,null,{"$f":"IF(A209=\"\",\"\",(SUMIF($J$4:$J$28,J209,$I$4:$I$28)+SUMIF($J$30:$J209,$J209,$H$30:H209)))","v":""},"    "]
[null,null,null,null,null,"",null,null,{"$f":"IF(A210=\"\",\"\",(SUMIF($J$4:$J$28,J210,$I$4:$I$28)+SUMIF($J$30:$J210,$J210,$H$30:H210)))","v":""},"    "]
[null,null,null,null,null,"",null,null,{"$f":"IF(A211=\"\",\"\",(SUMIF($J$4:$J$28,J211,$I$4:$I$28)+SUMIF($J$30:$J211,$J211,$H$30:H211)))","v":""},"    "]
[null,null,null,null,null,"",null,null,{"$f":"IF(A212=\"\",\"\",(SUMIF($J$4:$J$28,J212,$I$4:$I$28)+SUMIF($J$30:$J212,$J212,$H$30:H212)))","v":""},"    "]
[null,null,null,null,null,"",null,null,{"$f":"IF(A213=\"\",\"\",(SUMIF($J$4:$J$28,J213,$I$4:$I$28)+SUMIF($J$30:$J213,$J213,$H$30:H213)))","v":""},"    "]
[null,null,null,null,null,"",null,null,{"$f":"IF(A214=\"\",\"\",(SUMIF($J$4:$J$28,J214,$I$4:$I$28)+SUMIF($J$30:$J214,$J214,$H$30:H214)))","v":""},"    "]
[null,null,null,null,null,"",null,null,{"$f":"IF(A215=\"\",\"\",(SUMIF($J$4:$J$28,J215,$I$4:$I$28)+SUMIF($J$30:$J215,$J215,$H$30:H215)))","v":""},"    "]
[null,null,null,null,null,"",null,null,{"$f":"IF(A216=\"\",\"\",(SUMIF($J$4:$J$28,J216,$I$4:$I$28)+SUMIF($J$30:$J216,$J216,$H$30:H216)))","v":""},"    "]
[null,null,null,null,null,"",null,null,{"$f":"IF(A217=\"\",\"\",(SUMIF($J$4:$J$28,J217,$I$4:$I$28)+SUMIF($J$30:$J217,$J217,$H$30:H217)))","v":""},"    "]
[null,null,null,null,null,"",null,null,{"$f":"IF(A218=\"\",\"\",(SUMIF($J$4:$J$28,J218,$I$4:$I$28)+SUMIF($J$30:$J218,$J218,$H$30:H218)))","v":""},"    "]
[null,null,null,null,null,"",null,null,{"$f":"IF(A219=\"\",\"\",(SUMIF($J$4:$J$28,J219,$I$4:$I$28)+SUMIF($J$30:$J219,$J219,$H$30:H219)))","v":""},"    "]
[null,null,null,null,null,"",null,null,{"$f":"IF(A220=\"\",\"\",(SUMIF($J$4:$J$28,J220,$I$4:$I$28)+SUMIF($J$30:$J220,$J220,$H$30:H220)))","v":""},"    "]
[null,null,null,null,null,"",null,null,{"$f":"IF(A221=\"\",\"\",(SUMIF($J$4:$J$28,J221,$I$4:$I$28)+SUMIF($J$30:$J221,$J221,$H$30:H221)))","v":""},"    "]
[null,null,null,null,null,{"$f":"IF(C222=\"\",\"\",VLOOKUP(C222,$K$4:$L$40,2,FALSE))","v":""},null,null,{"$f":"IF(A222=\"\",\"\",(SUMIF($J$4:$J$28,J222,$I$4:$I$28)+SUMIF($J$30:$J222,$J222,$H$30:H222)))","v":""},"    "]
[null,null,null,null,null,"",null,null,{"$f":"IF(A223=\"\",\"\",(SUMIF($J$4:$J$28,J223,$I$4:$I$28)+SUMIF($J$30:$J223,$J223,$H$30:H223)))","v":""},"    "]
[null,null,null,null,null,"",null,null,{"$f":"IF(A224=\"\",\"\",(SUMIF($J$4:$J$28,J224,$I$4:$I$28)+SUMIF($J$30:$J224,$J224,$H$30:H224)))","v":""},"    "]
[null,null,null,null,null,"",null,null,{"$f":"IF(A225=\"\",\"\",(SUMIF($J$4:$J$28,J225,$I$4:$I$28)+SUMIF($J$30:$J225,$J225,$H$30:H225)))","v":""},"    "]
[null,null,null,null,null,"",null,null,{"$f":"IF(A226=\"\",\"\",(SUMIF($J$4:$J$28,J226,$I$4:$I$28)+SUMIF($J$30:$J226,$J226,$H$30:H226)))","v":""},"    "]
[null,null,null,null,null,"",null,null,{"$f":"IF(A227=\"\",\"\",(SUMIF($J$4:$J$28,J227,$I$4:$I$28)+SUMIF($J$30:$J227,$J227,$H$30:H227)))","v":""},"    "]
[null,null,null,null,null,"",null,null,{"$f":"IF(A228=\"\",\"\",(SUMIF($J$4:$J$28,J228,$I$4:$I$28)+SUMIF($J$30:$J228,$J228,$H$30:H228)))","v":""},"    "]
[null,null,null,null,null,"",null,null,{"$f":"IF(A229=\"\",\"\",(SUMIF($J$4:$J$28,J229,$I$4:$I$28)+SUMIF($J$30:$J229,$J229,$H$30:H229)))","v":""},"    "]

{"sheet":"TRANSACTION_REPORT","index":1,"n_rows":607,"n_cols":14,"rows_kept":607,"cut":false,"hidden":false,"merged":[[3,0,5,0],[3,1,4,3],[3,9,4,12],[3,4,4,8],[0,0,1,13],[2,0,2,3],[3,13,5,13],[2,7,2,10]]}
["CARDHOLDER YEAR-TO-DATE TRANSACTION LOG"]
[]
[null,null,null,null,{"$f":"IF(OCT!H3=\"\",\"\",OCT!H3)","v":"CARDHOLDER NAME:"},{"$f":"'FUNDING SHEET'!K3","v":"CARDHOLDER NAME:"},{"$f":"'FUNDING SHEET'!L3","v":0},"CARD ACCOUNT NUMBER:   XXXX-XXXX-XXXX-",null,null,null,{"$f":"'FUNDING SHEET'!$L$2","v":0},"FISCAL YEAR:",{"$f":"'FUNDING SHEET'!L1","v":0}]
["Log Number","DATE",null,null,"PURCHASE DETAIL",null,null,null,null,"AMOUNT",null,null,null,"TOTAL SPENDING YTD"]
[]
[null,"Date of Order","Date Received","Statement Date","LOA IDENTIFIER","LOA","Item(s) purchased","Vendor","REQ # / CONTACT","Amount","Paid by Check","Check Fee Amount (1.7%)","TOTAL PURCHASE"]
[]
[1,{"$f":"IF(NOV!C8=\"\",\"\",NOV!C8)","v":""},{"$f":"IF(NOV!D8=\"\",\"\",NOV!D8)","v":""},{"$f":"IF(NOV!F8=\"\",\"\",NOV!F8)","v":""},{"$f":"IF(NOV!S8=\"\",\"\",NOV!S8)","v":""},{"$f":"IF(E8=\"\",\"\",VLOOKUP(E8,NOV!$A$60:$L$84,11,FALSE))","v":""},{"$f":"IF(NOV!J8=\"\",\"\",NOV!J8)","v":""},{"$f":"IF(NOV!L8=\"\",\"\",NOV!L8)","v":""},{"$f":"IF(NOV!I8=\"\",\"\",NOV!I8)","v":""},{"$f":"IF(NOV!N8=\"\",\"\",NOV!N8)","v":""},{"$f":"IF(NOV!O8=\"\",\"\",NOV!O8)","v":""},{"$f":"IF(NOV!P8=\"\",\"\",NOV!P8)","v":""},{"$f":"IF(J8=\"\",\"\",J8+L8)","v":""},{"$f":"IF(B8=\"\",\"\",N7+J8+L8)","v":""}]
[2,{"$f":"IF(NOV!C9=\"\",\"\",NOV!C9)","v":""},{"$f":"IF(NOV!D9=\"\",\"\",NOV!D9)","v":""},{"$f":"IF(NOV!F9=\"\",\"\",NOV!F9)","v":""},{"$f":"IF(NOV!S9=\"\",\"\",NOV!S9)","v":""},{"$f":"IF(E9=\"\",\"\",VLOOKUP(E9,NOV!$A$60:$L$84,11,FALSE))","v":""},{"$f":"IF(NOV!J9=\"\",\"\",NOV!J9)","v":""},{"$f":"IF(NOV!L9=\"\",\"\",NOV!L9)","v":""},{"$f":"IF(NOV!I9=\"\",\"\",NOV!I9)","v":""},{"$f":"IF(NOV!N9=\"\",\"\",NOV!N9)","v":""},{"$f":"IF(NOV!O9=\"\",\"\",NOV!O9)","v":""},{"$f":"IF(NOV!P9=\"\",\"\",NOV!P9)","v":""},"",""]
[3,{"$f":"IF(NOV!C10=\"\",\"\",NOV!C10)","v":""},{"$f":"IF(NOV!D10=\"\",\"\",NOV!D10)","v":""},{"$f":"IF(NOV!F10=\"\",\"\",NOV!F10)","v":""},{"$f":"IF(NOV!S10=\"\",\"\",NOV!S10)","v":""},{"$f":"IF(E10=\"\",\"\",VLOOKUP(E10,NOV!$A$60:$L$84,11,FALSE))","v":""},{"$f":"IF(NOV!J10=\"\",\"\",NOV!J10)","v":""},{"$f":"IF(NOV!L10=\"\",\"\",NOV!L10)","v":""},{"$f":"IF(NOV!I10=\"\",\"\",NOV!I10)","v":""},{"$f":"IF(NOV!N10=\"\",\"\",NOV!N10)","v":""},{"$f":"IF(NOV!O10=\"\",\"\",NOV!O10)","v":""},{"$f":"IF(NOV!P10=\"\",\"\",NOV!P10)","v":""},"",""]
[4,{"$f":"IF(DEC!C9=\"\",\"\",DEC!C9)","v":""},{"$f":"IF(DEC!D9=\"\",\"\",DEC!D9)","v":""},{"$f":"IF(DEC!F9=\"\",\"\",DEC!F9)","v":""},{"$f":"IF(DEC!S9=\"\",\"\",DEC!S9)","v":""},{"$f":"IF(E11=\"\",\"\",VLOOKUP(E11,DEC!$A$60:$L$84,11,FALSE))","v":""},{"$f":"IF(DEC!J9=\"\",\"\",DEC!J9)","v":""},{"$f":"IF(DEC!L9=\"\",\"\",DEC!L9)","v":""},{"$f":"IF(DEC!I9=\"\",\"\",DEC!I9)","v":""},{"$f":"IF(DEC!N9=\"\",\"\",DEC!N9)","v":""},{"$f":"IF(DEC!O9=\"\",\"\",DEC!O9)","v":""},{"$f":"IF(DEC!P9=\"\",\"\",DEC!P9)","v":""},"",""]
[5,null,null,null,null,null,null,null,{"$f":"IF(JAN!I8=\"\",\"\",JAN!I8)","v":""},null,{"$f":"IF(JAN!O8=\"\",\"\",JAN!O8)","v":""},null,"",""]
[6,null,null,null,null,null,null,null,{"$f":"IF(JAN!I9=\"\",\"\",JAN!I9)","v":""},null,{"$f":"IF(JAN!O9=\"\",\"\",JAN!O9)","v":""},null,"",""]
[7,null,null,null,null,null,null,null,{"$f":"IF(JAN!I10=\"\",\"\",JAN!I10)","v":""},null,{"$f":"IF(JAN!O10=\"\",\"\",JAN!O10)","v":""},null,"",""]
[8,{"$f":"IF(OCT!C8=\"\",\"\",OCT!C8)","v":""},{"$f":"IF(OCT!D8=\"\",\"\",OCT!D8)","v":""},{"$f":"IF(OCT!F8=\"\",\"\",OCT!F8)","v":""},{"$f":"IF(OCT!S8=\"\",\"\",OCT!S8)","v":""},{"$f":"IF(E15=\"\",\"\",VLOOKUP(E15,SEP!$A$60:$L$84,11,FALSE))","v":""},{"$f":"IF(OCT!J8=\"\",\"\",OCT!J8)","v":""},{"$f":"IF(OCT!L8=\"\",\"\",OCT!L8)","v":""},{"$f":"IF(OCT!I8=\"\",\"\",OCT!I8)","v":""},{"$f":"IF(OCT!N8=\"\",\"\",OCT!N8)","v":""},{"$f":"IF(OCT!O8=\"\",\"\",OCT!O8)","v":""},{"$f":"IF(OCT!P8=\"\",\"\",OCT!P8)","v":""},"",""]
[9,{"$f":"IF(OCT!C9=\"\",\"\",OCT!C9)","v":""},{"$f":"IF(OCT!D9=\"\",\"\",OCT!D9)","v":""},{"$f":"IF(OCT!F9=\"\",\"\",OCT!F9)","v":""},{"$f":"IF(OCT!S9=\"\",\"\",OCT!S9)","v":""},{"$f":"IF(E16=\"\",\"\",VLOOKUP(E16,SEP!$A$60:$L$84,11,FALSE))","v":""},{"$f":"IF(OCT!J9=\"\",\"\",OCT!J9)","v":""},{"$f":"IF(OCT!L9=\"\",\"\",OCT!L9)","v":""},{"$f":"IF(OCT!I9=\"\",\"\",OCT!I9)","v":""},{"$f":"IF(OCT!N9=\"\",\"\",OCT!N9)","v":""},{"$f":"IF(OCT!O9=\"\",\"\",OCT!O9)","v":""},{"$f":"IF(OCT!P9=\"\",\"\",OCT!P9)","v":""},"",{"$f":"IF(B16=\"\",\"\",N15+J16+L16)","v":""}]
[10,{"$f":"IF(OCT!C10=\"\",\"\",OCT!C10)","v":""},{"$f":"IF(OCT!D10=\"\",\"\",OCT!D10)","v":""},{"$f":"IF(OCT!F10=\"\",\"\",OCT!F10)","v":""},{"$f":"IF(OCT!S10=\"\",\"\",OCT!S10)","v":""},{"$f":"IF(E17=\"\",\"\",VLOOKUP(E17,SEP!$A$60:$L$84,11,FALSE))","v":""},{"$f":"IF(OCT!J10=\"\",\"\",OCT!J10)","v":""},{"$f":"IF(OCT!L10=\"\",\"\",OCT!L10)","v":""},{"$f":"IF(OCT!I10=\"\",\"\",OCT!I10)","v":""},{"$f":"IF(OCT!N10=\"\",\"\",OCT!N10)","v":""},{"$f":"IF(OCT!O10=\"\",\"\",OCT!O10)","v":""},{"$f":"IF(OCT!P10=\"\",\"\",OCT!P10)","v":""},"",""]
[11,{"$f":"IF(OCT!C11=\"\",\"\",OCT!C11)","v":""},{"$f":"IF(OCT!D11=\"\",\"\",OCT!D11)","v":""},{"$f":"IF(OCT!F11=\"\",\"\",OCT!F11)","v":""},{"$f":"IF(OCT!S11=\"\",\"\",OCT!S11)","v":""},{"$f":"IF(E18=\"\",\"\",VLOOKUP(E18,SEP!$A$60:$L$84,11,FALSE))","v":""},{"$f":"IF(OCT!J11=\"\",\"\",OCT!J11)","v":""},{"$f":"IF(OCT!L11=\"\",\"\",OCT!L11)","v":""},{"$f":"IF(OCT!I11=\"\",\"\",OCT!I11)","v":""},{"$f":"IF(OCT!N11=\"\",\"\",OCT!N11)","v":""},{"$f":"IF(OCT!O11=\"\",\"\",OCT!O11)","v":""},{"$f":"IF(OCT!P11=\"\",\"\",OCT!P11)","v":""},"",""]
[12,{"$f":"IF(OCT!C12=\"\",\"\",OCT!C12)","v":""},{"$f":"IF(OCT!D12=\"\",\"\",OCT!D12)","v":""},{"$f":"IF(OCT!F12=\"\",\"\",OCT!F12)","v":""},{"$f":"IF(OCT!S12=\"\",\"\",OCT!S12)","v":""},{"$f":"IF(E19=\"\",\"\",VLOOKUP(E19,SEP!$A$60:$L$84,11,FALSE))","v":""},{"$f":"IF(OCT!J12=\"\",\"\",OCT!J12)","v":""},{"$f":"IF(OCT!L12=\"\",\"\",OCT!L12)","v":""},{"$f":"IF(OCT!I12=\"\",\"\",OCT!I12)","v":""},{"$f":"IF(OCT!N12=\"\",\"\",OCT!N12)","v":""},{"$f":"IF(OCT!O12=\"\",\"\",OCT!O12)","v":""},{"$f":"IF(OCT!P12=\"\",\"\",OCT!P12)","v":""},"",""]
[13,{"$f":"IF(OCT!C13=\"\",\"\",OCT!C13)","v":""},{"$f":"IF(OCT!D13=\"\",\"\",OCT!D13)","v":""},{"$f":"IF(OCT!F13=\"\",\"\",OCT!F13)","v":""},{"$f":"IF(OCT!S13=\"\",\"\",OCT!S13)","v":""},{"$f":"IF(E20=\"\",\"\",VLOOKUP(E20,SEP!$A$60:$L$84,11,FALSE))","v":""},{"$f":"IF(OCT!J13=\"\",\"\",OCT!J13)","v":""},{"$f":"IF(OCT!L13=\"\",\"\",OCT!L13)","v":""},{"$f":"IF(OCT!I13=\"\",\"\",OCT!I13)","v":""},{"$f":"IF(OCT!N13=\"\",\"\",OCT!N13)","v":""},{"$f":"IF(OCT!O13=\"\",\"\",OCT!O13)","v":""},{"$f":"IF(OCT!P13=\"\",\"\",OCT!P13)","v":""},"",""]
[14,{"$f":"IF(OCT!C14=\"\",\"\",OCT!C14)","v":""},{"$f":"IF(OCT!D14=\"\",\"\",OCT!D14)","v":""},{"$f":"IF(OCT!F14=\"\",\"\",OCT!F14)","v":""},{"$f":"IF(OCT!S14=\"\",\"\",OCT!S14)","v":""},{"$f":"IF(E21=\"\",\"\",VLOOKUP(E21,SEP!$A$60:$L$84,11,FALSE))","v":""},{"$f":"IF(OCT!J14=\"\",\"\",OCT!J14)","v":""},{"$f":"IF(OCT!L14=\"\",\"\",OCT!L14)","v":""},{"$f":"IF(OCT!I14=\"\",\"\",OCT!I14)","v":""},{"$f":"IF(OCT!N14=\"\",\"\",OCT!N14)","v":""},{"$f":"IF(OCT!O14=\"\",\"\",OCT!O14)","v":""},{"$f":"IF(OCT!P14=\"\",\"\",OCT!P14)","v":""},"",""]
[15,{"$f":"IF(OCT!C15=\"\",\"\",OCT!C15)","v":""},{"$f":"IF(OCT!D15=\"\",\"\",OCT!D15)","v":""},{"$f":"IF(OCT!F15=\"\",\"\",OCT!F15)","v":""},{"$f":"IF(OCT!S15=\"\",\"\",OCT!S15)","v":""},{"$f":"IF(E22=\"\",\"\",VLOOKUP(E22,SEP!$A$60:$L$84,11,FALSE))","v":""},{"$f":"IF(OCT!J15=\"\",\"\",OCT!J15)","v":""},{"$f":"IF(OCT!L15=\"\",\"\",OCT!L15)","v":""},{"$f":"IF(OCT!I15=\"\",\"\",OCT!I15)","v":""},{"$f":"IF(OCT!N15=\"\",\"\",OCT!N15)","v":""},{"$f":"IF(OCT!O15=\"\",\"\",OCT!O15)","v":""},{"$f":"IF(OCT!P15=\"\",\"\",OCT!P15)","v":""},"",""]
[16,{"$f":"IF(OCT!C16=\"\",\"\",OCT!C16)","v":""},{"$f":"IF(OCT!D16=\"\",\"\",OCT!D16)","v":""},{"$f":"IF(OCT!F16=\"\",\"\",OCT!F16)","v":""},{"$f":"IF(OCT!S16=\"\",\"\",OCT!S16)","v":""},{"$f":"IF(E23=\"\",\"\",VLOOKUP(E23,SEP!$A$60:$L$84,11,FALSE))","v":""},{"$f":"IF(OCT!J16=\"\",\"\",OCT!J16)","v":""},{"$f":"IF(OCT!L16=\"\",\"\",OCT!L16)","v":""},{"$f":"IF(OCT!I16=\"\",\"\",OCT!I16)","v":""},{"$f":"IF(OCT!N16=\"\",\"\",OCT!N16)","v":""},{"$f":"IF(OCT!O16=\"\",\"\",OCT!O16)","v":""},{"$f":"IF(OCT!P16=\"\",\"\",OCT!P16)","v":""},"",""]
[17,{"$f":"IF(OCT!C17=\"\",\"\",OCT!C17)","v":""},{"$f":"IF(OCT!D17=\"\",\"\",OCT!D17)","v":""},{"$f":"IF(OCT!F17=\"\",\"\",OCT!F17)","v":""},{"$f":"IF(OCT!S17=\"\",\"\",OCT!S17)","v":""},{"$f":"IF(E24=\"\",\"\",VLOOKUP(E24,SEP!$A$60:$L$84,11,FALSE))","v":""},{"$f":"IF(OCT!J17=\"\",\"\",OCT!J17)","v":""},{"$f":"IF(OCT!L17=\"\",\"\",OCT!L17)","v":""},{"$f":"IF(OCT!I17=\"\",\"\",OCT!I17)","v":""},{"$f":"IF(OCT!N17=\"\",\"\",OCT!N17)","v":""},{"$f":"IF(OCT!O17=\"\",\"\",OCT!O17)","v":""},{"$f":"IF(OCT!P17=\"\",\"\",OCT!P17)","v":""},"",""]
[18,{"$f":"IF(OCT!C18=\"\",\"\",OCT!C18)","v":""},{"$f":"IF(OCT!D18=\"\",\"\",OCT!D18)","v":""},{"$f":"IF(OCT!F18=\"\",\"\",OCT!F18)","v":""},{"$f":"IF(OCT!S18=\"\",\"\",OCT!S18)","v":""},{"$f":"IF(E25=\"\",\"\",VLOOKUP(E25,SEP!$A$60:$L$84,11,FALSE))","v":""},{"$f":"IF(OCT!J18=\"\",\"\",OCT!J18)","v":""},{"$f":"IF(OCT!L18=\"\",\"\",OCT!L18)","v":""},{"$f":"IF(OCT!I18=\"\",\"\",OCT!I18)","v":""},{"$f":"IF(OCT!N18=\"\",\"\",OCT!N18)","v":""},{"$f":"IF(OCT!O18=\"\",\"\",OCT!O18)","v":""},{"$f":"IF(OCT!P18=\"\",\"\",OCT!P18)","v":""},"",""]
[19,{"$f":"IF(OCT!C19=\"\",\"\",OCT!C19)","v":""},{"$f":"IF(OCT!D19=\"\",\"\",OCT!D19)","v":""},{"$f":"IF(OCT!F19=\"\",\"\",OCT!F19)","v":""},{"$f":"IF(OCT!S19=\"\",\"\",OCT!S19)","v":""},{"$f":"IF(E26=\"\",\"\",VLOOKUP(E26,SEP!$A$60:$L$84,11,FALSE))","v":""},{"$f":"IF(OCT!J19=\"\",\"\",OCT!J19)","v":""},{"$f":"IF(OCT!L19=\"\",\"\",OCT!L19)","v":""},{"$f":"IF(OCT!I19=\"\",\"\",OCT!I19)","v":""},{"$f":"IF(OCT!N19=\"\",\"\",OCT!N19)","v":""},{"$f":"IF(OCT!O19=\"\",\"\",OCT!O19)","v":""},{"$f":"IF(OCT!P19=\"\",\"\",OCT!P19)","v":""},"",""]
[20,{"$f":"IF(OCT!C20=\"\",\"\",OCT!C20)","v":""},{"$f":"IF(OCT!D20=\"\",\"\",OCT!D20)","v":""},{"$f":"IF(OCT!F20=\"\",\"\",OCT!F20)","v":""},{"$f":"IF(OCT!S20=\"\",\"\",OCT!S20)","v":""},{"$f":"IF(E27=\"\",\"\",VLOOKUP(E27,SEP!$A$60:$L$84,11,FALSE))","v":""},{"$f":"IF(OCT!J20=\"\",\"\",OCT!J20)","v":""},{"$f":"IF(OCT!L20=\"\",\"\",OCT!L20)","v":""},{"$f":"IF(OCT!I20=\"\",\"\",OCT!I20)","v":""},{"$f":"IF(OCT!N20=\"\",\"\",OCT!N20)","v":""},{"$f":"IF(OCT!O20=\"\",\"\",OCT!O20)","v":""},{"$f":"IF(OCT!P20=\"\",\"\",OCT!P20)","v":""},"",""]
[21,{"$f":"IF(OCT!C21=\"\",\"\",OCT!C21)","v":""},{"$f":"IF(OCT!D21=\"\",\"\",OCT!D21)","v":""},{"$f":"IF(OCT!F21=\"\",\"\",OCT!F21)","v":""},{"$f":"IF(OCT!S21=\"\",\"\",OCT!S21)","v":""},{"$f":"IF(E28=\"\",\"\",VLOOKUP(E28,SEP!$A$60:$L$84,11,FALSE))","v":""},{"$f":"IF(OCT!J21=\"\",\"\",OCT!J21)","v":""},{"$f":"IF(OCT!L21=\"\",\"\",OCT!L21)","v":""},{"$f":"IF(OCT!I21=\"\",\"\",OCT!I21)","v":""},{"$f":"IF(OCT!N21=\"\",\"\",OCT!N21)","v":""},{"$f":"IF(OCT!O21=\"\",\"\",OCT!O21)","v":""},{"$f":"IF(OCT!P21=\"\",\"\",OCT!P21)","v":""},"",""]
[22,{"$f":"IF(OCT!C22=\"\",\"\",OCT!C22)","v":""},{"$f":"IF(OCT!D22=\"\",\"\",OCT!D22)","v":""},{"$f":"IF(OCT!F22=\"\",\"\",OCT!F22)","v":""},{"$f":"IF(OCT!S22=\"\",\"\",OCT!S22)","v":""},{"$f":"IF(E29=\"\",\"\",VLOOKUP(E29,SEP!$A$60:$L$84,11,FALSE))","v":""},{"$f":"IF(OCT!J22=\"\",\"\",OCT!J22)","v":""},{"$f":"IF(OCT!L22=\"\",\"\",OCT!L22)","v":""},{"$f":"IF(OCT!I22=\"\",\"\",OCT!I22)","v":""},{"$f":"IF(OCT!N22=\"\",\"\",OCT!N22)","v":""},{"$f":"IF(OCT!O22=\"\",\"\",OCT!O22)","v":""},{"$f":"IF(OCT!P22=\"\",\"\",OCT!P22)","v":""},"",""]
[23,{"$f":"IF(OCT!C23=\"\",\"\",OCT!C23)","v":""},{"$f":"IF(OCT!D23=\"\",\"\",OCT!D23)","v":""},{"$f":"IF(OCT!F23=\"\",\"\",OCT!F23)","v":""},{"$f":"IF(OCT!S23=\"\",\"\",OCT!S23)","v":""},{"$f":"IF(E30=\"\",\"\",VLOOKUP(E30,SEP!$A$60:$L$84,11,FALSE))","v":""},{"$f":"IF(OCT!J23=\"\",\"\",OCT!J23)","v":""},{"$f":"IF(OCT!L23=\"\",\"\",OCT!L23)","v":""},{"$f":"IF(OCT!I23=\"\",\"\",OCT!I23)","v":""},{"$f":"IF(OCT!N23=\"\",\"\",OCT!N23)","v":""},{"$f":"IF(OCT!O23=\"\",\"\",OCT!O23)","v":""},{"$f":"IF(OCT!P23=\"\",\"\",OCT!P23)","v":""},"",""]
[24,{"$f":"IF(OCT!C24=\"\",\"\",OCT!C24)","v":""},{"$f":"IF(OCT!D24=\"\",\"\",OCT!D24)","v":""},{"$f":"IF(OCT!F24=\"\",\"\",OCT!F24)","v":""},{"$f":"IF(OCT!S24=\"\",\"\",OCT!S24)","v":""},{"$f":"IF(E31=\"\",\"\",VLOOKUP(E31,SEP!$A$60:$L$84,11,FALSE))","v":""},{"$f":"IF(OCT!J24=\"\",\"\",OCT!J24)","v":""},{"$f":"IF(OCT!L24=\"\",\"\",OCT!L24)","v":""},{"$f":"IF(OCT!I24=\"\",\"\",OCT!I24)","v":""},{"$f":"IF(OCT!N24=\"\",\"\",OCT!N24)","v":""},{"$f":"IF(OCT!O24=\"\",\"\",OCT!O24)","v":""},{"$f":"IF(OCT!P24=\"\",\"\",OCT!P24)","v":""},"",""]
[25,{"$f":"IF(OCT!C25=\"\",\"\",OCT!C25)","v":""},{"$f":"IF(OCT!D25=\"\",\"\",OCT!D25)","v":""},{"$f":"IF(OCT!F25=\"\",\"\",OCT!F25)","v":""},{"$f":"IF(OCT!S25=\"\",\"\",OCT!S25)","v":""},{"$f":"IF(E32=\"\",\"\",VLOOKUP(E32,SEP!$A$60:$L$84,11,FALSE))","v":""},{"$f":"IF(OCT!J25=\"\",\"\",OCT!J25)","v":""},{"$f":"IF(OCT!L25=\"\",\"\",OCT!L25)","v":""},{"$f":"IF(OCT!I25=\"\",\"\",OCT!I25)","v":""},{"$f":"IF(OCT!N25=\"\",\"\",OCT!N25)","v":""},{"$f":"IF(OCT!O25=\"\",\"\",OCT!O25)","v":""},{"$f":"IF(OCT!P25=\"\",\"\",OCT!P25)","v":""},"",""]
[26,{"$f":"IF(OCT!C26=\"\",\"\",OCT!C26)","v":""},{"$f":"IF(OCT!D26=\"\",\"\",OCT!D26)","v":""},{"$f":"IF(OCT!F26=\"\",\"\",OCT!F26)","v":""},{"$f":"IF(OCT!S26=\"\",\"\",OCT!S26)","v":""},{"$f":"IF(E33=\"\",\"\",VLOOKUP(E33,SEP!$A$60:$L$84,11,FALSE))","v":""},{"$f":"IF(OCT!J26=\"\",\"\",OCT!J26)","v":""},{"$f":"IF(OCT!L26=\"\",\"\",OCT!L26)","v":""},{"$f":"IF(OCT!I26=\"\",\"\",OCT!I26)","v":""},{"$f":"IF(OCT!N26=\"\",\"\",OCT!N26)","v":""},{"$f":"IF(OCT!O26=\"\",\"\",OCT!O26)","v":""},{"$f":"IF(OCT!P26=\"\",\"\",OCT!P26)","v":""},"",""]
[27,{"$f":"IF(OCT!C27=\"\",\"\",OCT!C27)","v":""},{"$f":"IF(OCT!D27=\"\",\"\",OCT!D27)","v":""},{"$f":"IF(OCT!F27=\"\",\"\",OCT!F27)","v":""},{"$f":"IF(OCT!S27=\"\",\"\",OCT!S27)","v":""},{"$f":"IF(E34=\"\",\"\",VLOOKUP(E34,SEP!$A$60:$L$84,11,FALSE))","v":""},{"$f":"IF(OCT!J27=\"\",\"\",OCT!J27)","v":""},{"$f":"IF(OCT!L27=\"\",\"\",OCT!L27)","v":""},{"$f":"IF(OCT!I27=\"\",\"\",OCT!I27)","v":""},{"$f":"IF(OCT!N27=\"\",\"\",OCT!N27)","v":""},{"$f":"IF(OCT!O27=\"\",\"\",OCT!O27)","v":""},{"$f":"IF(OCT!P27=\"\",\"\",OCT!P27)","v":""},"",""]
[28,{"$f":"IF(OCT!C28=\"\",\"\",OCT!C28)","v":""},{"$f":"IF(OCT!D28=\"\",\"\",OCT!D28)","v":""},{"$f":"IF(OCT!F28=\"\",\"\",OCT!F28)","v":""},{"$f":"IF(OCT!S28=\"\",\"\",OCT!S28)","v":""},{"$f":"IF(E35=\"\",\"\",VLOOKUP(E35,SEP!$A$60:$L$84,11,FALSE))","v":""},{"$f":"IF(OCT!J28=\"\",\"\",OCT!J28)","v":""},{"$f":"IF(OCT!L28=\"\",\"\",OCT!L28)","v":""},{"$f":"IF(OCT!I28=\"\",\"\",OCT!I28)","v":""},{"$f":"IF(OCT!N28=\"\",\"\",OCT!N28)","v":""},{"$f":"IF(OCT!O28=\"\",\"\",OCT!O28)","v":""},{"$f":"IF(OCT!P28=\"\",\"\",OCT!P28)","v":""},"",""]
[29,{"$f":"IF(OCT!C29=\"\",\"\",OCT!C29)","v":""},{"$f":"IF(OCT!D29=\"\",\"\",OCT!D29)","v":""},{"$f":"IF(OCT!F29=\"\",\"\",OCT!F29)","v":""},{"$f":"IF(OCT!S29=\"\",\"\",OCT!S29)","v":""},{"$f":"IF(E36=\"\",\"\",VLOOKUP(E36,SEP!$A$60:$L$84,11,FALSE))","v":""},{"$f":"IF(OCT!J29=\"\",\"\",OCT!J29)","v":""},{"$f":"IF(OCT!L29=\"\",\"\",OCT!L29)","v":""},{"$f":"IF(OCT!I29=\"\",\"\",OCT!I29)","v":""},{"$f":"IF(OCT!N29=\"\",\"\",OCT!N29)","v":""},{"$f":"IF(OCT!O29=\"\",\"\",OCT!O29)","v":""},{"$f":"IF(OCT!P29=\"\",\"\",OCT!P29)","v":""},"",""]
[30,{"$f":"IF(OCT!C30=\"\",\"\",OCT!C30)","v":""},{"$f":"IF(OCT!D30=\"\",\"\",OCT!D30)","v":""},{"$f":"IF(OCT!F30=\"\",\"\",OCT!F30)","v":""},{"$f":"IF(OCT!S30=\"\",\"\",OCT!S30)","v":""},{"$f":"IF(E37=\"\",\"\",VLOOKUP(E37,SEP!$A$60:$L$84,11,FALSE))","v":""},{"$f":"IF(OCT!J30=\"\",\"\",OCT!J30)","v":""},{"$f":"IF(OCT!L30=\"\",\"\",OCT!L30)","v":""},{"$f":"IF(OCT!I30=\"\",\"\",OCT!I30)","v":""},{"$f":"IF(OCT!N30=\"\",\"\",OCT!N30)","v":""},{"$f":"IF(OCT!O30=\"\",\"\",OCT!O30)","v":""},{"$f":"IF(OCT!P30=\"\",\"\",OCT!P30)","v":""},"",""]
[31,{"$f":"IF(OCT!C31=\"\",\"\",OCT!C31)","v":""},{"$f":"IF(OCT!D31=\"\",\"\",OCT!D31)","v":""},{"$f":"IF(OCT!F31=\"\",\"\",OCT!F31)","v":""},{"$f":"IF(OCT!S31=\"\",\"\",OCT!S31)","v":""},{"$f":"IF(E38=\"\",\"\",VLOOKUP(E38,SEP!$A$60:$L$84,11,FALSE))","v":""},{"$f":"IF(OCT!J31=\"\",\"\",OCT!J31)","v":""},{"$f":"IF(OCT!L31=\"\",\"\",OCT!L31)","v":""},{"$f":"IF(OCT!I31=\"\",\"\",OCT!I31)","v":""},{"$f":"IF(OCT!N31=\"\",\"\",OCT!N31)","v":""},{"$f":"IF(OCT!O31=\"\",\"\",OCT!O31)","v":""},{"$f":"IF(OCT!P31=\"\",\"\",OCT!P31)","v":""},"",""]
[32,{"$f":"IF(OCT!C32=\"\",\"\",OCT!C32)","v":""},{"$f":"IF(OCT!D32=\"\",\"\",OCT!D32)","v":""},{"$f":"IF(OCT!F32=\"\",\"\",OCT!F32)","v":""},{"$f":"IF(OCT!S32=\"\",\"\",OCT!S32)","v":""},{"$f":"IF(E39=\"\",\"\",VLOOKUP(E39,SEP!$A$60:$L$84,11,FALSE))","v":""},{"$f":"IF(OCT!J32=\"\",\"\",OCT!J32)","v":""},{"$f":"IF(OCT!L32=\"\",\"\",OCT!L32)","v":""},{"$f":"IF(OCT!I32=\"\",\"\",OCT!I32)","v":""},{"$f":"IF(OCT!N32=\"\",\"\",OCT!N32)","v":""},{"$f":"IF(OCT!O32=\"\",\"\",OCT!O32)","v":""},{"$f":"IF(OCT!P32=\"\",\"\",OCT!P32)","v":""},"",""]
[33,{"$f":"IF(OCT!C33=\"\",\"\",OCT!C33)","v":""},{"$f":"IF(OCT!D33=\"\",\"\",OCT!D33)","v":""},{"$f":"IF(OCT!F33=\"\",\"\",OCT!F33)","v":""},{"$f":"IF(OCT!S33=\"\",\"\",OCT!S33)","v":""},{"$f":"IF(E40=\"\",\"\",VLOOKUP(E40,SEP!$A$60:$L$84,11,FALSE))","v":""},{"$f":"IF(OCT!J33=\"\",\"\",OCT!J33)","v":""},{"$f":"IF(OCT!L33=\"\",\"\",OCT!L33)","v":""},{"$f":"IF(OCT!I33=\"\",\"\",OCT!I33)","v":""},{"$f":"IF(OCT!N33=\"\",\"\",OCT!N33)","v":""},{"$f":"IF(OCT!O33=\"\",\"\",OCT!O33)","v":""},{"$f":"IF(OCT!P33=\"\",\"\",OCT!P33)","v":""},"",""]
[34,{"$f":"IF(OCT!C34=\"\",\"\",OCT!C34)","v":""},{"$f":"IF(OCT!D34=\"\",\"\",OCT!D34)","v":""},{"$f":"IF(OCT!F34=\"\",\"\",OCT!F34)","v":""},{"$f":"IF(OCT!S34=\"\",\"\",OCT!S34)","v":""},{"$f":"IF(E41=\"\",\"\",VLOOKUP(E41,SEP!$A$60:$L$84,11,FALSE))","v":""},{"$f":"IF(OCT!J34=\"\",\"\",OCT!J34)","v":""},{"$f":"IF(OCT!L34=\"\",\"\",OCT!L34)","v":""},{"$f":"IF(OCT!I34=\"\",\"\",OCT!I34)","v":""},{"$f":"IF(OCT!N34=\"\",\"\",OCT!N34)","v":""},{"$f":"IF(OCT!O34=\"\",\"\",OCT!O34)","v":""},{"$f":"IF(OCT!P34=\"\",\"\",OCT!P34)","v":""},"",""]
[35,{"$f":"IF(OCT!C35=\"\",\"\",OCT!C35)","v":""},{"$f":"IF(OCT!D35=\"\",\"\",OCT!D35)","v":""},{"$f":"IF(OCT!F35=\"\",\"\",OCT!F35)","v":""},{"$f":"IF(OCT!S35=\"\",\"\",OCT!S35)","v":""},{"$f":"IF(E42=\"\",\"\",VLOOKUP(E42,SEP!$A$60:$L$84,11,FALSE))","v":""},{"$f":"IF(OCT!J35=\"\",\"\",OCT!J35)","v":""},{"$f":"IF(OCT!L35=\"\",\"\",OCT!L35)","v":""},{"$f":"IF(OCT!I35=\"\",\"\",OCT!I35)","v":""},{"$f":"IF(OCT!N35=\"\",\"\",OCT!N35)","v":""},{"$f":"IF(OCT!O35=\"\",\"\",OCT!O35)","v":""},{"$f":"IF(OCT!P35=\"\",\"\",OCT!P35)","v":""},"",""]
[36,{"$f":"IF(OCT!C36=\"\",\"\",OCT!C36)","v":""},{"$f":"IF(OCT!D36=\"\",\"\",OCT!D36)","v":""},{"$f":"IF(OCT!F36=\"\",\"\",OCT!F36)","v":""},{"$f":"IF(OCT!S36=\"\",\"\",OCT!S36)","v":""},{"$f":"IF(E43=\"\",\"\",VLOOKUP(E43,SEP!$A$60:$L$84,11,FALSE))","v":""},{"$f":"IF(OCT!J36=\"\",\"\",OCT!J36)","v":""},{"$f":"IF(OCT!L36=\"\",\"\",OCT!L36)","v":""},{"$f":"IF(OCT!I36=\"\",\"\",OCT!I36)","v":""},{"$f":"IF(OCT!N36=\"\",\"\",OCT!N36)","v":""},{"$f":"IF(OCT!O36=\"\",\"\",OCT!O36)","v":""},{"$f":"IF(OCT!P36=\"\",\"\",OCT!P36)","v":""},"",""]
[37,{"$f":"IF(OCT!C37=\"\",\"\",OCT!C37)","v":""},{"$f":"IF(OCT!D37=\"\",\"\",OCT!D37)","v":""},{"$f":"IF(OCT!F37=\"\",\"\",OCT!F37)","v":""},{"$f":"IF(OCT!S37=\"\",\"\",OCT!S37)","v":""},{"$f":"IF(E44=\"\",\"\",VLOOKUP(E44,SEP!$A$60:$L$84,11,FALSE))","v":""},{"$f":"IF(OCT!J37=\"\",\"\",OCT!J37)","v":""},{"$f":"IF(OCT!L37=\"\",\"\",OCT!L37)","v":""},{"$f":"IF(OCT!I37=\"\",\"\",OCT!I37)","v":""},{"$f":"IF(OCT!N37=\"\",\"\",OCT!N37)","v":""},{"$f":"IF(OCT!O37=\"\",\"\",OCT!O37)","v":""},{"$f":"IF(OCT!P37=\"\",\"\",OCT!P37)","v":""},"",""]
[38,{"$f":"IF(OCT!C38=\"\",\"\",OCT!C38)","v":""},{"$f":"IF(OCT!D38=\"\",\"\",OCT!D38)","v":""},{"$f":"IF(OCT!F38=\"\",\"\",OCT!F38)","v":""},{"$f":"IF(OCT!S38=\"\",\"\",OCT!S38)","v":""},{"$f":"IF(E45=\"\",\"\",VLOOKUP(E45,SEP!$A$60:$L$84,11,FALSE))","v":""},{"$f":"IF(OCT!J38=\"\",\"\",OCT!J38)","v":""},{"$f":"IF(OCT!L38=\"\",\"\",OCT!L38)","v":""},{"$f":"IF(OCT!I38=\"\",\"\",OCT!I38)","v":""},{"$f":"IF(OCT!N38=\"\",\"\",OCT!N38)","v":""},{"$f":"IF(OCT!O38=\"\",\"\",OCT!O38)","v":""},{"$f":"IF(OCT!P38=\"\",\"\",OCT!P38)","v":""},"",""]
[39,{"$f":"IF(OCT!C39=\"\",\"\",OCT!C39)","v":""},{"$f":"IF(OCT!D39=\"\",\"\",OCT!D39)","v":""},{"$f":"IF(OCT!F39=\"\",\"\",OCT!F39)","v":""},{"$f":"IF(OCT!S39=\"\",\"\",OCT!S39)","v":""},{"$f":"IF(E46=\"\",\"\",VLOOKUP(E46,SEP!$A$60:$L$84,11,FALSE))","v":""},{"$f":"IF(OCT!J39=\"\",\"\",OCT!J39)","v":""},{"$f":"IF(OCT!L39=\"\",\"\",OCT!L39)","v":""},{"$f":"IF(OCT!I39=\"\",\"\",OCT!I39)","v":""},{"$f":"IF(OCT!N39=\"\",\"\",OCT!N39)","v":""},{"$f":"IF(OCT!O39=\"\",\"\",OCT!O39)","v":""},{"$f":"IF(OCT!P39=\"\",\"\",OCT!P39)","v":""},"",""]
[40,{"$f":"IF(OCT!C40=\"\",\"\",OCT!C40)","v":""},{"$f":"IF(OCT!D40=\"\",\"\",OCT!D40)","v":""},{"$f":"IF(OCT!F40=\"\",\"\",OCT!F40)","v":""},{"$f":"IF(OCT!S40=\"\",\"\",OCT!S40)","v":""},{"$f":"IF(E47=\"\",\"\",VLOOKUP(E47,SEP!$A$60:$L$84,11,FALSE))","v":""},{"$f":"IF(OCT!J40=\"\",\"\",OCT!J40)","v":""},{"$f":"IF(OCT!L40=\"\",\"\",OCT!L40)","v":""},{"$f":"IF(OCT!I40=\"\",\"\",OCT!I40)","v":""},{"$f":"IF(OCT!N40=\"\",\"\",OCT!N40)","v":""},{"$f":"IF(OCT!O40=\"\",\"\",OCT!O40)","v":""},{"$f":"IF(OCT!P40=\"\",\"\",OCT!P40)","v":""},"",""]
[41,{"$f":"IF(OCT!C41=\"\",\"\",OCT!C41)","v":""},{"$f":"IF(OCT!D41=\"\",\"\",OCT!D41)","v":""},{"$f":"IF(OCT!F41=\"\",\"\",OCT!F41)","v":""},{"$f":"IF(OCT!S41=\"\",\"\",OCT!S41)","v":""},{"$f":"IF(E48=\"\",\"\",VLOOKUP(E48,SEP!$A$60:$L$84,11,FALSE))","v":""},{"$f":"IF(OCT!J41=\"\",\"\",OCT!J41)","v":""},{"$f":"IF(OCT!L41=\"\",\"\",OCT!L41)","v":""},{"$f":"IF(OCT!I41=\"\",\"\",OCT!I41)","v":""},{"$f":"IF(OCT!N41=\"\",\"\",OCT!N41)","v":""},{"$f":"IF(OCT!O41=\"\",\"\",OCT!O41)","v":""},{"$f":"IF(OCT!P41=\"\",\"\",OCT!P41)","v":""},"",""]
[42,{"$f":"IF(OCT!C42=\"\",\"\",OCT!C42)","v":""},{"$f":"IF(OCT!D42=\"\",\"\",OCT!D42)","v":""},{"$f":"IF(OCT!F42=\"\",\"\",OCT!F42)","v":""},{"$f":"IF(OCT!S42=\"\",\"\",OCT!S42)","v":""},{"$f":"IF(E49=\"\",\"\",VLOOKUP(E49,SEP!$A$60:$L$84,11,FALSE))","v":""},{"$f":"IF(OCT!J42=\"\",\"\",OCT!J42)","v":""},{"$f":"IF(OCT!L42=\"\",\"\",OCT!L42)","v":""},{"$f":"IF(OCT!I42=\"\",\"\",OCT!I42)","v":""},{"$f":"IF(OCT!N42=\"\",\"\",OCT!N42)","v":""},{"$f":"IF(OCT!O42=\"\",\"\",OCT!O42)","v":""},{"$f":"IF(OCT!P42=\"\",\"\",OCT!P42)","v":""},"",""]
[43,{"$f":"IF(OCT!C43=\"\",\"\",OCT!C43)","v":""},{"$f":"IF(OCT!D43=\"\",\"\",OCT!D43)","v":""},{"$f":"IF(OCT!F43=\"\",\"\",OCT!F43)","v":""},{"$f":"IF(OCT!S43=\"\",\"\",OCT!S43)","v":""},{"$f":"IF(E50=\"\",\"\",VLOOKUP(E50,SEP!$A$60:$L$84,11,FALSE))","v":""},{"$f":"IF(OCT!J43=\"\",\"\",OCT!J43)","v":""},{"$f":"IF(OCT!L43=\"\",\"\",OCT!L43)","v":""},{"$f":"IF(OCT!I43=\"\",\"\",OCT!I43)","v":""},{"$f":"IF(OCT!N43=\"\",\"\",OCT!N43)","v":""},{"$f":"IF(OCT!O43=\"\",\"\",OCT!O43)","v":""},{"$f":"IF(OCT!P43=\"\",\"\",OCT!P43)","v":""},"",""]
[44,{"$f":"IF(OCT!C44=\"\",\"\",OCT!C44)","v":""},{"$f":"IF(OCT!D44=\"\",\"\",OCT!D44)","v":""},{"$f":"IF(OCT!F44=\"\",\"\",OCT!F44)","v":""},{"$f":"IF(OCT!S44=\"\",\"\",OCT!S44)","v":""},{"$f":"IF(E51=\"\",\"\",VLOOKUP(E51,SEP!$A$60:$L$84,11,FALSE))","v":""},{"$f":"IF(OCT!J44=\"\",\"\",OCT!J44)","v":""},{"$f":"IF(OCT!L44=\"\",\"\",OCT!L44)","v":""},{"$f":"IF(OCT!I44=\"\",\"\",OCT!I44)","v":""},{"$f":"IF(OCT!N44=\"\",\"\",OCT!N44)","v":""},{"$f":"IF(OCT!O44=\"\",\"\",OCT!O44)","v":""},{"$f":"IF(OCT!P44=\"\",\"\",OCT!P44)","v":""},"",""]
[45,{"$f":"IF(OCT!C45=\"\",\"\",OCT!C45)","v":""},{"$f":"IF(OCT!D45=\"\",\"\",OCT!D45)","v":""},{"$f":"IF(OCT!F45=\"\",\"\",OCT!F45)","v":""},{"$f":"IF(OCT!S45=\"\",\"\",OCT!S45)","v":""},{"$f":"IF(E52=\"\",\"\",VLOOKUP(E52,SEP!$A$60:$L$84,11,FALSE))","v":""},{"$f":"IF(OCT!J45=\"\",\"\",OCT!J45)","v":""},{"$f":"IF(OCT!L45=\"\",\"\",OCT!L45)","v":""},{"$f":"IF(OCT!I45=\"\",\"\",OCT!I45)","v":""},{"$f":"IF(OCT!N45=\"\",\"\",OCT!N45)","v":""},{"$f":"IF(OCT!O45=\"\",\"\",OCT!O45)","v":""},{"$f":"IF(OCT!P45=\"\",\"\",OCT!P45)","v":""},"",""]
[46,{"$f":"IF(OCT!C46=\"\",\"\",OCT!C46)","v":""},{"$f":"IF(OCT!D46=\"\",\"\",OCT!D46)","v":""},{"$f":"IF(OCT!F46=\"\",\"\",OCT!F46)","v":""},{"$f":"IF(OCT!S46=\"\",\"\",OCT!S46)","v":""},{"$f":"IF(E53=\"\",\"\",VLOOKUP(E53,SEP!$A$60:$L$84,11,FALSE))","v":""},{"$f":"IF(OCT!J46=\"\",\"\",OCT!J46)","v":""},{"$f":"IF(OCT!L46=\"\",\"\",OCT!L46)","v":""},{"$f":"IF(OCT!I46=\"\",\"\",OCT!I46)","v":""},{"$f":"IF(OCT!N46=\"\",\"\",OCT!N46)","v":""},{"$f":"IF(OCT!O46=\"\",\"\",OCT!O46)","v":""},{"$f":"IF(OCT!P46=\"\",\"\",OCT!P46)","v":""},"",""]
[47,{"$f":"IF(OCT!C47=\"\",\"\",OCT!C47)","v":""},{"$f":"IF(OCT!D47=\"\",\"\",OCT!D47)","v":""},{"$f":"IF(OCT!F47=\"\",\"\",OCT!F47)","v":""},{"$f":"IF(OCT!S47=\"\",\"\",OCT!S47)","v":""},{"$f":"IF(E54=\"\",\"\",VLOOKUP(E54,SEP!$A$60:$L$84,11,FALSE))","v":""},{"$f":"IF(OCT!J47=\"\",\"\",OCT!J47)","v":""},{"$f":"IF(OCT!L47=\"\",\"\",OCT!L47)","v":""},{"$f":"IF(OCT!I47=\"\",\"\",OCT!I47)","v":""},{"$f":"IF(OCT!N47=\"\",\"\",OCT!N47)","v":""},{"$f":"IF(OCT!O47=\"\",\"\",OCT!O47)","v":""},{"$f":"IF(OCT!P47=\"\",\"\",OCT!P47)","v":""},"",""]
[48,{"$f":"IF(OCT!C48=\"\",\"\",OCT!C48)","v":""},{"$f":"IF(OCT!D48=\"\",\"\",OCT!D48)","v":""},{"$f":"IF(OCT!F48=\"\",\"\",OCT!F48)","v":""},{"$f":"IF(OCT!S48=\"\",\"\",OCT!S48)","v":""},{"$f":"IF(E55=\"\",\"\",VLOOKUP(E55,SEP!$A$60:$L$84,11,FALSE))","v":""},{"$f":"IF(OCT!J48=\"\",\"\",OCT!J48)","v":""},{"$f":"IF(OCT!L48=\"\",\"\",OCT!L48)","v":""},{"$f":"IF(OCT!I48=\"\",\"\",OCT!I48)","v":""},{"$f":"IF(OCT!N48=\"\",\"\",OCT!N48)","v":""},{"$f":"IF(OCT!O48=\"\",\"\",OCT!O48)","v":""},{"$f":"IF(OCT!P48=\"\",\"\",OCT!P48)","v":""},"",""]
[49,{"$f":"IF(OCT!C49=\"\",\"\",OCT!C49)","v":""},{"$f":"IF(OCT!D49=\"\",\"\",OCT!D49)","v":""},{"$f":"IF(OCT!F49=\"\",\"\",OCT!F49)","v":""},{"$f":"IF(OCT!S49=\"\",\"\",OCT!S49)","v":""},{"$f":"IF(E56=\"\",\"\",VLOOKUP(E56,SEP!$A$60:$L$84,11,FALSE))","v":""},{"$f":"IF(OCT!J49=\"\",\"\",OCT!J49)","v":""},{"$f":"IF(OCT!L49=\"\",\"\",OCT!L49)","v":""},{"$f":"IF(OCT!I49=\"\",\"\",OCT!I49)","v":""},{"$f":"IF(OCT!N49=\"\",\"\",OCT!N49)","v":""},{"$f":"IF(OCT!O49=\"\",\"\",OCT!O49)","v":""},{"$f":"IF(OCT!P49=\"\",\"\",OCT!P49)","v":""},"",""]
[50,{"$f":"IF(OCT!C50=\"\",\"\",OCT!C50)","v":""},{"$f":"IF(OCT!D50=\"\",\"\",OCT!D50)","v":""},{"$f":"IF(OCT!F50=\"\",\"\",OCT!F50)","v":""},{"$f":"IF(OCT!S50=\"\",\"\",OCT!S50)","v":""},{"$f":"IF(E57=\"\",\"\",VLOOKUP(E57,SEP!$A$60:$L$84,11,FALSE))","v":""},{"$f":"IF(OCT!J50=\"\",\"\",OCT!J50)","v":""},{"$f":"IF(OCT!L50=\"\",\"\",OCT!L50)","v":""},{"$f":"IF(OCT!I50=\"\",\"\",OCT!I50)","v":""},{"$f":"IF(OCT!N50=\"\",\"\",OCT!N50)","v":""},{"$f":"IF(OCT!O50=\"\",\"\",OCT!O50)","v":""},{"$f":"IF(OCT!P50=\"\",\"\",OCT!P50)","v":""},"",""]
[51,{"$f":"IF(OCT!C51=\"\",\"\",OCT!C51)","v":""},{"$f":"IF(OCT!D51=\"\",\"\",OCT!D51)","v":""},{"$f":"IF(OCT!F51=\"\",\"\",OCT!F51)","v":""},{"$f":"IF(OCT!S51=\"\",\"\",OCT!S51)","v":""},{"$f":"IF(E58=\"\",\"\",VLOOKUP(E58,SEP!$A$60:$L$84,11,FALSE))","v":""},{"$f":"IF(OCT!J51=\"\",\"\",OCT!J51)","v":""},{"$f":"IF(OCT!L51=\"\",\"\",OCT!L51)","v":""},{"$f":"IF(OCT!I51=\"\",\"\",OCT!I51)","v":""},{"$f":"IF(OCT!N51=\"\",\"\",OCT!N51)","v":""},{"$f":"IF(OCT!O51=\"\",\"\",OCT!O51)","v":""},{"$f":"IF(OCT!P51=\"\",\"\",OCT!P51)","v":""},"",""]
[52,{"$f":"IF(OCT!C52=\"\",\"\",OCT!C52)","v":""},{"$f":"IF(OCT!D52=\"\",\"\",OCT!D52)","v":""},{"$f":"IF(OCT!F52=\"\",\"\",OCT!F52)","v":""},{"$f":"IF(OCT!S52=\"\",\"\",OCT!S52)","v":""},{"$f":"IF(E59=\"\",\"\",VLOOKUP(E59,SEP!$A$60:$L$84,11,FALSE))","v":""},{"$f":"IF(OCT!J52=\"\",\"\",OCT!J52)","v":""},{"$f":"IF(OCT!L52=\"\",\"\",OCT!L52)","v":""},{"$f":"IF(OCT!I52=\"\",\"\",OCT!I52)","v":""},{"$f":"IF(OCT!N52=\"\",\"\",OCT!N52)","v":""},{"$f":"IF(OCT!O52=\"\",\"\",OCT!O52)","v":""},{"$f":"IF(OCT!P52=\"\",\"\",OCT!P52)","v":""},"",""]
[53,{"$f":"IF(OCT!C53=\"\",\"\",OCT!C53)","v":""},{"$f":"IF(OCT!D53=\"\",\"\",OCT!D53)","v":""},{"$f":"IF(OCT!F53=\"\",\"\",OCT!F53)","v":""},{"$f":"IF(OCT!S53=\"\",\"\",OCT!S53)","v":""},{"$f":"IF(E60=\"\",\"\",VLOOKUP(E60,SEP!$A$60:$L$84,11,FALSE))","v":""},{"$f":"IF(OCT!J53=\"\",\"\",OCT!J53)","v":""},{"$f":"IF(OCT!L53=\"\",\"\",OCT!L53)","v":""},{"$f":"IF(OCT!I53=\"\",\"\",OCT!I53)","v":""},{"$f":"IF(OCT!N53=\"\",\"\",OCT!N53)","v":""},{"$f":"IF(OCT!O53=\"\",\"\",OCT!O53)","v":""},{"$f":"IF(OCT!P53=\"\",\"\",OCT!P53)","v":""},"",""]
[54,{"$f":"IF(OCT!C54=\"\",\"\",OCT!C54)","v":""},{"$f":"IF(OCT!D54=\"\",\"\",OCT!D54)","v":""},{"$f":"IF(OCT!F54=\"\",\"\",OCT!F54)","v":""},{"$f":"IF(OCT!S54=\"\",\"\",OCT!S54)","v":""},{"$f":"IF(E61=\"\",\"\",VLOOKUP(E61,SEP!$A$60:$L$84,11,FALSE))","v":""},{"$f":"IF(OCT!J54=\"\",\"\",OCT!J54)","v":""},{"$f":"IF(OCT!L54=\"\",\"\",OCT!L54)","v":""},{"$f":"IF(OCT!I54=\"\",\"\",OCT!I54)","v":""},{"$f":"IF(OCT!N54=\"\",\"\",OCT!N54)","v":""},{"$f":"IF(OCT!O54=\"\",\"\",OCT!O54)","v":""},{"$f":"IF(OCT!P54=\"\",\"\",OCT!P54)","v":""},"",""]
[55,{"$f":"IF(OCT!C55=\"\",\"\",OCT!C55)","v":""},{"$f":"IF(OCT!D55=\"\",\"\",OCT!D55)","v":""},{"$f":"IF(OCT!F55=\"\",\"\",OCT!F55)","v":""},{"$f":"IF(OCT!S55=\"\",\"\",OCT!S55)","v":""},{"$f":"IF(E62=\"\",\"\",VLOOKUP(E62,SEP!$A$60:$L$84,11,FALSE))","v":""},{"$f":"IF(OCT!J55=\"\",\"\",OCT!J55)","v":""},{"$f":"IF(OCT!L55=\"\",\"\",OCT!L55)","v":""},{"$f":"IF(OCT!I55=\"\",\"\",OCT!I55)","v":""},{"$f":"IF(OCT!N55=\"\",\"\",OCT!N55)","v":""},{"$f":"IF(OCT!O55=\"\",\"\",OCT!O55)","v":""},{"$f":"IF(OCT!P55=\"\",\"\",OCT!P55)","v":""},"",""]
[56,{"$f":"IF(OCT!C56=\"\",\"\",OCT!C56)","v":""},{"$f":"IF(OCT!D56=\"\",\"\",OCT!D56)","v":""},{"$f":"IF(OCT!F56=\"\",\"\",OCT!F56)","v":""},{"$f":"IF(OCT!S56=\"\",\"\",OCT!S56)","v":""},{"$f":"IF(E63=\"\",\"\",VLOOKUP(E63,SEP!$A$60:$L$84,11,FALSE))","v":""},{"$f":"IF(OCT!J56=\"\",\"\",OCT!J56)","v":""},{"$f":"IF(OCT!L56=\"\",\"\",OCT!L56)","v":""},{"$f":"IF(OCT!I56=\"\",\"\",OCT!I56)","v":""},{"$f":"IF(OCT!N56=\"\",\"\",OCT!N56)","v":""},{"$f":"IF(OCT!O56=\"\",\"\",OCT!O56)","v":""},{"$f":"IF(OCT!P56=\"\",\"\",OCT!P56)","v":""},"",""]
[57,{"$f":"IF(OCT!C57=\"\",\"\",OCT!C57)","v":""},{"$f":"IF(OCT!D57=\"\",\"\",OCT!D57)","v":""},{"$f":"IF(OCT!F57=\"\",\"\",OCT!F57)","v":""},{"$f":"IF(OCT!S57=\"\",\"\",OCT!S57)","v":""},{"$f":"IF(E64=\"\",\"\",VLOOKUP(E64,SEP!$A$60:$L$84,11,FALSE))","v":""},{"$f":"IF(OCT!J57=\"\",\"\",OCT!J57)","v":""},{"$f":"IF(OCT!L57=\"\",\"\",OCT!L57)","v":""},{"$f":"IF(OCT!I57=\"\",\"\",OCT!I57)","v":""},{"$f":"IF(OCT!N57=\"\",\"\",OCT!N57)","v":""},{"$f":"IF(OCT!O57=\"\",\"\",OCT!O57)","v":""},{"$f":"IF(OCT!P57=\"\",\"\",OCT!P57)","v":""},"",""]
[58,{"$f":"IF(NOV!C11=\"\",\"\",NOV!C11)","v":""},{"$f":"IF(NOV!D11=\"\",\"\",NOV!D11)","v":""},{"$f":"IF(NOV!F11=\"\",\"\",NOV!F11)","v":""},{"$f":"IF(NOV!S11=\"\",\"\",NOV!S11)","v":""},{"$f":"IF(E65=\"\",\"\",VLOOKUP(E65,NOV!$A$60:$L$84,11,FALSE))","v":""},{"$f":"IF(NOV!J11=\"\",\"\",NOV!J11)","v":""},{"$f":"IF(NOV!L11=\"\",\"\",NOV!L11)","v":""},{"$f":"IF(NOV!I11=\"\",\"\",NOV!I11)","v":""},{"$f":"IF(NOV!N11=\"\",\"\",NOV!N11)","v":""},{"$f":"IF(NOV!O11=\"\",\"\",NOV!O11)","v":""},{"$f":"IF(NOV!P11=\"\",\"\",NOV!P11)","v":""},"",""]
[59,{"$f":"IF(NOV!C12=\"\",\"\",NOV!C12)","v":""},{"$f":"IF(NOV!D12=\"\",\"\",NOV!D12)","v":""},{"$f":"IF(NOV!F12=\"\",\"\",NOV!F12)","v":""},{"$f":"IF(NOV!S12=\"\",\"\",NOV!S12)","v":""},{"$f":"IF(E66=\"\",\"\",VLOOKUP(E66,NOV!$A$60:$L$84,11,FALSE))","v":""},{"$f":"IF(NOV!J12=\"\",\"\",NOV!J12)","v":""},{"$f":"IF(NOV!L12=\"\",\"\",NOV!L12)","v":""},{"$f":"IF(NOV!I12=\"\",\"\",NOV!I12)","v":""},{"$f":"IF(NOV!N12=\"\",\"\",NOV!N12)","v":""},{"$f":"IF(NOV!O12=\"\",\"\",NOV!O12)","v":""},{"$f":"IF(NOV!P12=\"\",\"\",NOV!P12)","v":""},"",""]
[60,{"$f":"IF(NOV!C13=\"\",\"\",NOV!C13)","v":""},{"$f":"IF(NOV!D13=\"\",\"\",NOV!D13)","v":""},{"$f":"IF(NOV!F13=\"\",\"\",NOV!F13)","v":""},{"$f":"IF(NOV!S13=\"\",\"\",NOV!S13)","v":""},{"$f":"IF(E67=\"\",\"\",VLOOKUP(E67,NOV!$A$60:$L$84,11,FALSE))","v":""},{"$f":"IF(NOV!J13=\"\",\"\",NOV!J13)","v":""},{"$f":"IF(NOV!L13=\"\",\"\",NOV!L13)","v":""},{"$f":"IF(NOV!I13=\"\",\"\",NOV!I13)","v":""},{"$f":"IF(NOV!N13=\"\",\"\",NOV!N13)","v":""},{"$f":"IF(NOV!O13=\"\",\"\",NOV!O13)","v":""},{"$f":"IF(NOV!P13=\"\",\"\",NOV!P13)","v":""},"",""]
[61,{"$f":"IF(NOV!C14=\"\",\"\",NOV!C14)","v":""},{"$f":"IF(NOV!D14=\"\",\"\",NOV!D14)","v":""},{"$f":"IF(NOV!F14=\"\",\"\",NOV!F14)","v":""},{"$f":"IF(NOV!S14=\"\",\"\",NOV!S14)","v":""},{"$f":"IF(E68=\"\",\"\",VLOOKUP(E68,NOV!$A$60:$L$84,11,FALSE))","v":""},{"$f":"IF(NOV!J14=\"\",\"\",NOV!J14)","v":""},{"$f":"IF(NOV!L14=\"\",\"\",NOV!L14)","v":""},{"$f":"IF(NOV!I14=\"\",\"\",NOV!I14)","v":""},{"$f":"IF(NOV!N14=\"\",\"\",NOV!N14)","v":""},{"$f":"IF(NOV!O14=\"\",\"\",NOV!O14)","v":""},{"$f":"IF(NOV!P14=\"\",\"\",NOV!P14)","v":""},"",""]
[62,{"$f":"IF(NOV!C15=\"\",\"\",NOV!C15)","v":""},{"$f":"IF(NOV!D15=\"\",\"\",NOV!D15)","v":""},{"$f":"IF(NOV!F15=\"\",\"\",NOV!F15)","v":""},{"$f":"IF(NOV!S15=\"\",\"\",NOV!S15)","v":""},{"$f":"IF(E69=\"\",\"\",VLOOKUP(E69,NOV!$A$60:$L$84,11,FALSE))","v":""},{"$f":"IF(NOV!J15=\"\",\"\",NOV!J15)","v":""},{"$f":"IF(NOV!L15=\"\",\"\",NOV!L15)","v":""},{"$f":"IF(NOV!I15=\"\",\"\",NOV!I15)","v":""},{"$f":"IF(NOV!N15=\"\",\"\",NOV!N15)","v":""},{"$f":"IF(NOV!O15=\"\",\"\",NOV!O15)","v":""},{"$f":"IF(NOV!P15=\"\",\"\",NOV!P15)","v":""},"",""]
[63,{"$f":"IF(NOV!C16=\"\",\"\",NOV!C16)","v":""},{"$f":"IF(NOV!D16=\"\",\"\",NOV!D16)","v":""},{"$f":"IF(NOV!F16=\"\",\"\",NOV!F16)","v":""},{"$f":"IF(NOV!S16=\"\",\"\",NOV!S16)","v":""},{"$f":"IF(E70=\"\",\"\",VLOOKUP(E70,NOV!$A$60:$L$84,11,FALSE))","v":""},{"$f":"IF(NOV!J16=\"\",\"\",NOV!J16)","v":""},{"$f":"IF(NOV!L16=\"\",\"\",NOV!L16)","v":""},{"$f":"IF(NOV!I16=\"\",\"\",NOV!I16)","v":""},{"$f":"IF(NOV!N16=\"\",\"\",NOV!N16)","v":""},{"$f":"IF(NOV!O16=\"\",\"\",NOV!O16)","v":""},{"$f":"IF(NOV!P16=\"\",\"\",NOV!P16)","v":""},"",""]
[64,{"$f":"IF(NOV!C17=\"\",\"\",NOV!C17)","v":""},{"$f":"IF(NOV!D17=\"\",\"\",NOV!D17)","v":""},{"$f":"IF(NOV!F17=\"\",\"\",NOV!F17)","v":""},{"$f":"IF(NOV!S17=\"\",\"\",NOV!S17)","v":""},{"$f":"IF(E71=\"\",\"\",VLOOKUP(E71,NOV!$A$60:$L$84,11,FALSE))","v":""},{"$f":"IF(NOV!J17=\"\",\"\",NOV!J17)","v":""},{"$f":"IF(NOV!L17=\"\",\"\",NOV!L17)","v":""},{"$f":"IF(NOV!I17=\"\",\"\",NOV!I17)","v":""},{"$f":"IF(NOV!N17=\"\",\"\",NOV!N17)","v":""},{"$f":"IF(NOV!O17=\"\",\"\",NOV!O17)","v":""},{"$f":"IF(NOV!P17=\"\",\"\",NOV!P17)","v":""},"",""]
[65,{"$f":"IF(NOV!C18=\"\",\"\",NOV!C18)","v":""},{"$f":"IF(NOV!D18=\"\",\"\",NOV!D18)","v":""},{"$f":"IF(NOV!F18=\"\",\"\",NOV!F18)","v":""},{"$f":"IF(NOV!S18=\"\",\"\",NOV!S18)","v":""},{"$f":"IF(E72=\"\",\"\",VLOOKUP(E72,NOV!$A$60:$L$84,11,FALSE))","v":""},{"$f":"IF(NOV!J18=\"\",\"\",NOV!J18)","v":""},{"$f":"IF(NOV!L18=\"\",\"\",NOV!L18)","v":""},{"$f":"IF(NOV!I18=\"\",\"\",NOV!I18)","v":""},{"$f":"IF(NOV!N18=\"\",\"\",NOV!N18)","v":""},{"$f":"IF(NOV!O18=\"\",\"\",NOV!O18)","v":""},{"$f":"IF(NOV!P18=\"\",\"\",NOV!P18)","v":""},{"$f":"IF(J72=\"\",\"\",J72+L72)","v":""},""]
[66,{"$f":"IF(NOV!C19=\"\",\"\",NOV!C19)","v":""},{"$f":"IF(NOV!D19=\"\",\"\",NOV!D19)","v":""},{"$f":"IF(NOV!F19=\"\",\"\",NOV!F19)","v":""},{"$f":"IF(NOV!S19=\"\",\"\",NOV!S19)","v":""},{"$f":"IF(E73=\"\",\"\",VLOOKUP(E73,NOV!$A$60:$L$84,11,FALSE))","v":""},{"$f":"IF(NOV!J19=\"\",\"\",NOV!J19)","v":""},{"$f":"IF(NOV!L19=\"\",\"\",NOV!L19)","v":""},{"$f":"IF(NOV!I19=\"\",\"\",NOV!I19)","v":""},{"$f":"IF(NOV!N19=\"\",\"\",NOV!N19)","v":""},{"$f":"IF(NOV!O19=\"\",\"\",NOV!O19)","v":""},{"$f":"IF(NOV!P19=\"\",\"\",NOV!P19)","v":""},"",""]
[67,{"$f":"IF(NOV!C20=\"\",\"\",NOV!C20)","v":""},{"$f":"IF(NOV!D20=\"\",\"\",NOV!D20)","v":""},{"$f":"IF(NOV!F20=\"\",\"\",NOV!F20)","v":""},{"$f":"IF(NOV!S20=\"\",\"\",NOV!S20)","v":""},{"$f":"IF(E74=\"\",\"\",VLOOKUP(E74,NOV!$A$60:$L$84,11,FALSE))","v":""},{"$f":"IF(NOV!J20=\"\",\"\",NOV!J20)","v":""},{"$f":"IF(NOV!L20=\"\",\"\",NOV!L20)","v":""},{"$f":"IF(NOV!I20=\"\",\"\",NOV!I20)","v":""},{"$f":"IF(NOV!N20=\"\",\"\",NOV!N20)","v":""},{"$f":"IF(NOV!O20=\"\",\"\",NOV!O20)","v":""},{"$f":"IF(NOV!P20=\"\",\"\",NOV!P20)","v":""},"",""]
[68,{"$f":"IF(NOV!C21=\"\",\"\",NOV!C21)","v":""},{"$f":"IF(NOV!D21=\"\",\"\",NOV!D21)","v":""},{"$f":"IF(NOV!F21=\"\",\"\",NOV!F21)","v":""},{"$f":"IF(NOV!S21=\"\",\"\",NOV!S21)","v":""},{"$f":"IF(E75=\"\",\"\",VLOOKUP(E75,NOV!$A$60:$L$84,11,FALSE))","v":""},{"$f":"IF(NOV!J21=\"\",\"\",NOV!J21)","v":""},{"$f":"IF(NOV!L21=\"\",\"\",NOV!L21)","v":""},{"$f":"IF(NOV!I21=\"\",\"\",NOV!I21)","v":""},{"$f":"IF(NOV!N21=\"\",\"\",NOV!N21)","v":""},{"$f":"IF(NOV!O21=\"\",\"\",NOV!O21)","v":""},{"$f":"IF(NOV!P21=\"\",\"\",NOV!P21)","v":""},"",""]
[69,{"$f":"IF(NOV!C22=\"\",\"\",NOV!C22)","v":""},{"$f":"IF(NOV!D22=\"\",\"\",NOV!D22)","v":""},{"$f":"IF(NOV!F22=\"\",\"\",NOV!F22)","v":""},{"$f":"IF(NOV!S22=\"\",\"\",NOV!S22)","v":""},{"$f":"IF(E76=\"\",\"\",VLOOKUP(E76,NOV!$A$60:$L$84,11,FALSE))","v":""},{"$f":"IF(NOV!J22=\"\",\"\",NOV!J22)","v":""},{"$f":"IF(NOV!L22=\"\",\"\",NOV!L22)","v":""},{"$f":"IF(NOV!I22=\"\",\"\",NOV!I22)","v":""},{"$f":"IF(NOV!N22=\"\",\"\",NOV!N22)","v":""},{"$f":"IF(NOV!O22=\"\",\"\",NOV!O22)","v":""},{"$f":"IF(NOV!P22=\"\",\"\",NOV!P22)","v":""},"",""]
[70,{"$f":"IF(NOV!C23=\"\",\"\",NOV!C23)","v":""},{"$f":"IF(NOV!D23=\"\",\"\",NOV!D23)","v":""},{"$f":"IF(NOV!F23=\"\",\"\",NOV!F23)","v":""},{"$f":"IF(NOV!S23=\"\",\"\",NOV!S23)","v":""},{"$f":"IF(E77=\"\",\"\",VLOOKUP(E77,NOV!$A$60:$L$84,11,FALSE))","v":""},{"$f":"IF(NOV!J23=\"\",\"\",NOV!J23)","v":""},{"$f":"IF(NOV!L23=\"\",\"\",NOV!L23)","v":""},{"$f":"IF(NOV!I23=\"\",\"\",NOV!I23)","v":""},{"$f":"IF(NOV!N23=\"\",\"\",NOV!N23)","v":""},{"$f":"IF(NOV!O23=\"\",\"\",NOV!O23)","v":""},{"$f":"IF(NOV!P23=\"\",\"\",NOV!P23)","v":""},"",""]
[71,{"$f":"IF(NOV!C24=\"\",\"\",NOV!C24)","v":""},{"$f":"IF(NOV!D24=\"\",\"\",NOV!D24)","v":""},{"$f":"IF(NOV!F24=\"\",\"\",NOV!F24)","v":""},{"$f":"IF(NOV!S24=\"\",\"\",NOV!S24)","v":""},{"$f":"IF(E78=\"\",\"\",VLOOKUP(E78,NOV!$A$60:$L$84,11,FALSE))","v":""},{"$f":"IF(NOV!J24=\"\",\"\",NOV!J24)","v":""},{"$f":"IF(NOV!L24=\"\",\"\",NOV!L24)","v":""},{"$f":"IF(NOV!I24=\"\",\"\",NOV!I24)","v":""},{"$f":"IF(NOV!N24=\"\",\"\",NOV!N24)","v":""},{"$f":"IF(NOV!O24=\"\",\"\",NOV!O24)","v":""},{"$f":"IF(NOV!P24=\"\",\"\",NOV!P24)","v":""},"",""]
[72,{"$f":"IF(NOV!C25=\"\",\"\",NOV!C25)","v":""},{"$f":"IF(NOV!D25=\"\",\"\",NOV!D25)","v":""},{"$f":"IF(NOV!F25=\"\",\"\",NOV!F25)","v":""},{"$f":"IF(NOV!S25=\"\",\"\",NOV!S25)","v":""},{"$f":"IF(E79=\"\",\"\",VLOOKUP(E79,NOV!$A$60:$L$84,11,FALSE))","v":""},{"$f":"IF(NOV!J25=\"\",\"\",NOV!J25)","v":""},{"$f":"IF(NOV!L25=\"\",\"\",NOV!L25)","v":""},{"$f":"IF(NOV!I25=\"\",\"\",NOV!I25)","v":""},{"$f":"IF(NOV!N25=\"\",\"\",NOV!N25)","v":""},{"$f":"IF(NOV!O25=\"\",\"\",NOV!O25)","v":""},{"$f":"IF(NOV!P25=\"\",\"\",NOV!P25)","v":""},"",""]
[73,{"$f":"IF(NOV!C26=\"\",\"\",NOV!C26)","v":""},{"$f":"IF(NOV!D26=\"\",\"\",NOV!D26)","v":""},{"$f":"IF(NOV!F26=\"\",\"\",NOV!F26)","v":""},{"$f":"IF(NOV!S26=\"\",\"\",NOV!S26)","v":""},{"$f":"IF(E80=\"\",\"\",VLOOKUP(E80,NOV!$A$60:$L$84,11,FALSE))","v":""},{"$f":"IF(NOV!J26=\"\",\"\",NOV!J26)","v":""},{"$f":"IF(NOV!L26=\"\",\"\",NOV!L26)","v":""},{"$f":"IF(NOV!I26=\"\",\"\",NOV!I26)","v":""},{"$f":"IF(NOV!N26=\"\",\"\",NOV!N26)","v":""},{"$f":"IF(NOV!O26=\"\",\"\",NOV!O26)","v":""},{"$f":"IF(NOV!P26=\"\",\"\",NOV!P26)","v":""},"",{"$f":"IF(B80=\"\",\"\",N79+J80+L80)","v":""}]
[74,{"$f":"IF(NOV!C27=\"\",\"\",NOV!C27)","v":""},{"$f":"IF(NOV!D27=\"\",\"\",NOV!D27)","v":""},{"$f":"IF(NOV!F27=\"\",\"\",NOV!F27)","v":""},{"$f":"IF(NOV!S27=\"\",\"\",NOV!S27)","v":""},{"$f":"IF(E81=\"\",\"\",VLOOKUP(E81,NOV!$A$60:$L$84,11,FALSE))","v":""},{"$f":"IF(NOV!J27=\"\",\"\",NOV!J27)","v":""},{"$f":"IF(NOV!L27=\"\",\"\",NOV!L27)","v":""},{"$f":"IF(NOV!I27=\"\",\"\",NOV!I27)","v":""},{"$f":"IF(NOV!N27=\"\",\"\",NOV!N27)","v":""},{"$f":"IF(NOV!O27=\"\",\"\",NOV!O27)","v":""},{"$f":"IF(NOV!P27=\"\",\"\",NOV!P27)","v":""},"",""]
[75,{"$f":"IF(NOV!C28=\"\",\"\",NOV!C28)","v":""},{"$f":"IF(NOV!D28=\"\",\"\",NOV!D28)","v":""},{"$f":"IF(NOV!F28=\"\",\"\",NOV!F28)","v":""},{"$f":"IF(NOV!S28=\"\",\"\",NOV!S28)","v":""},{"$f":"IF(E82=\"\",\"\",VLOOKUP(E82,NOV!$A$60:$L$84,11,FALSE))","v":""},{"$f":"IF(NOV!J28=\"\",\"\",NOV!J28)","v":""},{"$f":"IF(NOV!L28=\"\",\"\",NOV!L28)","v":""},{"$f":"IF(NOV!I28=\"\",\"\",NOV!I28)","v":""},{"$f":"IF(NOV!N28=\"\",\"\",NOV!N28)","v":""},{"$f":"IF(NOV!O28=\"\",\"\",NOV!O28)","v":""},{"$f":"IF(NOV!P28=\"\",\"\",NOV!P28)","v":""},"",""]
[76,{"$f":"IF(NOV!C29=\"\",\"\",NOV!C29)","v":""},{"$f":"IF(NOV!D29=\"\",\"\",NOV!D29)","v":""},{"$f":"IF(NOV!F29=\"\",\"\",NOV!F29)","v":""},{"$f":"IF(NOV!S29=\"\",\"\",NOV!S29)","v":""},{"$f":"IF(E83=\"\",\"\",VLOOKUP(E83,NOV!$A$60:$L$84,11,FALSE))","v":""},{"$f":"IF(NOV!J29=\"\",\"\",NOV!J29)","v":""},{"$f":"IF(NOV!L29=\"\",\"\",NOV!L29)","v":""},{"$f":"IF(NOV!I29=\"\",\"\",NOV!I29)","v":""},{"$f":"IF(NOV!N29=\"\",\"\",NOV!N29)","v":""},{"$f":"IF(NOV!O29=\"\",\"\",NOV!O29)","v":""},{"$f":"IF(NOV!P29=\"\",\"\",NOV!P29)","v":""},"",""]
[77,{"$f":"IF(NOV!C30=\"\",\"\",NOV!C30)","v":""},{"$f":"IF(NOV!D30=\"\",\"\",NOV!D30)","v":""},{"$f":"IF(NOV!F30=\"\",\"\",NOV!F30)","v":""},{"$f":"IF(NOV!S30=\"\",\"\",NOV!S30)","v":""},{"$f":"IF(E84=\"\",\"\",VLOOKUP(E84,NOV!$A$60:$L$84,11,FALSE))","v":""},{"$f":"IF(NOV!J30=\"\",\"\",NOV!J30)","v":""},{"$f":"IF(NOV!L30=\"\",\"\",NOV!L30)","v":""},{"$f":"IF(NOV!I30=\"\",\"\",NOV!I30)","v":""},{"$f":"IF(NOV!N30=\"\",\"\",NOV!N30)","v":""},{"$f":"IF(NOV!O30=\"\",\"\",NOV!O30)","v":""},{"$f":"IF(NOV!P30=\"\",\"\",NOV!P30)","v":""},"",""]
[78,{"$f":"IF(NOV!C31=\"\",\"\",NOV!C31)","v":""},{"$f":"IF(NOV!D31=\"\",\"\",NOV!D31)","v":""},{"$f":"IF(NOV!F31=\"\",\"\",NOV!F31)","v":""},{"$f":"IF(NOV!S31=\"\",\"\",NOV!S31)","v":""},{"$f":"IF(E85=\"\",\"\",VLOOKUP(E85,NOV!$A$60:$L$84,11,FALSE))","v":""},{"$f":"IF(NOV!J31=\"\",\"\",NOV!J31)","v":""},{"$f":"IF(NOV!L31=\"\",\"\",NOV!L31)","v":""},{"$f":"IF(NOV!I31=\"\",\"\",NOV!I31)","v":""},{"$f":"IF(NOV!N31=\"\",\"\",NOV!N31)","v":""},{"$f":"IF(NOV!O31=\"\",\"\",NOV!O31)","v":""},{"$f":"IF(NOV!P31=\"\",\"\",NOV!P31)","v":""},"",""]
[79,{"$f":"IF(NOV!C32=\"\",\"\",NOV!C32)","v":""},{"$f":"IF(NOV!D32=\"\",\"\",NOV!D32)","v":""},{"$f":"IF(NOV!F32=\"\",\"\",NOV!F32)","v":""},{"$f":"IF(NOV!S32=\"\",\"\",NOV!S32)","v":""},{"$f":"IF(E86=\"\",\"\",VLOOKUP(E86,NOV!$A$60:$L$84,11,FALSE))","v":""},{"$f":"IF(NOV!J32=\"\",\"\",NOV!J32)","v":""},{"$f":"IF(NOV!L32=\"\",\"\",NOV!L32)","v":""},{"$f":"IF(NOV!I32=\"\",\"\",NOV!I32)","v":""},{"$f":"IF(NOV!N32=\"\",\"\",NOV!N32)","v":""},{"$f":"IF(NOV!O32=\"\",\"\",NOV!O32)","v":""},{"$f":"IF(NOV!P32=\"\",\"\",NOV!P32)","v":""},"",""]
[80,{"$f":"IF(NOV!C33=\"\",\"\",NOV!C33)","v":""},{"$f":"IF(NOV!D33=\"\",\"\",NOV!D33)","v":""},{"$f":"IF(NOV!F33=\"\",\"\",NOV!F33)","v":""},{"$f":"IF(NOV!S33=\"\",\"\",NOV!S33)","v":""},{"$f":"IF(E87=\"\",\"\",VLOOKUP(E87,NOV!$A$60:$L$84,11,FALSE))","v":""},{"$f":"IF(NOV!J33=\"\",\"\",NOV!J33)","v":""},{"$f":"IF(NOV!L33=\"\",\"\",NOV!L33)","v":""},{"$f":"IF(NOV!I33=\"\",\"\",NOV!I33)","v":""},{"$f":"IF(NOV!N33=\"\",\"\",NOV!N33)","v":""},{"$f":"IF(NOV!O33=\"\",\"\",NOV!O33)","v":""},{"$f":"IF(NOV!P33=\"\",\"\",NOV!P33)","v":""},"",""]
[81,{"$f":"IF(NOV!C34=\"\",\"\",NOV!C34)","v":""},{"$f":"IF(NOV!D34=\"\",\"\",NOV!D34)","v":""},{"$f":"IF(NOV!F34=\"\",\"\",NOV!F34)","v":""},{"$f":"IF(NOV!S34=\"\",\"\",NOV!S34)","v":""},{"$f":"IF(E88=\"\",\"\",VLOOKUP(E88,NOV!$A$60:$L$84,11,FALSE))","v":""},{"$f":"IF(NOV!J34=\"\",\"\",NOV!J34)","v":""},{"$f":"IF(NOV!L34=\"\",\"\",NOV!L34)","v":""},{"$f":"IF(NOV!I34=\"\",\"\",NOV!I34)","v":""},{"$f":"IF(NOV!N34=\"\",\"\",NOV!N34)","v":""},{"$f":"IF(NOV!O34=\"\",\"\",NOV!O34)","v":""},{"$f":"IF(NOV!P34=\"\",\"\",NOV!P34)","v":""},"",""]
[82,{"$f":"IF(NOV!C35=\"\",\"\",NOV!C35)","v":""},{"$f":"IF(NOV!D35=\"\",\"\",NOV!D35)","v":""},{"$f":"IF(NOV!F35=\"\",\"\",NOV!F35)","v":""},{"$f":"IF(NOV!S35=\"\",\"\",NOV!S35)","v":""},{"$f":"IF(E89=\"\",\"\",VLOOKUP(E89,NOV!$A$60:$L$84,11,FALSE))","v":""},{"$f":"IF(NOV!J35=\"\",\"\",NOV!J35)","v":""},{"$f":"IF(NOV!L35=\"\",\"\",NOV!L35)","v":""},{"$f":"IF(NOV!I35=\"\",\"\",NOV!I35)","v":""},{"$f":"IF(NOV!N35=\"\",\"\",NOV!N35)","v":""},{"$f":"IF(NOV!O35=\"\",\"\",NOV!O35)","v":""},{"$f":"IF(NOV!P35=\"\",\"\",NOV!P35)","v":""},"",""]
[83,{"$f":"IF(NOV!C36=\"\",\"\",NOV!C36)","v":""},{"$f":"IF(NOV!D36=\"\",\"\",NOV!D36)","v":""},{"$f":"IF(NOV!F36=\"\",\"\",NOV!F36)","v":""},{"$f":"IF(NOV!S36=\"\",\"\",NOV!S36)","v":""},{"$f":"IF(E90=\"\",\"\",VLOOKUP(E90,NOV!$A$60:$L$84,11,FALSE))","v":""},{"$f":"IF(NOV!J36=\"\",\"\",NOV!J36)","v":""},{"$f":"IF(NOV!L36=\"\",\"\",NOV!L36)","v":""},{"$f":"IF(NOV!I36=\"\",\"\",NOV!I36)","v":""},{"$f":"IF(NOV!N36=\"\",\"\",NOV!N36)","v":""},{"$f":"IF(NOV!O36=\"\",\"\",NOV!O36)","v":""},{"$f":"IF(NOV!P36=\"\",\"\",NOV!P36)","v":""},"",""]
[84,{"$f":"IF(NOV!C37=\"\",\"\",NOV!C37)","v":""},{"$f":"IF(NOV!D37=\"\",\"\",NOV!D37)","v":""},{"$f":"IF(NOV!F37=\"\",\"\",NOV!F37)","v":""},{"$f":"IF(NOV!S37=\"\",\"\",NOV!S37)","v":""},{"$f":"IF(E91=\"\",\"\",VLOOKUP(E91,NOV!$A$60:$L$84,11,FALSE))","v":""},{"$f":"IF(NOV!J37=\"\",\"\",NOV!J37)","v":""},{"$f":"IF(NOV!L37=\"\",\"\",NOV!L37)","v":""},{"$f":"IF(NOV!I37=\"\",\"\",NOV!I37)","v":""},{"$f":"IF(NOV!N37=\"\",\"\",NOV!N37)","v":""},{"$f":"IF(NOV!O37=\"\",\"\",NOV!O37)","v":""},{"$f":"IF(NOV!P37=\"\",\"\",NOV!P37)","v":""},"",""]
[85,{"$f":"IF(NOV!C38=\"\",\"\",NOV!C38)","v":""},{"$f":"IF(NOV!D38=\"\",\"\",NOV!D38)","v":""},{"$f":"IF(NOV!F38=\"\",\"\",NOV!F38)","v":""},{"$f":"IF(NOV!S38=\"\",\"\",NOV!S38)","v":""},{"$f":"IF(E92=\"\",\"\",VLOOKUP(E92,NOV!$A$60:$L$84,11,FALSE))","v":""},{"$f":"IF(NOV!J38=\"\",\"\",NOV!J38)","v":""},{"$f":"IF(NOV!L38=\"\",\"\",NOV!L38)","v":""},{"$f":"IF(NOV!I38=\"\",\"\",NOV!I38)","v":""},{"$f":"IF(NOV!N38=\"\",\"\",NOV!N38)","v":""},{"$f":"IF(NOV!O38=\"\",\"\",NOV!O38)","v":""},{"$f":"IF(NOV!P38=\"\",\"\",NOV!P38)","v":""},"",""]
[86,{"$f":"IF(NOV!C39=\"\",\"\",NOV!C39)","v":""},{"$f":"IF(NOV!D39=\"\",\"\",NOV!D39)","v":""},{"$f":"IF(NOV!F39=\"\",\"\",NOV!F39)","v":""},{"$f":"IF(NOV!S39=\"\",\"\",NOV!S39)","v":""},{"$f":"IF(E93=\"\",\"\",VLOOKUP(E93,NOV!$A$60:$L$84,11,FALSE))","v":""},{"$f":"IF(NOV!J39=\"\",\"\",NOV!J39)","v":""},{"$f":"IF(NOV!L39=\"\",\"\",NOV!L39)","v":""},{"$f":"IF(NOV!I39=\"\",\"\",NOV!I39)","v":""},{"$f":"IF(NOV!N39=\"\",\"\",NOV!N39)","v":""},{"$f":"IF(NOV!O39=\"\",\"\",NOV!O39)","v":""},{"$f":"IF(NOV!P39=\"\",\"\",NOV!P39)","v":""},"",""]
[87,{"$f":"IF(NOV!C40=\"\",\"\",NOV!C40)","v":""},{"$f":"IF(NOV!D40=\"\",\"\",NOV!D40)","v":""},{"$f":"IF(NOV!F40=\"\",\"\",NOV!F40)","v":""},{"$f":"IF(NOV!S40=\"\",\"\",NOV!S40)","v":""},{"$f":"IF(E94=\"\",\"\",VLOOKUP(E94,NOV!$A$60:$L$84,11,FALSE))","v":""},{"$f":"IF(NOV!J40=\"\",\"\",NOV!J40)","v":""},{"$f":"IF(NOV!L40=\"\",\"\",NOV!L40)","v":""},{"$f":"IF(NOV!I40=\"\",\"\",NOV!I40)","v":""},{"$f":"IF(NOV!N40=\"\",\"\",NOV!N40)","v":""},{"$f":"IF(NOV!O40=\"\",\"\",NOV!O40)","v":""},{"$f":"IF(NOV!P40=\"\",\"\",NOV!P40)","v":""},"",""]
[88,{"$f":"IF(NOV!C41=\"\",\"\",NOV!C41)","v":""},{"$f":"IF(NOV!D41=\"\",\"\",NOV!D41)","v":""},{"$f":"IF(NOV!F41=\"\",\"\",NOV!F41)","v":""},{"$f":"IF(NOV!S41=\"\",\"\",NOV!S41)","v":""},{"$f":"IF(E95=\"\",\"\",VLOOKUP(E95,NOV!$A$60:$L$84,11,FALSE))","v":""},{"$f":"IF(NOV!J41=\"\",\"\",NOV!J41)","v":""},{"$f":"IF(NOV!L41=\"\",\"\",NOV!L41)","v":""},{"$f":"IF(NOV!I41=\"\",\"\",NOV!I41)","v":""},{"$f":"IF(NOV!N41=\"\",\"\",NOV!N41)","v":""},{"$f":"IF(NOV!O41=\"\",\"\",NOV!O41)","v":""},{"$f":"IF(NOV!P41=\"\",\"\",NOV!P41)","v":""},"",""]
[89,{"$f":"IF(NOV!C42=\"\",\"\",NOV!C42)","v":""},{"$f":"IF(NOV!D42=\"\",\"\",NOV!D42)","v":""},{"$f":"IF(NOV!F42=\"\",\"\",NOV!F42)","v":""},{"$f":"IF(NOV!S42=\"\",\"\",NOV!S42)","v":""},{"$f":"IF(E96=\"\",\"\",VLOOKUP(E96,NOV!$A$60:$L$84,11,FALSE))","v":""},{"$f":"IF(NOV!J42=\"\",\"\",NOV!J42)","v":""},{"$f":"IF(NOV!L42=\"\",\"\",NOV!L42)","v":""},{"$f":"IF(NOV!I42=\"\",\"\",NOV!I42)","v":""},{"$f":"IF(NOV!N42=\"\",\"\",NOV!N42)","v":""},{"$f":"IF(NOV!O42=\"\",\"\",NOV!O42)","v":""},{"$f":"IF(NOV!P42=\"\",\"\",NOV!P42)","v":""},"",""]
[90,{"$f":"IF(NOV!C43=\"\",\"\",NOV!C43)","v":""},{"$f":"IF(NOV!D43=\"\",\"\",NOV!D43)","v":""},{"$f":"IF(NOV!F43=\"\",\"\",NOV!F43)","v":""},{"$f":"IF(NOV!S43=\"\",\"\",NOV!S43)","v":""},{"$f":"IF(E97=\"\",\"\",VLOOKUP(E97,NOV!$A$60:$L$84,11,FALSE))","v":""},{"$f":"IF(NOV!J43=\"\",\"\",NOV!J43)","v":""},{"$f":"IF(NOV!L43=\"\",\"\",NOV!L43)","v":""},{"$f":"IF(NOV!I43=\"\",\"\",NOV!I43)","v":""},{"$f":"IF(NOV!N43=\"\",\"\",NOV!N43)","v":""},{"$f":"IF(NOV!O43=\"\",\"\",NOV!O43)","v":""},{"$f":"IF(NOV!P43=\"\",\"\",NOV!P43)","v":""},"",""]
[91,{"$f":"IF(NOV!C44=\"\",\"\",NOV!C44)","v":""},{"$f":"IF(NOV!D44=\"\",\"\",NOV!D44)","v":""},{"$f":"IF(NOV!F44=\"\",\"\",NOV!F44)","v":""},{"$f":"IF(NOV!S44=\"\",\"\",NOV!S44)","v":""},{"$f":"IF(E98=\"\",\"\",VLOOKUP(E98,NOV!$A$60:$L$84,11,FALSE))","v":""},{"$f":"IF(NOV!J44=\"\",\"\",NOV!J44)","v":""},{"$f":"IF(NOV!L44=\"\",\"\",NOV!L44)","v":""},{"$f":"IF(NOV!I44=\"\",\"\",NOV!I44)","v":""},{"$f":"IF(NOV!N44=\"\",\"\",NOV!N44)","v":""},{"$f":"IF(NOV!O44=\"\",\"\",NOV!O44)","v":""},{"$f":"IF(NOV!P44=\"\",\"\",NOV!P44)","v":""},"",""]
[92,{"$f":"IF(NOV!C45=\"\",\"\",NOV!C45)","v":""},{"$f":"IF(NOV!D45=\"\",\"\",NOV!D45)","v":""},{"$f":"IF(NOV!F45=\"\",\"\",NOV!F45)","v":""},{"$f":"IF(NOV!S45=\"\",\"\",NOV!S45)","v":""},{"$f":"IF(E99=\"\",\"\",VLOOKUP(E99,NOV!$A$60:$L$84,11,FALSE))","v":""},{"$f":"IF(NOV!J45=\"\",\"\",NOV!J45)","v":""},{"$f":"IF(NOV!L45=\"\",\"\",NOV!L45)","v":""},{"$f":"IF(NOV!I45=\"\",\"\",NOV!I45)","v":""},{"$f":"IF(NOV!N45=\"\",\"\",NOV!N45)","v":""},{"$f":"IF(NOV!O45=\"\",\"\",NOV!O45)","v":""},{"$f":"IF(NOV!P45=\"\",\"\",NOV!P45)","v":""},"",""]
[93,{"$f":"IF(NOV!C46=\"\",\"\",NOV!C46)","v":""},{"$f":"IF(NOV!D46=\"\",\"\",NOV!D46)","v":""},{"$f":"IF(NOV!F46=\"\",\"\",NOV!F46)","v":""},{"$f":"IF(NOV!S46=\"\",\"\",NOV!S46)","v":""},{"$f":"IF(E100=\"\",\"\",VLOOKUP(E100,NOV!$A$60:$L$84,11,FALSE))","v":""},{"$f":"IF(NOV!J46=\"\",\"\",NOV!J46)","v":""},{"$f":"IF(NOV!L46=\"\",\"\",NOV!L46)","v":""},{"$f":"IF(NOV!I46=\"\",\"\",NOV!I46)","v":""},{"$f":"IF(NOV!N46=\"\",\"\",NOV!N46)","v":""},{"$f":"IF(NOV!O46=\"\",\"\",NOV!O46)","v":""},{"$f":"IF(NOV!P46=\"\",\"\",NOV!P46)","v":""},"",""]
[94,{"$f":"IF(NOV!C47=\"\",\"\",NOV!C47)","v":""},{"$f":"IF(NOV!D47=\"\",\"\",NOV!D47)","v":""},{"$f":"IF(NOV!F47=\"\",\"\",NOV!F47)","v":""},{"$f":"IF(NOV!S47=\"\",\"\",NOV!S47)","v":""},{"$f":"IF(E101=\"\",\"\",VLOOKUP(E101,NOV!$A$60:$L$84,11,FALSE))","v":""},{"$f":"IF(NOV!J47=\"\",\"\",NOV!J47)","v":""},{"$f":"IF(NOV!L47=\"\",\"\",NOV!L47)","v":""},{"$f":"IF(NOV!I47=\"\",\"\",NOV!I47)","v":""},{"$f":"IF(NOV!N47=\"\",\"\",NOV!N47)","v":""},{"$f":"IF(NOV!O47=\"\",\"\",NOV!O47)","v":""},{"$f":"IF(NOV!P47=\"\",\"\",NOV!P47)","v":""},"",""]
[95,{"$f":"IF(NOV!C48=\"\",\"\",NOV!C48)","v":""},{"$f":"IF(NOV!D48=\"\",\"\",NOV!D48)","v":""},{"$f":"IF(NOV!F48=\"\",\"\",NOV!F48)","v":""},{"$f":"IF(NOV!S48=\"\",\"\",NOV!S48)","v":""},{"$f":"IF(E102=\"\",\"\",VLOOKUP(E102,NOV!$A$60:$L$84,11,FALSE))","v":""},{"$f":"IF(NOV!J48=\"\",\"\",NOV!J48)","v":""},{"$f":"IF(NOV!L48=\"\",\"\",NOV!L48)","v":""},{"$f":"IF(NOV!I48=\"\",\"\",NOV!I48)","v":""},{"$f":"IF(NOV!N48=\"\",\"\",NOV!N48)","v":""},{"$f":"IF(NOV!O48=\"\",\"\",NOV!O48)","v":""},{"$f":"IF(NOV!P48=\"\",\"\",NOV!P48)","v":""},"",""]
[96,{"$f":"IF(NOV!C49=\"\",\"\",NOV!C49)","v":""},{"$f":"IF(NOV!D49=\"\",\"\",NOV!D49)","v":""},{"$f":"IF(NOV!F49=\"\",\"\",NOV!F49)","v":""},{"$f":"IF(NOV!S49=\"\",\"\",NOV!S49)","v":""},{"$f":"IF(E103=\"\",\"\",VLOOKUP(E103,NOV!$A$60:$L$84,11,FALSE))","v":""},{"$f":"IF(NOV!J49=\"\",\"\",NOV!J49)","v":""},{"$f":"IF(NOV!L49=\"\",\"\",NOV!L49)","v":""},{"$f":"IF(NOV!I49=\"\",\"\",NOV!I49)","v":""},{"$f":"IF(NOV!N49=\"\",\"\",NOV!N49)","v":""},{"$f":"IF(NOV!O49=\"\",\"\",NOV!O49)","v":""},{"$f":"IF(NOV!P49=\"\",\"\",NOV!P49)","v":""},"",""]
[97,{"$f":"IF(NOV!C50=\"\",\"\",NOV!C50)","v":""},{"$f":"IF(NOV!D50=\"\",\"\",NOV!D50)","v":""},{"$f":"IF(NOV!F50=\"\",\"\",NOV!F50)","v":""},{"$f":"IF(NOV!S50=\"\",\"\",NOV!S50)","v":""},{"$f":"IF(E104=\"\",\"\",VLOOKUP(E104,NOV!$A$60:$L$84,11,FALSE))","v":""},{"$f":"IF(NOV!J50=\"\",\"\",NOV!J50)","v":""},{"$f":"IF(NOV!L50=\"\",\"\",NOV!L50)","v":""},{"$f":"IF(NOV!I50=\"\",\"\",NOV!I50)","v":""},{"$f":"IF(NOV!N50=\"\",\"\",NOV!N50)","v":""},{"$f":"IF(NOV!O50=\"\",\"\",NOV!O50)","v":""},{"$f":"IF(NOV!P50=\"\",\"\",NOV!P50)","v":""},"",""]
[98,{"$f":"IF(NOV!C51=\"\",\"\",NOV!C51)","v":""},{"$f":"IF(NOV!D51=\"\",\"\",NOV!D51)","v":""},{"$f":"IF(NOV!F51=\"\",\"\",NOV!F51)","v":""},{"$f":"IF(NOV!S51=\"\",\"\",NOV!S51)","v":""},{"$f":"IF(E105=\"\",\"\",VLOOKUP(E105,NOV!$A$60:$L$84,11,FALSE))","v":""},{"$f":"IF(NOV!J51=\"\",\"\",NOV!J51)","v":""},{"$f":"IF(NOV!L51=\"\",\"\",NOV!L51)","v":""},{"$f":"IF(NOV!I51=\"\",\"\",NOV!I51)","v":""},{"$f":"IF(NOV!N51=\"\",\"\",NOV!N51)","v":""},{"$f":"IF(NOV!O51=\"\",\"\",NOV!O51)","v":""},{"$f":"IF(NOV!P51=\"\",\"\",NOV!P51)","v":""},"",""]
[99,{"$f":"IF(NOV!C52=\"\",\"\",NOV!C52)","v":""},{"$f":"IF(NOV!D52=\"\",\"\",NOV!D52)","v":""},{"$f":"IF(NOV!F52=\"\",\"\",NOV!F52)","v":""},{"$f":"IF(NOV!S52=\"\",\"\",NOV!S52)","v":""},{"$f":"IF(E106=\"\",\"\",VLOOKUP(E106,NOV!$A$60:$L$84,11,FALSE))","v":""},{"$f":"IF(NOV!J52=\"\",\"\",NOV!J52)","v":""},{"$f":"IF(NOV!L52=\"\",\"\",NOV!L52)","v":""},{"$f":"IF(NOV!I52=\"\",\"\",NOV!I52)","v":""},{"$f":"IF(NOV!N52=\"\",\"\",NOV!N52)","v":""},{"$f":"IF(NOV!O52=\"\",\"\",NOV!O52)","v":""},{"$f":"IF(NOV!P52=\"\",\"\",NOV!P52)","v":""},"",""]
[100,{"$f":"IF(NOV!C53=\"\",\"\",NOV!C53)","v":""},{"$f":"IF(NOV!D53=\"\",\"\",NOV!D53)","v":""},{"$f":"IF(NOV!F53=\"\",\"\",NOV!F53)","v":""},{"$f":"IF(NOV!S53=\"\",\"\",NOV!S53)","v":""},{"$f":"IF(E107=\"\",\"\",VLOOKUP(E107,NOV!$A$60:$L$84,11,FALSE))","v":""},{"$f":"IF(NOV!J53=\"\",\"\",NOV!J53)","v":""},{"$f":"IF(NOV!L53=\"\",\"\",NOV!L53)","v":""},{"$f":"IF(NOV!I53=\"\",\"\",NOV!I53)","v":""},{"$f":"IF(NOV!N53=\"\",\"\",NOV!N53)","v":""},{"$f":"IF(NOV!O53=\"\",\"\",NOV!O53)","v":""},{"$f":"IF(NOV!P53=\"\",\"\",NOV!P53)","v":""},"",""]
[101,{"$f":"IF(NOV!C54=\"\",\"\",NOV!C54)","v":""},{"$f":"IF(NOV!D54=\"\",\"\",NOV!D54)","v":""},{"$f":"IF(NOV!F54=\"\",\"\",NOV!F54)","v":""},{"$f":"IF(NOV!S54=\"\",\"\",NOV!S54)","v":""},{"$f":"IF(E108=\"\",\"\",VLOOKUP(E108,NOV!$A$60:$L$84,11,FALSE))","v":""},{"$f":"IF(NOV!J54=\"\",\"\",NOV!J54)","v":""},{"$f":"IF(NOV!L54=\"\",\"\",NOV!L54)","v":""},{"$f":"IF(NOV!I54=\"\",\"\",NOV!I54)","v":""},{"$f":"IF(NOV!N54=\"\",\"\",NOV!N54)","v":""},{"$f":"IF(NOV!O54=\"\",\"\",NOV!O54)","v":""},{"$f":"IF(NOV!P54=\"\",\"\",NOV!P54)","v":""},"",""]
[102,{"$f":"IF(NOV!C55=\"\",\"\",NOV!C55)","v":""},{"$f":"IF(NOV!D55=\"\",\"\",NOV!D55)","v":""},{"$f":"IF(NOV!F55=\"\",\"\",NOV!F55)","v":""},{"$f":"IF(NOV!S55=\"\",\"\",NOV!S55)","v":""},{"$f":"IF(E109=\"\",\"\",VLOOKUP(E109,NOV!$A$60:$L$84,11,FALSE))","v":""},{"$f":"IF(NOV!J55=\"\",\"\",NOV!J55)","v":""},{"$f":"IF(NOV!L55=\"\",\"\",NOV!L55)","v":""},{"$f":"IF(NOV!I55=\"\",\"\",NOV!I55)","v":""},{"$f":"IF(NOV!N55=\"\",\"\",NOV!N55)","v":""},{"$f":"IF(NOV!O55=\"\",\"\",NOV!O55)","v":""},{"$f":"IF(NOV!P55=\"\",\"\",NOV!P55)","v":""},"",""]
[103,{"$f":"IF(NOV!C56=\"\",\"\",NOV!C56)","v":""},{"$f":"IF(NOV!D56=\"\",\"\",NOV!D56)","v":""},{"$f":"IF(NOV!F56=\"\",\"\",NOV!F56)","v":""},{"$f":"IF(NOV!S56=\"\",\"\",NOV!S56)","v":""},{"$f":"IF(E110=\"\",\"\",VLOOKUP(E110,NOV!$A$60:$L$84,11,FALSE))","v":""},{"$f":"IF(NOV!J56=\"\",\"\",NOV!J56)","v":""},{"$f":"IF(NOV!L56=\"\",\"\",NOV!L56)","v":""},{"$f":"IF(NOV!I56=\"\",\"\",NOV!I56)","v":""},{"$f":"IF(NOV!N56=\"\",\"\",NOV!N56)","v":""},{"$f":"IF(NOV!O56=\"\",\"\",NOV!O56)","v":""},{"$f":"IF(NOV!P56=\"\",\"\",NOV!P56)","v":""},"",""]
[104,{"$f":"IF(NOV!C57=\"\",\"\",NOV!C57)","v":""},{"$f":"IF(NOV!D57=\"\",\"\",NOV!D57)","v":""},{"$f":"IF(NOV!F57=\"\",\"\",NOV!F57)","v":""},{"$f":"IF(NOV!S57=\"\",\"\",NOV!S57)","v":""},{"$f":"IF(E111=\"\",\"\",VLOOKUP(E111,NOV!$A$60:$L$84,11,FALSE))","v":""},{"$f":"IF(NOV!J57=\"\",\"\",NOV!J57)","v":""},{"$f":"IF(NOV!L57=\"\",\"\",NOV!L57)","v":""},{"$f":"IF(NOV!I57=\"\",\"\",NOV!I57)","v":""},{"$f":"IF(NOV!N57=\"\",\"\",NOV!N57)","v":""},{"$f":"IF(NOV!O57=\"\",\"\",NOV!O57)","v":""},{"$f":"IF(NOV!P57=\"\",\"\",NOV!P57)","v":""},"",""]
[105,{"$f":"IF(NOV!C58=\"\",\"\",NOV!C58)","v":""},{"$f":"IF(NOV!D58=\"\",\"\",NOV!D58)","v":""},{"$f":"IF(NOV!F58=\"\",\"\",NOV!F58)","v":""},{"$f":"IF(NOV!S58=\"\",\"\",NOV!S58)","v":""},{"$f":"IF(E112=\"\",\"\",VLOOKUP(E112,NOV!$A$60:$L$84,11,FALSE))","v":""},{"$f":"IF(NOV!J58=\"\",\"\",NOV!J58)","v":""},{"$f":"IF(NOV!L58=\"\",\"\",NOV!L58)","v":""},{"$f":"IF(NOV!I58=\"\",\"\",NOV!I58)","v":""},{"$f":"IF(NOV!N58=\"\",\"\",NOV!N58)","v":""},{"$f":"IF(NOV!O58=\"\",\"\",NOV!O58)","v":""},{"$f":"IF(NOV!P58=\"\",\"\",NOV!P58)","v":""},"",""]
[106,{"$f":"IF(DEC!C10=\"\",\"\",DEC!C10)","v":""},{"$f":"IF(DEC!D10=\"\",\"\",DEC!D10)","v":""},{"$f":"IF(DEC!F10=\"\",\"\",DEC!F10)","v":""},{"$f":"IF(DEC!S10=\"\",\"\",DEC!S10)","v":""},{"$f":"IF(E113=\"\",\"\",VLOOKUP(E113,DEC!$A$60:$L$84,11,FALSE))","v":""},{"$f":"IF(DEC!J10=\"\",\"\",DEC!J10)","v":""},{"$f":"IF(DEC!L10=\"\",\"\",DEC!L10)","v":""},{"$f":"IF(DEC!I10=\"\",\"\",DEC!I10)","v":""},{"$f":"IF(DEC!N10=\"\",\"\",DEC!N10)","v":""},{"$f":"IF(DEC!O10=\"\",\"\",DEC!O10)","v":""},{"$f":"IF(DEC!P10=\"\",\"\",DEC!P10)","v":""},"",""]
[107,{"$f":"IF(DEC!C11=\"\",\"\",DEC!C11)","v":""},{"$f":"IF(DEC!D11=\"\",\"\",DEC!D11)","v":""},{"$f":"IF(DEC!F11=\"\",\"\",DEC!F11)","v":""},{"$f":"IF(DEC!S11=\"\",\"\",DEC!S11)","v":""},{"$f":"IF(E114=\"\",\"\",VLOOKUP(E114,DEC!$A$60:$L$84,11,FALSE))","v":""},{"$f":"IF(DEC!J11=\"\",\"\",DEC!J11)","v":""},{"$f":"IF(DEC!L11=\"\",\"\",DEC!L11)","v":""},{"$f":"IF(DEC!I11=\"\",\"\",DEC!I11)","v":""},{"$f":"IF(DEC!N11=\"\",\"\",DEC!N11)","v":""},{"$f":"IF(DEC!O11=\"\",\"\",DEC!O11)","v":""},{"$f":"IF(DEC!P11=\"\",\"\",DEC!P11)","v":""},"",""]
[108,{"$f":"IF(DEC!C12=\"\",\"\",DEC!C12)","v":""},{"$f":"IF(DEC!D12=\"\",\"\",DEC!D12)","v":""},{"$f":"IF(DEC!F12=\"\",\"\",DEC!F12)","v":""},{"$f":"IF(DEC!S12=\"\",\"\",DEC!S12)","v":""},{"$f":"IF(E115=\"\",\"\",VLOOKUP(E115,DEC!$A$60:$L$84,11,FALSE))","v":""},{"$f":"IF(DEC!J12=\"\",\"\",DEC!J12)","v":""},{"$f":"IF(DEC!L12=\"\",\"\",DEC!L12)","v":""},{"$f":"IF(DEC!I12=\"\",\"\",DEC!I12)","v":""},{"$f":"IF(DEC!N12=\"\",\"\",DEC!N12)","v":""},{"$f":"IF(DEC!O12=\"\",\"\",DEC!O12)","v":""},{"$f":"IF(DEC!P12=\"\",\"\",DEC!P12)","v":""},"",""]
[109,{"$f":"IF(DEC!C13=\"\",\"\",DEC!C13)","v":""},{"$f":"IF(DEC!D13=\"\",\"\",DEC!D13)","v":""},{"$f":"IF(DEC!F13=\"\",\"\",DEC!F13)","v":""},{"$f":"IF(DEC!S13=\"\",\"\",DEC!S13)","v":""},{"$f":"IF(E116=\"\",\"\",VLOOKUP(E116,DEC!$A$60:$L$84,11,FALSE))","v":""},{"$f":"IF(DEC!J13=\"\",\"\",DEC!J13)","v":""},{"$f":"IF(DEC!L13=\"\",\"\",DEC!L13)","v":""},{"$f":"IF(DEC!I13=\"\",\"\",DEC!I13)","v":""},{"$f":"IF(DEC!N13=\"\",\"\",DEC!N13)","v":""},{"$f":"IF(DEC!O13=\"\",\"\",DEC!O13)","v":""},{"$f":"IF(DEC!P13=\"\",\"\",DEC!P13)","v":""},"",""]
[110,{"$f":"IF(DEC!C14=\"\",\"\",DEC!C14)","v":""},{"$f":"IF(DEC!D14=\"\",\"\",DEC!D14)","v":""},{"$f":"IF(DEC!F14=\"\",\"\",DEC!F14)","v":""},{"$f":"IF(DEC!S14=\"\",\"\",DEC!S14)","v":""},{"$f":"IF(E117=\"\",\"\",VLOOKUP(E117,DEC!$A$60:$L$84,11,FALSE))","v":""},{"$f":"IF(DEC!J14=\"\",\"\",DEC!J14)","v":""},{"$f":"IF(DEC!L14=\"\",\"\",DEC!L14)","v":""},{"$f":"IF(DEC!I14=\"\",\"\",DEC!I14)","v":""},{"$f":"IF(DEC!N14=\"\",\"\",DEC!N14)","v":""},{"$f":"IF(DEC!O14=\"\",\"\",DEC!O14)","v":""},{"$f":"IF(DEC!P14=\"\",\"\",DEC!P14)","v":""},"",""]
[111,{"$f":"IF(DEC!C15=\"\",\"\",DEC!C15)","v":""},{"$f":"IF(DEC!D15=\"\",\"\",DEC!D15)","v":""},{"$f":"IF(DEC!F15=\"\",\"\",DEC!F15)","v":""},{"$f":"IF(DEC!S15=\"\",\"\",DEC!S15)","v":""},{"$f":"IF(E118=\"\",\"\",VLOOKUP(E118,DEC!$A$60:$L$84,11,FALSE))","v":""},{"$f":"IF(DEC!J15=\"\",\"\",DEC!J15)","v":""},{"$f":"IF(DEC!L15=\"\",\"\",DEC!L15)","v":""},{"$f":"IF(DEC!I15=\"\",\"\",DEC!I15)","v":""},{"$f":"IF(DEC!N15=\"\",\"\",DEC!N15)","v":""},{"$f":"IF(DEC!O15=\"\",\"\",DEC!O15)","v":""},{"$f":"IF(DEC!P15=\"\",\"\",DEC!P15)","v":""},"",""]
[112,{"$f":"IF(DEC!C16=\"\",\"\",DEC!C16)","v":""},{"$f":"IF(DEC!D16=\"\",\"\",DEC!D16)","v":""},{"$f":"IF(DEC!F16=\"\",\"\",DEC!F16)","v":""},{"$f":"IF(DEC!S16=\"\",\"\",DEC!S16)","v":""},{"$f":"IF(E119=\"\",\"\",VLOOKUP(E119,DEC!$A$60:$L$84,11,FALSE))","v":""},{"$f":"IF(DEC!J16=\"\",\"\",DEC!J16)","v":""},{"$f":"IF(DEC!L16=\"\",\"\",DEC!L16)","v":""},{"$f":"IF(DEC!I16=\"\",\"\",DEC!I16)","v":""},{"$f":"IF(DEC!N16=\"\",\"\",DEC!N16)","v":""},{"$f":"IF(DEC!O16=\"\",\"\",DEC!O16)","v":""},{"$f":"IF(DEC!P16=\"\",\"\",DEC!P16)","v":""},"",""]
[113,{"$f":"IF(DEC!C17=\"\",\"\",DEC!C17)","v":""},{"$f":"IF(DEC!D17=\"\",\"\",DEC!D17)","v":""},{"$f":"IF(DEC!F17=\"\",\"\",DEC!F17)","v":""},{"$f":"IF(DEC!S17=\"\",\"\",DEC!S17)","v":""},{"$f":"IF(E120=\"\",\"\",VLOOKUP(E120,DEC!$A$60:$L$84,11,FALSE))","v":""},{"$f":"IF(DEC!J17=\"\",\"\",DEC!J17)","v":""},{"$f":"IF(DEC!L17=\"\",\"\",DEC!L17)","v":""},{"$f":"IF(DEC!I17=\"\",\"\",DEC!I17)","v":""},{"$f":"IF(DEC!N17=\"\",\"\",DEC!N17)","v":""},{"$f":"IF(DEC!O17=\"\",\"\",DEC!O17)","v":""},{"$f":"IF(DEC!P17=\"\",\"\",DEC!P17)","v":""},"",""]
[114,{"$f":"IF(DEC!C18=\"\",\"\",DEC!C18)","v":""},{"$f":"IF(DEC!D18=\"\",\"\",DEC!D18)","v":""},{"$f":"IF(DEC!F18=\"\",\"\",DEC!F18)","v":""},{"$f":"IF(DEC!S18=\"\",\"\",DEC!S18)","v":""},{"$f":"IF(E121=\"\",\"\",VLOOKUP(E121,DEC!$A$60:$L$84,11,FALSE))","v":""},{"$f":"IF(DEC!J18=\"\",\"\",DEC!J18)","v":""},{"$f":"IF(DEC!L18=\"\",\"\",DEC!L18)","v":""},{"$f":"IF(DEC!I18=\"\",\"\",DEC!I18)","v":""},{"$f":"IF(DEC!N18=\"\",\"\",DEC!N18)","v":""},{"$f":"IF(DEC!O18=\"\",\"\",DEC!O18)","v":""},{"$f":"IF(DEC!P18=\"\",\"\",DEC!P18)","v":""},"",""]
[115,{"$f":"IF(DEC!C19=\"\",\"\",DEC!C19)","v":""},{"$f":"IF(DEC!D19=\"\",\"\",DEC!D19)","v":""},{"$f":"IF(DEC!F19=\"\",\"\",DEC!F19)","v":""},{"$f":"IF(DEC!S19=\"\",\"\",DEC!S19)","v":""},{"$f":"IF(E122=\"\",\"\",VLOOKUP(E122,DEC!$A$60:$L$84,11,FALSE))","v":""},{"$f":"IF(DEC!J19=\"\",\"\",DEC!J19)","v":""},{"$f":"IF(DEC!L19=\"\",\"\",DEC!L19)","v":""},{"$f":"IF(DEC!I19=\"\",\"\",DEC!I19)","v":""},{"$f":"IF(DEC!N19=\"\",\"\",DEC!N19)","v":""},{"$f":"IF(DEC!O19=\"\",\"\",DEC!O19)","v":""},{"$f":"IF(DEC!P19=\"\",\"\",DEC!P19)","v":""},"",""]
[116,{"$f":"IF(DEC!C20=\"\",\"\",DEC!C20)","v":""},{"$f":"IF(DEC!D20=\"\",\"\",DEC!D20)","v":""},{"$f":"IF(DEC!F20=\"\",\"\",DEC!F20)","v":""},{"$f":"IF(DEC!S20=\"\",\"\",DEC!S20)","v":""},{"$f":"IF(E123=\"\",\"\",VLOOKUP(E123,DEC!$A$60:$L$84,11,FALSE))","v":""},{"$f":"IF(DEC!J20=\"\",\"\",DEC!J20)","v":""},{"$f":"IF(DEC!L20=\"\",\"\",DEC!L20)","v":""},{"$f":"IF(DEC!I20=\"\",\"\",DEC!I20)","v":""},{"$f":"IF(DEC!N20=\"\",\"\",DEC!N20)","v":""},{"$f":"IF(DEC!O20=\"\",\"\",DEC!O20)","v":""},{"$f":"IF(DEC!P20=\"\",\"\",DEC!P20)","v":""},"",""]
[117,{"$f":"IF(DEC!C21=\"\",\"\",DEC!C21)","v":""},{"$f":"IF(DEC!D21=\"\",\"\",DEC!D21)","v":""},{"$f":"IF(DEC!F21=\"\",\"\",DEC!F21)","v":""},{"$f":"IF(DEC!S21=\"\",\"\",DEC!S21)","v":""},{"$f":"IF(E124=\"\",\"\",VLOOKUP(E124,DEC!$A$60:$L$84,11,FALSE))","v":""},{"$f":"IF(DEC!J21=\"\",\"\",DEC!J21)","v":""},{"$f":"IF(DEC!L21=\"\",\"\",DEC!L21)","v":""},{"$f":"IF(DEC!I21=\"\",\"\",DEC!I21)","v":""},{"$f":"IF(DEC!N21=\"\",\"\",DEC!N21)","v":""},{"$f":"IF(DEC!O21=\"\",\"\",DEC!O21)","v":""},{"$f":"IF(DEC!P21=\"\",\"\",DEC!P21)","v":""},"",""]
[118,{"$f":"IF(DEC!C22=\"\",\"\",DEC!C22)","v":""},{"$f":"IF(DEC!D22=\"\",\"\",DEC!D22)","v":""},{"$f":"IF(DEC!F22=\"\",\"\",DEC!F22)","v":""},{"$f":"IF(DEC!S22=\"\",\"\",DEC!S22)","v":""},{"$f":"IF(E125=\"\",\"\",VLOOKUP(E125,DEC!$A$60:$L$84,11,FALSE))","v":""},{"$f":"IF(DEC!J22=\"\",\"\",DEC!J22)","v":""},{"$f":"IF(DEC!L22=\"\",\"\",DEC!L22)","v":""},{"$f":"IF(DEC!I22=\"\",\"\",DEC!I22)","v":""},{"$f":"IF(DEC!N22=\"\",\"\",DEC!N22)","v":""},{"$f":"IF(DEC!O22=\"\",\"\",DEC!O22)","v":""},{"$f":"IF(DEC!P22=\"\",\"\",DEC!P22)","v":""},"",""]
[119,{"$f":"IF(DEC!C23=\"\",\"\",DEC!C23)","v":""},{"$f":"IF(DEC!D23=\"\",\"\",DEC!D23)","v":""},{"$f":"IF(DEC!F23=\"\",\"\",DEC!F23)","v":""},{"$f":"IF(DEC!S23=\"\",\"\",DEC!S23)","v":""},{"$f":"IF(E126=\"\",\"\",VLOOKUP(E126,DEC!$A$60:$L$84,11,FALSE))","v":""},{"$f":"IF(DEC!J23=\"\",\"\",DEC!J23)","v":""},{"$f":"IF(DEC!L23=\"\",\"\",DEC!L23)","v":""},{"$f":"IF(DEC!I23=\"\",\"\",DEC!I23)","v":""},{"$f":"IF(DEC!N23=\"\",\"\",DEC!N23)","v":""},{"$f":"IF(DEC!O23=\"\",\"\",DEC!O23)","v":""},{"$f":"IF(DEC!P23=\"\",\"\",DEC!P23)","v":""},"",""]
[120,{"$f":"IF(DEC!C24=\"\",\"\",DEC!C24)","v":""},{"$f":"IF(DEC!D24=\"\",\"\",DEC!D24)","v":""},{"$f":"IF(DEC!F24=\"\",\"\",DEC!F24)","v":""},{"$f":"IF(DEC!S24=\"\",\"\",DEC!S24)","v":""},{"$f":"IF(E127=\"\",\"\",VLOOKUP(E127,DEC!$A$60:$L$84,11,FALSE))","v":""},{"$f":"IF(DEC!J24=\"\",\"\",DEC!J24)","v":""},{"$f":"IF(DEC!L24=\"\",\"\",DEC!L24)","v":""},{"$f":"IF(DEC!I24=\"\",\"\",DEC!I24)","v":""},{"$f":"IF(DEC!N24=\"\",\"\",DEC!N24)","v":""},{"$f":"IF(DEC!O24=\"\",\"\",DEC!O24)","v":""},{"$f":"IF(DEC!P24=\"\",\"\",DEC!P24)","v":""},"",""]
[121,{"$f":"IF(DEC!C25=\"\",\"\",DEC!C25)","v":""},{"$f":"IF(DEC!D25=\"\",\"\",DEC!D25)","v":""},{"$f":"IF(DEC!F25=\"\",\"\",DEC!F25)","v":""},{"$f":"IF(DEC!S25=\"\",\"\",DEC!S25)","v":""},{"$f":"IF(E128=\"\",\"\",VLOOKUP(E128,DEC!$A$60:$L$84,11,FALSE))","v":""},{"$f":"IF(DEC!J25=\"\",\"\",DEC!J25)","v":""},{"$f":"IF(DEC!L25=\"\",\"\",DEC!L25)","v":""},{"$f":"IF(DEC!I25=\"\",\"\",DEC!I25)","v":""},{"$f":"IF(DEC!N25=\"\",\"\",DEC!N25)","v":""},{"$f":"IF(DEC!O25=\"\",\"\",DEC!O25)","v":""},{"$f":"IF(DEC!P25=\"\",\"\",DEC!P25)","v":""},"",""]
[122,{"$f":"IF(DEC!C26=\"\",\"\",DEC!C26)","v":""},{"$f":"IF(DEC!D26=\"\",\"\",DEC!D26)","v":""},{"$f":"IF(DEC!F26=\"\",\"\",DEC!F26)","v":""},{"$f":"IF(DEC!S26=\"\",\"\",DEC!S26)","v":""},{"$f":"IF(E129=\"\",\"\",VLOOKUP(E129,DEC!$A$60:$L$84,11,FALSE))","v":""},{"$f":"IF(DEC!J26=\"\",\"\",DEC!J26)","v":""},{"$f":"IF(DEC!L26=\"\",\"\",DEC!L26)","v":""},{"$f":"IF(DEC!I26=\"\",\"\",DEC!I26)","v":""},{"$f":"IF(DEC!N26=\"\",\"\",DEC!N26)","v":""},{"$f":"IF(DEC!O26=\"\",\"\",DEC!O26)","v":""},{"$f":"IF(DEC!P26=\"\",\"\",DEC!P26)","v":""},"",""]
[123,{"$f":"IF(DEC!C27=\"\",\"\",DEC!C27)","v":""},{"$f":"IF(DEC!D27=\"\",\"\",DEC!D27)","v":""},{"$f":"IF(DEC!F27=\"\",\"\",DEC!F27)","v":""},{"$f":"IF(DEC!S27=\"\",\"\",DEC!S27)","v":""},{"$f":"IF(E130=\"\",\"\",VLOOKUP(E130,DEC!$A$60:$L$84,11,FALSE))","v":""},{"$f":"IF(DEC!J27=\"\",\"\",DEC!J27)","v":""},{"$f":"IF(DEC!L27=\"\",\"\",DEC!L27)","v":""},{"$f":"IF(DEC!I27=\"\",\"\",DEC!I27)","v":""},{"$f":"IF(DEC!N27=\"\",\"\",DEC!N27)","v":""},{"$f":"IF(DEC!O27=\"\",\"\",DEC!O27)","v":""},{"$f":"IF(DEC!P27=\"\",\"\",DEC!P27)","v":""},"",""]
[124,{"$f":"IF(DEC!C28=\"\",\"\",DEC!C28)","v":""},{"$f":"IF(DEC!D28=\"\",\"\",DEC!D28)","v":""},{"$f":"IF(DEC!F28=\"\",\"\",DEC!F28)","v":""},{"$f":"IF(DEC!S28=\"\",\"\",DEC!S28)","v":""},{"$f":"IF(E131=\"\",\"\",VLOOKUP(E131,DEC!$A$60:$L$84,11,FALSE))","v":""},{"$f":"IF(DEC!J28=\"\",\"\",DEC!J28)","v":""},{"$f":"IF(DEC!L28=\"\",\"\",DEC!L28)","v":""},{"$f":"IF(DEC!I28=\"\",\"\",DEC!I28)","v":""},{"$f":"IF(DEC!N28=\"\",\"\",DEC!N28)","v":""},{"$f":"IF(DEC!O28=\"\",\"\",DEC!O28)","v":""},{"$f":"IF(DEC!P28=\"\",\"\",DEC!P28)","v":""},"",""]
[125,{"$f":"IF(DEC!C29=\"\",\"\",DEC!C29)","v":""},{"$f":"IF(DEC!D29=\"\",\"\",DEC!D29)","v":""},{"$f":"IF(DEC!F29=\"\",\"\",DEC!F29)","v":""},{"$f":"IF(DEC!S29=\"\",\"\",DEC!S29)","v":""},{"$f":"IF(E132=\"\",\"\",VLOOKUP(E132,DEC!$A$60:$L$84,11,FALSE))","v":""},{"$f":"IF(DEC!J29=\"\",\"\",DEC!J29)","v":""},{"$f":"IF(DEC!L29=\"\",\"\",DEC!L29)","v":""},{"$f":"IF(DEC!I29=\"\",\"\",DEC!I29)","v":""},{"$f":"IF(DEC!N29=\"\",\"\",DEC!N29)","v":""},{"$f":"IF(DEC!O29=\"\",\"\",DEC!O29)","v":""},{"$f":"IF(DEC!P29=\"\",\"\",DEC!P29)","v":""},"",""]
[126,{"$f":"IF(DEC!C30=\"\",\"\",DEC!C30)","v":""},{"$f":"IF(DEC!D30=\"\",\"\",DEC!D30)","v":""},{"$f":"IF(DEC!F30=\"\",\"\",DEC!F30)","v":""},{"$f":"IF(DEC!S30=\"\",\"\",DEC!S30)","v":""},{"$f":"IF(E133=\"\",\"\",VLOOKUP(E133,DEC!$A$60:$L$84,11,FALSE))","v":""},{"$f":"IF(DEC!J30=\"\",\"\",DEC!J30)","v":""},{"$f":"IF(DEC!L30=\"\",\"\",DEC!L30)","v":""},{"$f":"IF(DEC!I30=\"\",\"\",DEC!I30)","v":""},{"$f":"IF(DEC!N30=\"\",\"\",DEC!N30)","v":""},{"$f":"IF(DEC!O30=\"\",\"\",DEC!O30)","v":""},{"$f":"IF(DEC!P30=\"\",\"\",DEC!P30)","v":""},"",""]
[127,{"$f":"IF(DEC!C31=\"\",\"\",DEC!C31)","v":""},{"$f":"IF(DEC!D31=\"\",\"\",DEC!D31)","v":""},{"$f":"IF(DEC!F31=\"\",\"\",DEC!F31)","v":""},{"$f":"IF(DEC!S31=\"\",\"\",DEC!S31)","v":""},{"$f":"IF(E134=\"\",\"\",VLOOKUP(E134,DEC!$A$60:$L$84,11,FALSE))","v":""},{"$f":"IF(DEC!J31=\"\",\"\",DEC!J31)","v":""},{"$f":"IF(DEC!L31=\"\",\"\",DEC!L31)","v":""},{"$f":"IF(DEC!I31=\"\",\"\",DEC!I31)","v":""},{"$f":"IF(DEC!N31=\"\",\"\",DEC!N31)","v":""},{"$f":"IF(DEC!O31=\"\",\"\",DEC!O31)","v":""},{"$f":"IF(DEC!P31=\"\",\"\",DEC!P31)","v":""},"",""]
[128,{"$f":"IF(DEC!C32=\"\",\"\",DEC!C32)","v":""},{"$f":"IF(DEC!D32=\"\",\"\",DEC!D32)","v":""},{"$f":"IF(DEC!F32=\"\",\"\",DEC!F32)","v":""},{"$f":"IF(DEC!S32=\"\",\"\",DEC!S32)","v":""},{"$f":"IF(E135=\"\",\"\",VLOOKUP(E135,DEC!$A$60:$L$84,11,FALSE))","v":""},{"$f":"IF(DEC!J32=\"\",\"\",DEC!J32)","v":""},{"$f":"IF(DEC!L32=\"\",\"\",DEC!L32)","v":""},{"$f":"IF(DEC!I32=\"\",\"\",DEC!I32)","v":""},{"$f":"IF(DEC!N32=\"\",\"\",DEC!N32)","v":""},{"$f":"IF(DEC!O32=\"\",\"\",DEC!O32)","v":""},{"$f":"IF(DEC!P32=\"\",\"\",DEC!P32)","v":""},"",""]
[129,{"$f":"IF(DEC!C33=\"\",\"\",DEC!C33)","v":""},{"$f":"IF(DEC!D33=\"\",\"\",DEC!D33)","v":""},{"$f":"IF(DEC!F33=\"\",\"\",DEC!F33)","v":""},{"$f":"IF(DEC!S33=\"\",\"\",DEC!S33)","v":""},{"$f":"IF(E136=\"\",\"\",VLOOKUP(E136,DEC!$A$60:$L$84,11,FALSE))","v":""},{"$f":"IF(DEC!J33=\"\",\"\",DEC!J33)","v":""},{"$f":"IF(DEC!L33=\"\",\"\",DEC!L33)","v":""},{"$f":"IF(DEC!I33=\"\",\"\",DEC!I33)","v":""},{"$f":"IF(DEC!N33=\"\",\"\",DEC!N33)","v":""},{"$f":"IF(DEC!O33=\"\",\"\",DEC!O33)","v":""},{"$f":"IF(DEC!P33=\"\",\"\",DEC!P33)","v":""},{"$f":"IF(J136=\"\",\"\",J136+L136)","v":""},""]
[130,{"$f":"IF(DEC!C34=\"\",\"\",DEC!C34)","v":""},{"$f":"IF(DEC!D34=\"\",\"\",DEC!D34)","v":""},{"$f":"IF(DEC!F34=\"\",\"\",DEC!F34)","v":""},{"$f":"IF(DEC!S34=\"\",\"\",DEC!S34)","v":""},{"$f":"IF(E137=\"\",\"\",VLOOKUP(E137,DEC!$A$60:$L$84,11,FALSE))","v":""},{"$f":"IF(DEC!J34=\"\",\"\",DEC!J34)","v":""},{"$f":"IF(DEC!L34=\"\",\"\",DEC!L34)","v":""},{"$f":"IF(DEC!I34=\"\",\"\",DEC!I34)","v":""},{"$f":"IF(DEC!N34=\"\",\"\",DEC!N34)","v":""},{"$f":"IF(DEC!O34=\"\",\"\",DEC!O34)","v":""},{"$f":"IF(DEC!P34=\"\",\"\",DEC!P34)","v":""},"",""]
[131,{"$f":"IF(DEC!C35=\"\",\"\",DEC!C35)","v":""},{"$f":"IF(DEC!D35=\"\",\"\",DEC!D35)","v":""},{"$f":"IF(DEC!F35=\"\",\"\",DEC!F35)","v":""},{"$f":"IF(DEC!S35=\"\",\"\",DEC!S35)","v":""},{"$f":"IF(E138=\"\",\"\",VLOOKUP(E138,DEC!$A$60:$L$84,11,FALSE))","v":""},{"$f":"IF(DEC!J35=\"\",\"\",DEC!J35)","v":""},{"$f":"IF(DEC!L35=\"\",\"\",DEC!L35)","v":""},{"$f":"IF(DEC!I35=\"\",\"\",DEC!I35)","v":""},{"$f":"IF(DEC!N35=\"\",\"\",DEC!N35)","v":""},{"$f":"IF(DEC!O35=\"\",\"\",DEC!O35)","v":""},{"$f":"IF(DEC!P35=\"\",\"\",DEC!P35)","v":""},"",""]
[132,{"$f":"IF(DEC!C36=\"\",\"\",DEC!C36)","v":""},{"$f":"IF(DEC!D36=\"\",\"\",DEC!D36)","v":""},{"$f":"IF(DEC!F36=\"\",\"\",DEC!F36)","v":""},{"$f":"IF(DEC!S36=\"\",\"\",DEC!S36)","v":""},{"$f":"IF(E139=\"\",\"\",VLOOKUP(E139,DEC!$A$60:$L$84,11,FALSE))","v":""},{"$f":"IF(DEC!J36=\"\",\"\",DEC!J36)","v":""},{"$f":"IF(DEC!L36=\"\",\"\",DEC!L36)","v":""},{"$f":"IF(DEC!I36=\"\",\"\",DEC!I36)","v":""},{"$f":"IF(DEC!N36=\"\",\"\",DEC!N36)","v":""},{"$f":"IF(DEC!O36=\"\",\"\",DEC!O36)","v":""},{"$f":"IF(DEC!P36=\"\",\"\",DEC!P36)","v":""},"",""]
[133,{"$f":"IF(DEC!C37=\"\",\"\",DEC!C37)","v":""},{"$f":"IF(DEC!D37=\"\",\"\",DEC!D37)","v":""},{"$f":"IF(DEC!F37=\"\",\"\",DEC!F37)","v":""},{"$f":"IF(DEC!S37=\"\",\"\",DEC!S37)","v":""},{"$f":"IF(E140=\"\",\"\",VLOOKUP(E140,DEC!$A$60:$L$84,11,FALSE))","v":""},{"$f":"IF(DEC!J37=\"\",\"\",DEC!J37)","v":""},{"$f":"IF(DEC!L37=\"\",\"\",DEC!L37)","v":""},{"$f":"IF(DEC!I37=\"\",\"\",DEC!I37)","v":""},{"$f":"IF(DEC!N37=\"\",\"\",DEC!N37)","v":""},{"$f":"IF(DEC!O37=\"\",\"\",DEC!O37)","v":""},{"$f":"IF(DEC!P37=\"\",\"\",DEC!P37)","v":""},"",""]
[134,{"$f":"IF(DEC!C38=\"\",\"\",DEC!C38)","v":""},{"$f":"IF(DEC!D38=\"\",\"\",DEC!D38)","v":""},{"$f":"IF(DEC!F38=\"\",\"\",DEC!F38)","v":""},{"$f":"IF(DEC!S38=\"\",\"\",DEC!S38)","v":""},{"$f":"IF(E141=\"\",\"\",VLOOKUP(E141,DEC!$A$60:$L$84,11,FALSE))","v":""},{"$f":"IF(DEC!J38=\"\",\"\",DEC!J38)","v":""},{"$f":"IF(DEC!L38=\"\",\"\",DEC!L38)","v":""},{"$f":"IF(DEC!I38=\"\",\"\",DEC!I38)","v":""},{"$f":"IF(DEC!N38=\"\",\"\",DEC!N38)","v":""},{"$f":"IF(DEC!O38=\"\",\"\",DEC!O38)","v":""},{"$f":"IF(DEC!P38=\"\",\"\",DEC!P38)","v":""},"",""]
[135,{"$f":"IF(DEC!C39=\"\",\"\",DEC!C39)","v":""},{"$f":"IF(DEC!D39=\"\",\"\",DEC!D39)","v":""},{"$f":"IF(DEC!F39=\"\",\"\",DEC!F39)","v":""},{"$f":"IF(DEC!S39=\"\",\"\",DEC!S39)","v":""},{"$f":"IF(E142=\"\",\"\",VLOOKUP(E142,DEC!$A$60:$L$84,11,FALSE))","v":""},{"$f":"IF(DEC!J39=\"\",\"\",DEC!J39)","v":""},{"$f":"IF(DEC!L39=\"\",\"\",DEC!L39)","v":""},{"$f":"IF(DEC!I39=\"\",\"\",DEC!I39)","v":""},{"$f":"IF(DEC!N39=\"\",\"\",DEC!N39)","v":""},{"$f":"IF(DEC!O39=\"\",\"\",DEC!O39)","v":""},{"$f":"IF(DEC!P39=\"\",\"\",DEC!P39)","v":""},"",""]
[136,{"$f":"IF(DEC!C40=\"\",\"\",DEC!C40)","v":""},{"$f":"IF(DEC!D40=\"\",\"\",DEC!D40)","v":""},{"$f":"IF(DEC!F40=\"\",\"\",DEC!F40)","v":""},{"$f":"IF(DEC!S40=\"\",\"\",DEC!S40)","v":""},{"$f":"IF(E143=\"\",\"\",VLOOKUP(E143,DEC!$A$60:$L$84,11,FALSE))","v":""},{"$f":"IF(DEC!J40=\"\",\"\",DEC!J40)","v":""},{"$f":"IF(DEC!L40=\"\",\"\",DEC!L40)","v":""},{"$f":"IF(DEC!I40=\"\",\"\",DEC!I40)","v":""},{"$f":"IF(DEC!N40=\"\",\"\",DEC!N40)","v":""},{"$f":"IF(DEC!O40=\"\",\"\",DEC!O40)","v":""},{"$f":"IF(DEC!P40=\"\",\"\",DEC!P40)","v":""},"",""]
[137,{"$f":"IF(DEC!C41=\"\",\"\",DEC!C41)","v":""},{"$f":"IF(DEC!D41=\"\",\"\",DEC!D41)","v":""},{"$f":"IF(DEC!F41=\"\",\"\",DEC!F41)","v":""},{"$f":"IF(DEC!S41=\"\",\"\",DEC!S41)","v":""},{"$f":"IF(E144=\"\",\"\",VLOOKUP(E144,DEC!$A$60:$L$84,11,FALSE))","v":""},{"$f":"IF(DEC!J41=\"\",\"\",DEC!J41)","v":""},{"$f":"IF(DEC!L41=\"\",\"\",DEC!L41)","v":""},{"$f":"IF(DEC!I41=\"\",\"\",DEC!I41)","v":""},{"$f":"IF(DEC!N41=\"\",\"\",DEC!N41)","v":""},{"$f":"IF(DEC!O41=\"\",\"\",DEC!O41)","v":""},{"$f":"IF(DEC!P41=\"\",\"\",DEC!P41)","v":""},"",{"$f":"IF(B144=\"\",\"\",N143+J144+L144)","v":""}]
[138,{"$f":"IF(DEC!C42=\"\",\"\",DEC!C42)","v":""},{"$f":"IF(DEC!D42=\"\",\"\",DEC!D42)","v":""},{"$f":"IF(DEC!F42=\"\",\"\",DEC!F42)","v":""},{"$f":"IF(DEC!S42=\"\",\"\",DEC!S42)","v":""},{"$f":"IF(E145=\"\",\"\",VLOOKUP(E145,DEC!$A$60:$L$84,11,FALSE))","v":""},{"$f":"IF(DEC!J42=\"\",\"\",DEC!J42)","v":""},{"$f":"IF(DEC!L42=\"\",\"\",DEC!L42)","v":""},{"$f":"IF(DEC!I42=\"\",\"\",DEC!I42)","v":""},{"$f":"IF(DEC!N42=\"\",\"\",DEC!N42)","v":""},{"$f":"IF(DEC!O42=\"\",\"\",DEC!O42)","v":""},{"$f":"IF(DEC!P42=\"\",\"\",DEC!P42)","v":""},"",""]
[139,{"$f":"IF(DEC!C43=\"\",\"\",DEC!C43)","v":""},{"$f":"IF(DEC!D43=\"\",\"\",DEC!D43)","v":""},{"$f":"IF(DEC!F43=\"\",\"\",DEC!F43)","v":""},{"$f":"IF(DEC!S43=\"\",\"\",DEC!S43)","v":""},{"$f":"IF(E146=\"\",\"\",VLOOKUP(E146,DEC!$A$60:$L$84,11,FALSE))","v":""},{"$f":"IF(DEC!J43=\"\",\"\",DEC!J43)","v":""},{"$f":"IF(DEC!L43=\"\",\"\",DEC!L43)","v":""},{"$f":"IF(DEC!I43=\"\",\"\",DEC!I43)","v":""},{"$f":"IF(DEC!N43=\"\",\"\",DEC!N43)","v":""},{"$f":"IF(DEC!O43=\"\",\"\",DEC!O43)","v":""},{"$f":"IF(DEC!P43=\"\",\"\",DEC!P43)","v":""},"",""]
[140,{"$f":"IF(DEC!C44=\"\",\"\",DEC!C44)","v":""},{"$f":"IF(DEC!D44=\"\",\"\",DEC!D44)","v":""},{"$f":"IF(DEC!F44=\"\",\"\",DEC!F44)","v":""},{"$f":"IF(DEC!S44=\"\",\"\",DEC!S44)","v":""},{"$f":"IF(E147=\"\",\"\",VLOOKUP(E147,DEC!$A$60:$L$84,11,FALSE))","v":""},{"$f":"IF(DEC!J44=\"\",\"\",DEC!J44)","v":""},{"$f":"IF(DEC!L44=\"\",\"\",DEC!L44)","v":""},{"$f":"IF(DEC!I44=\"\",\"\",DEC!I44)","v":""},{"$f":"IF(DEC!N44=\"\",\"\",DEC!N44)","v":""},{"$f":"IF(DEC!O44=\"\",\"\",DEC!O44)","v":""},{"$f":"IF(DEC!P44=\"\",\"\",DEC!P44)","v":""},"",""]
[141,{"$f":"IF(DEC!C45=\"\",\"\",DEC!C45)","v":""},{"$f":"IF(DEC!D45=\"\",\"\",DEC!D45)","v":""},{"$f":"IF(DEC!F45=\"\",\"\",DEC!F45)","v":""},{"$f":"IF(DEC!S45=\"\",\"\",DEC!S45)","v":""},{"$f":"IF(E148=\"\",\"\",VLOOKUP(E148,DEC!$A$60:$L$84,11,FALSE))","v":""},{"$f":"IF(DEC!J45=\"\",\"\",DEC!J45)","v":""},{"$f":"IF(DEC!L45=\"\",\"\",DEC!L45)","v":""},{"$f":"IF(DEC!I45=\"\",\"\",DEC!I45)","v":""},{"$f":"IF(DEC!N45=\"\",\"\",DEC!N45)","v":""},{"$f":"IF(DEC!O45=\"\",\"\",DEC!O45)","v":""},{"$f":"IF(DEC!P45=\"\",\"\",DEC!P45)","v":""},"",""]
[142,{"$f":"IF(DEC!C46=\"\",\"\",DEC!C46)","v":""},{"$f":"IF(DEC!D46=\"\",\"\",DEC!D46)","v":""},{"$f":"IF(DEC!F46=\"\",\"\",DEC!F46)","v":""},{"$f":"IF(DEC!S46=\"\",\"\",DEC!S46)","v":""},{"$f":"IF(E149=\"\",\"\",VLOOKUP(E149,DEC!$A$60:$L$84,11,FALSE))","v":""},{"$f":"IF(DEC!J46=\"\",\"\",DEC!J46)","v":""},{"$f":"IF(DEC!L46=\"\",\"\",DEC!L46)","v":""},{"$f":"IF(DEC!I46=\"\",\"\",DEC!I46)","v":""},{"$f":"IF(DEC!N46=\"\",\"\",DEC!N46)","v":""},{"$f":"IF(DEC!O46=\"\",\"\",DEC!O46)","v":""},{"$f":"IF(DEC!P46=\"\",\"\",DEC!P46)","v":""},"",""]
[143,{"$f":"IF(DEC!C47=\"\",\"\",DEC!C47)","v":""},{"$f":"IF(DEC!D47=\"\",\"\",DEC!D47)","v":""},{"$f":"IF(DEC!F47=\"\",\"\",DEC!F47)","v":""},{"$f":"IF(DEC!S47=\"\",\"\",DEC!S47)","v":""},{"$f":"IF(E150=\"\",\"\",VLOOKUP(E150,DEC!$A$60:$L$84,11,FALSE))","v":""},{"$f":"IF(DEC!J47=\"\",\"\",DEC!J47)","v":""},{"$f":"IF(DEC!L47=\"\",\"\",DEC!L47)","v":""},{"$f":"IF(DEC!I47=\"\",\"\",DEC!I47)","v":""},{"$f":"IF(DEC!N47=\"\",\"\",DEC!N47)","v":""},{"$f":"IF(DEC!O47=\"\",\"\",DEC!O47)","v":""},{"$f":"IF(DEC!P47=\"\",\"\",DEC!P47)","v":""},"",""]
[144,{"$f":"IF(DEC!C48=\"\",\"\",DEC!C48)","v":""},{"$f":"IF(DEC!D48=\"\",\"\",DEC!D48)","v":""},{"$f":"IF(DEC!F48=\"\",\"\",DEC!F48)","v":""},{"$f":"IF(DEC!S48=\"\",\"\",DEC!S48)","v":""},{"$f":"IF(E151=\"\",\"\",VLOOKUP(E151,DEC!$A$60:$L$84,11,FALSE))","v":""},{"$f":"IF(DEC!J48=\"\",\"\",DEC!J48)","v":""},{"$f":"IF(DEC!L48=\"\",\"\",DEC!L48)","v":""},{"$f":"IF(DEC!I48=\"\",\"\",DEC!I48)","v":""},{"$f":"IF(DEC!N48=\"\",\"\",DEC!N48)","v":""},{"$f":"IF(DEC!O48=\"\",\"\",DEC!O48)","v":""},{"$f":"IF(DEC!P48=\"\",\"\",DEC!P48)","v":""},"",""]
[145,{"$f":"IF(DEC!C49=\"\",\"\",DEC!C49)","v":""},{"$f":"IF(DEC!D49=\"\",\"\",DEC!D49)","v":""},{"$f":"IF(DEC!F49=\"\",\"\",DEC!F49)","v":""},{"$f":"IF(DEC!S49=\"\",\"\",DEC!S49)","v":""},{"$f":"IF(E152=\"\",\"\",VLOOKUP(E152,DEC!$A$60:$L$84,11,FALSE))","v":""},{"$f":"IF(DEC!J49=\"\",\"\",DEC!J49)","v":""},{"$f":"IF(DEC!L49=\"\",\"\",DEC!L49)","v":""},{"$f":"IF(DEC!I49=\"\",\"\",DEC!I49)","v":""},{"$f":"IF(DEC!N49=\"\",\"\",DEC!N49)","v":""},{"$f":"IF(DEC!O49=\"\",\"\",DEC!O49)","v":""},{"$f":"IF(DEC!P49=\"\",\"\",DEC!P49)","v":""},"",""]
[146,{"$f":"IF(DEC!C50=\"\",\"\",DEC!C50)","v":""},{"$f":"IF(DEC!D50=\"\",\"\",DEC!D50)","v":""},{"$f":"IF(DEC!F50=\"\",\"\",DEC!F50)","v":""},{"$f":"IF(DEC!S50=\"\",\"\",DEC!S50)","v":""},{"$f":"IF(E153=\"\",\"\",VLOOKUP(E153,DEC!$A$60:$L$84,11,FALSE))","v":""},{"$f":"IF(DEC!J50=\"\",\"\",DEC!J50)","v":""},{"$f":"IF(DEC!L50=\"\",\"\",DEC!L50)","v":""},{"$f":"IF(DEC!I50=\"\",\"\",DEC!I50)","v":""},{"$f":"IF(DEC!N50=\"\",\"\",DEC!N50)","v":""},{"$f":"IF(DEC!O50=\"\",\"\",DEC!O50)","v":""},{"$f":"IF(DEC!P50=\"\",\"\",DEC!P50)","v":""},"",""]
[147,{"$f":"IF(DEC!C51=\"\",\"\",DEC!C51)","v":""},{"$f":"IF(DEC!D51=\"\",\"\",DEC!D51)","v":""},{"$f":"IF(DEC!F51=\"\",\"\",DEC!F51)","v":""},{"$f":"IF(DEC!S51=\"\",\"\",DEC!S51)","v":""},{"$f":"IF(E154=\"\",\"\",VLOOKUP(E154,DEC!$A$60:$L$84,11,FALSE))","v":""},{"$f":"IF(DEC!J51=\"\",\"\",DEC!J51)","v":""},{"$f":"IF(DEC!L51=\"\",\"\",DEC!L51)","v":""},{"$f":"IF(DEC!I51=\"\",\"\",DEC!I51)","v":""},{"$f":"IF(DEC!N51=\"\",\"\",DEC!N51)","v":""},{"$f":"IF(DEC!O51=\"\",\"\",DEC!O51)","v":""},{"$f":"IF(DEC!P51=\"\",\"\",DEC!P51)","v":""},"",""]
[148,{"$f":"IF(DEC!C52=\"\",\"\",DEC!C52)","v":""},{"$f":"IF(DEC!D52=\"\",\"\",DEC!D52)","v":""},{"$f":"IF(DEC!F52=\"\",\"\",DEC!F52)","v":""},{"$f":"IF(DEC!S52=\"\",\"\",DEC!S52)","v":""},{"$f":"IF(E155=\"\",\"\",VLOOKUP(E155,DEC!$A$60:$L$84,11,FALSE))","v":""},{"$f":"IF(DEC!J52=\"\",\"\",DEC!J52)","v":""},{"$f":"IF(DEC!L52=\"\",\"\",DEC!L52)","v":""},{"$f":"IF(DEC!I52=\"\",\"\",DEC!I52)","v":""},{"$f":"IF(DEC!N52=\"\",\"\",DEC!N52)","v":""},{"$f":"IF(DEC!O52=\"\",\"\",DEC!O52)","v":""},{"$f":"IF(DEC!P52=\"\",\"\",DEC!P52)","v":""},"",""]
[149,{"$f":"IF(DEC!C53=\"\",\"\",DEC!C53)","v":""},{"$f":"IF(DEC!D53=\"\",\"\",DEC!D53)","v":""},{"$f":"IF(DEC!F53=\"\",\"\",DEC!F53)","v":""},{"$f":"IF(DEC!S53=\"\",\"\",DEC!S53)","v":""},{"$f":"IF(E156=\"\",\"\",VLOOKUP(E156,DEC!$A$60:$L$84,11,FALSE))","v":""},{"$f":"IF(DEC!J53=\"\",\"\",DEC!J53)","v":""},{"$f":"IF(DEC!L53=\"\",\"\",DEC!L53)","v":""},{"$f":"IF(DEC!I53=\"\",\"\",DEC!I53)","v":""},{"$f":"IF(DEC!N53=\"\",\"\",DEC!N53)","v":""},{"$f":"IF(DEC!O53=\"\",\"\",DEC!O53)","v":""},{"$f":"IF(DEC!P53=\"\",\"\",DEC!P53)","v":""},"",""]
[150,{"$f":"IF(DEC!C54=\"\",\"\",DEC!C54)","v":""},{"$f":"IF(DEC!D54=\"\",\"\",DEC!D54)","v":""},{"$f":"IF(DEC!F54=\"\",\"\",DEC!F54)","v":""},{"$f":"IF(DEC!S54=\"\",\"\",DEC!S54)","v":""},{"$f":"IF(E157=\"\",\"\",VLOOKUP(E157,DEC!$A$60:$L$84,11,FALSE))","v":""},{"$f":"IF(DEC!J54=\"\",\"\",DEC!J54)","v":""},{"$f":"IF(DEC!L54=\"\",\"\",DEC!L54)","v":""},{"$f":"IF(DEC!I54=\"\",\"\",DEC!I54)","v":""},{"$f":"IF(DEC!N54=\"\",\"\",DEC!N54)","v":""},{"$f":"IF(DEC!O54=\"\",\"\",DEC!O54)","v":""},{"$f":"IF(DEC!P54=\"\",\"\",DEC!P54)","v":""},"",""]
[151,{"$f":"IF(DEC!C55=\"\",\"\",DEC!C55)","v":""},{"$f":"IF(DEC!D55=\"\",\"\",DEC!D55)","v":""},{"$f":"IF(DEC!F55=\"\",\"\",DEC!F55)","v":""},{"$f":"IF(DEC!S55=\"\",\"\",DEC!S55)","v":""},{"$f":"IF(E158=\"\",\"\",VLOOKUP(E158,DEC!$A$60:$L$84,11,FALSE))","v":""},{"$f":"IF(DEC!J55=\"\",\"\",DEC!J55)","v":""},{"$f":"IF(DEC!L55=\"\",\"\",DEC!L55)","v":""},{"$f":"IF(DEC!I55=\"\",\"\",DEC!I55)","v":""},{"$f":"IF(DEC!N55=\"\",\"\",DEC!N55)","v":""},{"$f":"IF(DEC!O55=\"\",\"\",DEC!O55)","v":""},{"$f":"IF(DEC!P55=\"\",\"\",DEC!P55)","v":""},"",""]
[152,{"$f":"IF(DEC!C56=\"\",\"\",DEC!C56)","v":""},{"$f":"IF(DEC!D56=\"\",\"\",DEC!D56)","v":""},{"$f":"IF(DEC!F56=\"\",\"\",DEC!F56)","v":""},{"$f":"IF(DEC!S56=\"\",\"\",DEC!S56)","v":""},{"$f":"IF(E159=\"\",\"\",VLOOKUP(E159,DEC!$A$60:$L$84,11,FALSE))","v":""},{"$f":"IF(DEC!J56=\"\",\"\",DEC!J56)","v":""},{"$f":"IF(DEC!L56=\"\",\"\",DEC!L56)","v":""},{"$f":"IF(DEC!I56=\"\",\"\",DEC!I56)","v":""},{"$f":"IF(DEC!N56=\"\",\"\",DEC!N56)","v":""},{"$f":"IF(DEC!O56=\"\",\"\",DEC!O56)","v":""},{"$f":"IF(DEC!P56=\"\",\"\",DEC!P56)","v":""},"",""]
[153,{"$f":"IF(DEC!C57=\"\",\"\",DEC!C57)","v":""},{"$f":"IF(DEC!D57=\"\",\"\",DEC!D57)","v":""},{"$f":"IF(DEC!F57=\"\",\"\",DEC!F57)","v":""},{"$f":"IF(DEC!S57=\"\",\"\",DEC!S57)","v":""},{"$f":"IF(E160=\"\",\"\",VLOOKUP(E160,DEC!$A$60:$L$84,11,FALSE))","v":""},{"$f":"IF(DEC!J57=\"\",\"\",DEC!J57)","v":""},{"$f":"IF(DEC!L57=\"\",\"\",DEC!L57)","v":""},{"$f":"IF(DEC!I57=\"\",\"\",DEC!I57)","v":""},{"$f":"IF(DEC!N57=\"\",\"\",DEC!N57)","v":""},{"$f":"IF(DEC!O57=\"\",\"\",DEC!O57)","v":""},{"$f":"IF(DEC!P57=\"\",\"\",DEC!P57)","v":""},"",""]
[154,{"$f":"IF(JAN!C11=\"\",\"\",JAN!C11)","v":""},{"$f":"IF(JAN!D11=\"\",\"\",JAN!D11)","v":""},{"$f":"IF(JAN!F11=\"\",\"\",JAN!F11)","v":""},{"$f":"IF(JAN!S11=\"\",\"\",JAN!S11)","v":""},{"$f":"IF(E161=\"\",\"\",VLOOKUP(E161,JAN!$A$60:$L$84,11,FALSE))","v":""},{"$f":"IF(JAN!J11=\"\",\"\",JAN!J11)","v":""},{"$f":"IF(JAN!L11=\"\",\"\",JAN!L11)","v":""},{"$f":"IF(JAN!I11=\"\",\"\",JAN!I11)","v":""},{"$f":"IF(JAN!N11=\"\",\"\",JAN!N11)","v":""},{"$f":"IF(JAN!O11=\"\",\"\",JAN!O11)","v":""},{"$f":"IF(JAN!P11=\"\",\"\",JAN!P11)","v":""},"",""]
[155,{"$f":"IF(JAN!C12=\"\",\"\",JAN!C12)","v":""},{"$f":"IF(JAN!D12=\"\",\"\",JAN!D12)","v":""},{"$f":"IF(JAN!F12=\"\",\"\",JAN!F12)","v":""},{"$f":"IF(JAN!S12=\"\",\"\",JAN!S12)","v":""},{"$f":"IF(E162=\"\",\"\",VLOOKUP(E162,JAN!$A$60:$L$84,11,FALSE))","v":""},{"$f":"IF(JAN!J12=\"\",\"\",JAN!J12)","v":""},{"$f":"IF(JAN!L12=\"\",\"\",JAN!L12)","v":""},{"$f":"IF(JAN!I12=\"\",\"\",JAN!I12)","v":""},{"$f":"IF(JAN!N12=\"\",\"\",JAN!N12)","v":""},{"$f":"IF(JAN!O12=\"\",\"\",JAN!O12)","v":""},{"$f":"IF(JAN!P12=\"\",\"\",JAN!P12)","v":""},"",""]
[156,{"$f":"IF(JAN!C13=\"\",\"\",JAN!C13)","v":""},{"$f":"IF(JAN!D13=\"\",\"\",JAN!D13)","v":""},{"$f":"IF(JAN!F13=\"\",\"\",JAN!F13)","v":""},{"$f":"IF(JAN!S13=\"\",\"\",JAN!S13)","v":""},{"$f":"IF(E163=\"\",\"\",VLOOKUP(E163,JAN!$A$60:$L$84,11,FALSE))","v":""},{"$f":"IF(JAN!J13=\"\",\"\",JAN!J13)","v":""},{"$f":"IF(JAN!L13=\"\",\"\",JAN!L13)","v":""},{"$f":"IF(JAN!I13=\"\",\"\",JAN!I13)","v":""},{"$f":"IF(JAN!N13=\"\",\"\",JAN!N13)","v":""},{"$f":"IF(JAN!O13=\"\",\"\",JAN!O13)","v":""},{"$f":"IF(JAN!P13=\"\",\"\",JAN!P13)","v":""},"",""]
[157,{"$f":"IF(JAN!C14=\"\",\"\",JAN!C14)","v":""},{"$f":"IF(JAN!D14=\"\",\"\",JAN!D14)","v":""},{"$f":"IF(JAN!F14=\"\",\"\",JAN!F14)","v":""},{"$f":"IF(JAN!S14=\"\",\"\",JAN!S14)","v":""},{"$f":"IF(E164=\"\",\"\",VLOOKUP(E164,JAN!$A$60:$L$84,11,FALSE))","v":""},{"$f":"IF(JAN!J14=\"\",\"\",JAN!J14)","v":""},{"$f":"IF(JAN!L14=\"\",\"\",JAN!L14)","v":""},{"$f":"IF(JAN!I14=\"\",\"\",JAN!I14)","v":""},{"$f":"IF(JAN!N14=\"\",\"\",JAN!N14)","v":""},{"$f":"IF(JAN!O14=\"\",\"\",JAN!O14)","v":""},{"$f":"IF(JAN!P14=\"\",\"\",JAN!P14)","v":""},"",""]
[158,{"$f":"IF(JAN!C15=\"\",\"\",JAN!C15)","v":""},{"$f":"IF(JAN!D15=\"\",\"\",JAN!D15)","v":""},{"$f":"IF(JAN!F15=\"\",\"\",JAN!F15)","v":""},{"$f":"IF(JAN!S15=\"\",\"\",JAN!S15)","v":""},{"$f":"IF(E165=\"\",\"\",VLOOKUP(E165,JAN!$A$60:$L$84,11,FALSE))","v":""},{"$f":"IF(JAN!J15=\"\",\"\",JAN!J15)","v":""},{"$f":"IF(JAN!L15=\"\",\"\",JAN!L15)","v":""},{"$f":"IF(JAN!I15=\"\",\"\",JAN!I15)","v":""},{"$f":"IF(JAN!N15=\"\",\"\",JAN!N15)","v":""},{"$f":"IF(JAN!O15=\"\",\"\",JAN!O15)","v":""},{"$f":"IF(JAN!P15=\"\",\"\",JAN!P15)","v":""},"",""]
[159,{"$f":"IF(JAN!C16=\"\",\"\",JAN!C16)","v":""},{"$f":"IF(JAN!D16=\"\",\"\",JAN!D16)","v":""},{"$f":"IF(JAN!F16=\"\",\"\",JAN!F16)","v":""},{"$f":"IF(JAN!S16=\"\",\"\",JAN!S16)","v":""},{"$f":"IF(E166=\"\",\"\",VLOOKUP(E166,JAN!$A$60:$L$84,11,FALSE))","v":""},{"$f":"IF(JAN!J16=\"\",\"\",JAN!J16)","v":""},{"$f":"IF(JAN!L16=\"\",\"\",JAN!L16)","v":""},{"$f":"IF(JAN!I16=\"\",\"\",JAN!I16)","v":""},{"$f":"IF(JAN!N16=\"\",\"\",JAN!N16)","v":""},{"$f":"IF(JAN!O16=\"\",\"\",JAN!O16)","v":""},{"$f":"IF(JAN!P16=\"\",\"\",JAN!P16)","v":""},"",""]
[160,{"$f":"IF(JAN!C17=\"\",\"\",JAN!C17)","v":""},{"$f":"IF(JAN!D17=\"\",\"\",JAN!D17)","v":""},{"$f":"IF(JAN!F17=\"\",\"\",JAN!F17)","v":""},{"$f":"IF(JAN!S17=\"\",\"\",JAN!S17)","v":""},{"$f":"IF(E167=\"\",\"\",VLOOKUP(E167,JAN!$A$60:$L$84,11,FALSE))","v":""},{"$f":"IF(JAN!J17=\"\",\"\",JAN!J17)","v":""},{"$f":"IF(JAN!L17=\"\",\"\",JAN!L17)","v":""},{"$f":"IF(JAN!I17=\"\",\"\",JAN!I17)","v":""},{"$f":"IF(JAN!N17=\"\",\"\",JAN!N17)","v":""},{"$f":"IF(JAN!O17=\"\",\"\",JAN!O17)","v":""},{"$f":"IF(JAN!P17=\"\",\"\",JAN!P17)","v":""},"",""]
[161,{"$f":"IF(JAN!C18=\"\",\"\",JAN!C18)","v":""},{"$f":"IF(JAN!D18=\"\",\"\",JAN!D18)","v":""},{"$f":"IF(JAN!F18=\"\",\"\",JAN!F18)","v":""},{"$f":"IF(JAN!S18=\"\",\"\",JAN!S18)","v":""},{"$f":"IF(E168=\"\",\"\",VLOOKUP(E168,JAN!$A$60:$L$84,11,FALSE))","v":""},{"$f":"IF(JAN!J18=\"\",\"\",JAN!J18)","v":""},{"$f":"IF(JAN!L18=\"\",\"\",JAN!L18)","v":""},{"$f":"IF(JAN!I18=\"\",\"\",JAN!I18)","v":""},{"$f":"IF(JAN!N18=\"\",\"\",JAN!N18)","v":""},{"$f":"IF(JAN!O18=\"\",\"\",JAN!O18)","v":""},{"$f":"IF(JAN!P18=\"\",\"\",JAN!P18)","v":""},"",""]
[162,{"$f":"IF(JAN!C19=\"\",\"\",JAN!C19)","v":""},{"$f":"IF(JAN!D19=\"\",\"\",JAN!D19)","v":""},{"$f":"IF(JAN!F19=\"\",\"\",JAN!F19)","v":""},{"$f":"IF(JAN!S19=\"\",\"\",JAN!S19)","v":""},{"$f":"IF(E169=\"\",\"\",VLOOKUP(E169,JAN!$A$60:$L$84,11,FALSE))","v":""},{"$f":"IF(JAN!J19=\"\",\"\",JAN!J19)","v":""},{"$f":"IF(JAN!L19=\"\",\"\",JAN!L19)","v":""},{"$f":"IF(JAN!I19=\"\",\"\",JAN!I19)","v":""},{"$f":"IF(JAN!N19=\"\",\"\",JAN!N19)","v":""},{"$f":"IF(JAN!O19=\"\",\"\",JAN!O19)","v":""},{"$f":"IF(JAN!P19=\"\",\"\",JAN!P19)","v":""},"",""]
[163,{"$f":"IF(JAN!C20=\"\",\"\",JAN!C20)","v":""},{"$f":"IF(JAN!D20=\"\",\"\",JAN!D20)","v":""},{"$f":"IF(JAN!F20=\"\",\"\",JAN!F20)","v":""},{"$f":"IF(JAN!S20=\"\",\"\",JAN!S20)","v":""},{"$f":"IF(E170=\"\",\"\",VLOOKUP(E170,JAN!$A$60:$L$84,11,FALSE))","v":""},{"$f":"IF(JAN!J20=\"\",\"\",JAN!J20)","v":""},{"$f":"IF(JAN!L20=\"\",\"\",JAN!L20)","v":""},{"$f":"IF(JAN!I20=\"\",\"\",JAN!I20)","v":""},{"$f":"IF(JAN!N20=\"\",\"\",JAN!N20)","v":""},{"$f":"IF(JAN!O20=\"\",\"\",JAN!O20)","v":""},{"$f":"IF(JAN!P20=\"\",\"\",JAN!P20)","v":""},"",""]
[164,{"$f":"IF(JAN!C21=\"\",\"\",JAN!C21)","v":""},{"$f":"IF(JAN!D21=\"\",\"\",JAN!D21)","v":""},{"$f":"IF(JAN!F21=\"\",\"\",JAN!F21)","v":""},{"$f":"IF(JAN!S21=\"\",\"\",JAN!S21)","v":""},{"$f":"IF(E171=\"\",\"\",VLOOKUP(E171,JAN!$A$60:$L$84,11,FALSE))","v":""},{"$f":"IF(JAN!J21=\"\",\"\",JAN!J21)","v":""},{"$f":"IF(JAN!L21=\"\",\"\",JAN!L21)","v":""},{"$f":"IF(JAN!I21=\"\",\"\",JAN!I21)","v":""},{"$f":"IF(JAN!N21=\"\",\"\",JAN!N21)","v":""},{"$f":"IF(JAN!O21=\"\",\"\",JAN!O21)","v":""},{"$f":"IF(JAN!P21=\"\",\"\",JAN!P21)","v":""},"",""]
[165,{"$f":"IF(JAN!C22=\"\",\"\",JAN!C22)","v":""},{"$f":"IF(JAN!D22=\"\",\"\",JAN!D22)","v":""},{"$f":"IF(JAN!F22=\"\",\"\",JAN!F22)","v":""},{"$f":"IF(JAN!S22=\"\",\"\",JAN!S22)","v":""},{"$f":"IF(E172=\"\",\"\",VLOOKUP(E172,JAN!$A$60:$L$84,11,FALSE))","v":""},{"$f":"IF(JAN!J22=\"\",\"\",JAN!J22)","v":""},{"$f":"IF(JAN!L22=\"\",\"\",JAN!L22)","v":""},{"$f":"IF(JAN!I22=\"\",\"\",JAN!I22)","v":""},{"$f":"IF(JAN!N22=\"\",\"\",JAN!N22)","v":""},{"$f":"IF(JAN!O22=\"\",\"\",JAN!O22)","v":""},{"$f":"IF(JAN!P22=\"\",\"\",JAN!P22)","v":""},"",""]
[166,{"$f":"IF(JAN!C23=\"\",\"\",JAN!C23)","v":""},{"$f":"IF(JAN!D23=\"\",\"\",JAN!D23)","v":""},{"$f":"IF(JAN!F23=\"\",\"\",JAN!F23)","v":""},{"$f":"IF(JAN!S23=\"\",\"\",JAN!S23)","v":""},{"$f":"IF(E173=\"\",\"\",VLOOKUP(E173,JAN!$A$60:$L$84,11,FALSE))","v":""},{"$f":"IF(JAN!J23=\"\",\"\",JAN!J23)","v":""},{"$f":"IF(JAN!L23=\"\",\"\",JAN!L23)","v":""},{"$f":"IF(JAN!I23=\"\",\"\",JAN!I23)","v":""},{"$f":"IF(JAN!N23=\"\",\"\",JAN!N23)","v":""},{"$f":"IF(JAN!O23=\"\",\"\",JAN!O23)","v":""},{"$f":"IF(JAN!P23=\"\",\"\",JAN!P23)","v":""},"",""]
[167,{"$f":"IF(JAN!C24=\"\",\"\",JAN!C24)","v":""},{"$f":"IF(JAN!D24=\"\",\"\",JAN!D24)","v":""},{"$f":"IF(JAN!F24=\"\",\"\",JAN!F24)","v":""},{"$f":"IF(JAN!S24=\"\",\"\",JAN!S24)","v":""},{"$f":"IF(E174=\"\",\"\",VLOOKUP(E174,JAN!$A$60:$L$84,11,FALSE))","v":""},{"$f":"IF(JAN!J24=\"\",\"\",JAN!J24)","v":""},{"$f":"IF(JAN!L24=\"\",\"\",JAN!L24)","v":""},{"$f":"IF(JAN!I24=\"\",\"\",JAN!I24)","v":""},{"$f":"IF(JAN!N24=\"\",\"\",JAN!N24)","v":""},{"$f":"IF(JAN!O24=\"\",\"\",JAN!O24)","v":""},{"$f":"IF(JAN!P24=\"\",\"\",JAN!P24)","v":""},"",""]
[168,{"$f":"IF(JAN!C25=\"\",\"\",JAN!C25)","v":""},{"$f":"IF(JAN!D25=\"\",\"\",JAN!D25)","v":""},{"$f":"IF(JAN!F25=\"\",\"\",JAN!F25)","v":""},{"$f":"IF(JAN!S25=\"\",\"\",JAN!S25)","v":""},{"$f":"IF(E175=\"\",\"\",VLOOKUP(E175,JAN!$A$60:$L$84,11,FALSE))","v":""},{"$f":"IF(JAN!J25=\"\",\"\",JAN!J25)","v":""},{"$f":"IF(JAN!L25=\"\",\"\",JAN!L25)","v":""},{"$f":"IF(JAN!I25=\"\",\"\",JAN!I25)","v":""},{"$f":"IF(JAN!N25=\"\",\"\",JAN!N25)","v":""},{"$f":"IF(JAN!O25=\"\",\"\",JAN!O25)","v":""},{"$f":"IF(JAN!P25=\"\",\"\",JAN!P25)","v":""},"",""]
[169,{"$f":"IF(JAN!C26=\"\",\"\",JAN!C26)","v":""},{"$f":"IF(JAN!D26=\"\",\"\",JAN!D26)","v":""},{"$f":"IF(JAN!F26=\"\",\"\",JAN!F26)","v":""},{"$f":"IF(JAN!S26=\"\",\"\",JAN!S26)","v":""},{"$f":"IF(E176=\"\",\"\",VLOOKUP(E176,JAN!$A$60:$L$84,11,FALSE))","v":""},{"$f":"IF(JAN!J26=\"\",\"\",JAN!J26)","v":""},{"$f":"IF(JAN!L26=\"\",\"\",JAN!L26)","v":""},{"$f":"IF(JAN!I26=\"\",\"\",JAN!I26)","v":""},{"$f":"IF(JAN!N26=\"\",\"\",JAN!N26)","v":""},{"$f":"IF(JAN!O26=\"\",\"\",JAN!O26)","v":""},{"$f":"IF(JAN!P26=\"\",\"\",JAN!P26)","v":""},"",""]
[170,{"$f":"IF(JAN!C27=\"\",\"\",JAN!C27)","v":""},{"$f":"IF(JAN!D27=\"\",\"\",JAN!D27)","v":""},{"$f":"IF(JAN!F27=\"\",\"\",JAN!F27)","v":""},{"$f":"IF(JAN!S27=\"\",\"\",JAN!S27)","v":""},{"$f":"IF(E177=\"\",\"\",VLOOKUP(E177,JAN!$A$60:$L$84,11,FALSE))","v":""},{"$f":"IF(JAN!J27=\"\",\"\",JAN!J27)","v":""},{"$f":"IF(JAN!L27=\"\",\"\",JAN!L27)","v":""},{"$f":"IF(JAN!I27=\"\",\"\",JAN!I27)","v":""},{"$f":"IF(JAN!N27=\"\",\"\",JAN!N27)","v":""},{"$f":"IF(JAN!O27=\"\",\"\",JAN!O27)","v":""},{"$f":"IF(JAN!P27=\"\",\"\",JAN!P27)","v":""},"",""]
[171,{"$f":"IF(JAN!C28=\"\",\"\",JAN!C28)","v":""},{"$f":"IF(JAN!D28=\"\",\"\",JAN!D28)","v":""},{"$f":"IF(JAN!F28=\"\",\"\",JAN!F28)","v":""},{"$f":"IF(JAN!S28=\"\",\"\",JAN!S28)","v":""},{"$f":"IF(E178=\"\",\"\",VLOOKUP(E178,JAN!$A$60:$L$84,11,FALSE))","v":""},{"$f":"IF(JAN!J28=\"\",\"\",JAN!J28)","v":""},{"$f":"IF(JAN!L28=\"\",\"\",JAN!L28)","v":""},{"$f":"IF(JAN!I28=\"\",\"\",JAN!I28)","v":""},{"$f":"IF(JAN!N28=\"\",\"\",JAN!N28)","v":""},{"$f":"IF(JAN!O28=\"\",\"\",JAN!O28)","v":""},{"$f":"IF(JAN!P28=\"\",\"\",JAN!P28)","v":""},"",""]
[172,{"$f":"IF(JAN!C29=\"\",\"\",JAN!C29)","v":""},{"$f":"IF(JAN!D29=\"\",\"\",JAN!D29)","v":""},{"$f":"IF(JAN!F29=\"\",\"\",JAN!F29)","v":""},{"$f":"IF(JAN!S29=\"\",\"\",JAN!S29)","v":""},{"$f":"IF(E179=\"\",\"\",VLOOKUP(E179,JAN!$A$60:$L$84,11,FALSE))","v":""},{"$f":"IF(JAN!J29=\"\",\"\",JAN!J29)","v":""},{"$f":"IF(JAN!L29=\"\",\"\",JAN!L29)","v":""},{"$f":"IF(JAN!I29=\"\",\"\",JAN!I29)","v":""},{"$f":"IF(JAN!N29=\"\",\"\",JAN!N29)","v":""},{"$f":"IF(JAN!O29=\"\",\"\",JAN!O29)","v":""},{"$f":"IF(JAN!P29=\"\",\"\",JAN!P29)","v":""},"",""]
[173,{"$f":"IF(JAN!C30=\"\",\"\",JAN!C30)","v":""},{"$f":"IF(JAN!D30=\"\",\"\",JAN!D30)","v":""},{"$f":"IF(JAN!F30=\"\",\"\",JAN!F30)","v":""},{"$f":"IF(JAN!S30=\"\",\"\",JAN!S30)","v":""},{"$f":"IF(E180=\"\",\"\",VLOOKUP(E180,JAN!$A$60:$L$84,11,FALSE))","v":""},{"$f":"IF(JAN!J30=\"\",\"\",JAN!J30)","v":""},{"$f":"IF(JAN!L30=\"\",\"\",JAN!L30)","v":""},{"$f":"IF(JAN!I30=\"\",\"\",JAN!I30)","v":""},{"$f":"IF(JAN!N30=\"\",\"\",JAN!N30)","v":""},{"$f":"IF(JAN!O30=\"\",\"\",JAN!O30)","v":""},{"$f":"IF(JAN!P30=\"\",\"\",JAN!P30)","v":""},"",""]
[174,{"$f":"IF(JAN!C31=\"\",\"\",JAN!C31)","v":""},{"$f":"IF(JAN!D31=\"\",\"\",JAN!D31)","v":""},{"$f":"IF(JAN!F31=\"\",\"\",JAN!F31)","v":""},{"$f":"IF(JAN!S31=\"\",\"\",JAN!S31)","v":""},{"$f":"IF(E181=\"\",\"\",VLOOKUP(E181,JAN!$A$60:$L$84,11,FALSE))","v":""},{"$f":"IF(JAN!J31=\"\",\"\",JAN!J31)","v":""},{"$f":"IF(JAN!L31=\"\",\"\",JAN!L31)","v":""},{"$f":"IF(JAN!I31=\"\",\"\",JAN!I31)","v":""},{"$f":"IF(JAN!N31=\"\",\"\",JAN!N31)","v":""},{"$f":"IF(JAN!O31=\"\",\"\",JAN!O31)","v":""},{"$f":"IF(JAN!P31=\"\",\"\",JAN!P31)","v":""},"",""]
[175,{"$f":"IF(JAN!C32=\"\",\"\",JAN!C32)","v":""},{"$f":"IF(JAN!D32=\"\",\"\",JAN!D32)","v":""},{"$f":"IF(JAN!F32=\"\",\"\",JAN!F32)","v":""},{"$f":"IF(JAN!S32=\"\",\"\",JAN!S32)","v":""},{"$f":"IF(E182=\"\",\"\",VLOOKUP(E182,JAN!$A$60:$L$84,11,FALSE))","v":""},{"$f":"IF(JAN!J32=\"\",\"\",JAN!J32)","v":""},{"$f":"IF(JAN!L32=\"\",\"\",JAN!L32)","v":""},{"$f":"IF(JAN!I32=\"\",\"\",JAN!I32)","v":""},{"$f":"IF(JAN!N32=\"\",\"\",JAN!N32)","v":""},{"$f":"IF(JAN!O32=\"\",\"\",JAN!O32)","v":""},{"$f":"IF(JAN!P32=\"\",\"\",JAN!P32)","v":""},"",""]
[176,{"$f":"IF(JAN!C33=\"\",\"\",JAN!C33)","v":""},{"$f":"IF(JAN!D33=\"\",\"\",JAN!D33)","v":""},{"$f":"IF(JAN!F33=\"\",\"\",JAN!F33)","v":""},{"$f":"IF(JAN!S33=\"\",\"\",JAN!S33)","v":""},{"$f":"IF(E183=\"\",\"\",VLOOKUP(E183,JAN!$A$60:$L$84,11,FALSE))","v":""},{"$f":"IF(JAN!J33=\"\",\"\",JAN!J33)","v":""},{"$f":"IF(JAN!L33=\"\",\"\",JAN!L33)","v":""},{"$f":"IF(JAN!I33=\"\",\"\",JAN!I33)","v":""},{"$f":"IF(JAN!N33=\"\",\"\",JAN!N33)","v":""},{"$f":"IF(JAN!O33=\"\",\"\",JAN!O33)","v":""},{"$f":"IF(JAN!P33=\"\",\"\",JAN!P33)","v":""},"",""]
[177,{"$f":"IF(JAN!C34=\"\",\"\",JAN!C34)","v":""},{"$f":"IF(JAN!D34=\"\",\"\",JAN!D34)","v":""},{"$f":"IF(JAN!F34=\"\",\"\",JAN!F34)","v":""},{"$f":"IF(JAN!S34=\"\",\"\",JAN!S34)","v":""},{"$f":"IF(E184=\"\",\"\",VLOOKUP(E184,JAN!$A$60:$L$84,11,FALSE))","v":""},{"$f":"IF(JAN!J34=\"\",\"\",JAN!J34)","v":""},{"$f":"IF(JAN!L34=\"\",\"\",JAN!L34)","v":""},{"$f":"IF(JAN!I34=\"\",\"\",JAN!I34)","v":""},{"$f":"IF(JAN!N34=\"\",\"\",JAN!N34)","v":""},{"$f":"IF(JAN!O34=\"\",\"\",JAN!O34)","v":""},{"$f":"IF(JAN!P34=\"\",\"\",JAN!P34)","v":""},"",""]
[178,{"$f":"IF(JAN!C35=\"\",\"\",JAN!C35)","v":""},{"$f":"IF(JAN!D35=\"\",\"\",JAN!D35)","v":""},{"$f":"IF(JAN!F35=\"\",\"\",JAN!F35)","v":""},{"$f":"IF(JAN!S35=\"\",\"\",JAN!S35)","v":""},{"$f":"IF(E185=\"\",\"\",VLOOKUP(E185,JAN!$A$60:$L$84,11,FALSE))","v":""},{"$f":"IF(JAN!J35=\"\",\"\",JAN!J35)","v":""},{"$f":"IF(JAN!L35=\"\",\"\",JAN!L35)","v":""},{"$f":"IF(JAN!I35=\"\",\"\",JAN!I35)","v":""},{"$f":"IF(JAN!N35=\"\",\"\",JAN!N35)","v":""},{"$f":"IF(JAN!O35=\"\",\"\",JAN!O35)","v":""},{"$f":"IF(JAN!P35=\"\",\"\",JAN!P35)","v":""},"",""]
[179,{"$f":"IF(JAN!C36=\"\",\"\",JAN!C36)","v":""},{"$f":"IF(JAN!D36=\"\",\"\",JAN!D36)","v":""},{"$f":"IF(JAN!F36=\"\",\"\",JAN!F36)","v":""},{"$f":"IF(JAN!S36=\"\",\"\",JAN!S36)","v":""},{"$f":"IF(E186=\"\",\"\",VLOOKUP(E186,JAN!$A$60:$L$84,11,FALSE))","v":""},{"$f":"IF(JAN!J36=\"\",\"\",JAN!J36)","v":""},{"$f":"IF(JAN!L36=\"\",\"\",JAN!L36)","v":""},{"$f":"IF(JAN!I36=\"\",\"\",JAN!I36)","v":""},{"$f":"IF(JAN!N36=\"\",\"\",JAN!N36)","v":""},{"$f":"IF(JAN!O36=\"\",\"\",JAN!O36)","v":""},{"$f":"IF(JAN!P36=\"\",\"\",JAN!P36)","v":""},"",""]
[180,{"$f":"IF(JAN!C37=\"\",\"\",JAN!C37)","v":""},{"$f":"IF(JAN!D37=\"\",\"\",JAN!D37)","v":""},{"$f":"IF(JAN!F37=\"\",\"\",JAN!F37)","v":""},{"$f":"IF(JAN!S37=\"\",\"\",JAN!S37)","v":""},{"$f":"IF(E187=\"\",\"\",VLOOKUP(E187,JAN!$A$60:$L$84,11,FALSE))","v":""},{"$f":"IF(JAN!J37=\"\",\"\",JAN!J37)","v":""},{"$f":"IF(JAN!L37=\"\",\"\",JAN!L37)","v":""},{"$f":"IF(JAN!I37=\"\",\"\",JAN!I37)","v":""},{"$f":"IF(JAN!N37=\"\",\"\",JAN!N37)","v":""},{"$f":"IF(JAN!O37=\"\",\"\",JAN!O37)","v":""},{"$f":"IF(JAN!P37=\"\",\"\",JAN!P37)","v":""},"",""]
[181,{"$f":"IF(JAN!C38=\"\",\"\",JAN!C38)","v":""},{"$f":"IF(JAN!D38=\"\",\"\",JAN!D38)","v":""},{"$f":"IF(JAN!F38=\"\",\"\",JAN!F38)","v":""},{"$f":"IF(JAN!S38=\"\",\"\",JAN!S38)","v":""},{"$f":"IF(E188=\"\",\"\",VLOOKUP(E188,JAN!$A$60:$L$84,11,FALSE))","v":""},{"$f":"IF(JAN!J38=\"\",\"\",JAN!J38)","v":""},{"$f":"IF(JAN!L38=\"\",\"\",JAN!L38)","v":""},{"$f":"IF(JAN!I38=\"\",\"\",JAN!I38)","v":""},{"$f":"IF(JAN!N38=\"\",\"\",JAN!N38)","v":""},{"$f":"IF(JAN!O38=\"\",\"\",JAN!O38)","v":""},{"$f":"IF(JAN!P38=\"\",\"\",JAN!P38)","v":""},"",""]
[182,{"$f":"IF(JAN!C39=\"\",\"\",JAN!C39)","v":""},{"$f":"IF(JAN!D39=\"\",\"\",JAN!D39)","v":""},{"$f":"IF(JAN!F39=\"\",\"\",JAN!F39)","v":""},{"$f":"IF(JAN!S39=\"\",\"\",JAN!S39)","v":""},{"$f":"IF(E189=\"\",\"\",VLOOKUP(E189,JAN!$A$60:$L$84,11,FALSE))","v":""},{"$f":"IF(JAN!J39=\"\",\"\",JAN!J39)","v":""},{"$f":"IF(JAN!L39=\"\",\"\",JAN!L39)","v":""},{"$f":"IF(JAN!I39=\"\",\"\",JAN!I39)","v":""},{"$f":"IF(JAN!N39=\"\",\"\",JAN!N39)","v":""},{"$f":"IF(JAN!O39=\"\",\"\",JAN!O39)","v":""},{"$f":"IF(JAN!P39=\"\",\"\",JAN!P39)","v":""},"",""]
[183,{"$f":"IF(JAN!C40=\"\",\"\",JAN!C40)","v":""},{"$f":"IF(JAN!D40=\"\",\"\",JAN!D40)","v":""},{"$f":"IF(JAN!F40=\"\",\"\",JAN!F40)","v":""},{"$f":"IF(JAN!S40=\"\",\"\",JAN!S40)","v":""},{"$f":"IF(E190=\"\",\"\",VLOOKUP(E190,JAN!$A$60:$L$84,11,FALSE))","v":""},{"$f":"IF(JAN!J40=\"\",\"\",JAN!J40)","v":""},{"$f":"IF(JAN!L40=\"\",\"\",JAN!L40)","v":""},{"$f":"IF(JAN!I40=\"\",\"\",JAN!I40)","v":""},{"$f":"IF(JAN!N40=\"\",\"\",JAN!N40)","v":""},{"$f":"IF(JAN!O40=\"\",\"\",JAN!O40)","v":""},{"$f":"IF(JAN!P40=\"\",\"\",JAN!P40)","v":""},"",""]
[184,{"$f":"IF(JAN!C41=\"\",\"\",JAN!C41)","v":""},{"$f":"IF(JAN!D41=\"\",\"\",JAN!D41)","v":""},{"$f":"IF(JAN!F41=\"\",\"\",JAN!F41)","v":""},{"$f":"IF(JAN!S41=\"\",\"\",JAN!S41)","v":""},{"$f":"IF(E191=\"\",\"\",VLOOKUP(E191,JAN!$A$60:$L$84,11,FALSE))","v":""},{"$f":"IF(JAN!J41=\"\",\"\",JAN!J41)","v":""},{"$f":"IF(JAN!L41=\"\",\"\",JAN!L41)","v":""},{"$f":"IF(JAN!I41=\"\",\"\",JAN!I41)","v":""},{"$f":"IF(JAN!N41=\"\",\"\",JAN!N41)","v":""},{"$f":"IF(JAN!O41=\"\",\"\",JAN!O41)","v":""},{"$f":"IF(JAN!P41=\"\",\"\",JAN!P41)","v":""},"",""]
[185,{"$f":"IF(JAN!C42=\"\",\"\",JAN!C42)","v":""},{"$f":"IF(JAN!D42=\"\",\"\",JAN!D42)","v":""},{"$f":"IF(JAN!F42=\"\",\"\",JAN!F42)","v":""},{"$f":"IF(JAN!S42=\"\",\"\",JAN!S42)","v":""},{"$f":"IF(E192=\"\",\"\",VLOOKUP(E192,JAN!$A$60:$L$84,11,FALSE))","v":""},{"$f":"IF(JAN!J42=\"\",\"\",JAN!J42)","v":""},{"$f":"IF(JAN!L42=\"\",\"\",JAN!L42)","v":""},{"$f":"IF(JAN!I42=\"\",\"\",JAN!I42)","v":""},{"$f":"IF(JAN!N42=\"\",\"\",JAN!N42)","v":""},{"$f":"IF(JAN!O42=\"\",\"\",JAN!O42)","v":""},{"$f":"IF(JAN!P42=\"\",\"\",JAN!P42)","v":""},"",""]
[186,{"$f":"IF(JAN!C43=\"\",\"\",JAN!C43)","v":""},{"$f":"IF(JAN!D43=\"\",\"\",JAN!D43)","v":""},{"$f":"IF(JAN!F43=\"\",\"\",JAN!F43)","v":""},{"$f":"IF(JAN!S43=\"\",\"\",JAN!S43)","v":""},{"$f":"IF(E193=\"\",\"\",VLOOKUP(E193,JAN!$A$60:$L$84,11,FALSE))","v":""},{"$f":"IF(JAN!J43=\"\",\"\",JAN!J43)","v":""},{"$f":"IF(JAN!L43=\"\",\"\",JAN!L43)","v":""},{"$f":"IF(JAN!I43=\"\",\"\",JAN!I43)","v":""},{"$f":"IF(JAN!N43=\"\",\"\",JAN!N43)","v":""},{"$f":"IF(JAN!O43=\"\",\"\",JAN!O43)","v":""},{"$f":"IF(JAN!P43=\"\",\"\",JAN!P43)","v":""},"",""]
[187,{"$f":"IF(JAN!C44=\"\",\"\",JAN!C44)","v":""},{"$f":"IF(JAN!D44=\"\",\"\",JAN!D44)","v":""},{"$f":"IF(JAN!F44=\"\",\"\",JAN!F44)","v":""},{"$f":"IF(JAN!S44=\"\",\"\",JAN!S44)","v":""},{"$f":"IF(E194=\"\",\"\",VLOOKUP(E194,JAN!$A$60:$L$84,11,FALSE))","v":""},{"$f":"IF(JAN!J44=\"\",\"\",JAN!J44)","v":""},{"$f":"IF(JAN!L44=\"\",\"\",JAN!L44)","v":""},{"$f":"IF(JAN!I44=\"\",\"\",JAN!I44)","v":""},{"$f":"IF(JAN!N44=\"\",\"\",JAN!N44)","v":""},{"$f":"IF(JAN!O44=\"\",\"\",JAN!O44)","v":""},{"$f":"IF(JAN!P44=\"\",\"\",JAN!P44)","v":""},"",""]
[188,{"$f":"IF(JAN!C45=\"\",\"\",JAN!C45)","v":""},{"$f":"IF(JAN!D45=\"\",\"\",JAN!D45)","v":""},{"$f":"IF(JAN!F45=\"\",\"\",JAN!F45)","v":""},{"$f":"IF(JAN!S45=\"\",\"\",JAN!S45)","v":""},{"$f":"IF(E195=\"\",\"\",VLOOKUP(E195,JAN!$A$60:$L$84,11,FALSE))","v":""},{"$f":"IF(JAN!J45=\"\",\"\",JAN!J45)","v":""},{"$f":"IF(JAN!L45=\"\",\"\",JAN!L45)","v":""},{"$f":"IF(JAN!I45=\"\",\"\",JAN!I45)","v":""},{"$f":"IF(JAN!N45=\"\",\"\",JAN!N45)","v":""},{"$f":"IF(JAN!O45=\"\",\"\",JAN!O45)","v":""},{"$f":"IF(JAN!P45=\"\",\"\",JAN!P45)","v":""},"",""]
[189,{"$f":"IF(JAN!C46=\"\",\"\",JAN!C46)","v":""},{"$f":"IF(JAN!D46=\"\",\"\",JAN!D46)","v":""},{"$f":"IF(JAN!F46=\"\",\"\",JAN!F46)","v":""},{"$f":"IF(JAN!S46=\"\",\"\",JAN!S46)","v":""},{"$f":"IF(E196=\"\",\"\",VLOOKUP(E196,JAN!$A$60:$L$84,11,FALSE))","v":""},{"$f":"IF(JAN!J46=\"\",\"\",JAN!J46)","v":""},{"$f":"IF(JAN!L46=\"\",\"\",JAN!L46)","v":""},{"$f":"IF(JAN!I46=\"\",\"\",JAN!I46)","v":""},{"$f":"IF(JAN!N46=\"\",\"\",JAN!N46)","v":""},{"$f":"IF(JAN!O46=\"\",\"\",JAN!O46)","v":""},{"$f":"IF(JAN!P46=\"\",\"\",JAN!P46)","v":""},"",""]
[190,{"$f":"IF(JAN!C47=\"\",\"\",JAN!C47)","v":""},{"$f":"IF(JAN!D47=\"\",\"\",JAN!D47)","v":""},{"$f":"IF(JAN!F47=\"\",\"\",JAN!F47)","v":""},{"$f":"IF(JAN!S47=\"\",\"\",JAN!S47)","v":""},{"$f":"IF(E197=\"\",\"\",VLOOKUP(E197,JAN!$A$60:$L$84,11,FALSE))","v":""},{"$f":"IF(JAN!J47=\"\",\"\",JAN!J47)","v":""},{"$f":"IF(JAN!L47=\"\",\"\",JAN!L47)","v":""},{"$f":"IF(JAN!I47=\"\",\"\",JAN!I47)","v":""},{"$f":"IF(JAN!N47=\"\",\"\",JAN!N47)","v":""},{"$f":"IF(JAN!O47=\"\",\"\",JAN!O47)","v":""},{"$f":"IF(JAN!P47=\"\",\"\",JAN!P47)","v":""},"",""]
[191,{"$f":"IF(JAN!C48=\"\",\"\",JAN!C48)","v":""},{"$f":"IF(JAN!D48=\"\",\"\",JAN!D48)","v":""},{"$f":"IF(JAN!F48=\"\",\"\",JAN!F48)","v":""},{"$f":"IF(JAN!S48=\"\",\"\",JAN!S48)","v":""},{"$f":"IF(E198=\"\",\"\",VLOOKUP(E198,JAN!$A$60:$L$84,11,FALSE))","v":""},{"$f":"IF(JAN!J48=\"\",\"\",JAN!J48)","v":""},{"$f":"IF(JAN!L48=\"\",\"\",JAN!L48)","v":""},{"$f":"IF(JAN!I48=\"\",\"\",JAN!I48)","v":""},{"$f":"IF(JAN!N48=\"\",\"\",JAN!N48)","v":""},{"$f":"IF(JAN!O48=\"\",\"\",JAN!O48)","v":""},{"$f":"IF(JAN!P48=\"\",\"\",JAN!P48)","v":""},"",""]
[192,{"$f":"IF(JAN!C49=\"\",\"\",JAN!C49)","v":""},{"$f":"IF(JAN!D49=\"\",\"\",JAN!D49)","v":""},{"$f":"IF(JAN!F49=\"\",\"\",JAN!F49)","v":""},{"$f":"IF(JAN!S49=\"\",\"\",JAN!S49)","v":""},{"$f":"IF(E199=\"\",\"\",VLOOKUP(E199,JAN!$A$60:$L$84,11,FALSE))","v":""},{"$f":"IF(JAN!J49=\"\",\"\",JAN!J49)","v":""},{"$f":"IF(JAN!L49=\"\",\"\",JAN!L49)","v":""},{"$f":"IF(JAN!I49=\"\",\"\",JAN!I49)","v":""},{"$f":"IF(JAN!N49=\"\",\"\",JAN!N49)","v":""},{"$f":"IF(JAN!O49=\"\",\"\",JAN!O49)","v":""},{"$f":"IF(JAN!P49=\"\",\"\",JAN!P49)","v":""},"",""]
[193,{"$f":"IF(JAN!C50=\"\",\"\",JAN!C50)","v":""},{"$f":"IF(JAN!D50=\"\",\"\",JAN!D50)","v":""},{"$f":"IF(JAN!F50=\"\",\"\",JAN!F50)","v":""},{"$f":"IF(JAN!S50=\"\",\"\",JAN!S50)","v":""},{"$f":"IF(E200=\"\",\"\",VLOOKUP(E200,JAN!$A$60:$L$84,11,FALSE))","v":""},{"$f":"IF(JAN!J50=\"\",\"\",JAN!J50)","v":""},{"$f":"IF(JAN!L50=\"\",\"\",JAN!L50)","v":""},{"$f":"IF(JAN!I50=\"\",\"\",JAN!I50)","v":""},{"$f":"IF(JAN!N50=\"\",\"\",JAN!N50)","v":""},{"$f":"IF(JAN!O50=\"\",\"\",JAN!O50)","v":""},{"$f":"IF(JAN!P50=\"\",\"\",JAN!P50)","v":""},{"$f":"IF(J200=\"\",\"\",J200+L200)","v":""},""]
[194,{"$f":"IF(JAN!C51=\"\",\"\",JAN!C51)","v":""},{"$f":"IF(JAN!D51=\"\",\"\",JAN!D51)","v":""},{"$f":"IF(JAN!F51=\"\",\"\",JAN!F51)","v":""},{"$f":"IF(JAN!S51=\"\",\"\",JAN!S51)","v":""},{"$f":"IF(E201=\"\",\"\",VLOOKUP(E201,JAN!$A$60:$L$84,11,FALSE))","v":""},{"$f":"IF(JAN!J51=\"\",\"\",JAN!J51)","v":""},{"$f":"IF(JAN!L51=\"\",\"\",JAN!L51)","v":""},{"$f":"IF(JAN!I51=\"\",\"\",JAN!I51)","v":""},{"$f":"IF(JAN!N51=\"\",\"\",JAN!N51)","v":""},{"$f":"IF(JAN!O51=\"\",\"\",JAN!O51)","v":""},{"$f":"IF(JAN!P51=\"\",\"\",JAN!P51)","v":""},"",""]
[195,{"$f":"IF(JAN!C52=\"\",\"\",JAN!C52)","v":""},{"$f":"IF(JAN!D52=\"\",\"\",JAN!D52)","v":""},{"$f":"IF(JAN!F52=\"\",\"\",JAN!F52)","v":""},{"$f":"IF(JAN!S52=\"\",\"\",JAN!S52)","v":""},{"$f":"IF(E202=\"\",\"\",VLOOKUP(E202,JAN!$A$60:$L$84,11,FALSE))","v":""},{"$f":"IF(JAN!J52=\"\",\"\",JAN!J52)","v":""},{"$f":"IF(JAN!L52=\"\",\"\",JAN!L52)","v":""},{"$f":"IF(JAN!I52=\"\",\"\",JAN!I52)","v":""},{"$f":"IF(JAN!N52=\"\",\"\",JAN!N52)","v":""},{"$f":"IF(JAN!O52=\"\",\"\",JAN!O52)","v":""},{"$f":"IF(JAN!P52=\"\",\"\",JAN!P52)","v":""},"",""]
[196,{"$f":"IF(JAN!C53=\"\",\"\",JAN!C53)","v":""},{"$f":"IF(JAN!D53=\"\",\"\",JAN!D53)","v":""},{"$f":"IF(JAN!F53=\"\",\"\",JAN!F53)","v":""},{"$f":"IF(JAN!S53=\"\",\"\",JAN!S53)","v":""},{"$f":"IF(E203=\"\",\"\",VLOOKUP(E203,JAN!$A$60:$L$84,11,FALSE))","v":""},{"$f":"IF(JAN!J53=\"\",\"\",JAN!J53)","v":""},{"$f":"IF(JAN!L53=\"\",\"\",JAN!L53)","v":""},{"$f":"IF(JAN!I53=\"\",\"\",JAN!I53)","v":""},{"$f":"IF(JAN!N53=\"\",\"\",JAN!N53)","v":""},{"$f":"IF(JAN!O53=\"\",\"\",JAN!O53)","v":""},{"$f":"IF(JAN!P53=\"\",\"\",JAN!P53)","v":""},"",""]
[197,{"$f":"IF(JAN!C54=\"\",\"\",JAN!C54)","v":""},{"$f":"IF(JAN!D54=\"\",\"\",JAN!D54)","v":""},{"$f":"IF(JAN!F54=\"\",\"\",JAN!F54)","v":""},{"$f":"IF(JAN!S54=\"\",\"\",JAN!S54)","v":""},{"$f":"IF(E204=\"\",\"\",VLOOKUP(E204,JAN!$A$60:$L$84,11,FALSE))","v":""},{"$f":"IF(JAN!J54=\"\",\"\",JAN!J54)","v":""},{"$f":"IF(JAN!L54=\"\",\"\",JAN!L54)","v":""},{"$f":"IF(JAN!I54=\"\",\"\",JAN!I54)","v":""},{"$f":"IF(JAN!N54=\"\",\"\",JAN!N54)","v":""},{"$f":"IF(JAN!O54=\"\",\"\",JAN!O54)","v":""},{"$f":"IF(JAN!P54=\"\",\"\",JAN!P54)","v":""},"",""]
[198,{"$f":"IF(JAN!C55=\"\",\"\",JAN!C55)","v":""},{"$f":"IF(JAN!D55=\"\",\"\",JAN!D55)","v":""},{"$f":"IF(JAN!F55=\"\",\"\",JAN!F55)","v":""},{"$f":"IF(JAN!S55=\"\",\"\",JAN!S55)","v":""},{"$f":"IF(E205=\"\",\"\",VLOOKUP(E205,JAN!$A$60:$L$84,11,FALSE))","v":""},{"$f":"IF(JAN!J55=\"\",\"\",JAN!J55)","v":""},{"$f":"IF(JAN!L55=\"\",\"\",JAN!L55)","v":""},{"$f":"IF(JAN!I55=\"\",\"\",JAN!I55)","v":""},{"$f":"IF(JAN!N55=\"\",\"\",JAN!N55)","v":""},{"$f":"IF(JAN!O55=\"\",\"\",JAN!O55)","v":""},{"$f":"IF(JAN!P55=\"\",\"\",JAN!P55)","v":""},"",""]
[199,{"$f":"IF(JAN!C56=\"\",\"\",JAN!C56)","v":""},{"$f":"IF(JAN!D56=\"\",\"\",JAN!D56)","v":""},{"$f":"IF(JAN!F56=\"\",\"\",JAN!F56)","v":""},{"$f":"IF(JAN!S56=\"\",\"\",JAN!S56)","v":""},{"$f":"IF(E206=\"\",\"\",VLOOKUP(E206,JAN!$A$60:$L$84,11,FALSE))","v":""},{"$f":"IF(JAN!J56=\"\",\"\",JAN!J56)","v":""},{"$f":"IF(JAN!L56=\"\",\"\",JAN!L56)","v":""},{"$f":"IF(JAN!I56=\"\",\"\",JAN!I56)","v":""},{"$f":"IF(JAN!N56=\"\",\"\",JAN!N56)","v":""},{"$f":"IF(JAN!O56=\"\",\"\",JAN!O56)","v":""},{"$f":"IF(JAN!P56=\"\",\"\",JAN!P56)","v":""},"",""]
[200,{"$f":"IF(JAN!C57=\"\",\"\",JAN!C57)","v":""},{"$f":"IF(JAN!D57=\"\",\"\",JAN!D57)","v":""},{"$f":"IF(JAN!F57=\"\",\"\",JAN!F57)","v":""},{"$f":"IF(JAN!S57=\"\",\"\",JAN!S57)","v":""},{"$f":"IF(E207=\"\",\"\",VLOOKUP(E207,JAN!$A$60:$L$84,11,FALSE))","v":""},{"$f":"IF(JAN!J57=\"\",\"\",JAN!J57)","v":""},{"$f":"IF(JAN!L57=\"\",\"\",JAN!L57)","v":""},{"$f":"IF(JAN!I57=\"\",\"\",JAN!I57)","v":""},{"$f":"IF(JAN!N57=\"\",\"\",JAN!N57)","v":""},{"$f":"IF(JAN!O57=\"\",\"\",JAN!O57)","v":""},{"$f":"IF(JAN!P57=\"\",\"\",JAN!P57)","v":""},"",""]
[201,{"$f":"IF(FEB!C8=\"\",\"\",FEB!C8)","v":""},{"$f":"IF(FEB!D8=\"\",\"\",FEB!D8)","v":""},{"$f":"IF(FEB!F8=\"\",\"\",FEB!F8)","v":""},{"$f":"IF(FEB!S8=\"\",\"\",FEB!S8)","v":""},{"$f":"IF(E208=\"\",\"\",VLOOKUP(E208,FEB!$A$60:$L$84,9,FALSE))","v":""},{"$f":"IF(FEB!J8=\"\",\"\",FEB!J8)","v":""},{"$f":"IF(FEB!L8=\"\",\"\",FEB!L8)","v":""},{"$f":"IF(FEB!I8=\"\",\"\",FEB!I8)","v":""},{"$f":"IF(FEB!N8=\"\",\"\",FEB!N8)","v":""},{"$f":"IF(FEB!O8=\"\",\"\",FEB!O8)","v":""},{"$f":"IF(FEB!P8=\"\",\"\",FEB!P8)","v":""},"",{"$f":"IF(B208=\"\",\"\",N207+J208+L208)","v":""}]
[202,{"$f":"IF(FEB!C9=\"\",\"\",FEB!C9)","v":""},{"$f":"IF(FEB!D9=\"\",\"\",FEB!D9)","v":""},{"$f":"IF(FEB!F9=\"\",\"\",FEB!F9)","v":""},{"$f":"IF(FEB!S9=\"\",\"\",FEB!S9)","v":""},{"$f":"IF(E209=\"\",\"\",VLOOKUP(E209,FEB!$A$60:$L$84,9,FALSE))","v":""},{"$f":"IF(FEB!J9=\"\",\"\",FEB!J9)","v":""},{"$f":"IF(FEB!L9=\"\",\"\",FEB!L9)","v":""},{"$f":"IF(FEB!I9=\"\",\"\",FEB!I9)","v":""},{"$f":"IF(FEB!N9=\"\",\"\",FEB!N9)","v":""},{"$f":"IF(FEB!O9=\"\",\"\",FEB!O9)","v":""},{"$f":"IF(FEB!P9=\"\",\"\",FEB!P9)","v":""},"",""]
[203,{"$f":"IF(FEB!C10=\"\",\"\",FEB!C10)","v":""},{"$f":"IF(FEB!D10=\"\",\"\",FEB!D10)","v":""},{"$f":"IF(FEB!F10=\"\",\"\",FEB!F10)","v":""},{"$f":"IF(FEB!S10=\"\",\"\",FEB!S10)","v":""},{"$f":"IF(E210=\"\",\"\",VLOOKUP(E210,FEB!$A$60:$L$84,9,FALSE))","v":""},{"$f":"IF(FEB!J10=\"\",\"\",FEB!J10)","v":""},{"$f":"IF(FEB!L10=\"\",\"\",FEB!L10)","v":""},{"$f":"IF(FEB!I10=\"\",\"\",FEB!I10)","v":""},{"$f":"IF(FEB!N10=\"\",\"\",FEB!N10)","v":""},{"$f":"IF(FEB!O10=\"\",\"\",FEB!O10)","v":""},{"$f":"IF(FEB!P10=\"\",\"\",FEB!P10)","v":""},"",""]
[204,{"$f":"IF(FEB!C11=\"\",\"\",FEB!C11)","v":""},{"$f":"IF(FEB!D11=\"\",\"\",FEB!D11)","v":""},{"$f":"IF(FEB!F11=\"\",\"\",FEB!F11)","v":""},{"$f":"IF(FEB!S11=\"\",\"\",FEB!S11)","v":""},{"$f":"IF(E211=\"\",\"\",VLOOKUP(E211,FEB!$A$60:$L$84,9,FALSE))","v":""},{"$f":"IF(FEB!J11=\"\",\"\",FEB!J11)","v":""},{"$f":"IF(FEB!L11=\"\",\"\",FEB!L11)","v":""},{"$f":"IF(FEB!I11=\"\",\"\",FEB!I11)","v":""},{"$f":"IF(FEB!N11=\"\",\"\",FEB!N11)","v":""},{"$f":"IF(FEB!O11=\"\",\"\",FEB!O11)","v":""},{"$f":"IF(FEB!P11=\"\",\"\",FEB!P11)","v":""},"",""]
[205,{"$f":"IF(FEB!C12=\"\",\"\",FEB!C12)","v":""},{"$f":"IF(FEB!D12=\"\",\"\",FEB!D12)","v":""},{"$f":"IF(FEB!F12=\"\",\"\",FEB!F12)","v":""},{"$f":"IF(FEB!S12=\"\",\"\",FEB!S12)","v":""},{"$f":"IF(E212=\"\",\"\",VLOOKUP(E212,FEB!$A$60:$L$84,9,FALSE))","v":""},{"$f":"IF(FEB!J12=\"\",\"\",FEB!J12)","v":""},{"$f":"IF(FEB!L12=\"\",\"\",FEB!L12)","v":""},{"$f":"IF(FEB!I12=\"\",\"\",FEB!I12)","v":""},{"$f":"IF(FEB!N12=\"\",\"\",FEB!N12)","v":""},{"$f":"IF(FEB!O12=\"\",\"\",FEB!O12)","v":""},{"$f":"IF(FEB!P12=\"\",\"\",FEB!P12)","v":""},"",""]
[206,{"$f":"IF(FEB!C13=\"\",\"\",FEB!C13)","v":""},{"$f":"IF(FEB!D13=\"\",\"\",FEB!D13)","v":""},{"$f":"IF(FEB!F13=\"\",\"\",FEB!F13)","v":""},{"$f":"IF(FEB!S13=\"\",\"\",FEB!S13)","v":""},{"$f":"IF(E213=\"\",\"\",VLOOKUP(E213,FEB!$A$60:$L$84,9,FALSE))","v":""},{"$f":"IF(FEB!J13=\"\",\"\",FEB!J13)","v":""},{"$f":"IF(FEB!L13=\"\",\"\",FEB!L13)","v":""},{"$f":"IF(FEB!I13=\"\",\"\",FEB!I13)","v":""},{"$f":"IF(FEB!N13=\"\",\"\",FEB!N13)","v":""},{"$f":"IF(FEB!O13=\"\",\"\",FEB!O13)","v":""},{"$f":"IF(FEB!P13=\"\",\"\",FEB!P13)","v":""},"",""]
[207,{"$f":"IF(FEB!C14=\"\",\"\",FEB!C14)","v":""},{"$f":"IF(FEB!D14=\"\",\"\",FEB!D14)","v":""},{"$f":"IF(FEB!F14=\"\",\"\",FEB!F14)","v":""},{"$f":"IF(FEB!S14=\"\",\"\",FEB!S14)","v":""},{"$f":"IF(E214=\"\",\"\",VLOOKUP(E214,FEB!$A$60:$L$84,9,FALSE))","v":""},{"$f":"IF(FEB!J14=\"\",\"\",FEB!J14)","v":""},{"$f":"IF(FEB!L14=\"\",\"\",FEB!L14)","v":""},{"$f":"IF(FEB!I14=\"\",\"\",FEB!I14)","v":""},{"$f":"IF(FEB!N14=\"\",\"\",FEB!N14)","v":""},{"$f":"IF(FEB!O14=\"\",\"\",FEB!O14)","v":""},{"$f":"IF(FEB!P14=\"\",\"\",FEB!P14)","v":""},"",""]
[208,{"$f":"IF(FEB!C15=\"\",\"\",FEB!C15)","v":""},{"$f":"IF(FEB!D15=\"\",\"\",FEB!D15)","v":""},{"$f":"IF(FEB!F15=\"\",\"\",FEB!F15)","v":""},{"$f":"IF(FEB!S15=\"\",\"\",FEB!S15)","v":""},{"$f":"IF(E215=\"\",\"\",VLOOKUP(E215,FEB!$A$60:$L$84,9,FALSE))","v":""},{"$f":"IF(FEB!J15=\"\",\"\",FEB!J15)","v":""},{"$f":"IF(FEB!L15=\"\",\"\",FEB!L15)","v":""},{"$f":"IF(FEB!I15=\"\",\"\",FEB!I15)","v":""},{"$f":"IF(FEB!N15=\"\",\"\",FEB!N15)","v":""},{"$f":"IF(FEB!O15=\"\",\"\",FEB!O15)","v":""},{"$f":"IF(FEB!P15=\"\",\"\",FEB!P15)","v":""},"",""]
[209,{"$f":"IF(FEB!C16=\"\",\"\",FEB!C16)","v":""},{"$f":"IF(FEB!D16=\"\",\"\",FEB!D16)","v":""},{"$f":"IF(FEB!F16=\"\",\"\",FEB!F16)","v":""},{"$f":"IF(FEB!S16=\"\",\"\",FEB!S16)","v":""},{"$f":"IF(E216=\"\",\"\",VLOOKUP(E216,FEB!$A$60:$L$84,9,FALSE))","v":""},{"$f":"IF(FEB!J16=\"\",\"\",FEB!J16)","v":""},{"$f":"IF(FEB!L16=\"\",\"\",FEB!L16)","v":""},{"$f":"IF(FEB!I16=\"\",\"\",FEB!I16)","v":""},{"$f":"IF(FEB!N16=\"\",\"\",FEB!N16)","v":""},{"$f":"IF(FEB!O16=\"\",\"\",FEB!O16)","v":""},{"$f":"IF(FEB!P16=\"\",\"\",FEB!P16)","v":""},"",""]
[210,{"$f":"IF(FEB!C17=\"\",\"\",FEB!C17)","v":""},{"$f":"IF(FEB!D17=\"\",\"\",FEB!D17)","v":""},{"$f":"IF(FEB!F17=\"\",\"\",FEB!F17)","v":""},{"$f":"IF(FEB!S17=\"\",\"\",FEB!S17)","v":""},{"$f":"IF(E217=\"\",\"\",VLOOKUP(E217,FEB!$A$60:$L$84,9,FALSE))","v":""},{"$f":"IF(FEB!J17=\"\",\"\",FEB!J17)","v":""},{"$f":"IF(FEB!L17=\"\",\"\",FEB!L17)","v":""},{"$f":"IF(FEB!I17=\"\",\"\",FEB!I17)","v":""},{"$f":"IF(FEB!N17=\"\",\"\",FEB!N17)","v":""},{"$f":"IF(FEB!O17=\"\",\"\",FEB!O17)","v":""},{"$f":"IF(FEB!P17=\"\",\"\",FEB!P17)","v":""},"",""]
[211,{"$f":"IF(FEB!C18=\"\",\"\",FEB!C18)","v":""},{"$f":"IF(FEB!D18=\"\",\"\",FEB!D18)","v":""},{"$f":"IF(FEB!F18=\"\",\"\",FEB!F18)","v":""},{"$f":"IF(FEB!S18=\"\",\"\",FEB!S18)","v":""},{"$f":"IF(E218=\"\",\"\",VLOOKUP(E218,FEB!$A$60:$L$84,9,FALSE))","v":""},{"$f":"IF(FEB!J18=\"\",\"\",FEB!J18)","v":""},{"$f":"IF(FEB!L18=\"\",\"\",FEB!L18)","v":""},{"$f":"IF(FEB!I18=\"\",\"\",FEB!I18)","v":""},{"$f":"IF(FEB!N18=\"\",\"\",FEB!N18)","v":""},{"$f":"IF(FEB!O18=\"\",\"\",FEB!O18)","v":""},{"$f":"IF(FEB!P18=\"\",\"\",FEB!P18)","v":""},"",""]
[212,{"$f":"IF(FEB!C19=\"\",\"\",FEB!C19)","v":""},{"$f":"IF(FEB!D19=\"\",\"\",FEB!D19)","v":""},{"$f":"IF(FEB!F19=\"\",\"\",FEB!F19)","v":""},{"$f":"IF(FEB!S19=\"\",\"\",FEB!S19)","v":""},{"$f":"IF(E219=\"\",\"\",VLOOKUP(E219,FEB!$A$60:$L$84,9,FALSE))","v":""},{"$f":"IF(FEB!J19=\"\",\"\",FEB!J19)","v":""},{"$f":"IF(FEB!L19=\"\",\"\",FEB!L19)","v":""},{"$f":"IF(FEB!I19=\"\",\"\",FEB!I19)","v":""},{"$f":"IF(FEB!N19=\"\",\"\",FEB!N19)","v":""},{"$f":"IF(FEB!O19=\"\",\"\",FEB!O19)","v":""},{"$f":"IF(FEB!P19=\"\",\"\",FEB!P19)","v":""},"",""]
[213,{"$f":"IF(FEB!C20=\"\",\"\",FEB!C20)","v":""},{"$f":"IF(FEB!D20=\"\",\"\",FEB!D20)","v":""},{"$f":"IF(FEB!F20=\"\",\"\",FEB!F20)","v":""},{"$f":"IF(FEB!S20=\"\",\"\",FEB!S20)","v":""},{"$f":"IF(E220=\"\",\"\",VLOOKUP(E220,FEB!$A$60:$L$84,9,FALSE))","v":""},{"$f":"IF(FEB!J20=\"\",\"\",FEB!J20)","v":""},{"$f":"IF(FEB!L20=\"\",\"\",FEB!L20)","v":""},{"$f":"IF(FEB!I20=\"\",\"\",FEB!I20)","v":""},{"$f":"IF(FEB!N20=\"\",\"\",FEB!N20)","v":""},{"$f":"IF(FEB!O20=\"\",\"\",FEB!O20)","v":""},{"$f":"IF(FEB!P20=\"\",\"\",FEB!P20)","v":""},"",""]
[214,{"$f":"IF(FEB!C21=\"\",\"\",FEB!C21)","v":""},{"$f":"IF(FEB!D21=\"\",\"\",FEB!D21)","v":""},{"$f":"IF(FEB!F21=\"\",\"\",FEB!F21)","v":""},{"$f":"IF(FEB!S21=\"\",\"\",FEB!S21)","v":""},{"$f":"IF(E221=\"\",\"\",VLOOKUP(E221,FEB!$A$60:$L$84,9,FALSE))","v":""},{"$f":"IF(FEB!J21=\"\",\"\",FEB!J21)","v":""},{"$f":"IF(FEB!L21=\"\",\"\",FEB!L21)","v":""},{"$f":"IF(FEB!I21=\"\",\"\",FEB!I21)","v":""},{"$f":"IF(FEB!N21=\"\",\"\",FEB!N21)","v":""},{"$f":"IF(FEB!O21=\"\",\"\",FEB!O21)","v":""},{"$f":"IF(FEB!P21=\"\",\"\",FEB!P21)","v":""},"",""]
[215,{"$f":"IF(FEB!C22=\"\",\"\",FEB!C22)","v":""},{"$f":"IF(FEB!D22=\"\",\"\",FEB!D22)","v":""},{"$f":"IF(FEB!F22=\"\",\"\",FEB!F22)","v":""},{"$f":"IF(FEB!S22=\"\",\"\",FEB!S22)","v":""},{"$f":"IF(E222=\"\",\"\",VLOOKUP(E222,FEB!$A$60:$L$84,9,FALSE))","v":""},{"$f":"IF(FEB!J22=\"\",\"\",FEB!J22)","v":""},{"$f":"IF(FEB!L22=\"\",\"\",FEB!L22)","v":""},{"$f":"IF(FEB!I22=\"\",\"\",FEB!I22)","v":""},{"$f":"IF(FEB!N22=\"\",\"\",FEB!N22)","v":""},{"$f":"IF(FEB!O22=\"\",\"\",FEB!O22)","v":""},{"$f":"IF(FEB!P22=\"\",\"\",FEB!P22)","v":""},"",""]
[216,{"$f":"IF(FEB!C23=\"\",\"\",FEB!C23)","v":""},{"$f":"IF(FEB!D23=\"\",\"\",FEB!D23)","v":""},{"$f":"IF(FEB!F23=\"\",\"\",FEB!F23)","v":""},{"$f":"IF(FEB!S23=\"\",\"\",FEB!S23)","v":""},{"$f":"IF(E223=\"\",\"\",VLOOKUP(E223,FEB!$A$60:$L$84,9,FALSE))","v":""},{"$f":"IF(FEB!J23=\"\",\"\",FEB!J23)","v":""},{"$f":"IF(FEB!L23=\"\",\"\",FEB!L23)","v":""},{"$f":"IF(FEB!I23=\"\",\"\",FEB!I23)","v":""},{"$f":"IF(FEB!N23=\"\",\"\",FEB!N23)","v":""},{"$f":"IF(FEB!O23=\"\",\"\",FEB!O23)","v":""},{"$f":"IF(FEB!P23=\"\",\"\",FEB!P23)","v":""},"",""]
[217,{"$f":"IF(FEB!C24=\"\",\"\",FEB!C24)","v":""},{"$f":"IF(FEB!D24=\"\",\"\",FEB!D24)","v":""},{"$f":"IF(FEB!F24=\"\",\"\",FEB!F24)","v":""},{"$f":"IF(FEB!S24=\"\",\"\",FEB!S24)","v":""},{"$f":"IF(E224=\"\",\"\",VLOOKUP(E224,FEB!$A$60:$L$84,9,FALSE))","v":""},{"$f":"IF(FEB!J24=\"\",\"\",FEB!J24)","v":""},{"$f":"IF(FEB!L24=\"\",\"\",FEB!L24)","v":""},{"$f":"IF(FEB!I24=\"\",\"\",FEB!I24)","v":""},{"$f":"IF(FEB!N24=\"\",\"\",FEB!N24)","v":""},{"$f":"IF(FEB!O24=\"\",\"\",FEB!O24)","v":""},{"$f":"IF(FEB!P24=\"\",\"\",FEB!P24)","v":""},"",""]
[218,{"$f":"IF(FEB!C25=\"\",\"\",FEB!C25)","v":""},{"$f":"IF(FEB!D25=\"\",\"\",FEB!D25)","v":""},{"$f":"IF(FEB!F25=\"\",\"\",FEB!F25)","v":""},{"$f":"IF(FEB!S25=\"\",\"\",FEB!S25)","v":""},{"$f":"IF(E225=\"\",\"\",VLOOKUP(E225,FEB!$A$60:$L$84,9,FALSE))","v":""},{"$f":"IF(FEB!J25=\"\",\"\",FEB!J25)","v":""},{"$f":"IF(FEB!L25=\"\",\"\",FEB!L25)","v":""},{"$f":"IF(FEB!I25=\"\",\"\",FEB!I25)","v":""},{"$f":"IF(FEB!N25=\"\",\"\",FEB!N25)","v":""},{"$f":"IF(FEB!O25=\"\",\"\",FEB!O25)","v":""},{"$f":"IF(FEB!P25=\"\",\"\",FEB!P25)","v":""},"",""]
[219,{"$f":"IF(FEB!C26=\"\",\"\",FEB!C26)","v":""},{"$f":"IF(FEB!D26=\"\",\"\",FEB!D26)","v":""},{"$f":"IF(FEB!F26=\"\",\"\",FEB!F26)","v":""},{"$f":"IF(FEB!S26=\"\",\"\",FEB!S26)","v":""},{"$f":"IF(E226=\"\",\"\",VLOOKUP(E226,FEB!$A$60:$L$84,9,FALSE))","v":""},{"$f":"IF(FEB!J26=\"\",\"\",FEB!J26)","v":""},{"$f":"IF(FEB!L26=\"\",\"\",FEB!L26)","v":""},{"$f":"IF(FEB!I26=\"\",\"\",FEB!I26)","v":""},{"$f":"IF(FEB!N26=\"\",\"\",FEB!N26)","v":""},{"$f":"IF(FEB!O26=\"\",\"\",FEB!O26)","v":""},{"$f":"IF(FEB!P26=\"\",\"\",FEB!P26)","v":""},"",""]
[220,{"$f":"IF(FEB!C27=\"\",\"\",FEB!C27)","v":""},{"$f":"IF(FEB!D27=\"\",\"\",FEB!D27)","v":""},{"$f":"IF(FEB!F27=\"\",\"\",FEB!F27)","v":""},{"$f":"IF(FEB!S27=\"\",\"\",FEB!S27)","v":""},{"$f":"IF(E227=\"\",\"\",VLOOKUP(E227,FEB!$A$60:$L$84,9,FALSE))","v":""},{"$f":"IF(FEB!J27=\"\",\"\",FEB!J27)","v":""},{"$f":"IF(FEB!L27=\"\",\"\",FEB!L27)","v":""},{"$f":"IF(FEB!I27=\"\",\"\",FEB!I27)","v":""},{"$f":"IF(FEB!N27=\"\",\"\",FEB!N27)","v":""},{"$f":"IF(FEB!O27=\"\",\"\",FEB!O27)","v":""},{"$f":"IF(FEB!P27=\"\",\"\",FEB!P27)","v":""},"",""]
[221,{"$f":"IF(FEB!C28=\"\",\"\",FEB!C28)","v":""},{"$f":"IF(FEB!D28=\"\",\"\",FEB!D28)","v":""},{"$f":"IF(FEB!F28=\"\",\"\",FEB!F28)","v":""},{"$f":"IF(FEB!S28=\"\",\"\",FEB!S28)","v":""},{"$f":"IF(E228=\"\",\"\",VLOOKUP(E228,FEB!$A$60:$L$84,9,FALSE))","v":""},{"$f":"IF(FEB!J28=\"\",\"\",FEB!J28)","v":""},{"$f":"IF(FEB!L28=\"\",\"\",FEB!L28)","v":""},{"$f":"IF(FEB!I28=\"\",\"\",FEB!I28)","v":""},{"$f":"IF(FEB!N28=\"\",\"\",FEB!N28)","v":""},{"$f":"IF(FEB!O28=\"\",\"\",FEB!O28)","v":""},{"$f":"IF(FEB!P28=\"\",\"\",FEB!P28)","v":""},"",""]
[222,{"$f":"IF(FEB!C29=\"\",\"\",FEB!C29)","v":""},{"$f":"IF(FEB!D29=\"\",\"\",FEB!D29)","v":""},{"$f":"IF(FEB!F29=\"\",\"\",FEB!F29)","v":""},{"$f":"IF(FEB!S29=\"\",\"\",FEB!S29)","v":""},{"$f":"IF(E229=\"\",\"\",VLOOKUP(E229,FEB!$A$60:$L$84,9,FALSE))","v":""},{"$f":"IF(FEB!J29=\"\",\"\",FEB!J29)","v":""},{"$f":"IF(FEB!L29=\"\",\"\",FEB!L29)","v":""},{"$f":"IF(FEB!I29=\"\",\"\",FEB!I29)","v":""},{"$f":"IF(FEB!N29=\"\",\"\",FEB!N29)","v":""},{"$f":"IF(FEB!O29=\"\",\"\",FEB!O29)","v":""},{"$f":"IF(FEB!P29=\"\",\"\",FEB!P29)","v":""},"",""]
[223,{"$f":"IF(FEB!C30=\"\",\"\",FEB!C30)","v":""},{"$f":"IF(FEB!D30=\"\",\"\",FEB!D30)","v":""},{"$f":"IF(FEB!F30=\"\",\"\",FEB!F30)","v":""},{"$f":"IF(FEB!S30=\"\",\"\",FEB!S30)","v":""},{"$f":"IF(E230=\"\",\"\",VLOOKUP(E230,FEB!$A$60:$L$84,9,FALSE))","v":""},{"$f":"IF(FEB!J30=\"\",\"\",FEB!J30)","v":""},{"$f":"IF(FEB!L30=\"\",\"\",FEB!L30)","v":""},{"$f":"IF(FEB!I30=\"\",\"\",FEB!I30)","v":""},{"$f":"IF(FEB!N30=\"\",\"\",FEB!N30)","v":""},{"$f":"IF(FEB!O30=\"\",\"\",FEB!O30)","v":""},{"$f":"IF(FEB!P30=\"\",\"\",FEB!P30)","v":""},"",""]
[224,{"$f":"IF(FEB!C31=\"\",\"\",FEB!C31)","v":""},{"$f":"IF(FEB!D31=\"\",\"\",FEB!D31)","v":""},{"$f":"IF(FEB!F31=\"\",\"\",FEB!F31)","v":""},{"$f":"IF(FEB!S31=\"\",\"\",FEB!S31)","v":""},{"$f":"IF(E231=\"\",\"\",VLOOKUP(E231,FEB!$A$60:$L$84,9,FALSE))","v":""},{"$f":"IF(FEB!J31=\"\",\"\",FEB!J31)","v":""},{"$f":"IF(FEB!L31=\"\",\"\",FEB!L31)","v":""},{"$f":"IF(FEB!I31=\"\",\"\",FEB!I31)","v":""},{"$f":"IF(FEB!N31=\"\",\"\",FEB!N31)","v":""},{"$f":"IF(FEB!O31=\"\",\"\",FEB!O31)","v":""},{"$f":"IF(FEB!P31=\"\",\"\",FEB!P31)","v":""},"",""]
[225,{"$f":"IF(FEB!C32=\"\",\"\",FEB!C32)","v":""},{"$f":"IF(FEB!D32=\"\",\"\",FEB!D32)","v":""},{"$f":"IF(FEB!F32=\"\",\"\",FEB!F32)","v":""},{"$f":"IF(FEB!S32=\"\",\"\",FEB!S32)","v":""},{"$f":"IF(E232=\"\",\"\",VLOOKUP(E232,FEB!$A$60:$L$84,9,FALSE))","v":""},{"$f":"IF(FEB!J32=\"\",\"\",FEB!J32)","v":""},{"$f":"IF(FEB!L32=\"\",\"\",FEB!L32)","v":""},{"$f":"IF(FEB!I32=\"\",\"\",FEB!I32)","v":""},{"$f":"IF(FEB!N32=\"\",\"\",FEB!N32)","v":""},{"$f":"IF(FEB!O32=\"\",\"\",FEB!O32)","v":""},{"$f":"IF(FEB!P32=\"\",\"\",FEB!P32)","v":""},"",""]
[226,{"$f":"IF(FEB!C33=\"\",\"\",FEB!C33)","v":""},{"$f":"IF(FEB!D33=\"\",\"\",FEB!D33)","v":""},{"$f":"IF(FEB!F33=\"\",\"\",FEB!F33)","v":""},{"$f":"IF(FEB!S33=\"\",\"\",FEB!S33)","v":""},{"$f":"IF(E233=\"\",\"\",VLOOKUP(E233,FEB!$A$60:$L$84,9,FALSE))","v":""},{"$f":"IF(FEB!J33=\"\",\"\",FEB!J33)","v":""},{"$f":"IF(FEB!L33=\"\",\"\",FEB!L33)","v":""},{"$f":"IF(FEB!I33=\"\",\"\",FEB!I33)","v":""},{"$f":"IF(FEB!N33=\"\",\"\",FEB!N33)","v":""},{"$f":"IF(FEB!O33=\"\",\"\",FEB!O33)","v":""},{"$f":"IF(FEB!P33=\"\",\"\",FEB!P33)","v":""},"",""]
[227,{"$f":"IF(FEB!C34=\"\",\"\",FEB!C34)","v":""},{"$f":"IF(FEB!D34=\"\",\"\",FEB!D34)","v":""},{"$f":"IF(FEB!F34=\"\",\"\",FEB!F34)","v":""},{"$f":"IF(FEB!S34=\"\",\"\",FEB!S34)","v":""},{"$f":"IF(E234=\"\",\"\",VLOOKUP(E234,FEB!$A$60:$L$84,9,FALSE))","v":""},{"$f":"IF(FEB!J34=\"\",\"\",FEB!J34)","v":""},{"$f":"IF(FEB!L34=\"\",\"\",FEB!L34)","v":""},{"$f":"IF(FEB!I34=\"\",\"\",FEB!I34)","v":""},{"$f":"IF(FEB!N34=\"\",\"\",FEB!N34)","v":""},{"$f":"IF(FEB!O34=\"\",\"\",FEB!O34)","v":""},{"$f":"IF(FEB!P34=\"\",\"\",FEB!P34)","v":""},"",""]
[228,{"$f":"IF(FEB!C35=\"\",\"\",FEB!C35)","v":""},{"$f":"IF(FEB!D35=\"\",\"\",FEB!D35)","v":""},{"$f":"IF(FEB!F35=\"\",\"\",FEB!F35)","v":""},{"$f":"IF(FEB!S35=\"\",\"\",FEB!S35)","v":""},{"$f":"IF(E235=\"\",\"\",VLOOKUP(E235,FEB!$A$60:$L$84,9,FALSE))","v":""},{"$f":"IF(FEB!J35=\"\",\"\",FEB!J35)","v":""},{"$f":"IF(FEB!L35=\"\",\"\",FEB!L35)","v":""},{"$f":"IF(FEB!I35=\"\",\"\",FEB!I35)","v":""},{"$f":"IF(FEB!N35=\"\",\"\",FEB!N35)","v":""},{"$f":"IF(FEB!O35=\"\",\"\",FEB!O35)","v":""},{"$f":"IF(FEB!P35=\"\",\"\",FEB!P35)","v":""},"",""]
[229,{"$f":"IF(FEB!C36=\"\",\"\",FEB!C36)","v":""},{"$f":"IF(FEB!D36=\"\",\"\",FEB!D36)","v":""},{"$f":"IF(FEB!F36=\"\",\"\",FEB!F36)","v":""},{"$f":"IF(FEB!S36=\"\",\"\",FEB!S36)","v":""},{"$f":"IF(E236=\"\",\"\",VLOOKUP(E236,FEB!$A$60:$L$84,9,FALSE))","v":""},{"$f":"IF(FEB!J36=\"\",\"\",FEB!J36)","v":""},{"$f":"IF(FEB!L36=\"\",\"\",FEB!L36)","v":""},{"$f":"IF(FEB!I36=\"\",\"\",FEB!I36)","v":""},{"$f":"IF(FEB!N36=\"\",\"\",FEB!N36)","v":""},{"$f":"IF(FEB!O36=\"\",\"\",FEB!O36)","v":""},{"$f":"IF(FEB!P36=\"\",\"\",FEB!P36)","v":""},"",""]
[230,{"$f":"IF(FEB!C37=\"\",\"\",FEB!C37)","v":""},{"$f":"IF(FEB!D37=\"\",\"\",FEB!D37)","v":""},{"$f":"IF(FEB!F37=\"\",\"\",FEB!F37)","v":""},{"$f":"IF(FEB!S37=\"\",\"\",FEB!S37)","v":""},{"$f":"IF(E237=\"\",\"\",VLOOKUP(E237,FEB!$A$60:$L$84,9,FALSE))","v":""},{"$f":"IF(FEB!J37=\"\",\"\",FEB!J37)","v":""},{"$f":"IF(FEB!L37=\"\",\"\",FEB!L37)","v":""},{"$f":"IF(FEB!I37=\"\",\"\",FEB!I37)","v":""},{"$f":"IF(FEB!N37=\"\",\"\",FEB!N37)","v":""},{"$f":"IF(FEB!O37=\"\",\"\",FEB!O37)","v":""},{"$f":"IF(FEB!P37=\"\",\"\",FEB!P37)","v":""},"",""]
[231,{"$f":"IF(FEB!C38=\"\",\"\",FEB!C38)","v":""},{"$f":"IF(FEB!D38=\"\",\"\",FEB!D38)","v":""},{"$f":"IF(FEB!F38=\"\",\"\",FEB!F38)","v":""},{"$f":"IF(FEB!S38=\"\",\"\",FEB!S38)","v":""},{"$f":"IF(E238=\"\",\"\",VLOOKUP(E238,FEB!$A$60:$L$84,9,FALSE))","v":""},{"$f":"IF(FEB!J38=\"\",\"\",FEB!J38)","v":""},{"$f":"IF(FEB!L38=\"\",\"\",FEB!L38)","v":""},{"$f":"IF(FEB!I38=\"\",\"\",FEB!I38)","v":""},{"$f":"IF(FEB!N38=\"\",\"\",FEB!N38)","v":""},{"$f":"IF(FEB!O38=\"\",\"\",FEB!O38)","v":""},{"$f":"IF(FEB!P38=\"\",\"\",FEB!P38)","v":""},"",""]
[232,{"$f":"IF(FEB!C39=\"\",\"\",FEB!C39)","v":""},{"$f":"IF(FEB!D39=\"\",\"\",FEB!D39)","v":""},{"$f":"IF(FEB!F39=\"\",\"\",FEB!F39)","v":""},{"$f":"IF(FEB!S39=\"\",\"\",FEB!S39)","v":""},{"$f":"IF(E239=\"\",\"\",VLOOKUP(E239,FEB!$A$60:$L$84,9,FALSE))","v":""},{"$f":"IF(FEB!J39=\"\",\"\",FEB!J39)","v":""},{"$f":"IF(FEB!L39=\"\",\"\",FEB!L39)","v":""},{"$f":"IF(FEB!I39=\"\",\"\",FEB!I39)","v":""},{"$f":"IF(FEB!N39=\"\",\"\",FEB!N39)","v":""},{"$f":"IF(FEB!O39=\"\",\"\",FEB!O39)","v":""},{"$f":"IF(FEB!P39=\"\",\"\",FEB!P39)","v":""},"",""]
[233,{"$f":"IF(FEB!C40=\"\",\"\",FEB!C40)","v":""},{"$f":"IF(FEB!D40=\"\",\"\",FEB!D40)","v":""},{"$f":"IF(FEB!F40=\"\",\"\",FEB!F40)","v":""},{"$f":"IF(FEB!S40=\"\",\"\",FEB!S40)","v":""},{"$f":"IF(E240=\"\",\"\",VLOOKUP(E240,FEB!$A$60:$L$84,9,FALSE))","v":""},{"$f":"IF(FEB!J40=\"\",\"\",FEB!J40)","v":""},{"$f":"IF(FEB!L40=\"\",\"\",FEB!L40)","v":""},{"$f":"IF(FEB!I40=\"\",\"\",FEB!I40)","v":""},{"$f":"IF(FEB!N40=\"\",\"\",FEB!N40)","v":""},{"$f":"IF(FEB!O40=\"\",\"\",FEB!O40)","v":""},{"$f":"IF(FEB!P40=\"\",\"\",FEB!P40)","v":""},"",""]
[234,{"$f":"IF(FEB!C41=\"\",\"\",FEB!C41)","v":""},{"$f":"IF(FEB!D41=\"\",\"\",FEB!D41)","v":""},{"$f":"IF(FEB!F41=\"\",\"\",FEB!F41)","v":""},{"$f":"IF(FEB!S41=\"\",\"\",FEB!S41)","v":""},{"$f":"IF(E241=\"\",\"\",VLOOKUP(E241,FEB!$A$60:$L$84,9,FALSE))","v":""},{"$f":"IF(FEB!J41=\"\",\"\",FEB!J41)","v":""},{"$f":"IF(FEB!L41=\"\",\"\",FEB!L41)","v":""},{"$f":"IF(FEB!I41=\"\",\"\",FEB!I41)","v":""},{"$f":"IF(FEB!N41=\"\",\"\",FEB!N41)","v":""},{"$f":"IF(FEB!O41=\"\",\"\",FEB!O41)","v":""},{"$f":"IF(FEB!P41=\"\",\"\",FEB!P41)","v":""},"",""]
[235,{"$f":"IF(FEB!C42=\"\",\"\",FEB!C42)","v":""},{"$f":"IF(FEB!D42=\"\",\"\",FEB!D42)","v":""},{"$f":"IF(FEB!F42=\"\",\"\",FEB!F42)","v":""},{"$f":"IF(FEB!S42=\"\",\"\",FEB!S42)","v":""},{"$f":"IF(E242=\"\",\"\",VLOOKUP(E242,FEB!$A$60:$L$84,9,FALSE))","v":""},{"$f":"IF(FEB!J42=\"\",\"\",FEB!J42)","v":""},{"$f":"IF(FEB!L42=\"\",\"\",FEB!L42)","v":""},{"$f":"IF(FEB!I42=\"\",\"\",FEB!I42)","v":""},{"$f":"IF(FEB!N42=\"\",\"\",FEB!N42)","v":""},{"$f":"IF(FEB!O42=\"\",\"\",FEB!O42)","v":""},{"$f":"IF(FEB!P42=\"\",\"\",FEB!P42)","v":""},"",""]
[236,{"$f":"IF(FEB!C43=\"\",\"\",FEB!C43)","v":""},{"$f":"IF(FEB!D43=\"\",\"\",FEB!D43)","v":""},{"$f":"IF(FEB!F43=\"\",\"\",FEB!F43)","v":""},{"$f":"IF(FEB!S43=\"\",\"\",FEB!S43)","v":""},{"$f":"IF(E243=\"\",\"\",VLOOKUP(E243,FEB!$A$60:$L$84,9,FALSE))","v":""},{"$f":"IF(FEB!J43=\"\",\"\",FEB!J43)","v":""},{"$f":"IF(FEB!L43=\"\",\"\",FEB!L43)","v":""},{"$f":"IF(FEB!I43=\"\",\"\",FEB!I43)","v":""},{"$f":"IF(FEB!N43=\"\",\"\",FEB!N43)","v":""},{"$f":"IF(FEB!O43=\"\",\"\",FEB!O43)","v":""},{"$f":"IF(FEB!P43=\"\",\"\",FEB!P43)","v":""},"",""]
[237,{"$f":"IF(FEB!C44=\"\",\"\",FEB!C44)","v":""},{"$f":"IF(FEB!D44=\"\",\"\",FEB!D44)","v":""},{"$f":"IF(FEB!F44=\"\",\"\",FEB!F44)","v":""},{"$f":"IF(FEB!S44=\"\",\"\",FEB!S44)","v":""},{"$f":"IF(E244=\"\",\"\",VLOOKUP(E244,FEB!$A$60:$L$84,9,FALSE))","v":""},{"$f":"IF(FEB!J44=\"\",\"\",FEB!J44)","v":""},{"$f":"IF(FEB!L44=\"\",\"\",FEB!L44)","v":""},{"$f":"IF(FEB!I44=\"\",\"\",FEB!I44)","v":""},{"$f":"IF(FEB!N44=\"\",\"\",FEB!N44)","v":""},{"$f":"IF(FEB!O44=\"\",\"\",FEB!O44)","v":""},{"$f":"IF(FEB!P44=\"\",\"\",FEB!P44)","v":""},"",""]
[238,{"$f":"IF(FEB!C45=\"\",\"\",FEB!C45)","v":""},{"$f":"IF(FEB!D45=\"\",\"\",FEB!D45)","v":""},{"$f":"IF(FEB!F45=\"\",\"\",FEB!F45)","v":""},{"$f":"IF(FEB!S45=\"\",\"\",FEB!S45)","v":""},{"$f":"IF(E245=\"\",\"\",VLOOKUP(E245,FEB!$A$60:$L$84,9,FALSE))","v":""},{"$f":"IF(FEB!J45=\"\",\"\",FEB!J45)","v":""},{"$f":"IF(FEB!L45=\"\",\"\",FEB!L45)","v":""},{"$f":"IF(FEB!I45=\"\",\"\",FEB!I45)","v":""},{"$f":"IF(FEB!N45=\"\",\"\",FEB!N45)","v":""},{"$f":"IF(FEB!O45=\"\",\"\",FEB!O45)","v":""},{"$f":"IF(FEB!P45=\"\",\"\",FEB!P45)","v":""},"",""]
[239,{"$f":"IF(FEB!C46=\"\",\"\",FEB!C46)","v":""},{"$f":"IF(FEB!D46=\"\",\"\",FEB!D46)","v":""},{"$f":"IF(FEB!F46=\"\",\"\",FEB!F46)","v":""},{"$f":"IF(FEB!S46=\"\",\"\",FEB!S46)","v":""},{"$f":"IF(E246=\"\",\"\",VLOOKUP(E246,FEB!$A$60:$L$84,9,FALSE))","v":""},{"$f":"IF(FEB!J46=\"\",\"\",FEB!J46)","v":""},{"$f":"IF(FEB!L46=\"\",\"\",FEB!L46)","v":""},{"$f":"IF(FEB!I46=\"\",\"\",FEB!I46)","v":""},{"$f":"IF(FEB!N46=\"\",\"\",FEB!N46)","v":""},{"$f":"IF(FEB!O46=\"\",\"\",FEB!O46)","v":""},{"$f":"IF(FEB!P46=\"\",\"\",FEB!P46)","v":""},"",""]
[240,{"$f":"IF(FEB!C47=\"\",\"\",FEB!C47)","v":""},{"$f":"IF(FEB!D47=\"\",\"\",FEB!D47)","v":""},{"$f":"IF(FEB!F47=\"\",\"\",FEB!F47)","v":""},{"$f":"IF(FEB!S47=\"\",\"\",FEB!S47)","v":""},{"$f":"IF(E247=\"\",\"\",VLOOKUP(E247,FEB!$A$60:$L$84,9,FALSE))","v":""},{"$f":"IF(FEB!J47=\"\",\"\",FEB!J47)","v":""},{"$f":"IF(FEB!L47=\"\",\"\",FEB!L47)","v":""},{"$f":"IF(FEB!I47=\"\",\"\",FEB!I47)","v":""},{"$f":"IF(FEB!N47=\"\",\"\",FEB!N47)","v":""},{"$f":"IF(FEB!O47=\"\",\"\",FEB!O47)","v":""},{"$f":"IF(FEB!P47=\"\",\"\",FEB!P47)","v":""},"",""]
[241,{"$f":"IF(FEB!C48=\"\",\"\",FEB!C48)","v":""},{"$f":"IF(FEB!D48=\"\",\"\",FEB!D48)","v":""},{"$f":"IF(FEB!F48=\"\",\"\",FEB!F48)","v":""},{"$f":"IF(FEB!S48=\"\",\"\",FEB!S48)","v":""},{"$f":"IF(E248=\"\",\"\",VLOOKUP(E248,FEB!$A$60:$L$84,9,FALSE))","v":""},{"$f":"IF(FEB!J48=\"\",\"\",FEB!J48)","v":""},{"$f":"IF(FEB!L48=\"\",\"\",FEB!L48)","v":""},{"$f":"IF(FEB!I48=\"\",\"\",FEB!I48)","v":""},{"$f":"IF(FEB!N48=\"\",\"\",FEB!N48)","v":""},{"$f":"IF(FEB!O48=\"\",\"\",FEB!O48)","v":""},{"$f":"IF(FEB!P48=\"\",\"\",FEB!P48)","v":""},"",""]
[242,{"$f":"IF(FEB!C49=\"\",\"\",FEB!C49)","v":""},{"$f":"IF(FEB!D49=\"\",\"\",FEB!D49)","v":""},{"$f":"IF(FEB!F49=\"\",\"\",FEB!F49)","v":""},{"$f":"IF(FEB!S49=\"\",\"\",FEB!S49)","v":""},{"$f":"IF(E249=\"\",\"\",VLOOKUP(E249,FEB!$A$60:$L$84,9,FALSE))","v":""},{"$f":"IF(FEB!J49=\"\",\"\",FEB!J49)","v":""},{"$f":"IF(FEB!L49=\"\",\"\",FEB!L49)","v":""},{"$f":"IF(FEB!I49=\"\",\"\",FEB!I49)","v":""},{"$f":"IF(FEB!N49=\"\",\"\",FEB!N49)","v":""},{"$f":"IF(FEB!O49=\"\",\"\",FEB!O49)","v":""},{"$f":"IF(FEB!P49=\"\",\"\",FEB!P49)","v":""},"",""]
[243,{"$f":"IF(FEB!C50=\"\",\"\",FEB!C50)","v":""},{"$f":"IF(FEB!D50=\"\",\"\",FEB!D50)","v":""},{"$f":"IF(FEB!F50=\"\",\"\",FEB!F50)","v":""},{"$f":"IF(FEB!S50=\"\",\"\",FEB!S50)","v":""},{"$f":"IF(E250=\"\",\"\",VLOOKUP(E250,FEB!$A$60:$L$84,9,FALSE))","v":""},{"$f":"IF(FEB!J50=\"\",\"\",FEB!J50)","v":""},{"$f":"IF(FEB!L50=\"\",\"\",FEB!L50)","v":""},{"$f":"IF(FEB!I50=\"\",\"\",FEB!I50)","v":""},{"$f":"IF(FEB!N50=\"\",\"\",FEB!N50)","v":""},{"$f":"IF(FEB!O50=\"\",\"\",FEB!O50)","v":""},{"$f":"IF(FEB!P50=\"\",\"\",FEB!P50)","v":""},"",""]
[244,{"$f":"IF(FEB!C51=\"\",\"\",FEB!C51)","v":""},{"$f":"IF(FEB!D51=\"\",\"\",FEB!D51)","v":""},{"$f":"IF(FEB!F51=\"\",\"\",FEB!F51)","v":""},{"$f":"IF(FEB!S51=\"\",\"\",FEB!S51)","v":""},{"$f":"IF(E251=\"\",\"\",VLOOKUP(E251,FEB!$A$60:$L$84,9,FALSE))","v":""},{"$f":"IF(FEB!J51=\"\",\"\",FEB!J51)","v":""},{"$f":"IF(FEB!L51=\"\",\"\",FEB!L51)","v":""},{"$f":"IF(FEB!I51=\"\",\"\",FEB!I51)","v":""},{"$f":"IF(FEB!N51=\"\",\"\",FEB!N51)","v":""},{"$f":"IF(FEB!O51=\"\",\"\",FEB!O51)","v":""},{"$f":"IF(FEB!P51=\"\",\"\",FEB!P51)","v":""},"",""]
[245,{"$f":"IF(FEB!C52=\"\",\"\",FEB!C52)","v":""},{"$f":"IF(FEB!D52=\"\",\"\",FEB!D52)","v":""},{"$f":"IF(FEB!F52=\"\",\"\",FEB!F52)","v":""},{"$f":"IF(FEB!S52=\"\",\"\",FEB!S52)","v":""},{"$f":"IF(E252=\"\",\"\",VLOOKUP(E252,FEB!$A$60:$L$84,9,FALSE))","v":""},{"$f":"IF(FEB!J52=\"\",\"\",FEB!J52)","v":""},{"$f":"IF(FEB!L52=\"\",\"\",FEB!L52)","v":""},{"$f":"IF(FEB!I52=\"\",\"\",FEB!I52)","v":""},{"$f":"IF(FEB!N52=\"\",\"\",FEB!N52)","v":""},{"$f":"IF(FEB!O52=\"\",\"\",FEB!O52)","v":""},{"$f":"IF(FEB!P52=\"\",\"\",FEB!P52)","v":""},"",""]
[246,{"$f":"IF(FEB!C53=\"\",\"\",FEB!C53)","v":""},{"$f":"IF(FEB!D53=\"\",\"\",FEB!D53)","v":""},{"$f":"IF(FEB!F53=\"\",\"\",FEB!F53)","v":""},{"$f":"IF(FEB!S53=\"\",\"\",FEB!S53)","v":""},{"$f":"IF(E253=\"\",\"\",VLOOKUP(E253,FEB!$A$60:$L$84,9,FALSE))","v":""},{"$f":"IF(FEB!J53=\"\",\"\",FEB!J53)","v":""},{"$f":"IF(FEB!L53=\"\",\"\",FEB!L53)","v":""},{"$f":"IF(FEB!I53=\"\",\"\",FEB!I53)","v":""},{"$f":"IF(FEB!N53=\"\",\"\",FEB!N53)","v":""},{"$f":"IF(FEB!O53=\"\",\"\",FEB!O53)","v":""},{"$f":"IF(FEB!P53=\"\",\"\",FEB!P53)","v":""},"",""]
[247,{"$f":"IF(FEB!C54=\"\",\"\",FEB!C54)","v":""},{"$f":"IF(FEB!D54=\"\",\"\",FEB!D54)","v":""},{"$f":"IF(FEB!F54=\"\",\"\",FEB!F54)","v":""},{"$f":"IF(FEB!S54=\"\",\"\",FEB!S54)","v":""},{"$f":"IF(E254=\"\",\"\",VLOOKUP(E254,FEB!$A$60:$L$84,9,FALSE))","v":""},{"$f":"IF(FEB!J54=\"\",\"\",FEB!J54)","v":""},{"$f":"IF(FEB!L54=\"\",\"\",FEB!L54)","v":""},{"$f":"IF(FEB!I54=\"\",\"\",FEB!I54)","v":""},{"$f":"IF(FEB!N54=\"\",\"\",FEB!N54)","v":""},{"$f":"IF(FEB!O54=\"\",\"\",FEB!O54)","v":""},{"$f":"IF(FEB!P54=\"\",\"\",FEB!P54)","v":""},"",""]
[248,{"$f":"IF(FEB!C55=\"\",\"\",FEB!C55)","v":""},{"$f":"IF(FEB!D55=\"\",\"\",FEB!D55)","v":""},{"$f":"IF(FEB!F55=\"\",\"\",FEB!F55)","v":""},{"$f":"IF(FEB!S55=\"\",\"\",FEB!S55)","v":""},{"$f":"IF(E255=\"\",\"\",VLOOKUP(E255,FEB!$A$60:$L$84,9,FALSE))","v":""},{"$f":"IF(FEB!J55=\"\",\"\",FEB!J55)","v":""},{"$f":"IF(FEB!L55=\"\",\"\",FEB!L55)","v":""},{"$f":"IF(FEB!I55=\"\",\"\",FEB!I55)","v":""},{"$f":"IF(FEB!N55=\"\",\"\",FEB!N55)","v":""},{"$f":"IF(FEB!O55=\"\",\"\",FEB!O55)","v":""},{"$f":"IF(FEB!P55=\"\",\"\",FEB!P55)","v":""},"",""]
[249,{"$f":"IF(FEB!C56=\"\",\"\",FEB!C56)","v":""},{"$f":"IF(FEB!D56=\"\",\"\",FEB!D56)","v":""},{"$f":"IF(FEB!F56=\"\",\"\",FEB!F56)","v":""},{"$f":"IF(FEB!S56=\"\",\"\",FEB!S56)","v":""},{"$f":"IF(E256=\"\",\"\",VLOOKUP(E256,FEB!$A$60:$L$84,9,FALSE))","v":""},{"$f":"IF(FEB!J56=\"\",\"\",FEB!J56)","v":""},{"$f":"IF(FEB!L56=\"\",\"\",FEB!L56)","v":""},{"$f":"IF(FEB!I56=\"\",\"\",FEB!I56)","v":""},{"$f":"IF(FEB!N56=\"\",\"\",FEB!N56)","v":""},{"$f":"IF(FEB!O56=\"\",\"\",FEB!O56)","v":""},{"$f":"IF(FEB!P56=\"\",\"\",FEB!P56)","v":""},"",""]
[250,{"$f":"IF(FEB!C57=\"\",\"\",FEB!C57)","v":""},{"$f":"IF(FEB!D57=\"\",\"\",FEB!D57)","v":""},{"$f":"IF(FEB!F57=\"\",\"\",FEB!F57)","v":""},{"$f":"IF(FEB!S57=\"\",\"\",FEB!S57)","v":""},{"$f":"IF(E257=\"\",\"\",VLOOKUP(E257,FEB!$A$60:$L$84,9,FALSE))","v":""},{"$f":"IF(FEB!J57=\"\",\"\",FEB!J57)","v":""},{"$f":"IF(FEB!L57=\"\",\"\",FEB!L57)","v":""},{"$f":"IF(FEB!I57=\"\",\"\",FEB!I57)","v":""},{"$f":"IF(FEB!N57=\"\",\"\",FEB!N57)","v":""},{"$f":"IF(FEB!O57=\"\",\"\",FEB!O57)","v":""},{"$f":"IF(FEB!P57=\"\",\"\",FEB!P57)","v":""},"",""]
[251,{"$f":"IF(MAR!C8=\"\",\"\",MAR!C8)","v":""},{"$f":"IF(MAR!D8=\"\",\"\",MAR!D8)","v":""},{"$f":"IF(MAR!F8=\"\",\"\",MAR!F8)","v":""},{"$f":"IF(MAR!S8=\"\",\"\",MAR!S8)","v":""},{"$f":"IF(E258=\"\",\"\",VLOOKUP(E258,MAR!$A$60:$L$84,9,FALSE))","v":""},{"$f":"IF(MAR!J8=\"\",\"\",MAR!J8)","v":""},{"$f":"IF(MAR!L8=\"\",\"\",MAR!L8)","v":""},{"$f":"IF(MAR!I8=\"\",\"\",MAR!I8)","v":""},{"$f":"IF(MAR!N8=\"\",\"\",MAR!N8)","v":""},{"$f":"IF(MAR!O8=\"\",\"\",MAR!O8)","v":""},{"$f":"IF(MAR!P8=\"\",\"\",MAR!P8)","v":""},"",""]
[252,{"$f":"IF(MAR!C9=\"\",\"\",MAR!C9)","v":""},{"$f":"IF(MAR!D9=\"\",\"\",MAR!D9)","v":""},{"$f":"IF(MAR!F9=\"\",\"\",MAR!F9)","v":""},{"$f":"IF(MAR!S9=\"\",\"\",MAR!S9)","v":""},{"$f":"IF(E259=\"\",\"\",VLOOKUP(E259,MAR!$A$60:$L$84,9,FALSE))","v":""},{"$f":"IF(MAR!J9=\"\",\"\",MAR!J9)","v":""},{"$f":"IF(MAR!L9=\"\",\"\",MAR!L9)","v":""},{"$f":"IF(MAR!I9=\"\",\"\",MAR!I9)","v":""},{"$f":"IF(MAR!N9=\"\",\"\",MAR!N9)","v":""},{"$f":"IF(MAR!O9=\"\",\"\",MAR!O9)","v":""},{"$f":"IF(MAR!P9=\"\",\"\",MAR!P9)","v":""},"",""]
[253,{"$f":"IF(MAR!C10=\"\",\"\",MAR!C10)","v":""},{"$f":"IF(MAR!D10=\"\",\"\",MAR!D10)","v":""},{"$f":"IF(MAR!F10=\"\",\"\",MAR!F10)","v":""},{"$f":"IF(MAR!S10=\"\",\"\",MAR!S10)","v":""},{"$f":"IF(E260=\"\",\"\",VLOOKUP(E260,MAR!$A$60:$L$84,9,FALSE))","v":""},{"$f":"IF(MAR!J10=\"\",\"\",MAR!J10)","v":""},{"$f":"IF(MAR!L10=\"\",\"\",MAR!L10)","v":""},{"$f":"IF(MAR!I10=\"\",\"\",MAR!I10)","v":""},{"$f":"IF(MAR!N10=\"\",\"\",MAR!N10)","v":""},{"$f":"IF(MAR!O10=\"\",\"\",MAR!O10)","v":""},{"$f":"IF(MAR!P10=\"\",\"\",MAR!P10)","v":""},"",""]
[254,{"$f":"IF(MAR!C11=\"\",\"\",MAR!C11)","v":""},{"$f":"IF(MAR!D11=\"\",\"\",MAR!D11)","v":""},{"$f":"IF(MAR!F11=\"\",\"\",MAR!F11)","v":""},{"$f":"IF(MAR!S11=\"\",\"\",MAR!S11)","v":""},{"$f":"IF(E261=\"\",\"\",VLOOKUP(E261,MAR!$A$60:$L$84,9,FALSE))","v":""},{"$f":"IF(MAR!J11=\"\",\"\",MAR!J11)","v":""},{"$f":"IF(MAR!L11=\"\",\"\",MAR!L11)","v":""},{"$f":"IF(MAR!I11=\"\",\"\",MAR!I11)","v":""},{"$f":"IF(MAR!N11=\"\",\"\",MAR!N11)","v":""},{"$f":"IF(MAR!O11=\"\",\"\",MAR!O11)","v":""},{"$f":"IF(MAR!P11=\"\",\"\",MAR!P11)","v":""},"",""]
[255,{"$f":"IF(MAR!C12=\"\",\"\",MAR!C12)","v":""},{"$f":"IF(MAR!D12=\"\",\"\",MAR!D12)","v":""},{"$f":"IF(MAR!F12=\"\",\"\",MAR!F12)","v":""},{"$f":"IF(MAR!S12=\"\",\"\",MAR!S12)","v":""},{"$f":"IF(E262=\"\",\"\",VLOOKUP(E262,MAR!$A$60:$L$84,9,FALSE))","v":""},{"$f":"IF(MAR!J12=\"\",\"\",MAR!J12)","v":""},{"$f":"IF(MAR!L12=\"\",\"\",MAR!L12)","v":""},{"$f":"IF(MAR!I12=\"\",\"\",MAR!I12)","v":""},{"$f":"IF(MAR!N12=\"\",\"\",MAR!N12)","v":""},{"$f":"IF(MAR!O12=\"\",\"\",MAR!O12)","v":""},{"$f":"IF(MAR!P12=\"\",\"\",MAR!P12)","v":""},"",""]
[256,{"$f":"IF(MAR!C13=\"\",\"\",MAR!C13)","v":""},{"$f":"IF(MAR!D13=\"\",\"\",MAR!D13)","v":""},{"$f":"IF(MAR!F13=\"\",\"\",MAR!F13)","v":""},{"$f":"IF(MAR!S13=\"\",\"\",MAR!S13)","v":""},{"$f":"IF(E263=\"\",\"\",VLOOKUP(E263,MAR!$A$60:$L$84,9,FALSE))","v":""},{"$f":"IF(MAR!J13=\"\",\"\",MAR!J13)","v":""},{"$f":"IF(MAR!L13=\"\",\"\",MAR!L13)","v":""},{"$f":"IF(MAR!I13=\"\",\"\",MAR!I13)","v":""},{"$f":"IF(MAR!N13=\"\",\"\",MAR!N13)","v":""},{"$f":"IF(MAR!O13=\"\",\"\",MAR!O13)","v":""},{"$f":"IF(MAR!P13=\"\",\"\",MAR!P13)","v":""},"",""]
[257,{"$f":"IF(MAR!C14=\"\",\"\",MAR!C14)","v":""},{"$f":"IF(MAR!D14=\"\",\"\",MAR!D14)","v":""},{"$f":"IF(MAR!F14=\"\",\"\",MAR!F14)","v":""},{"$f":"IF(MAR!S14=\"\",\"\",MAR!S14)","v":""},{"$f":"IF(E264=\"\",\"\",VLOOKUP(E264,MAR!$A$60:$L$84,9,FALSE))","v":""},{"$f":"IF(MAR!J14=\"\",\"\",MAR!J14)","v":""},{"$f":"IF(MAR!L14=\"\",\"\",MAR!L14)","v":""},{"$f":"IF(MAR!I14=\"\",\"\",MAR!I14)","v":""},{"$f":"IF(MAR!N14=\"\",\"\",MAR!N14)","v":""},{"$f":"IF(MAR!O14=\"\",\"\",MAR!O14)","v":""},{"$f":"IF(MAR!P14=\"\",\"\",MAR!P14)","v":""},{"$f":"IF(J264=\"\",\"\",J264+L264)","v":""},""]
[258,{"$f":"IF(MAR!C15=\"\",\"\",MAR!C15)","v":""},{"$f":"IF(MAR!D15=\"\",\"\",MAR!D15)","v":""},{"$f":"IF(MAR!F15=\"\",\"\",MAR!F15)","v":""},{"$f":"IF(MAR!S15=\"\",\"\",MAR!S15)","v":""},{"$f":"IF(E265=\"\",\"\",VLOOKUP(E265,MAR!$A$60:$L$84,9,FALSE))","v":""},{"$f":"IF(MAR!J15=\"\",\"\",MAR!J15)","v":""},{"$f":"IF(MAR!L15=\"\",\"\",MAR!L15)","v":""},{"$f":"IF(MAR!I15=\"\",\"\",MAR!I15)","v":""},{"$f":"IF(MAR!N15=\"\",\"\",MAR!N15)","v":""},{"$f":"IF(MAR!O15=\"\",\"\",MAR!O15)","v":""},{"$f":"IF(MAR!P15=\"\",\"\",MAR!P15)","v":""},"",""]
[259,{"$f":"IF(MAR!C16=\"\",\"\",MAR!C16)","v":""},{"$f":"IF(MAR!D16=\"\",\"\",MAR!D16)","v":""},{"$f":"IF(MAR!F16=\"\",\"\",MAR!F16)","v":""},{"$f":"IF(MAR!S16=\"\",\"\",MAR!S16)","v":""},{"$f":"IF(E266=\"\",\"\",VLOOKUP(E266,MAR!$A$60:$L$84,9,FALSE))","v":""},{"$f":"IF(MAR!J16=\"\",\"\",MAR!J16)","v":""},{"$f":"IF(MAR!L16=\"\",\"\",MAR!L16)","v":""},{"$f":"IF(MAR!I16=\"\",\"\",MAR!I16)","v":""},{"$f":"IF(MAR!N16=\"\",\"\",MAR!N16)","v":""},{"$f":"IF(MAR!O16=\"\",\"\",MAR!O16)","v":""},{"$f":"IF(MAR!P16=\"\",\"\",MAR!P16)","v":""},"",""]
[260,{"$f":"IF(MAR!C17=\"\",\"\",MAR!C17)","v":""},{"$f":"IF(MAR!D17=\"\",\"\",MAR!D17)","v":""},{"$f":"IF(MAR!F17=\"\",\"\",MAR!F17)","v":""},{"$f":"IF(MAR!S17=\"\",\"\",MAR!S17)","v":""},{"$f":"IF(E267=\"\",\"\",VLOOKUP(E267,MAR!$A$60:$L$84,9,FALSE))","v":""},{"$f":"IF(MAR!J17=\"\",\"\",MAR!J17)","v":""},{"$f":"IF(MAR!L17=\"\",\"\",MAR!L17)","v":""},{"$f":"IF(MAR!I17=\"\",\"\",MAR!I17)","v":""},{"$f":"IF(MAR!N17=\"\",\"\",MAR!N17)","v":""},{"$f":"IF(MAR!O17=\"\",\"\",MAR!O17)","v":""},{"$f":"IF(MAR!P17=\"\",\"\",MAR!P17)","v":""},"",""]
[261,{"$f":"IF(MAR!C18=\"\",\"\",MAR!C18)","v":""},{"$f":"IF(MAR!D18=\"\",\"\",MAR!D18)","v":""},{"$f":"IF(MAR!F18=\"\",\"\",MAR!F18)","v":""},{"$f":"IF(MAR!S18=\"\",\"\",MAR!S18)","v":""},{"$f":"IF(E268=\"\",\"\",VLOOKUP(E268,MAR!$A$60:$L$84,9,FALSE))","v":""},{"$f":"IF(MAR!J18=\"\",\"\",MAR!J18)","v":""},{"$f":"IF(MAR!L18=\"\",\"\",MAR!L18)","v":""},{"$f":"IF(MAR!I18=\"\",\"\",MAR!I18)","v":""},{"$f":"IF(MAR!N18=\"\",\"\",MAR!N18)","v":""},{"$f":"IF(MAR!O18=\"\",\"\",MAR!O18)","v":""},{"$f":"IF(MAR!P18=\"\",\"\",MAR!P18)","v":""},"",""]
[262,{"$f":"IF(MAR!C19=\"\",\"\",MAR!C19)","v":""},{"$f":"IF(MAR!D19=\"\",\"\",MAR!D19)","v":""},{"$f":"IF(MAR!F19=\"\",\"\",MAR!F19)","v":""},{"$f":"IF(MAR!S19=\"\",\"\",MAR!S19)","v":""},{"$f":"IF(E269=\"\",\"\",VLOOKUP(E269,MAR!$A$60:$L$84,9,FALSE))","v":""},{"$f":"IF(MAR!J19=\"\",\"\",MAR!J19)","v":""},{"$f":"IF(MAR!L19=\"\",\"\",MAR!L19)","v":""},{"$f":"IF(MAR!I19=\"\",\"\",MAR!I19)","v":""},{"$f":"IF(MAR!N19=\"\",\"\",MAR!N19)","v":""},{"$f":"IF(MAR!O19=\"\",\"\",MAR!O19)","v":""},{"$f":"IF(MAR!P19=\"\",\"\",MAR!P19)","v":""},"",""]
[263,{"$f":"IF(MAR!C20=\"\",\"\",MAR!C20)","v":""},{"$f":"IF(MAR!D20=\"\",\"\",MAR!D20)","v":""},{"$f":"IF(MAR!F20=\"\",\"\",MAR!F20)","v":""},{"$f":"IF(MAR!S20=\"\",\"\",MAR!S20)","v":""},{"$f":"IF(E270=\"\",\"\",VLOOKUP(E270,MAR!$A$60:$L$84,9,FALSE))","v":""},{"$f":"IF(MAR!J20=\"\",\"\",MAR!J20)","v":""},{"$f":"IF(MAR!L20=\"\",\"\",MAR!L20)","v":""},{"$f":"IF(MAR!I20=\"\",\"\",MAR!I20)","v":""},{"$f":"IF(MAR!N20=\"\",\"\",MAR!N20)","v":""},{"$f":"IF(MAR!O20=\"\",\"\",MAR!O20)","v":""},{"$f":"IF(MAR!P20=\"\",\"\",MAR!P20)","v":""},"",""]
[264,{"$f":"IF(MAR!C21=\"\",\"\",MAR!C21)","v":""},{"$f":"IF(MAR!D21=\"\",\"\",MAR!D21)","v":""},{"$f":"IF(MAR!F21=\"\",\"\",MAR!F21)","v":""},{"$f":"IF(MAR!S21=\"\",\"\",MAR!S21)","v":""},{"$f":"IF(E271=\"\",\"\",VLOOKUP(E271,MAR!$A$60:$L$84,9,FALSE))","v":""},{"$f":"IF(MAR!J21=\"\",\"\",MAR!J21)","v":""},{"$f":"IF(MAR!L21=\"\",\"\",MAR!L21)","v":""},{"$f":"IF(MAR!I21=\"\",\"\",MAR!I21)","v":""},{"$f":"IF(MAR!N21=\"\",\"\",MAR!N21)","v":""},{"$f":"IF(MAR!O21=\"\",\"\",MAR!O21)","v":""},{"$f":"IF(MAR!P21=\"\",\"\",MAR!P21)","v":""},"",""]
[265,{"$f":"IF(MAR!C22=\"\",\"\",MAR!C22)","v":""},{"$f":"IF(MAR!D22=\"\",\"\",MAR!D22)","v":""},{"$f":"IF(MAR!F22=\"\",\"\",MAR!F22)","v":""},{"$f":"IF(MAR!S22=\"\",\"\",MAR!S22)","v":""},{"$f":"IF(E272=\"\",\"\",VLOOKUP(E272,MAR!$A$60:$L$84,9,FALSE))","v":""},{"$f":"IF(MAR!J22=\"\",\"\",MAR!J22)","v":""},{"$f":"IF(MAR!L22=\"\",\"\",MAR!L22)","v":""},{"$f":"IF(MAR!I22=\"\",\"\",MAR!I22)","v":""},{"$f":"IF(MAR!N22=\"\",\"\",MAR!N22)","v":""},{"$f":"IF(MAR!O22=\"\",\"\",MAR!O22)","v":""},{"$f":"IF(MAR!P22=\"\",\"\",MAR!P22)","v":""},"",{"$f":"IF(B272=\"\",\"\",N271+J272+L272)","v":""}]
[266,{"$f":"IF(MAR!C23=\"\",\"\",MAR!C23)","v":""},{"$f":"IF(MAR!D23=\"\",\"\",MAR!D23)","v":""},{"$f":"IF(MAR!F23=\"\",\"\",MAR!F23)","v":""},{"$f":"IF(MAR!S23=\"\",\"\",MAR!S23)","v":""},{"$f":"IF(E273=\"\",\"\",VLOOKUP(E273,MAR!$A$60:$L$84,9,FALSE))","v":""},{"$f":"IF(MAR!J23=\"\",\"\",MAR!J23)","v":""},{"$f":"IF(MAR!L23=\"\",\"\",MAR!L23)","v":""},{"$f":"IF(MAR!I23=\"\",\"\",MAR!I23)","v":""},{"$f":"IF(MAR!N23=\"\",\"\",MAR!N23)","v":""},{"$f":"IF(MAR!O23=\"\",\"\",MAR!O23)","v":""},{"$f":"IF(MAR!P23=\"\",\"\",MAR!P23)","v":""},"",""]
[267,{"$f":"IF(MAR!C24=\"\",\"\",MAR!C24)","v":""},{"$f":"IF(MAR!D24=\"\",\"\",MAR!D24)","v":""},{"$f":"IF(MAR!F24=\"\",\"\",MAR!F24)","v":""},{"$f":"IF(MAR!S24=\"\",\"\",MAR!S24)","v":""},{"$f":"IF(E274=\"\",\"\",VLOOKUP(E274,MAR!$A$60:$L$84,9,FALSE))","v":""},{"$f":"IF(MAR!J24=\"\",\"\",MAR!J24)","v":""},{"$f":"IF(MAR!L24=\"\",\"\",MAR!L24)","v":""},{"$f":"IF(MAR!I24=\"\",\"\",MAR!I24)","v":""},{"$f":"IF(MAR!N24=\"\",\"\",MAR!N24)","v":""},{"$f":"IF(MAR!O24=\"\",\"\",MAR!O24)","v":""},{"$f":"IF(MAR!P24=\"\",\"\",MAR!P24)","v":""},"",""]
[268,{"$f":"IF(MAR!C25=\"\",\"\",MAR!C25)","v":""},{"$f":"IF(MAR!D25=\"\",\"\",MAR!D25)","v":""},{"$f":"IF(MAR!F25=\"\",\"\",MAR!F25)","v":""},{"$f":"IF(MAR!S25=\"\",\"\",MAR!S25)","v":""},{"$f":"IF(E275=\"\",\"\",VLOOKUP(E275,MAR!$A$60:$L$84,9,FALSE))","v":""},{"$f":"IF(MAR!J25=\"\",\"\",MAR!J25)","v":""},{"$f":"IF(MAR!L25=\"\",\"\",MAR!L25)","v":""},{"$f":"IF(MAR!I25=\"\",\"\",MAR!I25)","v":""},{"$f":"IF(MAR!N25=\"\",\"\",MAR!N25)","v":""},{"$f":"IF(MAR!O25=\"\",\"\",MAR!O25)","v":""},{"$f":"IF(MAR!P25=\"\",\"\",MAR!P25)","v":""},"",""]
[269,{"$f":"IF(MAR!C26=\"\",\"\",MAR!C26)","v":""},{"$f":"IF(MAR!D26=\"\",\"\",MAR!D26)","v":""},{"$f":"IF(MAR!F26=\"\",\"\",MAR!F26)","v":""},{"$f":"IF(MAR!S26=\"\",\"\",MAR!S26)","v":""},{"$f":"IF(E276=\"\",\"\",VLOOKUP(E276,MAR!$A$60:$L$84,9,FALSE))","v":""},{"$f":"IF(MAR!J26=\"\",\"\",MAR!J26)","v":""},{"$f":"IF(MAR!L26=\"\",\"\",MAR!L26)","v":""},{"$f":"IF(MAR!I26=\"\",\"\",MAR!I26)","v":""},{"$f":"IF(MAR!N26=\"\",\"\",MAR!N26)","v":""},{"$f":"IF(MAR!O26=\"\",\"\",MAR!O26)","v":""},{"$f":"IF(MAR!P26=\"\",\"\",MAR!P26)","v":""},"",""]
[270,{"$f":"IF(MAR!C27=\"\",\"\",MAR!C27)","v":""},{"$f":"IF(MAR!D27=\"\",\"\",MAR!D27)","v":""},{"$f":"IF(MAR!F27=\"\",\"\",MAR!F27)","v":""},{"$f":"IF(MAR!S27=\"\",\"\",MAR!S27)","v":""},{"$f":"IF(E277=\"\",\"\",VLOOKUP(E277,MAR!$A$60:$L$84,9,FALSE))","v":""},{"$f":"IF(MAR!J27=\"\",\"\",MAR!J27)","v":""},{"$f":"IF(MAR!L27=\"\",\"\",MAR!L27)","v":""},{"$f":"IF(MAR!I27=\"\",\"\",MAR!I27)","v":""},{"$f":"IF(MAR!N27=\"\",\"\",MAR!N27)","v":""},{"$f":"IF(MAR!O27=\"\",\"\",MAR!O27)","v":""},{"$f":"IF(MAR!P27=\"\",\"\",MAR!P27)","v":""},"",""]
[271,{"$f":"IF(MAR!C28=\"\",\"\",MAR!C28)","v":""},{"$f":"IF(MAR!D28=\"\",\"\",MAR!D28)","v":""},{"$f":"IF(MAR!F28=\"\",\"\",MAR!F28)","v":""},{"$f":"IF(MAR!S28=\"\",\"\",MAR!S28)","v":""},{"$f":"IF(E278=\"\",\"\",VLOOKUP(E278,MAR!$A$60:$L$84,9,FALSE))","v":""},{"$f":"IF(MAR!J28=\"\",\"\",MAR!J28)","v":""},{"$f":"IF(MAR!L28=\"\",\"\",MAR!L28)","v":""},{"$f":"IF(MAR!I28=\"\",\"\",MAR!I28)","v":""},{"$f":"IF(MAR!N28=\"\",\"\",MAR!N28)","v":""},{"$f":"IF(MAR!O28=\"\",\"\",MAR!O28)","v":""},{"$f":"IF(MAR!P28=\"\",\"\",MAR!P28)","v":""},"",""]
[272,{"$f":"IF(MAR!C29=\"\",\"\",MAR!C29)","v":""},{"$f":"IF(MAR!D29=\"\",\"\",MAR!D29)","v":""},{"$f":"IF(MAR!F29=\"\",\"\",MAR!F29)","v":""},{"$f":"IF(MAR!S29=\"\",\"\",MAR!S29)","v":""},{"$f":"IF(E279=\"\",\"\",VLOOKUP(E279,MAR!$A$60:$L$84,9,FALSE))","v":""},{"$f":"IF(MAR!J29=\"\",\"\",MAR!J29)","v":""},{"$f":"IF(MAR!L29=\"\",\"\",MAR!L29)","v":""},{"$f":"IF(MAR!I29=\"\",\"\",MAR!I29)","v":""},{"$f":"IF(MAR!N29=\"\",\"\",MAR!N29)","v":""},{"$f":"IF(MAR!O29=\"\",\"\",MAR!O29)","v":""},{"$f":"IF(MAR!P29=\"\",\"\",MAR!P29)","v":""},"",""]
[273,{"$f":"IF(MAR!C30=\"\",\"\",MAR!C30)","v":""},{"$f":"IF(MAR!D30=\"\",\"\",MAR!D30)","v":""},{"$f":"IF(MAR!F30=\"\",\"\",MAR!F30)","v":""},{"$f":"IF(MAR!S30=\"\",\"\",MAR!S30)","v":""},{"$f":"IF(E280=\"\",\"\",VLOOKUP(E280,MAR!$A$60:$L$84,9,FALSE))","v":""},{"$f":"IF(MAR!J30=\"\",\"\",MAR!J30)","v":""},{"$f":"IF(MAR!L30=\"\",\"\",MAR!L30)","v":""},{"$f":"IF(MAR!I30=\"\",\"\",MAR!I30)","v":""},{"$f":"IF(MAR!N30=\"\",\"\",MAR!N30)","v":""},{"$f":"IF(MAR!O30=\"\",\"\",MAR!O30)","v":""},{"$f":"IF(MAR!P30=\"\",\"\",MAR!P30)","v":""},"",""]
[274,{"$f":"IF(MAR!C31=\"\",\"\",MAR!C31)","v":""},{"$f":"IF(MAR!D31=\"\",\"\",MAR!D31)","v":""},{"$f":"IF(MAR!F31=\"\",\"\",MAR!F31)","v":""},{"$f":"IF(MAR!S31=\"\",\"\",MAR!S31)","v":""},{"$f":"IF(E281=\"\",\"\",VLOOKUP(E281,MAR!$A$60:$L$84,9,FALSE))","v":""},{"$f":"IF(MAR!J31=\"\",\"\",MAR!J31)","v":""},{"$f":"IF(MAR!L31=\"\",\"\",MAR!L31)","v":""},{"$f":"IF(MAR!I31=\"\",\"\",MAR!I31)","v":""},{"$f":"IF(MAR!N31=\"\",\"\",MAR!N31)","v":""},{"$f":"IF(MAR!O31=\"\",\"\",MAR!O31)","v":""},{"$f":"IF(MAR!P31=\"\",\"\",MAR!P31)","v":""},"",""]
[275,{"$f":"IF(MAR!C32=\"\",\"\",MAR!C32)","v":""},{"$f":"IF(MAR!D32=\"\",\"\",MAR!D32)","v":""},{"$f":"IF(MAR!F32=\"\",\"\",MAR!F32)","v":""},{"$f":"IF(MAR!S32=\"\",\"\",MAR!S32)","v":""},{"$f":"IF(E282=\"\",\"\",VLOOKUP(E282,MAR!$A$60:$L$84,9,FALSE))","v":""},{"$f":"IF(MAR!J32=\"\",\"\",MAR!J32)","v":""},{"$f":"IF(MAR!L32=\"\",\"\",MAR!L32)","v":""},{"$f":"IF(MAR!I32=\"\",\"\",MAR!I32)","v":""},{"$f":"IF(MAR!N32=\"\",\"\",MAR!N32)","v":""},{"$f":"IF(MAR!O32=\"\",\"\",MAR!O32)","v":""},{"$f":"IF(MAR!P32=\"\",\"\",MAR!P32)","v":""},"",""]
[276,{"$f":"IF(MAR!C33=\"\",\"\",MAR!C33)","v":""},{"$f":"IF(MAR!D33=\"\",\"\",MAR!D33)","v":""},{"$f":"IF(MAR!F33=\"\",\"\",MAR!F33)","v":""},{"$f":"IF(MAR!S33=\"\",\"\",MAR!S33)","v":""},{"$f":"IF(E283=\"\",\"\",VLOOKUP(E283,MAR!$A$60:$L$84,9,FALSE))","v":""},{"$f":"IF(MAR!J33=\"\",\"\",MAR!J33)","v":""},{"$f":"IF(MAR!L33=\"\",\"\",MAR!L33)","v":""},{"$f":"IF(MAR!I33=\"\",\"\",MAR!I33)","v":""},{"$f":"IF(MAR!N33=\"\",\"\",MAR!N33)","v":""},{"$f":"IF(MAR!O33=\"\",\"\",MAR!O33)","v":""},{"$f":"IF(MAR!P33=\"\",\"\",MAR!P33)","v":""},"",""]
[277,{"$f":"IF(MAR!C34=\"\",\"\",MAR!C34)","v":""},{"$f":"IF(MAR!D34=\"\",\"\",MAR!D34)","v":""},{"$f":"IF(MAR!F34=\"\",\"\",MAR!F34)","v":""},{"$f":"IF(MAR!S34=\"\",\"\",MAR!S34)","v":""},{"$f":"IF(E284=\"\",\"\",VLOOKUP(E284,MAR!$A$60:$L$84,9,FALSE))","v":""},{"$f":"IF(MAR!J34=\"\",\"\",MAR!J34)","v":""},{"$f":"IF(MAR!L34=\"\",\"\",MAR!L34)","v":""},{"$f":"IF(MAR!I34=\"\",\"\",MAR!I34)","v":""},{"$f":"IF(MAR!N34=\"\",\"\",MAR!N34)","v":""},{"$f":"IF(MAR!O34=\"\",\"\",MAR!O34)","v":""},{"$f":"IF(MAR!P34=\"\",\"\",MAR!P34)","v":""},"",""]
[278,{"$f":"IF(MAR!C35=\"\",\"\",MAR!C35)","v":""},{"$f":"IF(MAR!D35=\"\",\"\",MAR!D35)","v":""},{"$f":"IF(MAR!F35=\"\",\"\",MAR!F35)","v":""},{"$f":"IF(MAR!S35=\"\",\"\",MAR!S35)","v":""},{"$f":"IF(E285=\"\",\"\",VLOOKUP(E285,MAR!$A$60:$L$84,9,FALSE))","v":""},{"$f":"IF(MAR!J35=\"\",\"\",MAR!J35)","v":""},{"$f":"IF(MAR!L35=\"\",\"\",MAR!L35)","v":""},{"$f":"IF(MAR!I35=\"\",\"\",MAR!I35)","v":""},{"$f":"IF(MAR!N35=\"\",\"\",MAR!N35)","v":""},{"$f":"IF(MAR!O35=\"\",\"\",MAR!O35)","v":""},{"$f":"IF(MAR!P35=\"\",\"\",MAR!P35)","v":""},"",""]
[279,{"$f":"IF(MAR!C36=\"\",\"\",MAR!C36)","v":""},{"$f":"IF(MAR!D36=\"\",\"\",MAR!D36)","v":""},{"$f":"IF(MAR!F36=\"\",\"\",MAR!F36)","v":""},{"$f":"IF(MAR!S36=\"\",\"\",MAR!S36)","v":""},{"$f":"IF(E286=\"\",\"\",VLOOKUP(E286,MAR!$A$60:$L$84,9,FALSE))","v":""},{"$f":"IF(MAR!J36=\"\",\"\",MAR!J36)","v":""},{"$f":"IF(MAR!L36=\"\",\"\",MAR!L36)","v":""},{"$f":"IF(MAR!I36=\"\",\"\",MAR!I36)","v":""},{"$f":"IF(MAR!N36=\"\",\"\",MAR!N36)","v":""},{"$f":"IF(MAR!O36=\"\",\"\",MAR!O36)","v":""},{"$f":"IF(MAR!P36=\"\",\"\",MAR!P36)","v":""},"",""]
[280,{"$f":"IF(MAR!C37=\"\",\"\",MAR!C37)","v":""},{"$f":"IF(MAR!D37=\"\",\"\",MAR!D37)","v":""},{"$f":"IF(MAR!F37=\"\",\"\",MAR!F37)","v":""},{"$f":"IF(MAR!S37=\"\",\"\",MAR!S37)","v":""},{"$f":"IF(E287=\"\",\"\",VLOOKUP(E287,MAR!$A$60:$L$84,9,FALSE))","v":""},{"$f":"IF(MAR!J37=\"\",\"\",MAR!J37)","v":""},{"$f":"IF(MAR!L37=\"\",\"\",MAR!L37)","v":""},{"$f":"IF(MAR!I37=\"\",\"\",MAR!I37)","v":""},{"$f":"IF(MAR!N37=\"\",\"\",MAR!N37)","v":""},{"$f":"IF(MAR!O37=\"\",\"\",MAR!O37)","v":""},{"$f":"IF(MAR!P37=\"\",\"\",MAR!P37)","v":""},"",""]
[281,{"$f":"IF(MAR!C38=\"\",\"\",MAR!C38)","v":""},{"$f":"IF(MAR!D38=\"\",\"\",MAR!D38)","v":""},{"$f":"IF(MAR!F38=\"\",\"\",MAR!F38)","v":""},{"$f":"IF(MAR!S38=\"\",\"\",MAR!S38)","v":""},{"$f":"IF(E288=\"\",\"\",VLOOKUP(E288,MAR!$A$60:$L$84,9,FALSE))","v":""},{"$f":"IF(MAR!J38=\"\",\"\",MAR!J38)","v":""},{"$f":"IF(MAR!L38=\"\",\"\",MAR!L38)","v":""},{"$f":"IF(MAR!I38=\"\",\"\",MAR!I38)","v":""},{"$f":"IF(MAR!N38=\"\",\"\",MAR!N38)","v":""},{"$f":"IF(MAR!O38=\"\",\"\",MAR!O38)","v":""},{"$f":"IF(MAR!P38=\"\",\"\",MAR!P38)","v":""},"",""]
[282,{"$f":"IF(MAR!C39=\"\",\"\",MAR!C39)","v":""},{"$f":"IF(MAR!D39=\"\",\"\",MAR!D39)","v":""},{"$f":"IF(MAR!F39=\"\",\"\",MAR!F39)","v":""},{"$f":"IF(MAR!S39=\"\",\"\",MAR!S39)","v":""},{"$f":"IF(E289=\"\",\"\",VLOOKUP(E289,MAR!$A$60:$L$84,9,FALSE))","v":""},{"$f":"IF(MAR!J39=\"\",\"\",MAR!J39)","v":""},{"$f":"IF(MAR!L39=\"\",\"\",MAR!L39)","v":""},{"$f":"IF(MAR!I39=\"\",\"\",MAR!I39)","v":""},{"$f":"IF(MAR!N39=\"\",\"\",MAR!N39)","v":""},{"$f":"IF(MAR!O39=\"\",\"\",MAR!O39)","v":""},{"$f":"IF(MAR!P39=\"\",\"\",MAR!P39)","v":""},"",""]
[283,{"$f":"IF(MAR!C40=\"\",\"\",MAR!C40)","v":""},{"$f":"IF(MAR!D40=\"\",\"\",MAR!D40)","v":""},{"$f":"IF(MAR!F40=\"\",\"\",MAR!F40)","v":""},{"$f":"IF(MAR!S40=\"\",\"\",MAR!S40)","v":""},{"$f":"IF(E290=\"\",\"\",VLOOKUP(E290,MAR!$A$60:$L$84,9,FALSE))","v":""},{"$f":"IF(MAR!J40=\"\",\"\",MAR!J40)","v":""},{"$f":"IF(MAR!L40=\"\",\"\",MAR!L40)","v":""},{"$f":"IF(MAR!I40=\"\",\"\",MAR!I40)","v":""},{"$f":"IF(MAR!N40=\"\",\"\",MAR!N40)","v":""},{"$f":"IF(MAR!O40=\"\",\"\",MAR!O40)","v":""},{"$f":"IF(MAR!P40=\"\",\"\",MAR!P40)","v":""},"",""]
[284,{"$f":"IF(MAR!C41=\"\",\"\",MAR!C41)","v":""},{"$f":"IF(MAR!D41=\"\",\"\",MAR!D41)","v":""},{"$f":"IF(MAR!F41=\"\",\"\",MAR!F41)","v":""},{"$f":"IF(MAR!S41=\"\",\"\",MAR!S41)","v":""},{"$f":"IF(E291=\"\",\"\",VLOOKUP(E291,MAR!$A$60:$L$84,9,FALSE))","v":""},{"$f":"IF(MAR!J41=\"\",\"\",MAR!J41)","v":""},{"$f":"IF(MAR!L41=\"\",\"\",MAR!L41)","v":""},{"$f":"IF(MAR!I41=\"\",\"\",MAR!I41)","v":""},{"$f":"IF(MAR!N41=\"\",\"\",MAR!N41)","v":""},{"$f":"IF(MAR!O41=\"\",\"\",MAR!O41)","v":""},{"$f":"IF(MAR!P41=\"\",\"\",MAR!P41)","v":""},"",""]
[285,{"$f":"IF(MAR!C42=\"\",\"\",MAR!C42)","v":""},{"$f":"IF(MAR!D42=\"\",\"\",MAR!D42)","v":""},{"$f":"IF(MAR!F42=\"\",\"\",MAR!F42)","v":""},{"$f":"IF(MAR!S42=\"\",\"\",MAR!S42)","v":""},{"$f":"IF(E292=\"\",\"\",VLOOKUP(E292,MAR!$A$60:$L$84,9,FALSE))","v":""},{"$f":"IF(MAR!J42=\"\",\"\",MAR!J42)","v":""},{"$f":"IF(MAR!L42=\"\",\"\",MAR!L42)","v":""},{"$f":"IF(MAR!I42=\"\",\"\",MAR!I42)","v":""},{"$f":"IF(MAR!N42=\"\",\"\",MAR!N42)","v":""},{"$f":"IF(MAR!O42=\"\",\"\",MAR!O42)","v":""},{"$f":"IF(MAR!P42=\"\",\"\",MAR!P42)","v":""},"",""]
[286,{"$f":"IF(MAR!C43=\"\",\"\",MAR!C43)","v":""},{"$f":"IF(MAR!D43=\"\",\"\",MAR!D43)","v":""},{"$f":"IF(MAR!F43=\"\",\"\",MAR!F43)","v":""},{"$f":"IF(MAR!S43=\"\",\"\",MAR!S43)","v":""},{"$f":"IF(E293=\"\",\"\",VLOOKUP(E293,MAR!$A$60:$L$84,9,FALSE))","v":""},{"$f":"IF(MAR!J43=\"\",\"\",MAR!J43)","v":""},{"$f":"IF(MAR!L43=\"\",\"\",MAR!L43)","v":""},{"$f":"IF(MAR!I43=\"\",\"\",MAR!I43)","v":""},{"$f":"IF(MAR!N43=\"\",\"\",MAR!N43)","v":""},{"$f":"IF(MAR!O43=\"\",\"\",MAR!O43)","v":""},{"$f":"IF(MAR!P43=\"\",\"\",MAR!P43)","v":""},"",""]
[287,{"$f":"IF(MAR!C44=\"\",\"\",MAR!C44)","v":""},{"$f":"IF(MAR!D44=\"\",\"\",MAR!D44)","v":""},{"$f":"IF(MAR!F44=\"\",\"\",MAR!F44)","v":""},{"$f":"IF(MAR!S44=\"\",\"\",MAR!S44)","v":""},{"$f":"IF(E294=\"\",\"\",VLOOKUP(E294,MAR!$A$60:$L$84,9,FALSE))","v":""},{"$f":"IF(MAR!J44=\"\",\"\",MAR!J44)","v":""},{"$f":"IF(MAR!L44=\"\",\"\",MAR!L44)","v":""},{"$f":"IF(MAR!I44=\"\",\"\",MAR!I44)","v":""},{"$f":"IF(MAR!N44=\"\",\"\",MAR!N44)","v":""},{"$f":"IF(MAR!O44=\"\",\"\",MAR!O44)","v":""},{"$f":"IF(MAR!P44=\"\",\"\",MAR!P44)","v":""},"",""]
[288,{"$f":"IF(MAR!C45=\"\",\"\",MAR!C45)","v":""},{"$f":"IF(MAR!D45=\"\",\"\",MAR!D45)","v":""},{"$f":"IF(MAR!F45=\"\",\"\",MAR!F45)","v":""},{"$f":"IF(MAR!S45=\"\",\"\",MAR!S45)","v":""},{"$f":"IF(E295=\"\",\"\",VLOOKUP(E295,MAR!$A$60:$L$84,9,FALSE))","v":""},{"$f":"IF(MAR!J45=\"\",\"\",MAR!J45)","v":""},{"$f":"IF(MAR!L45=\"\",\"\",MAR!L45)","v":""},{"$f":"IF(MAR!I45=\"\",\"\",MAR!I45)","v":""},{"$f":"IF(MAR!N45=\"\",\"\",MAR!N45)","v":""},{"$f":"IF(MAR!O45=\"\",\"\",MAR!O45)","v":""},{"$f":"IF(MAR!P45=\"\",\"\",MAR!P45)","v":""},"",""]
[289,{"$f":"IF(MAR!C46=\"\",\"\",MAR!C46)","v":""},{"$f":"IF(MAR!D46=\"\",\"\",MAR!D46)","v":""},{"$f":"IF(MAR!F46=\"\",\"\",MAR!F46)","v":""},{"$f":"IF(MAR!S46=\"\",\"\",MAR!S46)","v":""},{"$f":"IF(E296=\"\",\"\",VLOOKUP(E296,MAR!$A$60:$L$84,9,FALSE))","v":""},{"$f":"IF(MAR!J46=\"\",\"\",MAR!J46)","v":""},{"$f":"IF(MAR!L46=\"\",\"\",MAR!L46)","v":""},{"$f":"IF(MAR!I46=\"\",\"\",MAR!I46)","v":""},{"$f":"IF(MAR!N46=\"\",\"\",MAR!N46)","v":""},{"$f":"IF(MAR!O46=\"\",\"\",MAR!O46)","v":""},{"$f":"IF(MAR!P46=\"\",\"\",MAR!P46)","v":""},"",""]
[290,{"$f":"IF(MAR!C47=\"\",\"\",MAR!C47)","v":""},{"$f":"IF(MAR!D47=\"\",\"\",MAR!D47)","v":""},{"$f":"IF(MAR!F47=\"\",\"\",MAR!F47)","v":""},{"$f":"IF(MAR!S47=\"\",\"\",MAR!S47)","v":""},{"$f":"IF(E297=\"\",\"\",VLOOKUP(E297,MAR!$A$60:$L$84,9,FALSE))","v":""},{"$f":"IF(MAR!J47=\"\",\"\",MAR!J47)","v":""},{"$f":"IF(MAR!L47=\"\",\"\",MAR!L47)","v":""},{"$f":"IF(MAR!I47=\"\",\"\",MAR!I47)","v":""},{"$f":"IF(MAR!N47=\"\",\"\",MAR!N47)","v":""},{"$f":"IF(MAR!O47=\"\",\"\",MAR!O47)","v":""},{"$f":"IF(MAR!P47=\"\",\"\",MAR!P47)","v":""},"",""]
[291,{"$f":"IF(MAR!C48=\"\",\"\",MAR!C48)","v":""},{"$f":"IF(MAR!D48=\"\",\"\",MAR!D48)","v":""},{"$f":"IF(MAR!F48=\"\",\"\",MAR!F48)","v":""},{"$f":"IF(MAR!S48=\"\",\"\",MAR!S48)","v":""},{"$f":"IF(E298=\"\",\"\",VLOOKUP(E298,MAR!$A$60:$L$84,9,FALSE))","v":""},{"$f":"IF(MAR!J48=\"\",\"\",MAR!J48)","v":""},{"$f":"IF(MAR!L48=\"\",\"\",MAR!L48)","v":""},{"$f":"IF(MAR!I48=\"\",\"\",MAR!I48)","v":""},{"$f":"IF(MAR!N48=\"\",\"\",MAR!N48)","v":""},{"$f":"IF(MAR!O48=\"\",\"\",MAR!O48)","v":""},{"$f":"IF(MAR!P48=\"\",\"\",MAR!P48)","v":""},"",""]
[292,{"$f":"IF(MAR!C49=\"\",\"\",MAR!C49)","v":""},{"$f":"IF(MAR!D49=\"\",\"\",MAR!D49)","v":""},{"$f":"IF(MAR!F49=\"\",\"\",MAR!F49)","v":""},{"$f":"IF(MAR!S49=\"\",\"\",MAR!S49)","v":""},{"$f":"IF(E299=\"\",\"\",VLOOKUP(E299,MAR!$A$60:$L$84,9,FALSE))","v":""},{"$f":"IF(MAR!J49=\"\",\"\",MAR!J49)","v":""},{"$f":"IF(MAR!L49=\"\",\"\",MAR!L49)","v":""},{"$f":"IF(MAR!I49=\"\",\"\",MAR!I49)","v":""},{"$f":"IF(MAR!N49=\"\",\"\",MAR!N49)","v":""},{"$f":"IF(MAR!O49=\"\",\"\",MAR!O49)","v":""},{"$f":"IF(MAR!P49=\"\",\"\",MAR!P49)","v":""},"",""]
[293,{"$f":"IF(MAR!C50=\"\",\"\",MAR!C50)","v":""},{"$f":"IF(MAR!D50=\"\",\"\",MAR!D50)","v":""},{"$f":"IF(MAR!F50=\"\",\"\",MAR!F50)","v":""},{"$f":"IF(MAR!S50=\"\",\"\",MAR!S50)","v":""},{"$f":"IF(E300=\"\",\"\",VLOOKUP(E300,MAR!$A$60:$L$84,9,FALSE))","v":""},{"$f":"IF(MAR!J50=\"\",\"\",MAR!J50)","v":""},{"$f":"IF(MAR!L50=\"\",\"\",MAR!L50)","v":""},{"$f":"IF(MAR!I50=\"\",\"\",MAR!I50)","v":""},{"$f":"IF(MAR!N50=\"\",\"\",MAR!N50)","v":""},{"$f":"IF(MAR!O50=\"\",\"\",MAR!O50)","v":""},{"$f":"IF(MAR!P50=\"\",\"\",MAR!P50)","v":""},"",""]
[294,{"$f":"IF(MAR!C51=\"\",\"\",MAR!C51)","v":""},{"$f":"IF(MAR!D51=\"\",\"\",MAR!D51)","v":""},{"$f":"IF(MAR!F51=\"\",\"\",MAR!F51)","v":""},{"$f":"IF(MAR!S51=\"\",\"\",MAR!S51)","v":""},{"$f":"IF(E301=\"\",\"\",VLOOKUP(E301,MAR!$A$60:$L$84,9,FALSE))","v":""},{"$f":"IF(MAR!J51=\"\",\"\",MAR!J51)","v":""},{"$f":"IF(MAR!L51=\"\",\"\",MAR!L51)","v":""},{"$f":"IF(MAR!I51=\"\",\"\",MAR!I51)","v":""},{"$f":"IF(MAR!N51=\"\",\"\",MAR!N51)","v":""},{"$f":"IF(MAR!O51=\"\",\"\",MAR!O51)","v":""},{"$f":"IF(MAR!P51=\"\",\"\",MAR!P51)","v":""},"",""]
[295,{"$f":"IF(MAR!C52=\"\",\"\",MAR!C52)","v":""},{"$f":"IF(MAR!D52=\"\",\"\",MAR!D52)","v":""},{"$f":"IF(MAR!F52=\"\",\"\",MAR!F52)","v":""},{"$f":"IF(MAR!S52=\"\",\"\",MAR!S52)","v":""},{"$f":"IF(E302=\"\",\"\",VLOOKUP(E302,MAR!$A$60:$L$84,9,FALSE))","v":""},{"$f":"IF(MAR!J52=\"\",\"\",MAR!J52)","v":""},{"$f":"IF(MAR!L52=\"\",\"\",MAR!L52)","v":""},{"$f":"IF(MAR!I52=\"\",\"\",MAR!I52)","v":""},{"$f":"IF(MAR!N52=\"\",\"\",MAR!N52)","v":""},{"$f":"IF(MAR!O52=\"\",\"\",MAR!O52)","v":""},{"$f":"IF(MAR!P52=\"\",\"\",MAR!P52)","v":""},"",""]
[296,{"$f":"IF(MAR!C53=\"\",\"\",MAR!C53)","v":""},{"$f":"IF(MAR!D53=\"\",\"\",MAR!D53)","v":""},{"$f":"IF(MAR!F53=\"\",\"\",MAR!F53)","v":""},{"$f":"IF(MAR!S53=\"\",\"\",MAR!S53)","v":""},{"$f":"IF(E303=\"\",\"\",VLOOKUP(E303,MAR!$A$60:$L$84,9,FALSE))","v":""},{"$f":"IF(MAR!J53=\"\",\"\",MAR!J53)","v":""},{"$f":"IF(MAR!L53=\"\",\"\",MAR!L53)","v":""},{"$f":"IF(MAR!I53=\"\",\"\",MAR!I53)","v":""},{"$f":"IF(MAR!N53=\"\",\"\",MAR!N53)","v":""},{"$f":"IF(MAR!O53=\"\",\"\",MAR!O53)","v":""},{"$f":"IF(MAR!P53=\"\",\"\",MAR!P53)","v":""},"",""]
[297,{"$f":"IF(MAR!C54=\"\",\"\",MAR!C54)","v":""},{"$f":"IF(MAR!D54=\"\",\"\",MAR!D54)","v":""},{"$f":"IF(MAR!F54=\"\",\"\",MAR!F54)","v":""},{"$f":"IF(MAR!S54=\"\",\"\",MAR!S54)","v":""},{"$f":"IF(E304=\"\",\"\",VLOOKUP(E304,MAR!$A$60:$L$84,9,FALSE))","v":""},{"$f":"IF(MAR!J54=\"\",\"\",MAR!J54)","v":""},{"$f":"IF(MAR!L54=\"\",\"\",MAR!L54)","v":""},{"$f":"IF(MAR!I54=\"\",\"\",MAR!I54)","v":""},{"$f":"IF(MAR!N54=\"\",\"\",MAR!N54)","v":""},{"$f":"IF(MAR!O54=\"\",\"\",MAR!O54)","v":""},{"$f":"IF(MAR!P54=\"\",\"\",MAR!P54)","v":""},"",""]
[298,{"$f":"IF(MAR!C55=\"\",\"\",MAR!C55)","v":""},{"$f":"IF(MAR!D55=\"\",\"\",MAR!D55)","v":""},{"$f":"IF(MAR!F55=\"\",\"\",MAR!F55)","v":""},{"$f":"IF(MAR!S55=\"\",\"\",MAR!S55)","v":""},{"$f":"IF(E305=\"\",\"\",VLOOKUP(E305,MAR!$A$60:$L$84,9,FALSE))","v":""},{"$f":"IF(MAR!J55=\"\",\"\",MAR!J55)","v":""},{"$f":"IF(MAR!L55=\"\",\"\",MAR!L55)","v":""},{"$f":"IF(MAR!I55=\"\",\"\",MAR!I55)","v":""},{"$f":"IF(MAR!N55=\"\",\"\",MAR!N55)","v":""},{"$f":"IF(MAR!O55=\"\",\"\",MAR!O55)","v":""},{"$f":"IF(MAR!P55=\"\",\"\",MAR!P55)","v":""},"",""]
[299,{"$f":"IF(MAR!C56=\"\",\"\",MAR!C56)","v":""},{"$f":"IF(MAR!D56=\"\",\"\",MAR!D56)","v":""},{"$f":"IF(MAR!F56=\"\",\"\",MAR!F56)","v":""},{"$f":"IF(MAR!S56=\"\",\"\",MAR!S56)","v":""},{"$f":"IF(E306=\"\",\"\",VLOOKUP(E306,MAR!$A$60:$L$84,9,FALSE))","v":""},{"$f":"IF(MAR!J56=\"\",\"\",MAR!J56)","v":""},{"$f":"IF(MAR!L56=\"\",\"\",MAR!L56)","v":""},{"$f":"IF(MAR!I56=\"\",\"\",MAR!I56)","v":""},{"$f":"IF(MAR!N56=\"\",\"\",MAR!N56)","v":""},{"$f":"IF(MAR!O56=\"\",\"\",MAR!O56)","v":""},{"$f":"IF(MAR!P56=\"\",\"\",MAR!P56)","v":""},"",""]
[300,{"$f":"IF(MAR!C57=\"\",\"\",MAR!C57)","v":""},{"$f":"IF(MAR!D57=\"\",\"\",MAR!D57)","v":""},{"$f":"IF(MAR!F57=\"\",\"\",MAR!F57)","v":""},{"$f":"IF(MAR!S57=\"\",\"\",MAR!S57)","v":""},{"$f":"IF(E307=\"\",\"\",VLOOKUP(E307,MAR!$A$60:$L$84,9,FALSE))","v":""},{"$f":"IF(MAR!J57=\"\",\"\",MAR!J57)","v":""},{"$f":"IF(MAR!L57=\"\",\"\",MAR!L57)","v":""},{"$f":"IF(MAR!I57=\"\",\"\",MAR!I57)","v":""},{"$f":"IF(MAR!N57=\"\",\"\",MAR!N57)","v":""},{"$f":"IF(MAR!O57=\"\",\"\",MAR!O57)","v":""},{"$f":"IF(MAR!P57=\"\",\"\",MAR!P57)","v":""},"",""]
[301,{"$f":"IF(APR!C8=\"\",\"\",APR!C8)","v":""},{"$f":"IF(APR!D8=\"\",\"\",APR!D8)","v":""},{"$f":"IF(APR!F8=\"\",\"\",APR!F8)","v":""},{"$f":"IF(APR!S8=\"\",\"\",APR!S8)","v":""},{"$f":"IF(E308=\"\",\"\",VLOOKUP(E308,APR!$A$60:$L$84,9,FALSE))","v":""},{"$f":"IF(APR!J8=\"\",\"\",APR!J8)","v":""},{"$f":"IF(APR!L8=\"\",\"\",APR!L8)","v":""},{"$f":"IF(APR!I8=\"\",\"\",APR!I8)","v":""},{"$f":"IF(APR!N8=\"\",\"\",APR!N8)","v":""},{"$f":"IF(APR!O8=\"\",\"\",APR!O8)","v":""},{"$f":"IF(APR!P8=\"\",\"\",APR!P8)","v":""},"",""]
[302,{"$f":"IF(APR!C9=\"\",\"\",APR!C9)","v":""},{"$f":"IF(APR!D9=\"\",\"\",APR!D9)","v":""},{"$f":"IF(APR!F9=\"\",\"\",APR!F9)","v":""},{"$f":"IF(APR!S9=\"\",\"\",APR!S9)","v":""},{"$f":"IF(E309=\"\",\"\",VLOOKUP(E309,APR!$A$60:$L$84,9,FALSE))","v":""},{"$f":"IF(APR!J9=\"\",\"\",APR!J9)","v":""},{"$f":"IF(APR!L9=\"\",\"\",APR!L9)","v":""},{"$f":"IF(APR!I9=\"\",\"\",APR!I9)","v":""},{"$f":"IF(APR!N9=\"\",\"\",APR!N9)","v":""},{"$f":"IF(APR!O9=\"\",\"\",APR!O9)","v":""},{"$f":"IF(APR!P9=\"\",\"\",APR!P9)","v":""},"",""]
[303,{"$f":"IF(APR!C10=\"\",\"\",APR!C10)","v":""},{"$f":"IF(APR!D10=\"\",\"\",APR!D10)","v":""},{"$f":"IF(APR!F10=\"\",\"\",APR!F10)","v":""},{"$f":"IF(APR!S10=\"\",\"\",APR!S10)","v":""},{"$f":"IF(E310=\"\",\"\",VLOOKUP(E310,APR!$A$60:$L$84,9,FALSE))","v":""},{"$f":"IF(APR!J10=\"\",\"\",APR!J10)","v":""},{"$f":"IF(APR!L10=\"\",\"\",APR!L10)","v":""},{"$f":"IF(APR!I10=\"\",\"\",APR!I10)","v":""},{"$f":"IF(APR!N10=\"\",\"\",APR!N10)","v":""},{"$f":"IF(APR!O10=\"\",\"\",APR!O10)","v":""},{"$f":"IF(APR!P10=\"\",\"\",APR!P10)","v":""},"",""]
[304,{"$f":"IF(APR!C11=\"\",\"\",APR!C11)","v":""},{"$f":"IF(APR!D11=\"\",\"\",APR!D11)","v":""},{"$f":"IF(APR!F11=\"\",\"\",APR!F11)","v":""},{"$f":"IF(APR!S11=\"\",\"\",APR!S11)","v":""},{"$f":"IF(E311=\"\",\"\",VLOOKUP(E311,APR!$A$60:$L$84,9,FALSE))","v":""},{"$f":"IF(APR!J11=\"\",\"\",APR!J11)","v":""},{"$f":"IF(APR!L11=\"\",\"\",APR!L11)","v":""},{"$f":"IF(APR!I11=\"\",\"\",APR!I11)","v":""},{"$f":"IF(APR!N11=\"\",\"\",APR!N11)","v":""},{"$f":"IF(APR!O11=\"\",\"\",APR!O11)","v":""},{"$f":"IF(APR!P11=\"\",\"\",APR!P11)","v":""},"",""]
[305,{"$f":"IF(APR!C12=\"\",\"\",APR!C12)","v":""},{"$f":"IF(APR!D12=\"\",\"\",APR!D12)","v":""},{"$f":"IF(APR!F12=\"\",\"\",APR!F12)","v":""},{"$f":"IF(APR!S12=\"\",\"\",APR!S12)","v":""},{"$f":"IF(E312=\"\",\"\",VLOOKUP(E312,APR!$A$60:$L$84,9,FALSE))","v":""},{"$f":"IF(APR!J12=\"\",\"\",APR!J12)","v":""},{"$f":"IF(APR!L12=\"\",\"\",APR!L12)","v":""},{"$f":"IF(APR!I12=\"\",\"\",APR!I12)","v":""},{"$f":"IF(APR!N12=\"\",\"\",APR!N12)","v":""},{"$f":"IF(APR!O12=\"\",\"\",APR!O12)","v":""},{"$f":"IF(APR!P12=\"\",\"\",APR!P12)","v":""},"",""]
[306,{"$f":"IF(APR!C13=\"\",\"\",APR!C13)","v":""},{"$f":"IF(APR!D13=\"\",\"\",APR!D13)","v":""},{"$f":"IF(APR!F13=\"\",\"\",APR!F13)","v":""},{"$f":"IF(APR!S13=\"\",\"\",APR!S13)","v":""},{"$f":"IF(E313=\"\",\"\",VLOOKUP(E313,APR!$A$60:$L$84,9,FALSE))","v":""},{"$f":"IF(APR!J13=\"\",\"\",APR!J13)","v":""},{"$f":"IF(APR!L13=\"\",\"\",APR!L13)","v":""},{"$f":"IF(APR!I13=\"\",\"\",APR!I13)","v":""},{"$f":"IF(APR!N13=\"\",\"\",APR!N13)","v":""},{"$f":"IF(APR!O13=\"\",\"\",APR!O13)","v":""},{"$f":"IF(APR!P13=\"\",\"\",APR!P13)","v":""},"",""]
[307,{"$f":"IF(APR!C14=\"\",\"\",APR!C14)","v":""},{"$f":"IF(APR!D14=\"\",\"\",APR!D14)","v":""},{"$f":"IF(APR!F14=\"\",\"\",APR!F14)","v":""},{"$f":"IF(APR!S14=\"\",\"\",APR!S14)","v":""},{"$f":"IF(E314=\"\",\"\",VLOOKUP(E314,APR!$A$60:$L$84,9,FALSE))","v":""},{"$f":"IF(APR!J14=\"\",\"\",APR!J14)","v":""},{"$f":"IF(APR!L14=\"\",\"\",APR!L14)","v":""},{"$f":"IF(APR!I14=\"\",\"\",APR!I14)","v":""},{"$f":"IF(APR!N14=\"\",\"\",APR!N14)","v":""},{"$f":"IF(APR!O14=\"\",\"\",APR!O14)","v":""},{"$f":"IF(APR!P14=\"\",\"\",APR!P14)","v":""},"",""]
[308,{"$f":"IF(APR!C15=\"\",\"\",APR!C15)","v":""},{"$f":"IF(APR!D15=\"\",\"\",APR!D15)","v":""},{"$f":"IF(APR!F15=\"\",\"\",APR!F15)","v":""},{"$f":"IF(APR!S15=\"\",\"\",APR!S15)","v":""},{"$f":"IF(E315=\"\",\"\",VLOOKUP(E315,APR!$A$60:$L$84,9,FALSE))","v":""},{"$f":"IF(APR!J15=\"\",\"\",APR!J15)","v":""},{"$f":"IF(APR!L15=\"\",\"\",APR!L15)","v":""},{"$f":"IF(APR!I15=\"\",\"\",APR!I15)","v":""},{"$f":"IF(APR!N15=\"\",\"\",APR!N15)","v":""},{"$f":"IF(APR!O15=\"\",\"\",APR!O15)","v":""},{"$f":"IF(APR!P15=\"\",\"\",APR!P15)","v":""},"",""]
[309,{"$f":"IF(APR!C16=\"\",\"\",APR!C16)","v":""},{"$f":"IF(APR!D16=\"\",\"\",APR!D16)","v":""},{"$f":"IF(APR!F16=\"\",\"\",APR!F16)","v":""},{"$f":"IF(APR!S16=\"\",\"\",APR!S16)","v":""},{"$f":"IF(E316=\"\",\"\",VLOOKUP(E316,APR!$A$60:$L$84,9,FALSE))","v":""},{"$f":"IF(APR!J16=\"\",\"\",APR!J16)","v":""},{"$f":"IF(APR!L16=\"\",\"\",APR!L16)","v":""},{"$f":"IF(APR!I16=\"\",\"\",APR!I16)","v":""},{"$f":"IF(APR!N16=\"\",\"\",APR!N16)","v":""},{"$f":"IF(APR!O16=\"\",\"\",APR!O16)","v":""},{"$f":"IF(APR!P16=\"\",\"\",APR!P16)","v":""},"",""]
[310,{"$f":"IF(APR!C17=\"\",\"\",APR!C17)","v":""},{"$f":"IF(APR!D17=\"\",\"\",APR!D17)","v":""},{"$f":"IF(APR!F17=\"\",\"\",APR!F17)","v":""},{"$f":"IF(APR!S17=\"\",\"\",APR!S17)","v":""},{"$f":"IF(E317=\"\",\"\",VLOOKUP(E317,APR!$A$60:$L$84,9,FALSE))","v":""},{"$f":"IF(APR!J17=\"\",\"\",APR!J17)","v":""},{"$f":"IF(APR!L17=\"\",\"\",APR!L17)","v":""},{"$f":"IF(APR!I17=\"\",\"\",APR!I17)","v":""},{"$f":"IF(APR!N17=\"\",\"\",APR!N17)","v":""},{"$f":"IF(APR!O17=\"\",\"\",APR!O17)","v":""},{"$f":"IF(APR!P17=\"\",\"\",APR!P17)","v":""},"",""]
[311,{"$f":"IF(APR!C18=\"\",\"\",APR!C18)","v":""},{"$f":"IF(APR!D18=\"\",\"\",APR!D18)","v":""},{"$f":"IF(APR!F18=\"\",\"\",APR!F18)","v":""},{"$f":"IF(APR!S18=\"\",\"\",APR!S18)","v":""},{"$f":"IF(E318=\"\",\"\",VLOOKUP(E318,APR!$A$60:$L$84,9,FALSE))","v":""},{"$f":"IF(APR!J18=\"\",\"\",APR!J18)","v":""},{"$f":"IF(APR!L18=\"\",\"\",APR!L18)","v":""},{"$f":"IF(APR!I18=\"\",\"\",APR!I18)","v":""},{"$f":"IF(APR!N18=\"\",\"\",APR!N18)","v":""},{"$f":"IF(APR!O18=\"\",\"\",APR!O18)","v":""},{"$f":"IF(APR!P18=\"\",\"\",APR!P18)","v":""},"",""]
[312,{"$f":"IF(APR!C19=\"\",\"\",APR!C19)","v":""},{"$f":"IF(APR!D19=\"\",\"\",APR!D19)","v":""},{"$f":"IF(APR!F19=\"\",\"\",APR!F19)","v":""},{"$f":"IF(APR!S19=\"\",\"\",APR!S19)","v":""},{"$f":"IF(E319=\"\",\"\",VLOOKUP(E319,APR!$A$60:$L$84,9,FALSE))","v":""},{"$f":"IF(APR!J19=\"\",\"\",APR!J19)","v":""},{"$f":"IF(APR!L19=\"\",\"\",APR!L19)","v":""},{"$f":"IF(APR!I19=\"\",\"\",APR!I19)","v":""},{"$f":"IF(APR!N19=\"\",\"\",APR!N19)","v":""},{"$f":"IF(APR!O19=\"\",\"\",APR!O19)","v":""},{"$f":"IF(APR!P19=\"\",\"\",APR!P19)","v":""},"",""]
[313,{"$f":"IF(APR!C20=\"\",\"\",APR!C20)","v":""},{"$f":"IF(APR!D20=\"\",\"\",APR!D20)","v":""},{"$f":"IF(APR!F20=\"\",\"\",APR!F20)","v":""},{"$f":"IF(APR!S20=\"\",\"\",APR!S20)","v":""},{"$f":"IF(E320=\"\",\"\",VLOOKUP(E320,APR!$A$60:$L$84,9,FALSE))","v":""},{"$f":"IF(APR!J20=\"\",\"\",APR!J20)","v":""},{"$f":"IF(APR!L20=\"\",\"\",APR!L20)","v":""},{"$f":"IF(APR!I20=\"\",\"\",APR!I20)","v":""},{"$f":"IF(APR!N20=\"\",\"\",APR!N20)","v":""},{"$f":"IF(APR!O20=\"\",\"\",APR!O20)","v":""},{"$f":"IF(APR!P20=\"\",\"\",APR!P20)","v":""},"",""]
[314,{"$f":"IF(APR!C21=\"\",\"\",APR!C21)","v":""},{"$f":"IF(APR!D21=\"\",\"\",APR!D21)","v":""},{"$f":"IF(APR!F21=\"\",\"\",APR!F21)","v":""},{"$f":"IF(APR!S21=\"\",\"\",APR!S21)","v":""},{"$f":"IF(E321=\"\",\"\",VLOOKUP(E321,APR!$A$60:$L$84,9,FALSE))","v":""},{"$f":"IF(APR!J21=\"\",\"\",APR!J21)","v":""},{"$f":"IF(APR!L21=\"\",\"\",APR!L21)","v":""},{"$f":"IF(APR!I21=\"\",\"\",APR!I21)","v":""},{"$f":"IF(APR!N21=\"\",\"\",APR!N21)","v":""},{"$f":"IF(APR!O21=\"\",\"\",APR!O21)","v":""},{"$f":"IF(APR!P21=\"\",\"\",APR!P21)","v":""},"",""]
[315,{"$f":"IF(APR!C22=\"\",\"\",APR!C22)","v":""},{"$f":"IF(APR!D22=\"\",\"\",APR!D22)","v":""},{"$f":"IF(APR!F22=\"\",\"\",APR!F22)","v":""},{"$f":"IF(APR!S22=\"\",\"\",APR!S22)","v":""},{"$f":"IF(E322=\"\",\"\",VLOOKUP(E322,APR!$A$60:$L$84,9,FALSE))","v":""},{"$f":"IF(APR!J22=\"\",\"\",APR!J22)","v":""},{"$f":"IF(APR!L22=\"\",\"\",APR!L22)","v":""},{"$f":"IF(APR!I22=\"\",\"\",APR!I22)","v":""},{"$f":"IF(APR!N22=\"\",\"\",APR!N22)","v":""},{"$f":"IF(APR!O22=\"\",\"\",APR!O22)","v":""},{"$f":"IF(APR!P22=\"\",\"\",APR!P22)","v":""},"",""]
[316,{"$f":"IF(APR!C23=\"\",\"\",APR!C23)","v":""},{"$f":"IF(APR!D23=\"\",\"\",APR!D23)","v":""},{"$f":"IF(APR!F23=\"\",\"\",APR!F23)","v":""},{"$f":"IF(APR!S23=\"\",\"\",APR!S23)","v":""},{"$f":"IF(E323=\"\",\"\",VLOOKUP(E323,APR!$A$60:$L$84,9,FALSE))","v":""},{"$f":"IF(APR!J23=\"\",\"\",APR!J23)","v":""},{"$f":"IF(APR!L23=\"\",\"\",APR!L23)","v":""},{"$f":"IF(APR!I23=\"\",\"\",APR!I23)","v":""},{"$f":"IF(APR!N23=\"\",\"\",APR!N23)","v":""},{"$f":"IF(APR!O23=\"\",\"\",APR!O23)","v":""},{"$f":"IF(APR!P23=\"\",\"\",APR!P23)","v":""},"",""]
[317,{"$f":"IF(APR!C24=\"\",\"\",APR!C24)","v":""},{"$f":"IF(APR!D24=\"\",\"\",APR!D24)","v":""},{"$f":"IF(APR!F24=\"\",\"\",APR!F24)","v":""},{"$f":"IF(APR!S24=\"\",\"\",APR!S24)","v":""},{"$f":"IF(E324=\"\",\"\",VLOOKUP(E324,APR!$A$60:$L$84,9,FALSE))","v":""},{"$f":"IF(APR!J24=\"\",\"\",APR!J24)","v":""},{"$f":"IF(APR!L24=\"\",\"\",APR!L24)","v":""},{"$f":"IF(APR!I24=\"\",\"\",APR!I24)","v":""},{"$f":"IF(APR!N24=\"\",\"\",APR!N24)","v":""},{"$f":"IF(APR!O24=\"\",\"\",APR!O24)","v":""},{"$f":"IF(APR!P24=\"\",\"\",APR!P24)","v":""},"",""]
[318,{"$f":"IF(APR!C25=\"\",\"\",APR!C25)","v":""},{"$f":"IF(APR!D25=\"\",\"\",APR!D25)","v":""},{"$f":"IF(APR!F25=\"\",\"\",APR!F25)","v":""},{"$f":"IF(APR!S25=\"\",\"\",APR!S25)","v":""},{"$f":"IF(E325=\"\",\"\",VLOOKUP(E325,APR!$A$60:$L$84,9,FALSE))","v":""},{"$f":"IF(APR!J25=\"\",\"\",APR!J25)","v":""},{"$f":"IF(APR!L25=\"\",\"\",APR!L25)","v":""},{"$f":"IF(APR!I25=\"\",\"\",APR!I25)","v":""},{"$f":"IF(APR!N25=\"\",\"\",APR!N25)","v":""},{"$f":"IF(APR!O25=\"\",\"\",APR!O25)","v":""},{"$f":"IF(APR!P25=\"\",\"\",APR!P25)","v":""},"",""]
[319,{"$f":"IF(APR!C26=\"\",\"\",APR!C26)","v":""},{"$f":"IF(APR!D26=\"\",\"\",APR!D26)","v":""},{"$f":"IF(APR!F26=\"\",\"\",APR!F26)","v":""},{"$f":"IF(APR!S26=\"\",\"\",APR!S26)","v":""},{"$f":"IF(E326=\"\",\"\",VLOOKUP(E326,APR!$A$60:$L$84,9,FALSE))","v":""},{"$f":"IF(APR!J26=\"\",\"\",APR!J26)","v":""},{"$f":"IF(APR!L26=\"\",\"\",APR!L26)","v":""},{"$f":"IF(APR!I26=\"\",\"\",APR!I26)","v":""},{"$f":"IF(APR!N26=\"\",\"\",APR!N26)","v":""},{"$f":"IF(APR!O26=\"\",\"\",APR!O26)","v":""},{"$f":"IF(APR!P26=\"\",\"\",APR!P26)","v":""},"",""]
[320,{"$f":"IF(APR!C27=\"\",\"\",APR!C27)","v":""},{"$f":"IF(APR!D27=\"\",\"\",APR!D27)","v":""},{"$f":"IF(APR!F27=\"\",\"\",APR!F27)","v":""},{"$f":"IF(APR!S27=\"\",\"\",APR!S27)","v":""},{"$f":"IF(E327=\"\",\"\",VLOOKUP(E327,APR!$A$60:$L$84,9,FALSE))","v":""},{"$f":"IF(APR!J27=\"\",\"\",APR!J27)","v":""},{"$f":"IF(APR!L27=\"\",\"\",APR!L27)","v":""},{"$f":"IF(APR!I27=\"\",\"\",APR!I27)","v":""},{"$f":"IF(APR!N27=\"\",\"\",APR!N27)","v":""},{"$f":"IF(APR!O27=\"\",\"\",APR!O27)","v":""},{"$f":"IF(APR!P27=\"\",\"\",APR!P27)","v":""},"",""]
[321,{"$f":"IF(APR!C28=\"\",\"\",APR!C28)","v":""},{"$f":"IF(APR!D28=\"\",\"\",APR!D28)","v":""},{"$f":"IF(APR!F28=\"\",\"\",APR!F28)","v":""},{"$f":"IF(APR!S28=\"\",\"\",APR!S28)","v":""},{"$f":"IF(E328=\"\",\"\",VLOOKUP(E328,APR!$A$60:$L$84,9,FALSE))","v":""},{"$f":"IF(APR!J28=\"\",\"\",APR!J28)","v":""},{"$f":"IF(APR!L28=\"\",\"\",APR!L28)","v":""},{"$f":"IF(APR!I28=\"\",\"\",APR!I28)","v":""},{"$f":"IF(APR!N28=\"\",\"\",APR!N28)","v":""},{"$f":"IF(APR!O28=\"\",\"\",APR!O28)","v":""},{"$f":"IF(APR!P28=\"\",\"\",APR!P28)","v":""},{"$f":"IF(J328=\"\",\"\",J328+L328)","v":""},""]
[322,{"$f":"IF(APR!C29=\"\",\"\",APR!C29)","v":""},{"$f":"IF(APR!D29=\"\",\"\",APR!D29)","v":""},{"$f":"IF(APR!F29=\"\",\"\",APR!F29)","v":""},{"$f":"IF(APR!S29=\"\",\"\",APR!S29)","v":""},{"$f":"IF(E329=\"\",\"\",VLOOKUP(E329,APR!$A$60:$L$84,9,FALSE))","v":""},{"$f":"IF(APR!J29=\"\",\"\",APR!J29)","v":""},{"$f":"IF(APR!L29=\"\",\"\",APR!L29)","v":""},{"$f":"IF(APR!I29=\"\",\"\",APR!I29)","v":""},{"$f":"IF(APR!N29=\"\",\"\",APR!N29)","v":""},{"$f":"IF(APR!O29=\"\",\"\",APR!O29)","v":""},{"$f":"IF(APR!P29=\"\",\"\",APR!P29)","v":""},"",""]
[323,{"$f":"IF(APR!C30=\"\",\"\",APR!C30)","v":""},{"$f":"IF(APR!D30=\"\",\"\",APR!D30)","v":""},{"$f":"IF(APR!F30=\"\",\"\",APR!F30)","v":""},{"$f":"IF(APR!S30=\"\",\"\",APR!S30)","v":""},{"$f":"IF(E330=\"\",\"\",VLOOKUP(E330,APR!$A$60:$L$84,9,FALSE))","v":""},{"$f":"IF(APR!J30=\"\",\"\",APR!J30)","v":""},{"$f":"IF(APR!L30=\"\",\"\",APR!L30)","v":""},{"$f":"IF(APR!I30=\"\",\"\",APR!I30)","v":""},{"$f":"IF(APR!N30=\"\",\"\",APR!N30)","v":""},{"$f":"IF(APR!O30=\"\",\"\",APR!O30)","v":""},{"$f":"IF(APR!P30=\"\",\"\",APR!P30)","v":""},"",""]
[324,{"$f":"IF(APR!C31=\"\",\"\",APR!C31)","v":""},{"$f":"IF(APR!D31=\"\",\"\",APR!D31)","v":""},{"$f":"IF(APR!F31=\"\",\"\",APR!F31)","v":""},{"$f":"IF(APR!S31=\"\",\"\",APR!S31)","v":""},{"$f":"IF(E331=\"\",\"\",VLOOKUP(E331,APR!$A$60:$L$84,9,FALSE))","v":""},{"$f":"IF(APR!J31=\"\",\"\",APR!J31)","v":""},{"$f":"IF(APR!L31=\"\",\"\",APR!L31)","v":""},{"$f":"IF(APR!I31=\"\",\"\",APR!I31)","v":""},{"$f":"IF(APR!N31=\"\",\"\",APR!N31)","v":""},{"$f":"IF(APR!O31=\"\",\"\",APR!O31)","v":""},{"$f":"IF(APR!P31=\"\",\"\",APR!P31)","v":""},"",""]
[325,{"$f":"IF(APR!C32=\"\",\"\",APR!C32)","v":""},{"$f":"IF(APR!D32=\"\",\"\",APR!D32)","v":""},{"$f":"IF(APR!F32=\"\",\"\",APR!F32)","v":""},{"$f":"IF(APR!S32=\"\",\"\",APR!S32)","v":""},{"$f":"IF(E332=\"\",\"\",VLOOKUP(E332,APR!$A$60:$L$84,9,FALSE))","v":""},{"$f":"IF(APR!J32=\"\",\"\",APR!J32)","v":""},{"$f":"IF(APR!L32=\"\",\"\",APR!L32)","v":""},{"$f":"IF(APR!I32=\"\",\"\",APR!I32)","v":""},{"$f":"IF(APR!N32=\"\",\"\",APR!N32)","v":""},{"$f":"IF(APR!O32=\"\",\"\",APR!O32)","v":""},{"$f":"IF(APR!P32=\"\",\"\",APR!P32)","v":""},"",""]
[326,{"$f":"IF(APR!C33=\"\",\"\",APR!C33)","v":""},{"$f":"IF(APR!D33=\"\",\"\",APR!D33)","v":""},{"$f":"IF(APR!F33=\"\",\"\",APR!F33)","v":""},{"$f":"IF(APR!S33=\"\",\"\",APR!S33)","v":""},{"$f":"IF(E333=\"\",\"\",VLOOKUP(E333,APR!$A$60:$L$84,9,FALSE))","v":""},{"$f":"IF(APR!J33=\"\",\"\",APR!J33)","v":""},{"$f":"IF(APR!L33=\"\",\"\",APR!L33)","v":""},{"$f":"IF(APR!I33=\"\",\"\",APR!I33)","v":""},{"$f":"IF(APR!N33=\"\",\"\",APR!N33)","v":""},{"$f":"IF(APR!O33=\"\",\"\",APR!O33)","v":""},{"$f":"IF(APR!P33=\"\",\"\",APR!P33)","v":""},"",""]
[327,{"$f":"IF(APR!C34=\"\",\"\",APR!C34)","v":""},{"$f":"IF(APR!D34=\"\",\"\",APR!D34)","v":""},{"$f":"IF(APR!F34=\"\",\"\",APR!F34)","v":""},{"$f":"IF(APR!S34=\"\",\"\",APR!S34)","v":""},{"$f":"IF(E334=\"\",\"\",VLOOKUP(E334,APR!$A$60:$L$84,9,FALSE))","v":""},{"$f":"IF(APR!J34=\"\",\"\",APR!J34)","v":""},{"$f":"IF(APR!L34=\"\",\"\",APR!L34)","v":""},{"$f":"IF(APR!I34=\"\",\"\",APR!I34)","v":""},{"$f":"IF(APR!N34=\"\",\"\",APR!N34)","v":""},{"$f":"IF(APR!O34=\"\",\"\",APR!O34)","v":""},{"$f":"IF(APR!P34=\"\",\"\",APR!P34)","v":""},"",""]
[328,{"$f":"IF(APR!C35=\"\",\"\",APR!C35)","v":""},{"$f":"IF(APR!D35=\"\",\"\",APR!D35)","v":""},{"$f":"IF(APR!F35=\"\",\"\",APR!F35)","v":""},{"$f":"IF(APR!S35=\"\",\"\",APR!S35)","v":""},{"$f":"IF(E335=\"\",\"\",VLOOKUP(E335,APR!$A$60:$L$84,9,FALSE))","v":""},{"$f":"IF(APR!J35=\"\",\"\",APR!J35)","v":""},{"$f":"IF(APR!L35=\"\",\"\",APR!L35)","v":""},{"$f":"IF(APR!I35=\"\",\"\",APR!I35)","v":""},{"$f":"IF(APR!N35=\"\",\"\",APR!N35)","v":""},{"$f":"IF(APR!O35=\"\",\"\",APR!O35)","v":""},{"$f":"IF(APR!P35=\"\",\"\",APR!P35)","v":""},"",""]
[329,{"$f":"IF(APR!C36=\"\",\"\",APR!C36)","v":""},{"$f":"IF(APR!D36=\"\",\"\",APR!D36)","v":""},{"$f":"IF(APR!F36=\"\",\"\",APR!F36)","v":""},{"$f":"IF(APR!S36=\"\",\"\",APR!S36)","v":""},{"$f":"IF(E336=\"\",\"\",VLOOKUP(E336,APR!$A$60:$L$84,9,FALSE))","v":""},{"$f":"IF(APR!J36=\"\",\"\",APR!J36)","v":""},{"$f":"IF(APR!L36=\"\",\"\",APR!L36)","v":""},{"$f":"IF(APR!I36=\"\",\"\",APR!I36)","v":""},{"$f":"IF(APR!N36=\"\",\"\",APR!N36)","v":""},{"$f":"IF(APR!O36=\"\",\"\",APR!O36)","v":""},{"$f":"IF(APR!P36=\"\",\"\",APR!P36)","v":""},"",{"$f":"IF(B336=\"\",\"\",N335+J336+L336)","v":""}]
[330,{"$f":"IF(APR!C37=\"\",\"\",APR!C37)","v":""},{"$f":"IF(APR!D37=\"\",\"\",APR!D37)","v":""},{"$f":"IF(APR!F37=\"\",\"\",APR!F37)","v":""},{"$f":"IF(APR!S37=\"\",\"\",APR!S37)","v":""},{"$f":"IF(E337=\"\",\"\",VLOOKUP(E337,APR!$A$60:$L$84,9,FALSE))","v":""},{"$f":"IF(APR!J37=\"\",\"\",APR!J37)","v":""},{"$f":"IF(APR!L37=\"\",\"\",APR!L37)","v":""},{"$f":"IF(APR!I37=\"\",\"\",APR!I37)","v":""},{"$f":"IF(APR!N37=\"\",\"\",APR!N37)","v":""},{"$f":"IF(APR!O37=\"\",\"\",APR!O37)","v":""},{"$f":"IF(APR!P37=\"\",\"\",APR!P37)","v":""},"",""]
[331,{"$f":"IF(APR!C38=\"\",\"\",APR!C38)","v":""},{"$f":"IF(APR!D38=\"\",\"\",APR!D38)","v":""},{"$f":"IF(APR!F38=\"\",\"\",APR!F38)","v":""},{"$f":"IF(APR!S38=\"\",\"\",APR!S38)","v":""},{"$f":"IF(E338=\"\",\"\",VLOOKUP(E338,APR!$A$60:$L$84,9,FALSE))","v":""},{"$f":"IF(APR!J38=\"\",\"\",APR!J38)","v":""},{"$f":"IF(APR!L38=\"\",\"\",APR!L38)","v":""},{"$f":"IF(APR!I38=\"\",\"\",APR!I38)","v":""},{"$f":"IF(APR!N38=\"\",\"\",APR!N38)","v":""},{"$f":"IF(APR!O38=\"\",\"\",APR!O38)","v":""},{"$f":"IF(APR!P38=\"\",\"\",APR!P38)","v":""},"",""]
[332,{"$f":"IF(APR!C39=\"\",\"\",APR!C39)","v":""},{"$f":"IF(APR!D39=\"\",\"\",APR!D39)","v":""},{"$f":"IF(APR!F39=\"\",\"\",APR!F39)","v":""},{"$f":"IF(APR!S39=\"\",\"\",APR!S39)","v":""},{"$f":"IF(E339=\"\",\"\",VLOOKUP(E339,APR!$A$60:$L$84,9,FALSE))","v":""},{"$f":"IF(APR!J39=\"\",\"\",APR!J39)","v":""},{"$f":"IF(APR!L39=\"\",\"\",APR!L39)","v":""},{"$f":"IF(APR!I39=\"\",\"\",APR!I39)","v":""},{"$f":"IF(APR!N39=\"\",\"\",APR!N39)","v":""},{"$f":"IF(APR!O39=\"\",\"\",APR!O39)","v":""},{"$f":"IF(APR!P39=\"\",\"\",APR!P39)","v":""},"",""]
[333,{"$f":"IF(APR!C40=\"\",\"\",APR!C40)","v":""},{"$f":"IF(APR!D40=\"\",\"\",APR!D40)","v":""},{"$f":"IF(APR!F40=\"\",\"\",APR!F40)","v":""},{"$f":"IF(APR!S40=\"\",\"\",APR!S40)","v":""},{"$f":"IF(E340=\"\",\"\",VLOOKUP(E340,APR!$A$60:$L$84,9,FALSE))","v":""},{"$f":"IF(APR!J40=\"\",\"\",APR!J40)","v":""},{"$f":"IF(APR!L40=\"\",\"\",APR!L40)","v":""},{"$f":"IF(APR!I40=\"\",\"\",APR!I40)","v":""},{"$f":"IF(APR!N40=\"\",\"\",APR!N40)","v":""},{"$f":"IF(APR!O40=\"\",\"\",APR!O40)","v":""},{"$f":"IF(APR!P40=\"\",\"\",APR!P40)","v":""},"",""]
[334,{"$f":"IF(APR!C41=\"\",\"\",APR!C41)","v":""},{"$f":"IF(APR!D41=\"\",\"\",APR!D41)","v":""},{"$f":"IF(APR!F41=\"\",\"\",APR!F41)","v":""},{"$f":"IF(APR!S41=\"\",\"\",APR!S41)","v":""},{"$f":"IF(E341=\"\",\"\",VLOOKUP(E341,APR!$A$60:$L$84,9,FALSE))","v":""},{"$f":"IF(APR!J41=\"\",\"\",APR!J41)","v":""},{"$f":"IF(APR!L41=\"\",\"\",APR!L41)","v":""},{"$f":"IF(APR!I41=\"\",\"\",APR!I41)","v":""},{"$f":"IF(APR!N41=\"\",\"\",APR!N41)","v":""},{"$f":"IF(APR!O41=\"\",\"\",APR!O41)","v":""},{"$f":"IF(APR!P41=\"\",\"\",APR!P41)","v":""},"",""]
[335,{"$f":"IF(APR!C42=\"\",\"\",APR!C42)","v":""},{"$f":"IF(APR!D42=\"\",\"\",APR!D42)","v":""},{"$f":"IF(APR!F42=\"\",\"\",APR!F42)","v":""},{"$f":"IF(APR!S42=\"\",\"\",APR!S42)","v":""},{"$f":"IF(E342=\"\",\"\",VLOOKUP(E342,APR!$A$60:$L$84,9,FALSE))","v":""},{"$f":"IF(APR!J42=\"\",\"\",APR!J42)","v":""},{"$f":"IF(APR!L42=\"\",\"\",APR!L42)","v":""},{"$f":"IF(APR!I42=\"\",\"\",APR!I42)","v":""},{"$f":"IF(APR!N42=\"\",\"\",APR!N42)","v":""},{"$f":"IF(APR!O42=\"\",\"\",APR!O42)","v":""},{"$f":"IF(APR!P42=\"\",\"\",APR!P42)","v":""},"",""]
[336,{"$f":"IF(APR!C43=\"\",\"\",APR!C43)","v":""},{"$f":"IF(APR!D43=\"\",\"\",APR!D43)","v":""},{"$f":"IF(APR!F43=\"\",\"\",APR!F43)","v":""},{"$f":"IF(APR!S43=\"\",\"\",APR!S43)","v":""},{"$f":"IF(E343=\"\",\"\",VLOOKUP(E343,APR!$A$60:$L$84,9,FALSE))","v":""},{"$f":"IF(APR!J43=\"\",\"\",APR!J43)","v":""},{"$f":"IF(APR!L43=\"\",\"\",APR!L43)","v":""},{"$f":"IF(APR!I43=\"\",\"\",APR!I43)","v":""},{"$f":"IF(APR!N43=\"\",\"\",APR!N43)","v":""},{"$f":"IF(APR!O43=\"\",\"\",APR!O43)","v":""},{"$f":"IF(APR!P43=\"\",\"\",APR!P43)","v":""},"",""]
[337,{"$f":"IF(APR!C44=\"\",\"\",APR!C44)","v":""},{"$f":"IF(APR!D44=\"\",\"\",APR!D44)","v":""},{"$f":"IF(APR!F44=\"\",\"\",APR!F44)","v":""},{"$f":"IF(APR!S44=\"\",\"\",APR!S44)","v":""},{"$f":"IF(E344=\"\",\"\",VLOOKUP(E344,APR!$A$60:$L$84,9,FALSE))","v":""},{"$f":"IF(APR!J44=\"\",\"\",APR!J44)","v":""},{"$f":"IF(APR!L44=\"\",\"\",APR!L44)","v":""},{"$f":"IF(APR!I44=\"\",\"\",APR!I44)","v":""},{"$f":"IF(APR!N44=\"\",\"\",APR!N44)","v":""},{"$f":"IF(APR!O44=\"\",\"\",APR!O44)","v":""},{"$f":"IF(APR!P44=\"\",\"\",APR!P44)","v":""},"",""]
[338,{"$f":"IF(APR!C45=\"\",\"\",APR!C45)","v":""},{"$f":"IF(APR!D45=\"\",\"\",APR!D45)","v":""},{"$f":"IF(APR!F45=\"\",\"\",APR!F45)","v":""},{"$f":"IF(APR!S45=\"\",\"\",APR!S45)","v":""},{"$f":"IF(E345=\"\",\"\",VLOOKUP(E345,APR!$A$60:$L$84,9,FALSE))","v":""},{"$f":"IF(APR!J45=\"\",\"\",APR!J45)","v":""},{"$f":"IF(APR!L45=\"\",\"\",APR!L45)","v":""},{"$f":"IF(APR!I45=\"\",\"\",APR!I45)","v":""},{"$f":"IF(APR!N45=\"\",\"\",APR!N45)","v":""},{"$f":"IF(APR!O45=\"\",\"\",APR!O45)","v":""},{"$f":"IF(APR!P45=\"\",\"\",APR!P45)","v":""},"",""]
[339,{"$f":"IF(APR!C46=\"\",\"\",APR!C46)","v":""},{"$f":"IF(APR!D46=\"\",\"\",APR!D46)","v":""},{"$f":"IF(APR!F46=\"\",\"\",APR!F46)","v":""},{"$f":"IF(APR!S46=\"\",\"\",APR!S46)","v":""},{"$f":"IF(E346=\"\",\"\",VLOOKUP(E346,APR!$A$60:$L$84,9,FALSE))","v":""},{"$f":"IF(APR!J46=\"\",\"\",APR!J46)","v":""},{"$f":"IF(APR!L46=\"\",\"\",APR!L46)","v":""},{"$f":"IF(APR!I46=\"\",\"\",APR!I46)","v":""},{"$f":"IF(APR!N46=\"\",\"\",APR!N46)","v":""},{"$f":"IF(APR!O46=\"\",\"\",APR!O46)","v":""},{"$f":"IF(APR!P46=\"\",\"\",APR!P46)","v":""},"",""]
[340,{"$f":"IF(APR!C47=\"\",\"\",APR!C47)","v":""},{"$f":"IF(APR!D47=\"\",\"\",APR!D47)","v":""},{"$f":"IF(APR!F47=\"\",\"\",APR!F47)","v":""},{"$f":"IF(APR!S47=\"\",\"\",APR!S47)","v":""},{"$f":"IF(E347=\"\",\"\",VLOOKUP(E347,APR!$A$60:$L$84,9,FALSE))","v":""},{"$f":"IF(APR!J47=\"\",\"\",APR!J47)","v":""},{"$f":"IF(APR!L47=\"\",\"\",APR!L47)","v":""},{"$f":"IF(APR!I47=\"\",\"\",APR!I47)","v":""},{"$f":"IF(APR!N47=\"\",\"\",APR!N47)","v":""},{"$f":"IF(APR!O47=\"\",\"\",APR!O47)","v":""},{"$f":"IF(APR!P47=\"\",\"\",APR!P47)","v":""},"",""]
[341,{"$f":"IF(APR!C48=\"\",\"\",APR!C48)","v":""},{"$f":"IF(APR!D48=\"\",\"\",APR!D48)","v":""},{"$f":"IF(APR!F48=\"\",\"\",APR!F48)","v":""},{"$f":"IF(APR!S48=\"\",\"\",APR!S48)","v":""},{"$f":"IF(E348=\"\",\"\",VLOOKUP(E348,APR!$A$60:$L$84,9,FALSE))","v":""},{"$f":"IF(APR!J48=\"\",\"\",APR!J48)","v":""},{"$f":"IF(APR!L48=\"\",\"\",APR!L48)","v":""},{"$f":"IF(APR!I48=\"\",\"\",APR!I48)","v":""},{"$f":"IF(APR!N48=\"\",\"\",APR!N48)","v":""},{"$f":"IF(APR!O48=\"\",\"\",APR!O48)","v":""},{"$f":"IF(APR!P48=\"\",\"\",APR!P48)","v":""},"",""]
[342,{"$f":"IF(APR!C49=\"\",\"\",APR!C49)","v":""},{"$f":"IF(APR!D49=\"\",\"\",APR!D49)","v":""},{"$f":"IF(APR!F49=\"\",\"\",APR!F49)","v":""},{"$f":"IF(APR!S49=\"\",\"\",APR!S49)","v":""},{"$f":"IF(E349=\"\",\"\",VLOOKUP(E349,APR!$A$60:$L$84,9,FALSE))","v":""},{"$f":"IF(APR!J49=\"\",\"\",APR!J49)","v":""},{"$f":"IF(APR!L49=\"\",\"\",APR!L49)","v":""},{"$f":"IF(APR!I49=\"\",\"\",APR!I49)","v":""},{"$f":"IF(APR!N49=\"\",\"\",APR!N49)","v":""},{"$f":"IF(APR!O49=\"\",\"\",APR!O49)","v":""},{"$f":"IF(APR!P49=\"\",\"\",APR!P49)","v":""},"",""]
[343,{"$f":"IF(APR!C50=\"\",\"\",APR!C50)","v":""},{"$f":"IF(APR!D50=\"\",\"\",APR!D50)","v":""},{"$f":"IF(APR!F50=\"\",\"\",APR!F50)","v":""},{"$f":"IF(APR!S50=\"\",\"\",APR!S50)","v":""},{"$f":"IF(E350=\"\",\"\",VLOOKUP(E350,APR!$A$60:$L$84,9,FALSE))","v":""},{"$f":"IF(APR!J50=\"\",\"\",APR!J50)","v":""},{"$f":"IF(APR!L50=\"\",\"\",APR!L50)","v":""},{"$f":"IF(APR!I50=\"\",\"\",APR!I50)","v":""},{"$f":"IF(APR!N50=\"\",\"\",APR!N50)","v":""},{"$f":"IF(APR!O50=\"\",\"\",APR!O50)","v":""},{"$f":"IF(APR!P50=\"\",\"\",APR!P50)","v":""},"",""]
[344,{"$f":"IF(APR!C51=\"\",\"\",APR!C51)","v":""},{"$f":"IF(APR!D51=\"\",\"\",APR!D51)","v":""},{"$f":"IF(APR!F51=\"\",\"\",APR!F51)","v":""},{"$f":"IF(APR!S51=\"\",\"\",APR!S51)","v":""},{"$f":"IF(E351=\"\",\"\",VLOOKUP(E351,APR!$A$60:$L$84,9,FALSE))","v":""},{"$f":"IF(APR!J51=\"\",\"\",APR!J51)","v":""},{"$f":"IF(APR!L51=\"\",\"\",APR!L51)","v":""},{"$f":"IF(APR!I51=\"\",\"\",APR!I51)","v":""},{"$f":"IF(APR!N51=\"\",\"\",APR!N51)","v":""},{"$f":"IF(APR!O51=\"\",\"\",APR!O51)","v":""},{"$f":"IF(APR!P51=\"\",\"\",APR!P51)","v":""},"",""]
[345,{"$f":"IF(APR!C52=\"\",\"\",APR!C52)","v":""},{"$f":"IF(APR!D52=\"\",\"\",APR!D52)","v":""},{"$f":"IF(APR!F52=\"\",\"\",APR!F52)","v":""},{"$f":"IF(APR!S52=\"\",\"\",APR!S52)","v":""},{"$f":"IF(E352=\"\",\"\",VLOOKUP(E352,APR!$A$60:$L$84,9,FALSE))","v":""},{"$f":"IF(APR!J52=\"\",\"\",APR!J52)","v":""},{"$f":"IF(APR!L52=\"\",\"\",APR!L52)","v":""},{"$f":"IF(APR!I52=\"\",\"\",APR!I52)","v":""},{"$f":"IF(APR!N52=\"\",\"\",APR!N52)","v":""},{"$f":"IF(APR!O52=\"\",\"\",APR!O52)","v":""},{"$f":"IF(APR!P52=\"\",\"\",APR!P52)","v":""},"",""]
[346,{"$f":"IF(APR!C53=\"\",\"\",APR!C53)","v":""},{"$f":"IF(APR!D53=\"\",\"\",APR!D53)","v":""},{"$f":"IF(APR!F53=\"\",\"\",APR!F53)","v":""},{"$f":"IF(APR!S53=\"\",\"\",APR!S53)","v":""},{"$f":"IF(E353=\"\",\"\",VLOOKUP(E353,APR!$A$60:$L$84,9,FALSE))","v":""},{"$f":"IF(APR!J53=\"\",\"\",APR!J53)","v":""},{"$f":"IF(APR!L53=\"\",\"\",APR!L53)","v":""},{"$f":"IF(APR!I53=\"\",\"\",APR!I53)","v":""},{"$f":"IF(APR!N53=\"\",\"\",APR!N53)","v":""},{"$f":"IF(APR!O53=\"\",\"\",APR!O53)","v":""},{"$f":"IF(APR!P53=\"\",\"\",APR!P53)","v":""},"",""]
[347,{"$f":"IF(APR!C54=\"\",\"\",APR!C54)","v":""},{"$f":"IF(APR!D54=\"\",\"\",APR!D54)","v":""},{"$f":"IF(APR!F54=\"\",\"\",APR!F54)","v":""},{"$f":"IF(APR!S54=\"\",\"\",APR!S54)","v":""},{"$f":"IF(E354=\"\",\"\",VLOOKUP(E354,APR!$A$60:$L$84,9,FALSE))","v":""},{"$f":"IF(APR!J54=\"\",\"\",APR!J54)","v":""},{"$f":"IF(APR!L54=\"\",\"\",APR!L54)","v":""},{"$f":"IF(APR!I54=\"\",\"\",APR!I54)","v":""},{"$f":"IF(APR!N54=\"\",\"\",APR!N54)","v":""},{"$f":"IF(APR!O54=\"\",\"\",APR!O54)","v":""},{"$f":"IF(APR!P54=\"\",\"\",APR!P54)","v":""},"",""]
[348,{"$f":"IF(APR!C55=\"\",\"\",APR!C55)","v":""},{"$f":"IF(APR!D55=\"\",\"\",APR!D55)","v":""},{"$f":"IF(APR!F55=\"\",\"\",APR!F55)","v":""},{"$f":"IF(APR!S55=\"\",\"\",APR!S55)","v":""},{"$f":"IF(E355=\"\",\"\",VLOOKUP(E355,APR!$A$60:$L$84,9,FALSE))","v":""},{"$f":"IF(APR!J55=\"\",\"\",APR!J55)","v":""},{"$f":"IF(APR!L55=\"\",\"\",APR!L55)","v":""},{"$f":"IF(APR!I55=\"\",\"\",APR!I55)","v":""},{"$f":"IF(APR!N55=\"\",\"\",APR!N55)","v":""},{"$f":"IF(APR!O55=\"\",\"\",APR!O55)","v":""},{"$f":"IF(APR!P55=\"\",\"\",APR!P55)","v":""},"",""]
[349,{"$f":"IF(APR!C56=\"\",\"\",APR!C56)","v":""},{"$f":"IF(APR!D56=\"\",\"\",APR!D56)","v":""},{"$f":"IF(APR!F56=\"\",\"\",APR!F56)","v":""},{"$f":"IF(APR!S56=\"\",\"\",APR!S56)","v":""},{"$f":"IF(E356=\"\",\"\",VLOOKUP(E356,APR!$A$60:$L$84,9,FALSE))","v":""},{"$f":"IF(APR!J56=\"\",\"\",APR!J56)","v":""},{"$f":"IF(APR!L56=\"\",\"\",APR!L56)","v":""},{"$f":"IF(APR!I56=\"\",\"\",APR!I56)","v":""},{"$f":"IF(APR!N56=\"\",\"\",APR!N56)","v":""},{"$f":"IF(APR!O56=\"\",\"\",APR!O56)","v":""},{"$f":"IF(APR!P56=\"\",\"\",APR!P56)","v":""},"",""]
[350,{"$f":"IF(APR!C57=\"\",\"\",APR!C57)","v":""},{"$f":"IF(APR!D57=\"\",\"\",APR!D57)","v":""},{"$f":"IF(APR!F57=\"\",\"\",APR!F57)","v":""},{"$f":"IF(APR!S57=\"\",\"\",APR!S57)","v":""},{"$f":"IF(E357=\"\",\"\",VLOOKUP(E357,APR!$A$60:$L$84,9,FALSE))","v":""},{"$f":"IF(APR!J57=\"\",\"\",APR!J57)","v":""},{"$f":"IF(APR!L57=\"\",\"\",APR!L57)","v":""},{"$f":"IF(APR!I57=\"\",\"\",APR!I57)","v":""},{"$f":"IF(APR!N57=\"\",\"\",APR!N57)","v":""},{"$f":"IF(APR!O57=\"\",\"\",APR!O57)","v":""},{"$f":"IF(APR!P57=\"\",\"\",APR!P57)","v":""},"",""]
[351,{"$f":"IF(MAY!C8=\"\",\"\",MAY!C8)","v":""},{"$f":"IF(MAY!D8=\"\",\"\",MAY!D8)","v":""},{"$f":"IF(MAY!F8=\"\",\"\",MAY!F8)","v":""},{"$f":"IF(MAY!S8=\"\",\"\",MAY!S8)","v":""},{"$f":"IF(E358=\"\",\"\",VLOOKUP(E358,MAY!$A$60:$L$84,9,FALSE))","v":""},{"$f":"IF(MAY!J8=\"\",\"\",MAY!J8)","v":""},{"$f":"IF(MAY!L8=\"\",\"\",MAY!L8)","v":""},{"$f":"IF(MAY!I8=\"\",\"\",MAY!I8)","v":""},{"$f":"IF(MAY!N8=\"\",\"\",MAY!N8)","v":""},{"$f":"IF(MAY!O8=\"\",\"\",MAY!O8)","v":""},{"$f":"IF(MAY!P8=\"\",\"\",MAY!P8)","v":""},"",""]
[352,{"$f":"IF(MAY!C9=\"\",\"\",MAY!C9)","v":""},{"$f":"IF(MAY!D9=\"\",\"\",MAY!D9)","v":""},{"$f":"IF(MAY!F9=\"\",\"\",MAY!F9)","v":""},{"$f":"IF(MAY!S9=\"\",\"\",MAY!S9)","v":""},{"$f":"IF(E359=\"\",\"\",VLOOKUP(E359,MAY!$A$60:$L$84,9,FALSE))","v":""},{"$f":"IF(MAY!J9=\"\",\"\",MAY!J9)","v":""},{"$f":"IF(MAY!L9=\"\",\"\",MAY!L9)","v":""},{"$f":"IF(MAY!I9=\"\",\"\",MAY!I9)","v":""},{"$f":"IF(MAY!N9=\"\",\"\",MAY!N9)","v":""},{"$f":"IF(MAY!O9=\"\",\"\",MAY!O9)","v":""},{"$f":"IF(MAY!P9=\"\",\"\",MAY!P9)","v":""},"",""]
[353,{"$f":"IF(MAY!C10=\"\",\"\",MAY!C10)","v":""},{"$f":"IF(MAY!D10=\"\",\"\",MAY!D10)","v":""},{"$f":"IF(MAY!F10=\"\",\"\",MAY!F10)","v":""},{"$f":"IF(MAY!S10=\"\",\"\",MAY!S10)","v":""},{"$f":"IF(E360=\"\",\"\",VLOOKUP(E360,MAY!$A$60:$L$84,9,FALSE))","v":""},{"$f":"IF(MAY!J10=\"\",\"\",MAY!J10)","v":""},{"$f":"IF(MAY!L10=\"\",\"\",MAY!L10)","v":""},{"$f":"IF(MAY!I10=\"\",\"\",MAY!I10)","v":""},{"$f":"IF(MAY!N10=\"\",\"\",MAY!N10)","v":""},{"$f":"IF(MAY!O10=\"\",\"\",MAY!O10)","v":""},{"$f":"IF(MAY!P10=\"\",\"\",MAY!P10)","v":""},"",""]
[354,{"$f":"IF(MAY!C11=\"\",\"\",MAY!C11)","v":""},{"$f":"IF(MAY!D11=\"\",\"\",MAY!D11)","v":""},{"$f":"IF(MAY!F11=\"\",\"\",MAY!F11)","v":""},{"$f":"IF(MAY!S11=\"\",\"\",MAY!S11)","v":""},{"$f":"IF(E361=\"\",\"\",VLOOKUP(E361,MAY!$A$60:$L$84,9,FALSE))","v":""},{"$f":"IF(MAY!J11=\"\",\"\",MAY!J11)","v":""},{"$f":"IF(MAY!L11=\"\",\"\",MAY!L11)","v":""},{"$f":"IF(MAY!I11=\"\",\"\",MAY!I11)","v":""},{"$f":"IF(MAY!N11=\"\",\"\",MAY!N11)","v":""},{"$f":"IF(MAY!O11=\"\",\"\",MAY!O11)","v":""},{"$f":"IF(MAY!P11=\"\",\"\",MAY!P11)","v":""},"",""]
[355,{"$f":"IF(MAY!C12=\"\",\"\",MAY!C12)","v":""},{"$f":"IF(MAY!D12=\"\",\"\",MAY!D12)","v":""},{"$f":"IF(MAY!F12=\"\",\"\",MAY!F12)","v":""},{"$f":"IF(MAY!S12=\"\",\"\",MAY!S12)","v":""},{"$f":"IF(E362=\"\",\"\",VLOOKUP(E362,MAY!$A$60:$L$84,9,FALSE))","v":""},{"$f":"IF(MAY!J12=\"\",\"\",MAY!J12)","v":""},{"$f":"IF(MAY!L12=\"\",\"\",MAY!L12)","v":""},{"$f":"IF(MAY!I12=\"\",\"\",MAY!I12)","v":""},{"$f":"IF(MAY!N12=\"\",\"\",MAY!N12)","v":""},{"$f":"IF(MAY!O12=\"\",\"\",MAY!O12)","v":""},{"$f":"IF(MAY!P12=\"\",\"\",MAY!P12)","v":""},"",""]
[356,{"$f":"IF(MAY!C13=\"\",\"\",MAY!C13)","v":""},{"$f":"IF(MAY!D13=\"\",\"\",MAY!D13)","v":""},{"$f":"IF(MAY!F13=\"\",\"\",MAY!F13)","v":""},{"$f":"IF(MAY!S13=\"\",\"\",MAY!S13)","v":""},{"$f":"IF(E363=\"\",\"\",VLOOKUP(E363,MAY!$A$60:$L$84,9,FALSE))","v":""},{"$f":"IF(MAY!J13=\"\",\"\",MAY!J13)","v":""},{"$f":"IF(MAY!L13=\"\",\"\",MAY!L13)","v":""},{"$f":"IF(MAY!I13=\"\",\"\",MAY!I13)","v":""},{"$f":"IF(MAY!N13=\"\",\"\",MAY!N13)","v":""},{"$f":"IF(MAY!O13=\"\",\"\",MAY!O13)","v":""},{"$f":"IF(MAY!P13=\"\",\"\",MAY!P13)","v":""},"",""]
[357,{"$f":"IF(MAY!C14=\"\",\"\",MAY!C14)","v":""},{"$f":"IF(MAY!D14=\"\",\"\",MAY!D14)","v":""},{"$f":"IF(MAY!F14=\"\",\"\",MAY!F14)","v":""},{"$f":"IF(MAY!S14=\"\",\"\",MAY!S14)","v":""},{"$f":"IF(E364=\"\",\"\",VLOOKUP(E364,MAY!$A$60:$L$84,9,FALSE))","v":""},{"$f":"IF(MAY!J14=\"\",\"\",MAY!J14)","v":""},{"$f":"IF(MAY!L14=\"\",\"\",MAY!L14)","v":""},{"$f":"IF(MAY!I14=\"\",\"\",MAY!I14)","v":""},{"$f":"IF(MAY!N14=\"\",\"\",MAY!N14)","v":""},{"$f":"IF(MAY!O14=\"\",\"\",MAY!O14)","v":""},{"$f":"IF(MAY!P14=\"\",\"\",MAY!P14)","v":""},"",""]
[358,{"$f":"IF(MAY!C15=\"\",\"\",MAY!C15)","v":""},{"$f":"IF(MAY!D15=\"\",\"\",MAY!D15)","v":""},{"$f":"IF(MAY!F15=\"\",\"\",MAY!F15)","v":""},{"$f":"IF(MAY!S15=\"\",\"\",MAY!S15)","v":""},{"$f":"IF(E365=\"\",\"\",VLOOKUP(E365,MAY!$A$60:$L$84,9,FALSE))","v":""},{"$f":"IF(MAY!J15=\"\",\"\",MAY!J15)","v":""},{"$f":"IF(MAY!L15=\"\",\"\",MAY!L15)","v":""},{"$f":"IF(MAY!I15=\"\",\"\",MAY!I15)","v":""},{"$f":"IF(MAY!N15=\"\",\"\",MAY!N15)","v":""},{"$f":"IF(MAY!O15=\"\",\"\",MAY!O15)","v":""},{"$f":"IF(MAY!P15=\"\",\"\",MAY!P15)","v":""},"",""]
[359,{"$f":"IF(MAY!C16=\"\",\"\",MAY!C16)","v":""},{"$f":"IF(MAY!D16=\"\",\"\",MAY!D16)","v":""},{"$f":"IF(MAY!F16=\"\",\"\",MAY!F16)","v":""},{"$f":"IF(MAY!S16=\"\",\"\",MAY!S16)","v":""},{"$f":"IF(E366=\"\",\"\",VLOOKUP(E366,MAY!$A$60:$L$84,9,FALSE))","v":""},{"$f":"IF(MAY!J16=\"\",\"\",MAY!J16)","v":""},{"$f":"IF(MAY!L16=\"\",\"\",MAY!L16)","v":""},{"$f":"IF(MAY!I16=\"\",\"\",MAY!I16)","v":""},{"$f":"IF(MAY!N16=\"\",\"\",MAY!N16)","v":""},{"$f":"IF(MAY!O16=\"\",\"\",MAY!O16)","v":""},{"$f":"IF(MAY!P16=\"\",\"\",MAY!P16)","v":""},"",""]
[360,{"$f":"IF(MAY!C17=\"\",\"\",MAY!C17)","v":""},{"$f":"IF(MAY!D17=\"\",\"\",MAY!D17)","v":""},{"$f":"IF(MAY!F17=\"\",\"\",MAY!F17)","v":""},{"$f":"IF(MAY!S17=\"\",\"\",MAY!S17)","v":""},{"$f":"IF(E367=\"\",\"\",VLOOKUP(E367,MAY!$A$60:$L$84,9,FALSE))","v":""},{"$f":"IF(MAY!J17=\"\",\"\",MAY!J17)","v":""},{"$f":"IF(MAY!L17=\"\",\"\",MAY!L17)","v":""},{"$f":"IF(MAY!I17=\"\",\"\",MAY!I17)","v":""},{"$f":"IF(MAY!N17=\"\",\"\",MAY!N17)","v":""},{"$f":"IF(MAY!O17=\"\",\"\",MAY!O17)","v":""},{"$f":"IF(MAY!P17=\"\",\"\",MAY!P17)","v":""},"",""]
[361,{"$f":"IF(MAY!C18=\"\",\"\",MAY!C18)","v":""},{"$f":"IF(MAY!D18=\"\",\"\",MAY!D18)","v":""},{"$f":"IF(MAY!F18=\"\",\"\",MAY!F18)","v":""},{"$f":"IF(MAY!S18=\"\",\"\",MAY!S18)","v":""},{"$f":"IF(E368=\"\",\"\",VLOOKUP(E368,MAY!$A$60:$L$84,9,FALSE))","v":""},{"$f":"IF(MAY!J18=\"\",\"\",MAY!J18)","v":""},{"$f":"IF(MAY!L18=\"\",\"\",MAY!L18)","v":""},{"$f":"IF(MAY!I18=\"\",\"\",MAY!I18)","v":""},{"$f":"IF(MAY!N18=\"\",\"\",MAY!N18)","v":""},{"$f":"IF(MAY!O18=\"\",\"\",MAY!O18)","v":""},{"$f":"IF(MAY!P18=\"\",\"\",MAY!P18)","v":""},"",""]
[362,{"$f":"IF(MAY!C19=\"\",\"\",MAY!C19)","v":""},{"$f":"IF(MAY!D19=\"\",\"\",MAY!D19)","v":""},{"$f":"IF(MAY!F19=\"\",\"\",MAY!F19)","v":""},{"$f":"IF(MAY!S19=\"\",\"\",MAY!S19)","v":""},{"$f":"IF(E369=\"\",\"\",VLOOKUP(E369,MAY!$A$60:$L$84,9,FALSE))","v":""},{"$f":"IF(MAY!J19=\"\",\"\",MAY!J19)","v":""},{"$f":"IF(MAY!L19=\"\",\"\",MAY!L19)","v":""},{"$f":"IF(MAY!I19=\"\",\"\",MAY!I19)","v":""},{"$f":"IF(MAY!N19=\"\",\"\",MAY!N19)","v":""},{"$f":"IF(MAY!O19=\"\",\"\",MAY!O19)","v":""},{"$f":"IF(MAY!P19=\"\",\"\",MAY!P19)","v":""},"",""]
[363,{"$f":"IF(MAY!C20=\"\",\"\",MAY!C20)","v":""},{"$f":"IF(MAY!D20=\"\",\"\",MAY!D20)","v":""},{"$f":"IF(MAY!F20=\"\",\"\",MAY!F20)","v":""},{"$f":"IF(MAY!S20=\"\",\"\",MAY!S20)","v":""},{"$f":"IF(E370=\"\",\"\",VLOOKUP(E370,MAY!$A$60:$L$84,9,FALSE))","v":""},{"$f":"IF(MAY!J20=\"\",\"\",MAY!J20)","v":""},{"$f":"IF(MAY!L20=\"\",\"\",MAY!L20)","v":""},{"$f":"IF(MAY!I20=\"\",\"\",MAY!I20)","v":""},{"$f":"IF(MAY!N20=\"\",\"\",MAY!N20)","v":""},{"$f":"IF(MAY!O20=\"\",\"\",MAY!O20)","v":""},{"$f":"IF(MAY!P20=\"\",\"\",MAY!P20)","v":""},"",""]
[364,{"$f":"IF(MAY!C21=\"\",\"\",MAY!C21)","v":""},{"$f":"IF(MAY!D21=\"\",\"\",MAY!D21)","v":""},{"$f":"IF(MAY!F21=\"\",\"\",MAY!F21)","v":""},{"$f":"IF(MAY!S21=\"\",\"\",MAY!S21)","v":""},{"$f":"IF(E371=\"\",\"\",VLOOKUP(E371,MAY!$A$60:$L$84,9,FALSE))","v":""},{"$f":"IF(MAY!J21=\"\",\"\",MAY!J21)","v":""},{"$f":"IF(MAY!L21=\"\",\"\",MAY!L21)","v":""},{"$f":"IF(MAY!I21=\"\",\"\",MAY!I21)","v":""},{"$f":"IF(MAY!N21=\"\",\"\",MAY!N21)","v":""},{"$f":"IF(MAY!O21=\"\",\"\",MAY!O21)","v":""},{"$f":"IF(MAY!P21=\"\",\"\",MAY!P21)","v":""},"",""]
[365,{"$f":"IF(MAY!C22=\"\",\"\",MAY!C22)","v":""},{"$f":"IF(MAY!D22=\"\",\"\",MAY!D22)","v":""},{"$f":"IF(MAY!F22=\"\",\"\",MAY!F22)","v":""},{"$f":"IF(MAY!S22=\"\",\"\",MAY!S22)","v":""},{"$f":"IF(E372=\"\",\"\",VLOOKUP(E372,MAY!$A$60:$L$84,9,FALSE))","v":""},{"$f":"IF(MAY!J22=\"\",\"\",MAY!J22)","v":""},{"$f":"IF(MAY!L22=\"\",\"\",MAY!L22)","v":""},{"$f":"IF(MAY!I22=\"\",\"\",MAY!I22)","v":""},{"$f":"IF(MAY!N22=\"\",\"\",MAY!N22)","v":""},{"$f":"IF(MAY!O22=\"\",\"\",MAY!O22)","v":""},{"$f":"IF(MAY!P22=\"\",\"\",MAY!P22)","v":""},"",""]
[366,{"$f":"IF(MAY!C23=\"\",\"\",MAY!C23)","v":""},{"$f":"IF(MAY!D23=\"\",\"\",MAY!D23)","v":""},{"$f":"IF(MAY!F23=\"\",\"\",MAY!F23)","v":""},{"$f":"IF(MAY!S23=\"\",\"\",MAY!S23)","v":""},{"$f":"IF(E373=\"\",\"\",VLOOKUP(E373,MAY!$A$60:$L$84,9,FALSE))","v":""},{"$f":"IF(MAY!J23=\"\",\"\",MAY!J23)","v":""},{"$f":"IF(MAY!L23=\"\",\"\",MAY!L23)","v":""},{"$f":"IF(MAY!I23=\"\",\"\",MAY!I23)","v":""},{"$f":"IF(MAY!N23=\"\",\"\",MAY!N23)","v":""},{"$f":"IF(MAY!O23=\"\",\"\",MAY!O23)","v":""},{"$f":"IF(MAY!P23=\"\",\"\",MAY!P23)","v":""},"",""]
[367,{"$f":"IF(MAY!C24=\"\",\"\",MAY!C24)","v":""},{"$f":"IF(MAY!D24=\"\",\"\",MAY!D24)","v":""},{"$f":"IF(MAY!F24=\"\",\"\",MAY!F24)","v":""},{"$f":"IF(MAY!S24=\"\",\"\",MAY!S24)","v":""},{"$f":"IF(E374=\"\",\"\",VLOOKUP(E374,MAY!$A$60:$L$84,9,FALSE))","v":""},{"$f":"IF(MAY!J24=\"\",\"\",MAY!J24)","v":""},{"$f":"IF(MAY!L24=\"\",\"\",MAY!L24)","v":""},{"$f":"IF(MAY!I24=\"\",\"\",MAY!I24)","v":""},{"$f":"IF(MAY!N24=\"\",\"\",MAY!N24)","v":""},{"$f":"IF(MAY!O24=\"\",\"\",MAY!O24)","v":""},{"$f":"IF(MAY!P24=\"\",\"\",MAY!P24)","v":""},"",""]
[368,{"$f":"IF(MAY!C25=\"\",\"\",MAY!C25)","v":""},{"$f":"IF(MAY!D25=\"\",\"\",MAY!D25)","v":""},{"$f":"IF(MAY!F25=\"\",\"\",MAY!F25)","v":""},{"$f":"IF(MAY!S25=\"\",\"\",MAY!S25)","v":""},{"$f":"IF(E375=\"\",\"\",VLOOKUP(E375,MAY!$A$60:$L$84,9,FALSE))","v":""},{"$f":"IF(MAY!J25=\"\",\"\",MAY!J25)","v":""},{"$f":"IF(MAY!L25=\"\",\"\",MAY!L25)","v":""},{"$f":"IF(MAY!I25=\"\",\"\",MAY!I25)","v":""},{"$f":"IF(MAY!N25=\"\",\"\",MAY!N25)","v":""},{"$f":"IF(MAY!O25=\"\",\"\",MAY!O25)","v":""},{"$f":"IF(MAY!P25=\"\",\"\",MAY!P25)","v":""},"",""]
[369,{"$f":"IF(MAY!C26=\"\",\"\",MAY!C26)","v":""},{"$f":"IF(MAY!D26=\"\",\"\",MAY!D26)","v":""},{"$f":"IF(MAY!F26=\"\",\"\",MAY!F26)","v":""},{"$f":"IF(MAY!S26=\"\",\"\",MAY!S26)","v":""},{"$f":"IF(E376=\"\",\"\",VLOOKUP(E376,MAY!$A$60:$L$84,9,FALSE))","v":""},{"$f":"IF(MAY!J26=\"\",\"\",MAY!J26)","v":""},{"$f":"IF(MAY!L26=\"\",\"\",MAY!L26)","v":""},{"$f":"IF(MAY!I26=\"\",\"\",MAY!I26)","v":""},{"$f":"IF(MAY!N26=\"\",\"\",MAY!N26)","v":""},{"$f":"IF(MAY!O26=\"\",\"\",MAY!O26)","v":""},{"$f":"IF(MAY!P26=\"\",\"\",MAY!P26)","v":""},"",""]
[370,{"$f":"IF(MAY!C27=\"\",\"\",MAY!C27)","v":""},{"$f":"IF(MAY!D27=\"\",\"\",MAY!D27)","v":""},{"$f":"IF(MAY!F27=\"\",\"\",MAY!F27)","v":""},{"$f":"IF(MAY!S27=\"\",\"\",MAY!S27)","v":""},{"$f":"IF(E377=\"\",\"\",VLOOKUP(E377,MAY!$A$60:$L$84,9,FALSE))","v":""},{"$f":"IF(MAY!J27=\"\",\"\",MAY!J27)","v":""},{"$f":"IF(MAY!L27=\"\",\"\",MAY!L27)","v":""},{"$f":"IF(MAY!I27=\"\",\"\",MAY!I27)","v":""},{"$f":"IF(MAY!N27=\"\",\"\",MAY!N27)","v":""},{"$f":"IF(MAY!O27=\"\",\"\",MAY!O27)","v":""},{"$f":"IF(MAY!P27=\"\",\"\",MAY!P27)","v":""},"",""]
[371,{"$f":"IF(MAY!C28=\"\",\"\",MAY!C28)","v":""},{"$f":"IF(MAY!D28=\"\",\"\",MAY!D28)","v":""},{"$f":"IF(MAY!F28=\"\",\"\",MAY!F28)","v":""},{"$f":"IF(MAY!S28=\"\",\"\",MAY!S28)","v":""},{"$f":"IF(E378=\"\",\"\",VLOOKUP(E378,MAY!$A$60:$L$84,9,FALSE))","v":""},{"$f":"IF(MAY!J28=\"\",\"\",MAY!J28)","v":""},{"$f":"IF(MAY!L28=\"\",\"\",MAY!L28)","v":""},{"$f":"IF(MAY!I28=\"\",\"\",MAY!I28)","v":""},{"$f":"IF(MAY!N28=\"\",\"\",MAY!N28)","v":""},{"$f":"IF(MAY!O28=\"\",\"\",MAY!O28)","v":""},{"$f":"IF(MAY!P28=\"\",\"\",MAY!P28)","v":""},"",""]
[372,{"$f":"IF(MAY!C29=\"\",\"\",MAY!C29)","v":""},{"$f":"IF(MAY!D29=\"\",\"\",MAY!D29)","v":""},{"$f":"IF(MAY!F29=\"\",\"\",MAY!F29)","v":""},{"$f":"IF(MAY!S29=\"\",\"\",MAY!S29)","v":""},{"$f":"IF(E379=\"\",\"\",VLOOKUP(E379,MAY!$A$60:$L$84,9,FALSE))","v":""},{"$f":"IF(MAY!J29=\"\",\"\",MAY!J29)","v":""},{"$f":"IF(MAY!L29=\"\",\"\",MAY!L29)","v":""},{"$f":"IF(MAY!I29=\"\",\"\",MAY!I29)","v":""},{"$f":"IF(MAY!N29=\"\",\"\",MAY!N29)","v":""},{"$f":"IF(MAY!O29=\"\",\"\",MAY!O29)","v":""},{"$f":"IF(MAY!P29=\"\",\"\",MAY!P29)","v":""},"",""]
[373,{"$f":"IF(MAY!C30=\"\",\"\",MAY!C30)","v":""},{"$f":"IF(MAY!D30=\"\",\"\",MAY!D30)","v":""},{"$f":"IF(MAY!F30=\"\",\"\",MAY!F30)","v":""},{"$f":"IF(MAY!S30=\"\",\"\",MAY!S30)","v":""},{"$f":"IF(E380=\"\",\"\",VLOOKUP(E380,MAY!$A$60:$L$84,9,FALSE))","v":""},{"$f":"IF(MAY!J30=\"\",\"\",MAY!J30)","v":""},{"$f":"IF(MAY!L30=\"\",\"\",MAY!L30)","v":""},{"$f":"IF(MAY!I30=\"\",\"\",MAY!I30)","v":""},{"$f":"IF(MAY!N30=\"\",\"\",MAY!N30)","v":""},{"$f":"IF(MAY!O30=\"\",\"\",MAY!O30)","v":""},{"$f":"IF(MAY!P30=\"\",\"\",MAY!P30)","v":""},"",""]
[374,{"$f":"IF(MAY!C31=\"\",\"\",MAY!C31)","v":""},{"$f":"IF(MAY!D31=\"\",\"\",MAY!D31)","v":""},{"$f":"IF(MAY!F31=\"\",\"\",MAY!F31)","v":""},{"$f":"IF(MAY!S31=\"\",\"\",MAY!S31)","v":""},{"$f":"IF(E381=\"\",\"\",VLOOKUP(E381,MAY!$A$60:$L$84,9,FALSE))","v":""},{"$f":"IF(MAY!J31=\"\",\"\",MAY!J31)","v":""},{"$f":"IF(MAY!L31=\"\",\"\",MAY!L31)","v":""},{"$f":"IF(MAY!I31=\"\",\"\",MAY!I31)","v":""},{"$f":"IF(MAY!N31=\"\",\"\",MAY!N31)","v":""},{"$f":"IF(MAY!O31=\"\",\"\",MAY!O31)","v":""},{"$f":"IF(MAY!P31=\"\",\"\",MAY!P31)","v":""},"",""]
[375,{"$f":"IF(MAY!C32=\"\",\"\",MAY!C32)","v":""},{"$f":"IF(MAY!D32=\"\",\"\",MAY!D32)","v":""},{"$f":"IF(MAY!F32=\"\",\"\",MAY!F32)","v":""},{"$f":"IF(MAY!S32=\"\",\"\",MAY!S32)","v":""},{"$f":"IF(E382=\"\",\"\",VLOOKUP(E382,MAY!$A$60:$L$84,9,FALSE))","v":""},{"$f":"IF(MAY!J32=\"\",\"\",MAY!J32)","v":""},{"$f":"IF(MAY!L32=\"\",\"\",MAY!L32)","v":""},{"$f":"IF(MAY!I32=\"\",\"\",MAY!I32)","v":""},{"$f":"IF(MAY!N32=\"\",\"\",MAY!N32)","v":""},{"$f":"IF(MAY!O32=\"\",\"\",MAY!O32)","v":""},{"$f":"IF(MAY!P32=\"\",\"\",MAY!P32)","v":""},"",""]
[376,{"$f":"IF(MAY!C33=\"\",\"\",MAY!C33)","v":""},{"$f":"IF(MAY!D33=\"\",\"\",MAY!D33)","v":""},{"$f":"IF(MAY!F33=\"\",\"\",MAY!F33)","v":""},{"$f":"IF(MAY!S33=\"\",\"\",MAY!S33)","v":""},{"$f":"IF(E383=\"\",\"\",VLOOKUP(E383,MAY!$A$60:$L$84,9,FALSE))","v":""},{"$f":"IF(MAY!J33=\"\",\"\",MAY!J33)","v":""},{"$f":"IF(MAY!L33=\"\",\"\",MAY!L33)","v":""},{"$f":"IF(MAY!I33=\"\",\"\",MAY!I33)","v":""},{"$f":"IF(MAY!N33=\"\",\"\",MAY!N33)","v":""},{"$f":"IF(MAY!O33=\"\",\"\",MAY!O33)","v":""},{"$f":"IF(MAY!P33=\"\",\"\",MAY!P33)","v":""},"",""]
[377,{"$f":"IF(MAY!C34=\"\",\"\",MAY!C34)","v":""},{"$f":"IF(MAY!D34=\"\",\"\",MAY!D34)","v":""},{"$f":"IF(MAY!F34=\"\",\"\",MAY!F34)","v":""},{"$f":"IF(MAY!S34=\"\",\"\",MAY!S34)","v":""},{"$f":"IF(E384=\"\",\"\",VLOOKUP(E384,MAY!$A$60:$L$84,9,FALSE))","v":""},{"$f":"IF(MAY!J34=\"\",\"\",MAY!J34)","v":""},{"$f":"IF(MAY!L34=\"\",\"\",MAY!L34)","v":""},{"$f":"IF(MAY!I34=\"\",\"\",MAY!I34)","v":""},{"$f":"IF(MAY!N34=\"\",\"\",MAY!N34)","v":""},{"$f":"IF(MAY!O34=\"\",\"\",MAY!O34)","v":""},{"$f":"IF(MAY!P34=\"\",\"\",MAY!P34)","v":""},"",""]
[378,{"$f":"IF(MAY!C35=\"\",\"\",MAY!C35)","v":""},{"$f":"IF(MAY!D35=\"\",\"\",MAY!D35)","v":""},{"$f":"IF(MAY!F35=\"\",\"\",MAY!F35)","v":""},{"$f":"IF(MAY!S35=\"\",\"\",MAY!S35)","v":""},{"$f":"IF(E385=\"\",\"\",VLOOKUP(E385,MAY!$A$60:$L$84,9,FALSE))","v":""},{"$f":"IF(MAY!J35=\"\",\"\",MAY!J35)","v":""},{"$f":"IF(MAY!L35=\"\",\"\",MAY!L35)","v":""},{"$f":"IF(MAY!I35=\"\",\"\",MAY!I35)","v":""},{"$f":"IF(MAY!N35=\"\",\"\",MAY!N35)","v":""},{"$f":"IF(MAY!O35=\"\",\"\",MAY!O35)","v":""},{"$f":"IF(MAY!P35=\"\",\"\",MAY!P35)","v":""},"",""]
[379,{"$f":"IF(MAY!C36=\"\",\"\",MAY!C36)","v":""},{"$f":"IF(MAY!D36=\"\",\"\",MAY!D36)","v":""},{"$f":"IF(MAY!F36=\"\",\"\",MAY!F36)","v":""},{"$f":"IF(MAY!S36=\"\",\"\",MAY!S36)","v":""},{"$f":"IF(E386=\"\",\"\",VLOOKUP(E386,MAY!$A$60:$L$84,9,FALSE))","v":""},{"$f":"IF(MAY!J36=\"\",\"\",MAY!J36)","v":""},{"$f":"IF(MAY!L36=\"\",\"\",MAY!L36)","v":""},{"$f":"IF(MAY!I36=\"\",\"\",MAY!I36)","v":""},{"$f":"IF(MAY!N36=\"\",\"\",MAY!N36)","v":""},{"$f":"IF(MAY!O36=\"\",\"\",MAY!O36)","v":""},{"$f":"IF(MAY!P36=\"\",\"\",MAY!P36)","v":""},"",""]
[380,{"$f":"IF(MAY!C37=\"\",\"\",MAY!C37)","v":""},{"$f":"IF(MAY!D37=\"\",\"\",MAY!D37)","v":""},{"$f":"IF(MAY!F37=\"\",\"\",MAY!F37)","v":""},{"$f":"IF(MAY!S37=\"\",\"\",MAY!S37)","v":""},{"$f":"IF(E387=\"\",\"\",VLOOKUP(E387,MAY!$A$60:$L$84,9,FALSE))","v":""},{"$f":"IF(MAY!J37=\"\",\"\",MAY!J37)","v":""},{"$f":"IF(MAY!L37=\"\",\"\",MAY!L37)","v":""},{"$f":"IF(MAY!I37=\"\",\"\",MAY!I37)","v":""},{"$f":"IF(MAY!N37=\"\",\"\",MAY!N37)","v":""},{"$f":"IF(MAY!O37=\"\",\"\",MAY!O37)","v":""},{"$f":"IF(MAY!P37=\"\",\"\",MAY!P37)","v":""},"",""]
[381,{"$f":"IF(MAY!C38=\"\",\"\",MAY!C38)","v":""},{"$f":"IF(MAY!D38=\"\",\"\",MAY!D38)","v":""},{"$f":"IF(MAY!F38=\"\",\"\",MAY!F38)","v":""},{"$f":"IF(MAY!S38=\"\",\"\",MAY!S38)","v":""},{"$f":"IF(E388=\"\",\"\",VLOOKUP(E388,MAY!$A$60:$L$84,9,FALSE))","v":""},{"$f":"IF(MAY!J38=\"\",\"\",MAY!J38)","v":""},{"$f":"IF(MAY!L38=\"\",\"\",MAY!L38)","v":""},{"$f":"IF(MAY!I38=\"\",\"\",MAY!I38)","v":""},{"$f":"IF(MAY!N38=\"\",\"\",MAY!N38)","v":""},{"$f":"IF(MAY!O38=\"\",\"\",MAY!O38)","v":""},{"$f":"IF(MAY!P38=\"\",\"\",MAY!P38)","v":""},"",""]
[382,{"$f":"IF(MAY!C39=\"\",\"\",MAY!C39)","v":""},{"$f":"IF(MAY!D39=\"\",\"\",MAY!D39)","v":""},{"$f":"IF(MAY!F39=\"\",\"\",MAY!F39)","v":""},{"$f":"IF(MAY!S39=\"\",\"\",MAY!S39)","v":""},{"$f":"IF(E389=\"\",\"\",VLOOKUP(E389,MAY!$A$60:$L$84,9,FALSE))","v":""},{"$f":"IF(MAY!J39=\"\",\"\",MAY!J39)","v":""},{"$f":"IF(MAY!L39=\"\",\"\",MAY!L39)","v":""},{"$f":"IF(MAY!I39=\"\",\"\",MAY!I39)","v":""},{"$f":"IF(MAY!N39=\"\",\"\",MAY!N39)","v":""},{"$f":"IF(MAY!O39=\"\",\"\",MAY!O39)","v":""},{"$f":"IF(MAY!P39=\"\",\"\",MAY!P39)","v":""},"",""]
[383,{"$f":"IF(MAY!C40=\"\",\"\",MAY!C40)","v":""},{"$f":"IF(MAY!D40=\"\",\"\",MAY!D40)","v":""},{"$f":"IF(MAY!F40=\"\",\"\",MAY!F40)","v":""},{"$f":"IF(MAY!S40=\"\",\"\",MAY!S40)","v":""},{"$f":"IF(E390=\"\",\"\",VLOOKUP(E390,MAY!$A$60:$L$84,9,FALSE))","v":""},{"$f":"IF(MAY!J40=\"\",\"\",MAY!J40)","v":""},{"$f":"IF(MAY!L40=\"\",\"\",MAY!L40)","v":""},{"$f":"IF(MAY!I40=\"\",\"\",MAY!I40)","v":""},{"$f":"IF(MAY!N40=\"\",\"\",MAY!N40)","v":""},{"$f":"IF(MAY!O40=\"\",\"\",MAY!O40)","v":""},{"$f":"IF(MAY!P40=\"\",\"\",MAY!P40)","v":""},"",""]
[384,{"$f":"IF(MAY!C41=\"\",\"\",MAY!C41)","v":""},{"$f":"IF(MAY!D41=\"\",\"\",MAY!D41)","v":""},{"$f":"IF(MAY!F41=\"\",\"\",MAY!F41)","v":""},{"$f":"IF(MAY!S41=\"\",\"\",MAY!S41)","v":""},{"$f":"IF(E391=\"\",\"\",VLOOKUP(E391,MAY!$A$60:$L$84,9,FALSE))","v":""},{"$f":"IF(MAY!J41=\"\",\"\",MAY!J41)","v":""},{"$f":"IF(MAY!L41=\"\",\"\",MAY!L41)","v":""},{"$f":"IF(MAY!I41=\"\",\"\",MAY!I41)","v":""},{"$f":"IF(MAY!N41=\"\",\"\",MAY!N41)","v":""},{"$f":"IF(MAY!O41=\"\",\"\",MAY!O41)","v":""},{"$f":"IF(MAY!P41=\"\",\"\",MAY!P41)","v":""},"",""]
[385,{"$f":"IF(MAY!C42=\"\",\"\",MAY!C42)","v":""},{"$f":"IF(MAY!D42=\"\",\"\",MAY!D42)","v":""},{"$f":"IF(MAY!F42=\"\",\"\",MAY!F42)","v":""},{"$f":"IF(MAY!S42=\"\",\"\",MAY!S42)","v":""},{"$f":"IF(E392=\"\",\"\",VLOOKUP(E392,MAY!$A$60:$L$84,9,FALSE))","v":""},{"$f":"IF(MAY!J42=\"\",\"\",MAY!J42)","v":""},{"$f":"IF(MAY!L42=\"\",\"\",MAY!L42)","v":""},{"$f":"IF(MAY!I42=\"\",\"\",MAY!I42)","v":""},{"$f":"IF(MAY!N42=\"\",\"\",MAY!N42)","v":""},{"$f":"IF(MAY!O42=\"\",\"\",MAY!O42)","v":""},{"$f":"IF(MAY!P42=\"\",\"\",MAY!P42)","v":""},{"$f":"IF(J392=\"\",\"\",J392+L392)","v":""},""]
[386,{"$f":"IF(MAY!C43=\"\",\"\",MAY!C43)","v":""},{"$f":"IF(MAY!D43=\"\",\"\",MAY!D43)","v":""},{"$f":"IF(MAY!F43=\"\",\"\",MAY!F43)","v":""},{"$f":"IF(MAY!S43=\"\",\"\",MAY!S43)","v":""},{"$f":"IF(E393=\"\",\"\",VLOOKUP(E393,MAY!$A$60:$L$84,9,FALSE))","v":""},{"$f":"IF(MAY!J43=\"\",\"\",MAY!J43)","v":""},{"$f":"IF(MAY!L43=\"\",\"\",MAY!L43)","v":""},{"$f":"IF(MAY!I43=\"\",\"\",MAY!I43)","v":""},{"$f":"IF(MAY!N43=\"\",\"\",MAY!N43)","v":""},{"$f":"IF(MAY!O43=\"\",\"\",MAY!O43)","v":""},{"$f":"IF(MAY!P43=\"\",\"\",MAY!P43)","v":""},"",""]
[387,{"$f":"IF(MAY!C44=\"\",\"\",MAY!C44)","v":""},{"$f":"IF(MAY!D44=\"\",\"\",MAY!D44)","v":""},{"$f":"IF(MAY!F44=\"\",\"\",MAY!F44)","v":""},{"$f":"IF(MAY!S44=\"\",\"\",MAY!S44)","v":""},{"$f":"IF(E394=\"\",\"\",VLOOKUP(E394,MAY!$A$60:$L$84,9,FALSE))","v":""},{"$f":"IF(MAY!J44=\"\",\"\",MAY!J44)","v":""},{"$f":"IF(MAY!L44=\"\",\"\",MAY!L44)","v":""},{"$f":"IF(MAY!I44=\"\",\"\",MAY!I44)","v":""},{"$f":"IF(MAY!N44=\"\",\"\",MAY!N44)","v":""},{"$f":"IF(MAY!O44=\"\",\"\",MAY!O44)","v":""},{"$f":"IF(MAY!P44=\"\",\"\",MAY!P44)","v":""},"",""]
[388,{"$f":"IF(MAY!C45=\"\",\"\",MAY!C45)","v":""},{"$f":"IF(MAY!D45=\"\",\"\",MAY!D45)","v":""},{"$f":"IF(MAY!F45=\"\",\"\",MAY!F45)","v":""},{"$f":"IF(MAY!S45=\"\",\"\",MAY!S45)","v":""},{"$f":"IF(E395=\"\",\"\",VLOOKUP(E395,MAY!$A$60:$L$84,9,FALSE))","v":""},{"$f":"IF(MAY!J45=\"\",\"\",MAY!J45)","v":""},{"$f":"IF(MAY!L45=\"\",\"\",MAY!L45)","v":""},{"$f":"IF(MAY!I45=\"\",\"\",MAY!I45)","v":""},{"$f":"IF(MAY!N45=\"\",\"\",MAY!N45)","v":""},{"$f":"IF(MAY!O45=\"\",\"\",MAY!O45)","v":""},{"$f":"IF(MAY!P45=\"\",\"\",MAY!P45)","v":""},"",""]
[389,{"$f":"IF(MAY!C46=\"\",\"\",MAY!C46)","v":""},{"$f":"IF(MAY!D46=\"\",\"\",MAY!D46)","v":""},{"$f":"IF(MAY!F46=\"\",\"\",MAY!F46)","v":""},{"$f":"IF(MAY!S46=\"\",\"\",MAY!S46)","v":""},{"$f":"IF(E396=\"\",\"\",VLOOKUP(E396,MAY!$A$60:$L$84,9,FALSE))","v":""},{"$f":"IF(MAY!J46=\"\",\"\",MAY!J46)","v":""},{"$f":"IF(MAY!L46=\"\",\"\",MAY!L46)","v":""},{"$f":"IF(MAY!I46=\"\",\"\",MAY!I46)","v":""},{"$f":"IF(MAY!N46=\"\",\"\",MAY!N46)","v":""},{"$f":"IF(MAY!O46=\"\",\"\",MAY!O46)","v":""},{"$f":"IF(MAY!P46=\"\",\"\",MAY!P46)","v":""},"",""]
[390,{"$f":"IF(MAY!C47=\"\",\"\",MAY!C47)","v":""},{"$f":"IF(MAY!D47=\"\",\"\",MAY!D47)","v":""},{"$f":"IF(MAY!F47=\"\",\"\",MAY!F47)","v":""},{"$f":"IF(MAY!S47=\"\",\"\",MAY!S47)","v":""},{"$f":"IF(E397=\"\",\"\",VLOOKUP(E397,MAY!$A$60:$L$84,9,FALSE))","v":""},{"$f":"IF(MAY!J47=\"\",\"\",MAY!J47)","v":""},{"$f":"IF(MAY!L47=\"\",\"\",MAY!L47)","v":""},{"$f":"IF(MAY!I47=\"\",\"\",MAY!I47)","v":""},{"$f":"IF(MAY!N47=\"\",\"\",MAY!N47)","v":""},{"$f":"IF(MAY!O47=\"\",\"\",MAY!O47)","v":""},{"$f":"IF(MAY!P47=\"\",\"\",MAY!P47)","v":""},"",""]
[391,{"$f":"IF(MAY!C48=\"\",\"\",MAY!C48)","v":""},{"$f":"IF(MAY!D48=\"\",\"\",MAY!D48)","v":""},{"$f":"IF(MAY!F48=\"\",\"\",MAY!F48)","v":""},{"$f":"IF(MAY!S48=\"\",\"\",MAY!S48)","v":""},{"$f":"IF(E398=\"\",\"\",VLOOKUP(E398,MAY!$A$60:$L$84,9,FALSE))","v":""},{"$f":"IF(MAY!J48=\"\",\"\",MAY!J48)","v":""},{"$f":"IF(MAY!L48=\"\",\"\",MAY!L48)","v":""},{"$f":"IF(MAY!I48=\"\",\"\",MAY!I48)","v":""},{"$f":"IF(MAY!N48=\"\",\"\",MAY!N48)","v":""},{"$f":"IF(MAY!O48=\"\",\"\",MAY!O48)","v":""},{"$f":"IF(MAY!P48=\"\",\"\",MAY!P48)","v":""},"",""]
[392,{"$f":"IF(MAY!C49=\"\",\"\",MAY!C49)","v":""},{"$f":"IF(MAY!D49=\"\",\"\",MAY!D49)","v":""},{"$f":"IF(MAY!F49=\"\",\"\",MAY!F49)","v":""},{"$f":"IF(MAY!S49=\"\",\"\",MAY!S49)","v":""},{"$f":"IF(E399=\"\",\"\",VLOOKUP(E399,MAY!$A$60:$L$84,9,FALSE))","v":""},{"$f":"IF(MAY!J49=\"\",\"\",MAY!J49)","v":""},{"$f":"IF(MAY!L49=\"\",\"\",MAY!L49)","v":""},{"$f":"IF(MAY!I49=\"\",\"\",MAY!I49)","v":""},{"$f":"IF(MAY!N49=\"\",\"\",MAY!N49)","v":""},{"$f":"IF(MAY!O49=\"\",\"\",MAY!O49)","v":""},{"$f":"IF(MAY!P49=\"\",\"\",MAY!P49)","v":""},"",""]
[393,{"$f":"IF(MAY!C50=\"\",\"\",MAY!C50)","v":""},{"$f":"IF(MAY!D50=\"\",\"\",MAY!D50)","v":""},{"$f":"IF(MAY!F50=\"\",\"\",MAY!F50)","v":""},{"$f":"IF(MAY!S50=\"\",\"\",MAY!S50)","v":""},{"$f":"IF(E400=\"\",\"\",VLOOKUP(E400,MAY!$A$60:$L$84,9,FALSE))","v":""},{"$f":"IF(MAY!J50=\"\",\"\",MAY!J50)","v":""},{"$f":"IF(MAY!L50=\"\",\"\",MAY!L50)","v":""},{"$f":"IF(MAY!I50=\"\",\"\",MAY!I50)","v":""},{"$f":"IF(MAY!N50=\"\",\"\",MAY!N50)","v":""},{"$f":"IF(MAY!O50=\"\",\"\",MAY!O50)","v":""},{"$f":"IF(MAY!P50=\"\",\"\",MAY!P50)","v":""},"",{"$f":"IF(B400=\"\",\"\",N399+J400+L400)","v":""}]
[394,{"$f":"IF(MAY!C51=\"\",\"\",MAY!C51)","v":""},{"$f":"IF(MAY!D51=\"\",\"\",MAY!D51)","v":""},{"$f":"IF(MAY!F51=\"\",\"\",MAY!F51)","v":""},{"$f":"IF(MAY!S51=\"\",\"\",MAY!S51)","v":""},{"$f":"IF(E401=\"\",\"\",VLOOKUP(E401,MAY!$A$60:$L$84,9,FALSE))","v":""},{"$f":"IF(MAY!J51=\"\",\"\",MAY!J51)","v":""},{"$f":"IF(MAY!L51=\"\",\"\",MAY!L51)","v":""},{"$f":"IF(MAY!I51=\"\",\"\",MAY!I51)","v":""},{"$f":"IF(MAY!N51=\"\",\"\",MAY!N51)","v":""},{"$f":"IF(MAY!O51=\"\",\"\",MAY!O51)","v":""},{"$f":"IF(MAY!P51=\"\",\"\",MAY!P51)","v":""},"",""]
[395,{"$f":"IF(MAY!C52=\"\",\"\",MAY!C52)","v":""},{"$f":"IF(MAY!D52=\"\",\"\",MAY!D52)","v":""},{"$f":"IF(MAY!F52=\"\",\"\",MAY!F52)","v":""},{"$f":"IF(MAY!S52=\"\",\"\",MAY!S52)","v":""},{"$f":"IF(E402=\"\",\"\",VLOOKUP(E402,MAY!$A$60:$L$84,9,FALSE))","v":""},{"$f":"IF(MAY!J52=\"\",\"\",MAY!J52)","v":""},{"$f":"IF(MAY!L52=\"\",\"\",MAY!L52)","v":""},{"$f":"IF(MAY!I52=\"\",\"\",MAY!I52)","v":""},{"$f":"IF(MAY!N52=\"\",\"\",MAY!N52)","v":""},{"$f":"IF(MAY!O52=\"\",\"\",MAY!O52)","v":""},{"$f":"IF(MAY!P52=\"\",\"\",MAY!P52)","v":""},"",""]
[396,{"$f":"IF(MAY!C53=\"\",\"\",MAY!C53)","v":""},{"$f":"IF(MAY!D53=\"\",\"\",MAY!D53)","v":""},{"$f":"IF(MAY!F53=\"\",\"\",MAY!F53)","v":""},{"$f":"IF(MAY!S53=\"\",\"\",MAY!S53)","v":""},{"$f":"IF(E403=\"\",\"\",VLOOKUP(E403,MAY!$A$60:$L$84,9,FALSE))","v":""},{"$f":"IF(MAY!J53=\"\",\"\",MAY!J53)","v":""},{"$f":"IF(MAY!L53=\"\",\"\",MAY!L53)","v":""},{"$f":"IF(MAY!I53=\"\",\"\",MAY!I53)","v":""},{"$f":"IF(MAY!N53=\"\",\"\",MAY!N53)","v":""},{"$f":"IF(MAY!O53=\"\",\"\",MAY!O53)","v":""},{"$f":"IF(MAY!P53=\"\",\"\",MAY!P53)","v":""},"",""]
[397,{"$f":"IF(MAY!C54=\"\",\"\",MAY!C54)","v":""},{"$f":"IF(MAY!D54=\"\",\"\",MAY!D54)","v":""},{"$f":"IF(MAY!F54=\"\",\"\",MAY!F54)","v":""},{"$f":"IF(MAY!S54=\"\",\"\",MAY!S54)","v":""},{"$f":"IF(E404=\"\",\"\",VLOOKUP(E404,MAY!$A$60:$L$84,9,FALSE))","v":""},{"$f":"IF(MAY!J54=\"\",\"\",MAY!J54)","v":""},{"$f":"IF(MAY!L54=\"\",\"\",MAY!L54)","v":""},{"$f":"IF(MAY!I54=\"\",\"\",MAY!I54)","v":""},{"$f":"IF(MAY!N54=\"\",\"\",MAY!N54)","v":""},{"$f":"IF(MAY!O54=\"\",\"\",MAY!O54)","v":""},{"$f":"IF(MAY!P54=\"\",\"\",MAY!P54)","v":""},"",""]
[398,{"$f":"IF(MAY!C55=\"\",\"\",MAY!C55)","v":""},{"$f":"IF(MAY!D55=\"\",\"\",MAY!D55)","v":""},{"$f":"IF(MAY!F55=\"\",\"\",MAY!F55)","v":""},{"$f":"IF(MAY!S55=\"\",\"\",MAY!S55)","v":""},{"$f":"IF(E405=\"\",\"\",VLOOKUP(E405,MAY!$A$60:$L$84,9,FALSE))","v":""},{"$f":"IF(MAY!J55=\"\",\"\",MAY!J55)","v":""},{"$f":"IF(MAY!L55=\"\",\"\",MAY!L55)","v":""},{"$f":"IF(MAY!I55=\"\",\"\",MAY!I55)","v":""},{"$f":"IF(MAY!N55=\"\",\"\",MAY!N55)","v":""},{"$f":"IF(MAY!O55=\"\",\"\",MAY!O55)","v":""},{"$f":"IF(MAY!P55=\"\",\"\",MAY!P55)","v":""},"",""]
[399,{"$f":"IF(MAY!C56=\"\",\"\",MAY!C56)","v":""},{"$f":"IF(MAY!D56=\"\",\"\",MAY!D56)","v":""},{"$f":"IF(MAY!F56=\"\",\"\",MAY!F56)","v":""},{"$f":"IF(MAY!S56=\"\",\"\",MAY!S56)","v":""},{"$f":"IF(E406=\"\",\"\",VLOOKUP(E406,MAY!$A$60:$L$84,9,FALSE))","v":""},{"$f":"IF(MAY!J56=\"\",\"\",MAY!J56)","v":""},{"$f":"IF(MAY!L56=\"\",\"\",MAY!L56)","v":""},{"$f":"IF(MAY!I56=\"\",\"\",MAY!I56)","v":""},{"$f":"IF(MAY!N56=\"\",\"\",MAY!N56)","v":""},{"$f":"IF(MAY!O56=\"\",\"\",MAY!O56)","v":""},{"$f":"IF(MAY!P56=\"\",\"\",MAY!P56)","v":""},"",""]
[400,{"$f":"IF(MAY!C57=\"\",\"\",MAY!C57)","v":""},{"$f":"IF(MAY!D57=\"\",\"\",MAY!D57)","v":""},{"$f":"IF(MAY!F57=\"\",\"\",MAY!F57)","v":""},{"$f":"IF(MAY!S57=\"\",\"\",MAY!S57)","v":""},{"$f":"IF(E407=\"\",\"\",VLOOKUP(E407,MAY!$A$60:$L$84,9,FALSE))","v":""},{"$f":"IF(MAY!J57=\"\",\"\",MAY!J57)","v":""},{"$f":"IF(MAY!L57=\"\",\"\",MAY!L57)","v":""},{"$f":"IF(MAY!I57=\"\",\"\",MAY!I57)","v":""},{"$f":"IF(MAY!N57=\"\",\"\",MAY!N57)","v":""},{"$f":"IF(MAY!O57=\"\",\"\",MAY!O57)","v":""},{"$f":"IF(MAY!P57=\"\",\"\",MAY!P57)","v":""},"",""]
[401,{"$f":"IF(JUN!C8=\"\",\"\",JUN!C8)","v":""},{"$f":"IF(JUN!D8=\"\",\"\",JUN!D8)","v":""},{"$f":"IF(JUN!F8=\"\",\"\",JUN!F8)","v":""},{"$f":"IF(JUN!S8=\"\",\"\",JUN!S8)","v":""},{"$f":"IF(E408=\"\",\"\",VLOOKUP(E408,JUN!$A$60:$L$84,9,FALSE))","v":""},{"$f":"IF(JUN!J8=\"\",\"\",JUN!J8)","v":""},{"$f":"IF(JUN!L8=\"\",\"\",JUN!L8)","v":""},{"$f":"IF(JUN!I8=\"\",\"\",JUN!I8)","v":""},{"$f":"IF(JUN!N8=\"\",\"\",JUN!N8)","v":""},{"$f":"IF(JUN!O8=\"\",\"\",JUN!O8)","v":""},{"$f":"IF(JUN!P8=\"\",\"\",JUN!P8)","v":""},"",""]
[402,{"$f":"IF(JUN!C9=\"\",\"\",JUN!C9)","v":""},{"$f":"IF(JUN!D9=\"\",\"\",JUN!D9)","v":""},{"$f":"IF(JUN!F9=\"\",\"\",JUN!F9)","v":""},{"$f":"IF(JUN!S9=\"\",\"\",JUN!S9)","v":""},{"$f":"IF(E409=\"\",\"\",VLOOKUP(E409,JUN!$A$60:$L$84,9,FALSE))","v":""},{"$f":"IF(JUN!J9=\"\",\"\",JUN!J9)","v":""},{"$f":"IF(JUN!L9=\"\",\"\",JUN!L9)","v":""},{"$f":"IF(JUN!I9=\"\",\"\",JUN!I9)","v":""},{"$f":"IF(JUN!N9=\"\",\"\",JUN!N9)","v":""},{"$f":"IF(JUN!O9=\"\",\"\",JUN!O9)","v":""},{"$f":"IF(JUN!P9=\"\",\"\",JUN!P9)","v":""},"",""]
[403,{"$f":"IF(JUN!C10=\"\",\"\",JUN!C10)","v":""},{"$f":"IF(JUN!D10=\"\",\"\",JUN!D10)","v":""},{"$f":"IF(JUN!F10=\"\",\"\",JUN!F10)","v":""},{"$f":"IF(JUN!S10=\"\",\"\",JUN!S10)","v":""},{"$f":"IF(E410=\"\",\"\",VLOOKUP(E410,JUN!$A$60:$L$84,9,FALSE))","v":""},{"$f":"IF(JUN!J10=\"\",\"\",JUN!J10)","v":""},{"$f":"IF(JUN!L10=\"\",\"\",JUN!L10)","v":""},{"$f":"IF(JUN!I10=\"\",\"\",JUN!I10)","v":""},{"$f":"IF(JUN!N10=\"\",\"\",JUN!N10)","v":""},{"$f":"IF(JUN!O10=\"\",\"\",JUN!O10)","v":""},{"$f":"IF(JUN!P10=\"\",\"\",JUN!P10)","v":""},"",""]
[404,{"$f":"IF(JUN!C11=\"\",\"\",JUN!C11)","v":""},{"$f":"IF(JUN!D11=\"\",\"\",JUN!D11)","v":""},{"$f":"IF(JUN!F11=\"\",\"\",JUN!F11)","v":""},{"$f":"IF(JUN!S11=\"\",\"\",JUN!S11)","v":""},{"$f":"IF(E411=\"\",\"\",VLOOKUP(E411,JUN!$A$60:$L$84,9,FALSE))","v":""},{"$f":"IF(JUN!J11=\"\",\"\",JUN!J11)","v":""},{"$f":"IF(JUN!L11=\"\",\"\",JUN!L11)","v":""},{"$f":"IF(JUN!I11=\"\",\"\",JUN!I11)","v":""},{"$f":"IF(JUN!N11=\"\",\"\",JUN!N11)","v":""},{"$f":"IF(JUN!O11=\"\",\"\",JUN!O11)","v":""},{"$f":"IF(JUN!P11=\"\",\"\",JUN!P11)","v":""},"",""]
[405,{"$f":"IF(JUN!C12=\"\",\"\",JUN!C12)","v":""},{"$f":"IF(JUN!D12=\"\",\"\",JUN!D12)","v":""},{"$f":"IF(JUN!F12=\"\",\"\",JUN!F12)","v":""},{"$f":"IF(JUN!S12=\"\",\"\",JUN!S12)","v":""},{"$f":"IF(E412=\"\",\"\",VLOOKUP(E412,JUN!$A$60:$L$84,9,FALSE))","v":""},{"$f":"IF(JUN!J12=\"\",\"\",JUN!J12)","v":""},{"$f":"IF(JUN!L12=\"\",\"\",JUN!L12)","v":""},{"$f":"IF(JUN!I12=\"\",\"\",JUN!I12)","v":""},{"$f":"IF(JUN!N12=\"\",\"\",JUN!N12)","v":""},{"$f":"IF(JUN!O12=\"\",\"\",JUN!O12)","v":""},{"$f":"IF(JUN!P12=\"\",\"\",JUN!P12)","v":""},"",""]
[406,{"$f":"IF(JUN!C13=\"\",\"\",JUN!C13)","v":""},{"$f":"IF(JUN!D13=\"\",\"\",JUN!D13)","v":""},{"$f":"IF(JUN!F13=\"\",\"\",JUN!F13)","v":""},{"$f":"IF(JUN!S13=\"\",\"\",JUN!S13)","v":""},{"$f":"IF(E413=\"\",\"\",VLOOKUP(E413,JUN!$A$60:$L$84,9,FALSE))","v":""},{"$f":"IF(JUN!J13=\"\",\"\",JUN!J13)","v":""},{"$f":"IF(JUN!L13=\"\",\"\",JUN!L13)","v":""},{"$f":"IF(JUN!I13=\"\",\"\",JUN!I13)","v":""},{"$f":"IF(JUN!N13=\"\",\"\",JUN!N13)","v":""},{"$f":"IF(JUN!O13=\"\",\"\",JUN!O13)","v":""},{"$f":"IF(JUN!P13=\"\",\"\",JUN!P13)","v":""},"",""]
[407,{"$f":"IF(JUN!C14=\"\",\"\",JUN!C14)","v":""},{"$f":"IF(JUN!D14=\"\",\"\",JUN!D14)","v":""},{"$f":"IF(JUN!F14=\"\",\"\",JUN!F14)","v":""},{"$f":"IF(JUN!S14=\"\",\"\",JUN!S14)","v":""},{"$f":"IF(E414=\"\",\"\",VLOOKUP(E414,JUN!$A$60:$L$84,9,FALSE))","v":""},{"$f":"IF(JUN!J14=\"\",\"\",JUN!J14)","v":""},{"$f":"IF(JUN!L14=\"\",\"\",JUN!L14)","v":""},{"$f":"IF(JUN!I14=\"\",\"\",JUN!I14)","v":""},{"$f":"IF(JUN!N14=\"\",\"\",JUN!N14)","v":""},{"$f":"IF(JUN!O14=\"\",\"\",JUN!O14)","v":""},{"$f":"IF(JUN!P14=\"\",\"\",JUN!P14)","v":""},"",""]
[408,{"$f":"IF(JUN!C15=\"\",\"\",JUN!C15)","v":""},{"$f":"IF(JUN!D15=\"\",\"\",JUN!D15)","v":""},{"$f":"IF(JUN!F15=\"\",\"\",JUN!F15)","v":""},{"$f":"IF(JUN!S15=\"\",\"\",JUN!S15)","v":""},{"$f":"IF(E415=\"\",\"\",VLOOKUP(E415,JUN!$A$60:$L$84,9,FALSE))","v":""},{"$f":"IF(JUN!J15=\"\",\"\",JUN!J15)","v":""},{"$f":"IF(JUN!L15=\"\",\"\",JUN!L15)","v":""},{"$f":"IF(JUN!I15=\"\",\"\",JUN!I15)","v":""},{"$f":"IF(JUN!N15=\"\",\"\",JUN!N15)","v":""},{"$f":"IF(JUN!O15=\"\",\"\",JUN!O15)","v":""},{"$f":"IF(JUN!P15=\"\",\"\",JUN!P15)","v":""},"",""]
[409,{"$f":"IF(JUN!C16=\"\",\"\",JUN!C16)","v":""},{"$f":"IF(JUN!D16=\"\",\"\",JUN!D16)","v":""},{"$f":"IF(JUN!F16=\"\",\"\",JUN!F16)","v":""},{"$f":"IF(JUN!S16=\"\",\"\",JUN!S16)","v":""},{"$f":"IF(E416=\"\",\"\",VLOOKUP(E416,JUN!$A$60:$L$84,9,FALSE))","v":""},{"$f":"IF(JUN!J16=\"\",\"\",JUN!J16)","v":""},{"$f":"IF(JUN!L16=\"\",\"\",JUN!L16)","v":""},{"$f":"IF(JUN!I16=\"\",\"\",JUN!I16)","v":""},{"$f":"IF(JUN!N16=\"\",\"\",JUN!N16)","v":""},{"$f":"IF(JUN!O16=\"\",\"\",JUN!O16)","v":""},{"$f":"IF(JUN!P16=\"\",\"\",JUN!P16)","v":""},"",""]
[410,{"$f":"IF(JUN!C17=\"\",\"\",JUN!C17)","v":""},{"$f":"IF(JUN!D17=\"\",\"\",JUN!D17)","v":""},{"$f":"IF(JUN!F17=\"\",\"\",JUN!F17)","v":""},{"$f":"IF(JUN!S17=\"\",\"\",JUN!S17)","v":""},{"$f":"IF(E417=\"\",\"\",VLOOKUP(E417,JUN!$A$60:$L$84,9,FALSE))","v":""},{"$f":"IF(JUN!J17=\"\",\"\",JUN!J17)","v":""},{"$f":"IF(JUN!L17=\"\",\"\",JUN!L17)","v":""},{"$f":"IF(JUN!I17=\"\",\"\",JUN!I17)","v":""},{"$f":"IF(JUN!N17=\"\",\"\",JUN!N17)","v":""},{"$f":"IF(JUN!O17=\"\",\"\",JUN!O17)","v":""},{"$f":"IF(JUN!P17=\"\",\"\",JUN!P17)","v":""},"",""]
[411,{"$f":"IF(JUN!C18=\"\",\"\",JUN!C18)","v":""},{"$f":"IF(JUN!D18=\"\",\"\",JUN!D18)","v":""},{"$f":"IF(JUN!F18=\"\",\"\",JUN!F18)","v":""},{"$f":"IF(JUN!S18=\"\",\"\",JUN!S18)","v":""},{"$f":"IF(E418=\"\",\"\",VLOOKUP(E418,JUN!$A$60:$L$84,9,FALSE))","v":""},{"$f":"IF(JUN!J18=\"\",\"\",JUN!J18)","v":""},{"$f":"IF(JUN!L18=\"\",\"\",JUN!L18)","v":""},{"$f":"IF(JUN!I18=\"\",\"\",JUN!I18)","v":""},{"$f":"IF(JUN!N18=\"\",\"\",JUN!N18)","v":""},{"$f":"IF(JUN!O18=\"\",\"\",JUN!O18)","v":""},{"$f":"IF(JUN!P18=\"\",\"\",JUN!P18)","v":""},"",""]
[412,{"$f":"IF(JUN!C19=\"\",\"\",JUN!C19)","v":""},{"$f":"IF(JUN!D19=\"\",\"\",JUN!D19)","v":""},{"$f":"IF(JUN!F19=\"\",\"\",JUN!F19)","v":""},{"$f":"IF(JUN!S19=\"\",\"\",JUN!S19)","v":""},{"$f":"IF(E419=\"\",\"\",VLOOKUP(E419,JUN!$A$60:$L$84,9,FALSE))","v":""},{"$f":"IF(JUN!J19=\"\",\"\",JUN!J19)","v":""},{"$f":"IF(JUN!L19=\"\",\"\",JUN!L19)","v":""},{"$f":"IF(JUN!I19=\"\",\"\",JUN!I19)","v":""},{"$f":"IF(JUN!N19=\"\",\"\",JUN!N19)","v":""},{"$f":"IF(JUN!O19=\"\",\"\",JUN!O19)","v":""},{"$f":"IF(JUN!P19=\"\",\"\",JUN!P19)","v":""},"",""]
[413,{"$f":"IF(JUN!C20=\"\",\"\",JUN!C20)","v":""},{"$f":"IF(JUN!D20=\"\",\"\",JUN!D20)","v":""},{"$f":"IF(JUN!F20=\"\",\"\",JUN!F20)","v":""},{"$f":"IF(JUN!S20=\"\",\"\",JUN!S20)","v":""},{"$f":"IF(E420=\"\",\"\",VLOOKUP(E420,JUN!$A$60:$L$84,9,FALSE))","v":""},{"$f":"IF(JUN!J20=\"\",\"\",JUN!J20)","v":""},{"$f":"IF(JUN!L20=\"\",\"\",JUN!L20)","v":""},{"$f":"IF(JUN!I20=\"\",\"\",JUN!I20)","v":""},{"$f":"IF(JUN!N20=\"\",\"\",JUN!N20)","v":""},{"$f":"IF(JUN!O20=\"\",\"\",JUN!O20)","v":""},{"$f":"IF(JUN!P20=\"\",\"\",JUN!P20)","v":""},"",""]
[414,{"$f":"IF(JUN!C21=\"\",\"\",JUN!C21)","v":""},{"$f":"IF(JUN!D21=\"\",\"\",JUN!D21)","v":""},{"$f":"IF(JUN!F21=\"\",\"\",JUN!F21)","v":""},{"$f":"IF(JUN!S21=\"\",\"\",JUN!S21)","v":""},{"$f":"IF(E421=\"\",\"\",VLOOKUP(E421,JUN!$A$60:$L$84,9,FALSE))","v":""},{"$f":"IF(JUN!J21=\"\",\"\",JUN!J21)","v":""},{"$f":"IF(JUN!L21=\"\",\"\",JUN!L21)","v":""},{"$f":"IF(JUN!I21=\"\",\"\",JUN!I21)","v":""},{"$f":"IF(JUN!N21=\"\",\"\",JUN!N21)","v":""},{"$f":"IF(JUN!O21=\"\",\"\",JUN!O21)","v":""},{"$f":"IF(JUN!P21=\"\",\"\",JUN!P21)","v":""},"",""]
[415,{"$f":"IF(JUN!C22=\"\",\"\",JUN!C22)","v":""},{"$f":"IF(JUN!D22=\"\",\"\",JUN!D22)","v":""},{"$f":"IF(JUN!F22=\"\",\"\",JUN!F22)","v":""},{"$f":"IF(JUN!S22=\"\",\"\",JUN!S22)","v":""},{"$f":"IF(E422=\"\",\"\",VLOOKUP(E422,JUN!$A$60:$L$84,9,FALSE))","v":""},{"$f":"IF(JUN!J22=\"\",\"\",JUN!J22)","v":""},{"$f":"IF(JUN!L22=\"\",\"\",JUN!L22)","v":""},{"$f":"IF(JUN!I22=\"\",\"\",JUN!I22)","v":""},{"$f":"IF(JUN!N22=\"\",\"\",JUN!N22)","v":""},{"$f":"IF(JUN!O22=\"\",\"\",JUN!O22)","v":""},{"$f":"IF(JUN!P22=\"\",\"\",JUN!P22)","v":""},"",""]
[416,{"$f":"IF(JUN!C23=\"\",\"\",JUN!C23)","v":""},{"$f":"IF(JUN!D23=\"\",\"\",JUN!D23)","v":""},{"$f":"IF(JUN!F23=\"\",\"\",JUN!F23)","v":""},{"$f":"IF(JUN!S23=\"\",\"\",JUN!S23)","v":""},{"$f":"IF(E423=\"\",\"\",VLOOKUP(E423,JUN!$A$60:$L$84,9,FALSE))","v":""},{"$f":"IF(JUN!J23=\"\",\"\",JUN!J23)","v":""},{"$f":"IF(JUN!L23=\"\",\"\",JUN!L23)","v":""},{"$f":"IF(JUN!I23=\"\",\"\",JUN!I23)","v":""},{"$f":"IF(JUN!N23=\"\",\"\",JUN!N23)","v":""},{"$f":"IF(JUN!O23=\"\",\"\",JUN!O23)","v":""},{"$f":"IF(JUN!P23=\"\",\"\",JUN!P23)","v":""},"",""]
[417,{"$f":"IF(JUN!C24=\"\",\"\",JUN!C24)","v":""},{"$f":"IF(JUN!D24=\"\",\"\",JUN!D24)","v":""},{"$f":"IF(JUN!F24=\"\",\"\",JUN!F24)","v":""},{"$f":"IF(JUN!S24=\"\",\"\",JUN!S24)","v":""},{"$f":"IF(E424=\"\",\"\",VLOOKUP(E424,JUN!$A$60:$L$84,9,FALSE))","v":""},{"$f":"IF(JUN!J24=\"\",\"\",JUN!J24)","v":""},{"$f":"IF(JUN!L24=\"\",\"\",JUN!L24)","v":""},{"$f":"IF(JUN!I24=\"\",\"\",JUN!I24)","v":""},{"$f":"IF(JUN!N24=\"\",\"\",JUN!N24)","v":""},{"$f":"IF(JUN!O24=\"\",\"\",JUN!O24)","v":""},{"$f":"IF(JUN!P24=\"\",\"\",JUN!P24)","v":""},"",""]
[418,{"$f":"IF(JUN!C25=\"\",\"\",JUN!C25)","v":""},{"$f":"IF(JUN!D25=\"\",\"\",JUN!D25)","v":""},{"$f":"IF(JUN!F25=\"\",\"\",JUN!F25)","v":""},{"$f":"IF(JUN!S25=\"\",\"\",JUN!S25)","v":""},{"$f":"IF(E425=\"\",\"\",VLOOKUP(E425,JUN!$A$60:$L$84,9,FALSE))","v":""},{"$f":"IF(JUN!J25=\"\",\"\",JUN!J25)","v":""},{"$f":"IF(JUN!L25=\"\",\"\",JUN!L25)","v":""},{"$f":"IF(JUN!I25=\"\",\"\",JUN!I25)","v":""},{"$f":"IF(JUN!N25=\"\",\"\",JUN!N25)","v":""},{"$f":"IF(JUN!O25=\"\",\"\",JUN!O25)","v":""},{"$f":"IF(JUN!P25=\"\",\"\",JUN!P25)","v":""},"",""]
[419,{"$f":"IF(JUN!C26=\"\",\"\",JUN!C26)","v":""},{"$f":"IF(JUN!D26=\"\",\"\",JUN!D26)","v":""},{"$f":"IF(JUN!F26=\"\",\"\",JUN!F26)","v":""},{"$f":"IF(JUN!S26=\"\",\"\",JUN!S26)","v":""},{"$f":"IF(E426=\"\",\"\",VLOOKUP(E426,JUN!$A$60:$L$84,9,FALSE))","v":""},{"$f":"IF(JUN!J26=\"\",\"\",JUN!J26)","v":""},{"$f":"IF(JUN!L26=\"\",\"\",JUN!L26)","v":""},{"$f":"IF(JUN!I26=\"\",\"\",JUN!I26)","v":""},{"$f":"IF(JUN!N26=\"\",\"\",JUN!N26)","v":""},{"$f":"IF(JUN!O26=\"\",\"\",JUN!O26)","v":""},{"$f":"IF(JUN!P26=\"\",\"\",JUN!P26)","v":""},"",""]
[420,{"$f":"IF(JUN!C27=\"\",\"\",JUN!C27)","v":""},{"$f":"IF(JUN!D27=\"\",\"\",JUN!D27)","v":""},{"$f":"IF(JUN!F27=\"\",\"\",JUN!F27)","v":""},{"$f":"IF(JUN!S27=\"\",\"\",JUN!S27)","v":""},{"$f":"IF(E427=\"\",\"\",VLOOKUP(E427,JUN!$A$60:$L$84,9,FALSE))","v":""},{"$f":"IF(JUN!J27=\"\",\"\",JUN!J27)","v":""},{"$f":"IF(JUN!L27=\"\",\"\",JUN!L27)","v":""},{"$f":"IF(JUN!I27=\"\",\"\",JUN!I27)","v":""},{"$f":"IF(JUN!N27=\"\",\"\",JUN!N27)","v":""},{"$f":"IF(JUN!O27=\"\",\"\",JUN!O27)","v":""},{"$f":"IF(JUN!P27=\"\",\"\",JUN!P27)","v":""},"",""]
[421,{"$f":"IF(JUN!C28=\"\",\"\",JUN!C28)","v":""},{"$f":"IF(JUN!D28=\"\",\"\",JUN!D28)","v":""},{"$f":"IF(JUN!F28=\"\",\"\",JUN!F28)","v":""},{"$f":"IF(JUN!S28=\"\",\"\",JUN!S28)","v":""},{"$f":"IF(E428=\"\",\"\",VLOOKUP(E428,JUN!$A$60:$L$84,9,FALSE))","v":""},{"$f":"IF(JUN!J28=\"\",\"\",JUN!J28)","v":""},{"$f":"IF(JUN!L28=\"\",\"\",JUN!L28)","v":""},{"$f":"IF(JUN!I28=\"\",\"\",JUN!I28)","v":""},{"$f":"IF(JUN!N28=\"\",\"\",JUN!N28)","v":""},{"$f":"IF(JUN!O28=\"\",\"\",JUN!O28)","v":""},{"$f":"IF(JUN!P28=\"\",\"\",JUN!P28)","v":""},"",""]
[422,{"$f":"IF(JUN!C29=\"\",\"\",JUN!C29)","v":""},{"$f":"IF(JUN!D29=\"\",\"\",JUN!D29)","v":""},{"$f":"IF(JUN!F29=\"\",\"\",JUN!F29)","v":""},{"$f":"IF(JUN!S29=\"\",\"\",JUN!S29)","v":""},{"$f":"IF(E429=\"\",\"\",VLOOKUP(E429,JUN!$A$60:$L$84,9,FALSE))","v":""},{"$f":"IF(JUN!J29=\"\",\"\",JUN!J29)","v":""},{"$f":"IF(JUN!L29=\"\",\"\",JUN!L29)","v":""},{"$f":"IF(JUN!I29=\"\",\"\",JUN!I29)","v":""},{"$f":"IF(JUN!N29=\"\",\"\",JUN!N29)","v":""},{"$f":"IF(JUN!O29=\"\",\"\",JUN!O29)","v":""},{"$f":"IF(JUN!P29=\"\",\"\",JUN!P29)","v":""},"",""]
[423,{"$f":"IF(JUN!C30=\"\",\"\",JUN!C30)","v":""},{"$f":"IF(JUN!D30=\"\",\"\",JUN!D30)","v":""},{"$f":"IF(JUN!F30=\"\",\"\",JUN!F30)","v":""},{"$f":"IF(JUN!S30=\"\",\"\",JUN!S30)","v":""},{"$f":"IF(E430=\"\",\"\",VLOOKUP(E430,JUN!$A$60:$L$84,9,FALSE))","v":""},{"$f":"IF(JUN!J30=\"\",\"\",JUN!J30)","v":""},{"$f":"IF(JUN!L30=\"\",\"\",JUN!L30)","v":""},{"$f":"IF(JUN!I30=\"\",\"\",JUN!I30)","v":""},{"$f":"IF(JUN!N30=\"\",\"\",JUN!N30)","v":""},{"$f":"IF(JUN!O30=\"\",\"\",JUN!O30)","v":""},{"$f":"IF(JUN!P30=\"\",\"\",JUN!P30)","v":""},"",""]
[424,{"$f":"IF(JUN!C31=\"\",\"\",JUN!C31)","v":""},{"$f":"IF(JUN!D31=\"\",\"\",JUN!D31)","v":""},{"$f":"IF(JUN!F31=\"\",\"\",JUN!F31)","v":""},{"$f":"IF(JUN!S31=\"\",\"\",JUN!S31)","v":""},{"$f":"IF(E431=\"\",\"\",VLOOKUP(E431,JUN!$A$60:$L$84,9,FALSE))","v":""},{"$f":"IF(JUN!J31=\"\",\"\",JUN!J31)","v":""},{"$f":"IF(JUN!L31=\"\",\"\",JUN!L31)","v":""},{"$f":"IF(JUN!I31=\"\",\"\",JUN!I31)","v":""},{"$f":"IF(JUN!N31=\"\",\"\",JUN!N31)","v":""},{"$f":"IF(JUN!O31=\"\",\"\",JUN!O31)","v":""},{"$f":"IF(JUN!P31=\"\",\"\",JUN!P31)","v":""},"",""]
[425,{"$f":"IF(JUN!C32=\"\",\"\",JUN!C32)","v":""},{"$f":"IF(JUN!D32=\"\",\"\",JUN!D32)","v":""},{"$f":"IF(JUN!F32=\"\",\"\",JUN!F32)","v":""},{"$f":"IF(JUN!S32=\"\",\"\",JUN!S32)","v":""},{"$f":"IF(E432=\"\",\"\",VLOOKUP(E432,JUN!$A$60:$L$84,9,FALSE))","v":""},{"$f":"IF(JUN!J32=\"\",\"\",JUN!J32)","v":""},{"$f":"IF(JUN!L32=\"\",\"\",JUN!L32)","v":""},{"$f":"IF(JUN!I32=\"\",\"\",JUN!I32)","v":""},{"$f":"IF(JUN!N32=\"\",\"\",JUN!N32)","v":""},{"$f":"IF(JUN!O32=\"\",\"\",JUN!O32)","v":""},{"$f":"IF(JUN!P32=\"\",\"\",JUN!P32)","v":""},"",""]
[426,{"$f":"IF(JUN!C33=\"\",\"\",JUN!C33)","v":""},{"$f":"IF(JUN!D33=\"\",\"\",JUN!D33)","v":""},{"$f":"IF(JUN!F33=\"\",\"\",JUN!F33)","v":""},{"$f":"IF(JUN!S33=\"\",\"\",JUN!S33)","v":""},{"$f":"IF(E433=\"\",\"\",VLOOKUP(E433,JUN!$A$60:$L$84,9,FALSE))","v":""},{"$f":"IF(JUN!J33=\"\",\"\",JUN!J33)","v":""},{"$f":"IF(JUN!L33=\"\",\"\",JUN!L33)","v":""},{"$f":"IF(JUN!I33=\"\",\"\",JUN!I33)","v":""},{"$f":"IF(JUN!N33=\"\",\"\",JUN!N33)","v":""},{"$f":"IF(JUN!O33=\"\",\"\",JUN!O33)","v":""},{"$f":"IF(JUN!P33=\"\",\"\",JUN!P33)","v":""},"",""]
[427,{"$f":"IF(JUN!C34=\"\",\"\",JUN!C34)","v":""},{"$f":"IF(JUN!D34=\"\",\"\",JUN!D34)","v":""},{"$f":"IF(JUN!F34=\"\",\"\",JUN!F34)","v":""},{"$f":"IF(JUN!S34=\"\",\"\",JUN!S34)","v":""},{"$f":"IF(E434=\"\",\"\",VLOOKUP(E434,JUN!$A$60:$L$84,9,FALSE))","v":""},{"$f":"IF(JUN!J34=\"\",\"\",JUN!J34)","v":""},{"$f":"IF(JUN!L34=\"\",\"\",JUN!L34)","v":""},{"$f":"IF(JUN!I34=\"\",\"\",JUN!I34)","v":""},{"$f":"IF(JUN!N34=\"\",\"\",JUN!N34)","v":""},{"$f":"IF(JUN!O34=\"\",\"\",JUN!O34)","v":""},{"$f":"IF(JUN!P34=\"\",\"\",JUN!P34)","v":""},"",""]
[428,{"$f":"IF(JUN!C35=\"\",\"\",JUN!C35)","v":""},{"$f":"IF(JUN!D35=\"\",\"\",JUN!D35)","v":""},{"$f":"IF(JUN!F35=\"\",\"\",JUN!F35)","v":""},{"$f":"IF(JUN!S35=\"\",\"\",JUN!S35)","v":""},{"$f":"IF(E435=\"\",\"\",VLOOKUP(E435,JUN!$A$60:$L$84,9,FALSE))","v":""},{"$f":"IF(JUN!J35=\"\",\"\",JUN!J35)","v":""},{"$f":"IF(JUN!L35=\"\",\"\",JUN!L35)","v":""},{"$f":"IF(JUN!I35=\"\",\"\",JUN!I35)","v":""},{"$f":"IF(JUN!N35=\"\",\"\",JUN!N35)","v":""},{"$f":"IF(JUN!O35=\"\",\"\",JUN!O35)","v":""},{"$f":"IF(JUN!P35=\"\",\"\",JUN!P35)","v":""},"",""]
[429,{"$f":"IF(JUN!C36=\"\",\"\",JUN!C36)","v":""},{"$f":"IF(JUN!D36=\"\",\"\",JUN!D36)","v":""},{"$f":"IF(JUN!F36=\"\",\"\",JUN!F36)","v":""},{"$f":"IF(JUN!S36=\"\",\"\",JUN!S36)","v":""},{"$f":"IF(E436=\"\",\"\",VLOOKUP(E436,JUN!$A$60:$L$84,9,FALSE))","v":""},{"$f":"IF(JUN!J36=\"\",\"\",JUN!J36)","v":""},{"$f":"IF(JUN!L36=\"\",\"\",JUN!L36)","v":""},{"$f":"IF(JUN!I36=\"\",\"\",JUN!I36)","v":""},{"$f":"IF(JUN!N36=\"\",\"\",JUN!N36)","v":""},{"$f":"IF(JUN!O36=\"\",\"\",JUN!O36)","v":""},{"$f":"IF(JUN!P36=\"\",\"\",JUN!P36)","v":""},"",""]
[430,{"$f":"IF(JUN!C37=\"\",\"\",JUN!C37)","v":""},{"$f":"IF(JUN!D37=\"\",\"\",JUN!D37)","v":""},{"$f":"IF(JUN!F37=\"\",\"\",JUN!F37)","v":""},{"$f":"IF(JUN!S37=\"\",\"\",JUN!S37)","v":""},{"$f":"IF(E437=\"\",\"\",VLOOKUP(E437,JUN!$A$60:$L$84,9,FALSE))","v":""},{"$f":"IF(JUN!J37=\"\",\"\",JUN!J37)","v":""},{"$f":"IF(JUN!L37=\"\",\"\",JUN!L37)","v":""},{"$f":"IF(JUN!I37=\"\",\"\",JUN!I37)","v":""},{"$f":"IF(JUN!N37=\"\",\"\",JUN!N37)","v":""},{"$f":"IF(JUN!O37=\"\",\"\",JUN!O37)","v":""},{"$f":"IF(JUN!P37=\"\",\"\",JUN!P37)","v":""},"",""]
[431,{"$f":"IF(JUN!C38=\"\",\"\",JUN!C38)","v":""},{"$f":"IF(JUN!D38=\"\",\"\",JUN!D38)","v":""},{"$f":"IF(JUN!F38=\"\",\"\",JUN!F38)","v":""},{"$f":"IF(JUN!S38=\"\",\"\",JUN!S38)","v":""},{"$f":"IF(E438=\"\",\"\",VLOOKUP(E438,JUN!$A$60:$L$84,9,FALSE))","v":""},{"$f":"IF(JUN!J38=\"\",\"\",JUN!J38)","v":""},{"$f":"IF(JUN!L38=\"\",\"\",JUN!L38)","v":""},{"$f":"IF(JUN!I38=\"\",\"\",JUN!I38)","v":""},{"$f":"IF(JUN!N38=\"\",\"\",JUN!N38)","v":""},{"$f":"IF(JUN!O38=\"\",\"\",JUN!O38)","v":""},{"$f":"IF(JUN!P38=\"\",\"\",JUN!P38)","v":""},"",""]
[432,{"$f":"IF(JUN!C39=\"\",\"\",JUN!C39)","v":""},{"$f":"IF(JUN!D39=\"\",\"\",JUN!D39)","v":""},{"$f":"IF(JUN!F39=\"\",\"\",JUN!F39)","v":""},{"$f":"IF(JUN!S39=\"\",\"\",JUN!S39)","v":""},{"$f":"IF(E439=\"\",\"\",VLOOKUP(E439,JUN!$A$60:$L$84,9,FALSE))","v":""},{"$f":"IF(JUN!J39=\"\",\"\",JUN!J39)","v":""},{"$f":"IF(JUN!L39=\"\",\"\",JUN!L39)","v":""},{"$f":"IF(JUN!I39=\"\",\"\",JUN!I39)","v":""},{"$f":"IF(JUN!N39=\"\",\"\",JUN!N39)","v":""},{"$f":"IF(JUN!O39=\"\",\"\",JUN!O39)","v":""},{"$f":"IF(JUN!P39=\"\",\"\",JUN!P39)","v":""},"",""]
[433,{"$f":"IF(JUN!C40=\"\",\"\",JUN!C40)","v":""},{"$f":"IF(JUN!D40=\"\",\"\",JUN!D40)","v":""},{"$f":"IF(JUN!F40=\"\",\"\",JUN!F40)","v":""},{"$f":"IF(JUN!S40=\"\",\"\",JUN!S40)","v":""},{"$f":"IF(E440=\"\",\"\",VLOOKUP(E440,JUN!$A$60:$L$84,9,FALSE))","v":""},{"$f":"IF(JUN!J40=\"\",\"\",JUN!J40)","v":""},{"$f":"IF(JUN!L40=\"\",\"\",JUN!L40)","v":""},{"$f":"IF(JUN!I40=\"\",\"\",JUN!I40)","v":""},{"$f":"IF(JUN!N40=\"\",\"\",JUN!N40)","v":""},{"$f":"IF(JUN!O40=\"\",\"\",JUN!O40)","v":""},{"$f":"IF(JUN!P40=\"\",\"\",JUN!P40)","v":""},"",""]
[434,{"$f":"IF(JUN!C41=\"\",\"\",JUN!C41)","v":""},{"$f":"IF(JUN!D41=\"\",\"\",JUN!D41)","v":""},{"$f":"IF(JUN!F41=\"\",\"\",JUN!F41)","v":""},{"$f":"IF(JUN!S41=\"\",\"\",JUN!S41)","v":""},{"$f":"IF(E441=\"\",\"\",VLOOKUP(E441,JUN!$A$60:$L$84,9,FALSE))","v":""},{"$f":"IF(JUN!J41=\"\",\"\",JUN!J41)","v":""},{"$f":"IF(JUN!L41=\"\",\"\",JUN!L41)","v":""},{"$f":"IF(JUN!I41=\"\",\"\",JUN!I41)","v":""},{"$f":"IF(JUN!N41=\"\",\"\",JUN!N41)","v":""},{"$f":"IF(JUN!O41=\"\",\"\",JUN!O41)","v":""},{"$f":"IF(JUN!P41=\"\",\"\",JUN!P41)","v":""},"",""]
[435,{"$f":"IF(JUN!C42=\"\",\"\",JUN!C42)","v":""},{"$f":"IF(JUN!D42=\"\",\"\",JUN!D42)","v":""},{"$f":"IF(JUN!F42=\"\",\"\",JUN!F42)","v":""},{"$f":"IF(JUN!S42=\"\",\"\",JUN!S42)","v":""},{"$f":"IF(E442=\"\",\"\",VLOOKUP(E442,JUN!$A$60:$L$84,9,FALSE))","v":""},{"$f":"IF(JUN!J42=\"\",\"\",JUN!J42)","v":""},{"$f":"IF(JUN!L42=\"\",\"\",JUN!L42)","v":""},{"$f":"IF(JUN!I42=\"\",\"\",JUN!I42)","v":""},{"$f":"IF(JUN!N42=\"\",\"\",JUN!N42)","v":""},{"$f":"IF(JUN!O42=\"\",\"\",JUN!O42)","v":""},{"$f":"IF(JUN!P42=\"\",\"\",JUN!P42)","v":""},"",""]
[436,{"$f":"IF(JUN!C43=\"\",\"\",JUN!C43)","v":""},{"$f":"IF(JUN!D43=\"\",\"\",JUN!D43)","v":""},{"$f":"IF(JUN!F43=\"\",\"\",JUN!F43)","v":""},{"$f":"IF(JUN!S43=\"\",\"\",JUN!S43)","v":""},{"$f":"IF(E443=\"\",\"\",VLOOKUP(E443,JUN!$A$60:$L$84,9,FALSE))","v":""},{"$f":"IF(JUN!J43=\"\",\"\",JUN!J43)","v":""},{"$f":"IF(JUN!L43=\"\",\"\",JUN!L43)","v":""},{"$f":"IF(JUN!I43=\"\",\"\",JUN!I43)","v":""},{"$f":"IF(JUN!N43=\"\",\"\",JUN!N43)","v":""},{"$f":"IF(JUN!O43=\"\",\"\",JUN!O43)","v":""},{"$f":"IF(JUN!P43=\"\",\"\",JUN!P43)","v":""},"",""]
[437,{"$f":"IF(JUN!C44=\"\",\"\",JUN!C44)","v":""},{"$f":"IF(JUN!D44=\"\",\"\",JUN!D44)","v":""},{"$f":"IF(JUN!F44=\"\",\"\",JUN!F44)","v":""},{"$f":"IF(JUN!S44=\"\",\"\",JUN!S44)","v":""},{"$f":"IF(E444=\"\",\"\",VLOOKUP(E444,JUN!$A$60:$L$84,9,FALSE))","v":""},{"$f":"IF(JUN!J44=\"\",\"\",JUN!J44)","v":""},{"$f":"IF(JUN!L44=\"\",\"\",JUN!L44)","v":""},{"$f":"IF(JUN!I44=\"\",\"\",JUN!I44)","v":""},{"$f":"IF(JUN!N44=\"\",\"\",JUN!N44)","v":""},{"$f":"IF(JUN!O44=\"\",\"\",JUN!O44)","v":""},{"$f":"IF(JUN!P44=\"\",\"\",JUN!P44)","v":""},"",""]
[438,{"$f":"IF(JUN!C45=\"\",\"\",JUN!C45)","v":""},{"$f":"IF(JUN!D45=\"\",\"\",JUN!D45)","v":""},{"$f":"IF(JUN!F45=\"\",\"\",JUN!F45)","v":""},{"$f":"IF(JUN!S45=\"\",\"\",JUN!S45)","v":""},{"$f":"IF(E445=\"\",\"\",VLOOKUP(E445,JUN!$A$60:$L$84,9,FALSE))","v":""},{"$f":"IF(JUN!J45=\"\",\"\",JUN!J45)","v":""},{"$f":"IF(JUN!L45=\"\",\"\",JUN!L45)","v":""},{"$f":"IF(JUN!I45=\"\",\"\",JUN!I45)","v":""},{"$f":"IF(JUN!N45=\"\",\"\",JUN!N45)","v":""},{"$f":"IF(JUN!O45=\"\",\"\",JUN!O45)","v":""},{"$f":"IF(JUN!P45=\"\",\"\",JUN!P45)","v":""},"",""]
[439,{"$f":"IF(JUN!C46=\"\",\"\",JUN!C46)","v":""},{"$f":"IF(JUN!D46=\"\",\"\",JUN!D46)","v":""},{"$f":"IF(JUN!F46=\"\",\"\",JUN!F46)","v":""},{"$f":"IF(JUN!S46=\"\",\"\",JUN!S46)","v":""},{"$f":"IF(E446=\"\",\"\",VLOOKUP(E446,JUN!$A$60:$L$84,9,FALSE))","v":""},{"$f":"IF(JUN!J46=\"\",\"\",JUN!J46)","v":""},{"$f":"IF(JUN!L46=\"\",\"\",JUN!L46)","v":""},{"$f":"IF(JUN!I46=\"\",\"\",JUN!I46)","v":""},{"$f":"IF(JUN!N46=\"\",\"\",JUN!N46)","v":""},{"$f":"IF(JUN!O46=\"\",\"\",JUN!O46)","v":""},{"$f":"IF(JUN!P46=\"\",\"\",JUN!P46)","v":""},"",""]
[440,{"$f":"IF(JUN!C47=\"\",\"\",JUN!C47)","v":""},{"$f":"IF(JUN!D47=\"\",\"\",JUN!D47)","v":""},{"$f":"IF(JUN!F47=\"\",\"\",JUN!F47)","v":""},{"$f":"IF(JUN!S47=\"\",\"\",JUN!S47)","v":""},{"$f":"IF(E447=\"\",\"\",VLOOKUP(E447,JUN!$A$60:$L$84,9,FALSE))","v":""},{"$f":"IF(JUN!J47=\"\",\"\",JUN!J47)","v":""},{"$f":"IF(JUN!L47=\"\",\"\",JUN!L47)","v":""},{"$f":"IF(JUN!I47=\"\",\"\",JUN!I47)","v":""},{"$f":"IF(JUN!N47=\"\",\"\",JUN!N47)","v":""},{"$f":"IF(JUN!O47=\"\",\"\",JUN!O47)","v":""},{"$f":"IF(JUN!P47=\"\",\"\",JUN!P47)","v":""},"",""]
[441,{"$f":"IF(JUN!C48=\"\",\"\",JUN!C48)","v":""},{"$f":"IF(JUN!D48=\"\",\"\",JUN!D48)","v":""},{"$f":"IF(JUN!F48=\"\",\"\",JUN!F48)","v":""},{"$f":"IF(JUN!S48=\"\",\"\",JUN!S48)","v":""},{"$f":"IF(E448=\"\",\"\",VLOOKUP(E448,JUN!$A$60:$L$84,9,FALSE))","v":""},{"$f":"IF(JUN!J48=\"\",\"\",JUN!J48)","v":""},{"$f":"IF(JUN!L48=\"\",\"\",JUN!L48)","v":""},{"$f":"IF(JUN!I48=\"\",\"\",JUN!I48)","v":""},{"$f":"IF(JUN!N48=\"\",\"\",JUN!N48)","v":""},{"$f":"IF(JUN!O48=\"\",\"\",JUN!O48)","v":""},{"$f":"IF(JUN!P48=\"\",\"\",JUN!P48)","v":""},"",""]
[442,{"$f":"IF(JUN!C49=\"\",\"\",JUN!C49)","v":""},{"$f":"IF(JUN!D49=\"\",\"\",JUN!D49)","v":""},{"$f":"IF(JUN!F49=\"\",\"\",JUN!F49)","v":""},{"$f":"IF(JUN!S49=\"\",\"\",JUN!S49)","v":""},{"$f":"IF(E449=\"\",\"\",VLOOKUP(E449,JUN!$A$60:$L$84,9,FALSE))","v":""},{"$f":"IF(JUN!J49=\"\",\"\",JUN!J49)","v":""},{"$f":"IF(JUN!L49=\"\",\"\",JUN!L49)","v":""},{"$f":"IF(JUN!I49=\"\",\"\",JUN!I49)","v":""},{"$f":"IF(JUN!N49=\"\",\"\",JUN!N49)","v":""},{"$f":"IF(JUN!O49=\"\",\"\",JUN!O49)","v":""},{"$f":"IF(JUN!P49=\"\",\"\",JUN!P49)","v":""},"",""]
[443,{"$f":"IF(JUN!C50=\"\",\"\",JUN!C50)","v":""},{"$f":"IF(JUN!D50=\"\",\"\",JUN!D50)","v":""},{"$f":"IF(JUN!F50=\"\",\"\",JUN!F50)","v":""},{"$f":"IF(JUN!S50=\"\",\"\",JUN!S50)","v":""},{"$f":"IF(E450=\"\",\"\",VLOOKUP(E450,JUN!$A$60:$L$84,9,FALSE))","v":""},{"$f":"IF(JUN!J50=\"\",\"\",JUN!J50)","v":""},{"$f":"IF(JUN!L50=\"\",\"\",JUN!L50)","v":""},{"$f":"IF(JUN!I50=\"\",\"\",JUN!I50)","v":""},{"$f":"IF(JUN!N50=\"\",\"\",JUN!N50)","v":""},{"$f":"IF(JUN!O50=\"\",\"\",JUN!O50)","v":""},{"$f":"IF(JUN!P50=\"\",\"\",JUN!P50)","v":""},"",""]
[444,{"$f":"IF(JUN!C51=\"\",\"\",JUN!C51)","v":""},{"$f":"IF(JUN!D51=\"\",\"\",JUN!D51)","v":""},{"$f":"IF(JUN!F51=\"\",\"\",JUN!F51)","v":""},{"$f":"IF(JUN!S51=\"\",\"\",JUN!S51)","v":""},{"$f":"IF(E451=\"\",\"\",VLOOKUP(E451,JUN!$A$60:$L$84,9,FALSE))","v":""},{"$f":"IF(JUN!J51=\"\",\"\",JUN!J51)","v":""},{"$f":"IF(JUN!L51=\"\",\"\",JUN!L51)","v":""},{"$f":"IF(JUN!I51=\"\",\"\",JUN!I51)","v":""},{"$f":"IF(JUN!N51=\"\",\"\",JUN!N51)","v":""},{"$f":"IF(JUN!O51=\"\",\"\",JUN!O51)","v":""},{"$f":"IF(JUN!P51=\"\",\"\",JUN!P51)","v":""},"",""]
[445,{"$f":"IF(JUN!C52=\"\",\"\",JUN!C52)","v":""},{"$f":"IF(JUN!D52=\"\",\"\",JUN!D52)","v":""},{"$f":"IF(JUN!F52=\"\",\"\",JUN!F52)","v":""},{"$f":"IF(JUN!S52=\"\",\"\",JUN!S52)","v":""},{"$f":"IF(E452=\"\",\"\",VLOOKUP(E452,JUN!$A$60:$L$84,9,FALSE))","v":""},{"$f":"IF(JUN!J52=\"\",\"\",JUN!J52)","v":""},{"$f":"IF(JUN!L52=\"\",\"\",JUN!L52)","v":""},{"$f":"IF(JUN!I52=\"\",\"\",JUN!I52)","v":""},{"$f":"IF(JUN!N52=\"\",\"\",JUN!N52)","v":""},{"$f":"IF(JUN!O52=\"\",\"\",JUN!O52)","v":""},{"$f":"IF(JUN!P52=\"\",\"\",JUN!P52)","v":""},"",""]
[446,{"$f":"IF(JUN!C53=\"\",\"\",JUN!C53)","v":""},{"$f":"IF(JUN!D53=\"\",\"\",JUN!D53)","v":""},{"$f":"IF(JUN!F53=\"\",\"\",JUN!F53)","v":""},{"$f":"IF(JUN!S53=\"\",\"\",JUN!S53)","v":""},{"$f":"IF(E453=\"\",\"\",VLOOKUP(E453,JUN!$A$60:$L$84,9,FALSE))","v":""},{"$f":"IF(JUN!J53=\"\",\"\",JUN!J53)","v":""},{"$f":"IF(JUN!L53=\"\",\"\",JUN!L53)","v":""},{"$f":"IF(JUN!I53=\"\",\"\",JUN!I53)","v":""},{"$f":"IF(JUN!N53=\"\",\"\",JUN!N53)","v":""},{"$f":"IF(JUN!O53=\"\",\"\",JUN!O53)","v":""},{"$f":"IF(JUN!P53=\"\",\"\",JUN!P53)","v":""},"",""]
[447,{"$f":"IF(JUN!C54=\"\",\"\",JUN!C54)","v":""},{"$f":"IF(JUN!D54=\"\",\"\",JUN!D54)","v":""},{"$f":"IF(JUN!F54=\"\",\"\",JUN!F54)","v":""},{"$f":"IF(JUN!S54=\"\",\"\",JUN!S54)","v":""},{"$f":"IF(E454=\"\",\"\",VLOOKUP(E454,JUN!$A$60:$L$84,9,FALSE))","v":""},{"$f":"IF(JUN!J54=\"\",\"\",JUN!J54)","v":""},{"$f":"IF(JUN!L54=\"\",\"\",JUN!L54)","v":""},{"$f":"IF(JUN!I54=\"\",\"\",JUN!I54)","v":""},{"$f":"IF(JUN!N54=\"\",\"\",JUN!N54)","v":""},{"$f":"IF(JUN!O54=\"\",\"\",JUN!O54)","v":""},{"$f":"IF(JUN!P54=\"\",\"\",JUN!P54)","v":""},"",""]
[448,{"$f":"IF(JUN!C55=\"\",\"\",JUN!C55)","v":""},{"$f":"IF(JUN!D55=\"\",\"\",JUN!D55)","v":""},{"$f":"IF(JUN!F55=\"\",\"\",JUN!F55)","v":""},{"$f":"IF(JUN!S55=\"\",\"\",JUN!S55)","v":""},{"$f":"IF(E455=\"\",\"\",VLOOKUP(E455,JUN!$A$60:$L$84,9,FALSE))","v":""},{"$f":"IF(JUN!J55=\"\",\"\",JUN!J55)","v":""},{"$f":"IF(JUN!L55=\"\",\"\",JUN!L55)","v":""},{"$f":"IF(JUN!I55=\"\",\"\",JUN!I55)","v":""},{"$f":"IF(JUN!N55=\"\",\"\",JUN!N55)","v":""},{"$f":"IF(JUN!O55=\"\",\"\",JUN!O55)","v":""},{"$f":"IF(JUN!P55=\"\",\"\",JUN!P55)","v":""},"",""]
[449,{"$f":"IF(JUN!C56=\"\",\"\",JUN!C56)","v":""},{"$f":"IF(JUN!D56=\"\",\"\",JUN!D56)","v":""},{"$f":"IF(JUN!F56=\"\",\"\",JUN!F56)","v":""},{"$f":"IF(JUN!S56=\"\",\"\",JUN!S56)","v":""},{"$f":"IF(E456=\"\",\"\",VLOOKUP(E456,JUN!$A$60:$L$84,9,FALSE))","v":""},{"$f":"IF(JUN!J56=\"\",\"\",JUN!J56)","v":""},{"$f":"IF(JUN!L56=\"\",\"\",JUN!L56)","v":""},{"$f":"IF(JUN!I56=\"\",\"\",JUN!I56)","v":""},{"$f":"IF(JUN!N56=\"\",\"\",JUN!N56)","v":""},{"$f":"IF(JUN!O56=\"\",\"\",JUN!O56)","v":""},{"$f":"IF(JUN!P56=\"\",\"\",JUN!P56)","v":""},{"$f":"IF(J456=\"\",\"\",J456+L456)","v":""},""]
[450,{"$f":"IF(JUN!C57=\"\",\"\",JUN!C57)","v":""},{"$f":"IF(JUN!D57=\"\",\"\",JUN!D57)","v":""},{"$f":"IF(JUN!F57=\"\",\"\",JUN!F57)","v":""},{"$f":"IF(JUN!S57=\"\",\"\",JUN!S57)","v":""},{"$f":"IF(E457=\"\",\"\",VLOOKUP(E457,JUN!$A$60:$L$84,9,FALSE))","v":""},{"$f":"IF(JUN!J57=\"\",\"\",JUN!J57)","v":""},{"$f":"IF(JUN!L57=\"\",\"\",JUN!L57)","v":""},{"$f":"IF(JUN!I57=\"\",\"\",JUN!I57)","v":""},{"$f":"IF(JUN!N57=\"\",\"\",JUN!N57)","v":""},{"$f":"IF(JUN!O57=\"\",\"\",JUN!O57)","v":""},{"$f":"IF(JUN!P57=\"\",\"\",JUN!P57)","v":""},"",""]
[451,{"$f":"IF(JUL!C8=\"\",\"\",JUL!C8)","v":""},{"$f":"IF(JUL!D8=\"\",\"\",JUL!D8)","v":""},{"$f":"IF(JUL!F8=\"\",\"\",JUL!F8)","v":""},{"$f":"IF(JUL!S8=\"\",\"\",JUL!S8)","v":""},{"$f":"IF(E458=\"\",\"\",VLOOKUP(E458,JUL!$A$60:$L$84,9,FALSE))","v":""},{"$f":"IF(JUL!J8=\"\",\"\",JUL!J8)","v":""},{"$f":"IF(JUL!L8=\"\",\"\",JUL!L8)","v":""},{"$f":"IF(JUL!I8=\"\",\"\",JUL!I8)","v":""},{"$f":"IF(JUL!N8=\"\",\"\",JUL!N8)","v":""},{"$f":"IF(JUL!O8=\"\",\"\",JUL!O8)","v":""},{"$f":"IF(JUL!P8=\"\",\"\",JUL!P8)","v":""},"",""]
[452,{"$f":"IF(JUL!C9=\"\",\"\",JUL!C9)","v":""},{"$f":"IF(JUL!D9=\"\",\"\",JUL!D9)","v":""},{"$f":"IF(JUL!F9=\"\",\"\",JUL!F9)","v":""},{"$f":"IF(JUL!S9=\"\",\"\",JUL!S9)","v":""},{"$f":"IF(E459=\"\",\"\",VLOOKUP(E459,JUL!$A$60:$L$84,9,FALSE))","v":""},{"$f":"IF(JUL!J9=\"\",\"\",JUL!J9)","v":""},{"$f":"IF(JUL!L9=\"\",\"\",JUL!L9)","v":""},{"$f":"IF(JUL!I9=\"\",\"\",JUL!I9)","v":""},{"$f":"IF(JUL!N9=\"\",\"\",JUL!N9)","v":""},{"$f":"IF(JUL!O9=\"\",\"\",JUL!O9)","v":""},{"$f":"IF(JUL!P9=\"\",\"\",JUL!P9)","v":""},"",""]
[453,{"$f":"IF(JUL!C10=\"\",\"\",JUL!C10)","v":""},{"$f":"IF(JUL!D10=\"\",\"\",JUL!D10)","v":""},{"$f":"IF(JUL!F10=\"\",\"\",JUL!F10)","v":""},{"$f":"IF(JUL!S10=\"\",\"\",JUL!S10)","v":""},{"$f":"IF(E460=\"\",\"\",VLOOKUP(E460,JUL!$A$60:$L$84,9,FALSE))","v":""},{"$f":"IF(JUL!J10=\"\",\"\",JUL!J10)","v":""},{"$f":"IF(JUL!L10=\"\",\"\",JUL!L10)","v":""},{"$f":"IF(JUL!I10=\"\",\"\",JUL!I10)","v":""},{"$f":"IF(JUL!N10=\"\",\"\",JUL!N10)","v":""},{"$f":"IF(JUL!O10=\"\",\"\",JUL!O10)","v":""},{"$f":"IF(JUL!P10=\"\",\"\",JUL!P10)","v":""},"",""]
[454,{"$f":"IF(JUL!C11=\"\",\"\",JUL!C11)","v":""},{"$f":"IF(JUL!D11=\"\",\"\",JUL!D11)","v":""},{"$f":"IF(JUL!F11=\"\",\"\",JUL!F11)","v":""},{"$f":"IF(JUL!S11=\"\",\"\",JUL!S11)","v":""},{"$f":"IF(E461=\"\",\"\",VLOOKUP(E461,JUL!$A$60:$L$84,9,FALSE))","v":""},{"$f":"IF(JUL!J11=\"\",\"\",JUL!J11)","v":""},{"$f":"IF(JUL!L11=\"\",\"\",JUL!L11)","v":""},{"$f":"IF(JUL!I11=\"\",\"\",JUL!I11)","v":""},{"$f":"IF(JUL!N11=\"\",\"\",JUL!N11)","v":""},{"$f":"IF(JUL!O11=\"\",\"\",JUL!O11)","v":""},{"$f":"IF(JUL!P11=\"\",\"\",JUL!P11)","v":""},"",""]
[455,{"$f":"IF(JUL!C12=\"\",\"\",JUL!C12)","v":""},{"$f":"IF(JUL!D12=\"\",\"\",JUL!D12)","v":""},{"$f":"IF(JUL!F12=\"\",\"\",JUL!F12)","v":""},{"$f":"IF(JUL!S12=\"\",\"\",JUL!S12)","v":""},{"$f":"IF(E462=\"\",\"\",VLOOKUP(E462,JUL!$A$60:$L$84,9,FALSE))","v":""},{"$f":"IF(JUL!J12=\"\",\"\",JUL!J12)","v":""},{"$f":"IF(JUL!L12=\"\",\"\",JUL!L12)","v":""},{"$f":"IF(JUL!I12=\"\",\"\",JUL!I12)","v":""},{"$f":"IF(JUL!N12=\"\",\"\",JUL!N12)","v":""},{"$f":"IF(JUL!O12=\"\",\"\",JUL!O12)","v":""},{"$f":"IF(JUL!P12=\"\",\"\",JUL!P12)","v":""},"",""]
[456,{"$f":"IF(JUL!C13=\"\",\"\",JUL!C13)","v":""},{"$f":"IF(JUL!D13=\"\",\"\",JUL!D13)","v":""},{"$f":"IF(JUL!F13=\"\",\"\",JUL!F13)","v":""},{"$f":"IF(JUL!S13=\"\",\"\",JUL!S13)","v":""},{"$f":"IF(E463=\"\",\"\",VLOOKUP(E463,JUL!$A$60:$L$84,9,FALSE))","v":""},{"$f":"IF(JUL!J13=\"\",\"\",JUL!J13)","v":""},{"$f":"IF(JUL!L13=\"\",\"\",JUL!L13)","v":""},{"$f":"IF(JUL!I13=\"\",\"\",JUL!I13)","v":""},{"$f":"IF(JUL!N13=\"\",\"\",JUL!N13)","v":""},{"$f":"IF(JUL!O13=\"\",\"\",JUL!O13)","v":""},{"$f":"IF(JUL!P13=\"\",\"\",JUL!P13)","v":""},"",""]
[457,{"$f":"IF(JUL!C14=\"\",\"\",JUL!C14)","v":""},{"$f":"IF(JUL!D14=\"\",\"\",JUL!D14)","v":""},{"$f":"IF(JUL!F14=\"\",\"\",JUL!F14)","v":""},{"$f":"IF(JUL!S14=\"\",\"\",JUL!S14)","v":""},{"$f":"IF(E464=\"\",\"\",VLOOKUP(E464,JUL!$A$60:$L$84,9,FALSE))","v":""},{"$f":"IF(JUL!J14=\"\",\"\",JUL!J14)","v":""},{"$f":"IF(JUL!L14=\"\",\"\",JUL!L14)","v":""},{"$f":"IF(JUL!I14=\"\",\"\",JUL!I14)","v":""},{"$f":"IF(JUL!N14=\"\",\"\",JUL!N14)","v":""},{"$f":"IF(JUL!O14=\"\",\"\",JUL!O14)","v":""},{"$f":"IF(JUL!P14=\"\",\"\",JUL!P14)","v":""},"",{"$f":"IF(B464=\"\",\"\",N463+J464+L464)","v":""}]
[458,{"$f":"IF(JUL!C15=\"\",\"\",JUL!C15)","v":""},{"$f":"IF(JUL!D15=\"\",\"\",JUL!D15)","v":""},{"$f":"IF(JUL!F15=\"\",\"\",JUL!F15)","v":""},{"$f":"IF(JUL!S15=\"\",\"\",JUL!S15)","v":""},{"$f":"IF(E465=\"\",\"\",VLOOKUP(E465,JUL!$A$60:$L$84,9,FALSE))","v":""},{"$f":"IF(JUL!J15=\"\",\"\",JUL!J15)","v":""},{"$f":"IF(JUL!L15=\"\",\"\",JUL!L15)","v":""},{"$f":"IF(JUL!I15=\"\",\"\",JUL!I15)","v":""},{"$f":"IF(JUL!N15=\"\",\"\",JUL!N15)","v":""},{"$f":"IF(JUL!O15=\"\",\"\",JUL!O15)","v":""},{"$f":"IF(JUL!P15=\"\",\"\",JUL!P15)","v":""},"",""]
[459,{"$f":"IF(JUL!C16=\"\",\"\",JUL!C16)","v":""},{"$f":"IF(JUL!D16=\"\",\"\",JUL!D16)","v":""},{"$f":"IF(JUL!F16=\"\",\"\",JUL!F16)","v":""},{"$f":"IF(JUL!S16=\"\",\"\",JUL!S16)","v":""},{"$f":"IF(E466=\"\",\"\",VLOOKUP(E466,JUL!$A$60:$L$84,9,FALSE))","v":""},{"$f":"IF(JUL!J16=\"\",\"\",JUL!J16)","v":""},{"$f":"IF(JUL!L16=\"\",\"\",JUL!L16)","v":""},{"$f":"IF(JUL!I16=\"\",\"\",JUL!I16)","v":""},{"$f":"IF(JUL!N16=\"\",\"\",JUL!N16)","v":""},{"$f":"IF(JUL!O16=\"\",\"\",JUL!O16)","v":""},{"$f":"IF(JUL!P16=\"\",\"\",JUL!P16)","v":""},"",""]
[460,{"$f":"IF(JUL!C17=\"\",\"\",JUL!C17)","v":""},{"$f":"IF(JUL!D17=\"\",\"\",JUL!D17)","v":""},{"$f":"IF(JUL!F17=\"\",\"\",JUL!F17)","v":""},{"$f":"IF(JUL!S17=\"\",\"\",JUL!S17)","v":""},{"$f":"IF(E467=\"\",\"\",VLOOKUP(E467,JUL!$A$60:$L$84,9,FALSE))","v":""},{"$f":"IF(JUL!J17=\"\",\"\",JUL!J17)","v":""},{"$f":"IF(JUL!L17=\"\",\"\",JUL!L17)","v":""},{"$f":"IF(JUL!I17=\"\",\"\",JUL!I17)","v":""},{"$f":"IF(JUL!N17=\"\",\"\",JUL!N17)","v":""},{"$f":"IF(JUL!O17=\"\",\"\",JUL!O17)","v":""},{"$f":"IF(JUL!P17=\"\",\"\",JUL!P17)","v":""},"",""]
[461,{"$f":"IF(JUL!C18=\"\",\"\",JUL!C18)","v":""},{"$f":"IF(JUL!D18=\"\",\"\",JUL!D18)","v":""},{"$f":"IF(JUL!F18=\"\",\"\",JUL!F18)","v":""},{"$f":"IF(JUL!S18=\"\",\"\",JUL!S18)","v":""},{"$f":"IF(E468=\"\",\"\",VLOOKUP(E468,JUL!$A$60:$L$84,9,FALSE))","v":""},{"$f":"IF(JUL!J18=\"\",\"\",JUL!J18)","v":""},{"$f":"IF(JUL!L18=\"\",\"\",JUL!L18)","v":""},{"$f":"IF(JUL!I18=\"\",\"\",JUL!I18)","v":""},{"$f":"IF(JUL!N18=\"\",\"\",JUL!N18)","v":""},{"$f":"IF(JUL!O18=\"\",\"\",JUL!O18)","v":""},{"$f":"IF(JUL!P18=\"\",\"\",JUL!P18)","v":""},"",""]
[462,{"$f":"IF(JUL!C19=\"\",\"\",JUL!C19)","v":""},{"$f":"IF(JUL!D19=\"\",\"\",JUL!D19)","v":""},{"$f":"IF(JUL!F19=\"\",\"\",JUL!F19)","v":""},{"$f":"IF(JUL!S19=\"\",\"\",JUL!S19)","v":""},{"$f":"IF(E469=\"\",\"\",VLOOKUP(E469,JUL!$A$60:$L$84,9,FALSE))","v":""},{"$f":"IF(JUL!J19=\"\",\"\",JUL!J19)","v":""},{"$f":"IF(JUL!L19=\"\",\"\",JUL!L19)","v":""},{"$f":"IF(JUL!I19=\"\",\"\",JUL!I19)","v":""},{"$f":"IF(JUL!N19=\"\",\"\",JUL!N19)","v":""},{"$f":"IF(JUL!O19=\"\",\"\",JUL!O19)","v":""},{"$f":"IF(JUL!P19=\"\",\"\",JUL!P19)","v":""},"",""]
[463,{"$f":"IF(JUL!C20=\"\",\"\",JUL!C20)","v":""},{"$f":"IF(JUL!D20=\"\",\"\",JUL!D20)","v":""},{"$f":"IF(JUL!F20=\"\",\"\",JUL!F20)","v":""},{"$f":"IF(JUL!S20=\"\",\"\",JUL!S20)","v":""},{"$f":"IF(E470=\"\",\"\",VLOOKUP(E470,JUL!$A$60:$L$84,9,FALSE))","v":""},{"$f":"IF(JUL!J20=\"\",\"\",JUL!J20)","v":""},{"$f":"IF(JUL!L20=\"\",\"\",JUL!L20)","v":""},{"$f":"IF(JUL!I20=\"\",\"\",JUL!I20)","v":""},{"$f":"IF(JUL!N20=\"\",\"\",JUL!N20)","v":""},{"$f":"IF(JUL!O20=\"\",\"\",JUL!O20)","v":""},{"$f":"IF(JUL!P20=\"\",\"\",JUL!P20)","v":""},"",""]
[464,{"$f":"IF(JUL!C21=\"\",\"\",JUL!C21)","v":""},{"$f":"IF(JUL!D21=\"\",\"\",JUL!D21)","v":""},{"$f":"IF(JUL!F21=\"\",\"\",JUL!F21)","v":""},{"$f":"IF(JUL!S21=\"\",\"\",JUL!S21)","v":""},{"$f":"IF(E471=\"\",\"\",VLOOKUP(E471,JUL!$A$60:$L$84,9,FALSE))","v":""},{"$f":"IF(JUL!J21=\"\",\"\",JUL!J21)","v":""},{"$f":"IF(JUL!L21=\"\",\"\",JUL!L21)","v":""},{"$f":"IF(JUL!I21=\"\",\"\",JUL!I21)","v":""},{"$f":"IF(JUL!N21=\"\",\"\",JUL!N21)","v":""},{"$f":"IF(JUL!O21=\"\",\"\",JUL!O21)","v":""},{"$f":"IF(JUL!P21=\"\",\"\",JUL!P21)","v":""},"",""]
[465,{"$f":"IF(JUL!C22=\"\",\"\",JUL!C22)","v":""},{"$f":"IF(JUL!D22=\"\",\"\",JUL!D22)","v":""},{"$f":"IF(JUL!F22=\"\",\"\",JUL!F22)","v":""},{"$f":"IF(JUL!S22=\"\",\"\",JUL!S22)","v":""},{"$f":"IF(E472=\"\",\"\",VLOOKUP(E472,JUL!$A$60:$L$84,9,FALSE))","v":""},{"$f":"IF(JUL!J22=\"\",\"\",JUL!J22)","v":""},{"$f":"IF(JUL!L22=\"\",\"\",JUL!L22)","v":""},{"$f":"IF(JUL!I22=\"\",\"\",JUL!I22)","v":""},{"$f":"IF(JUL!N22=\"\",\"\",JUL!N22)","v":""},{"$f":"IF(JUL!O22=\"\",\"\",JUL!O22)","v":""},{"$f":"IF(JUL!P22=\"\",\"\",JUL!P22)","v":""},"",""]
[466,{"$f":"IF(JUL!C23=\"\",\"\",JUL!C23)","v":""},{"$f":"IF(JUL!D23=\"\",\"\",JUL!D23)","v":""},{"$f":"IF(JUL!F23=\"\",\"\",JUL!F23)","v":""},{"$f":"IF(JUL!S23=\"\",\"\",JUL!S23)","v":""},{"$f":"IF(E473=\"\",\"\",VLOOKUP(E473,JUL!$A$60:$L$84,9,FALSE))","v":""},{"$f":"IF(JUL!J23=\"\",\"\",JUL!J23)","v":""},{"$f":"IF(JUL!L23=\"\",\"\",JUL!L23)","v":""},{"$f":"IF(JUL!I23=\"\",\"\",JUL!I23)","v":""},{"$f":"IF(JUL!N23=\"\",\"\",JUL!N23)","v":""},{"$f":"IF(JUL!O23=\"\",\"\",JUL!O23)","v":""},{"$f":"IF(JUL!P23=\"\",\"\",JUL!P23)","v":""},"",""]
[467,{"$f":"IF(JUL!C24=\"\",\"\",JUL!C24)","v":""},{"$f":"IF(JUL!D24=\"\",\"\",JUL!D24)","v":""},{"$f":"IF(JUL!F24=\"\",\"\",JUL!F24)","v":""},{"$f":"IF(JUL!S24=\"\",\"\",JUL!S24)","v":""},{"$f":"IF(E474=\"\",\"\",VLOOKUP(E474,JUL!$A$60:$L$84,9,FALSE))","v":""},{"$f":"IF(JUL!J24=\"\",\"\",JUL!J24)","v":""},{"$f":"IF(JUL!L24=\"\",\"\",JUL!L24)","v":""},{"$f":"IF(JUL!I24=\"\",\"\",JUL!I24)","v":""},{"$f":"IF(JUL!N24=\"\",\"\",JUL!N24)","v":""},{"$f":"IF(JUL!O24=\"\",\"\",JUL!O24)","v":""},{"$f":"IF(JUL!P24=\"\",\"\",JUL!P24)","v":""},"",""]
[468,{"$f":"IF(JUL!C25=\"\",\"\",JUL!C25)","v":""},{"$f":"IF(JUL!D25=\"\",\"\",JUL!D25)","v":""},{"$f":"IF(JUL!F25=\"\",\"\",JUL!F25)","v":""},{"$f":"IF(JUL!S25=\"\",\"\",JUL!S25)","v":""},{"$f":"IF(E475=\"\",\"\",VLOOKUP(E475,JUL!$A$60:$L$84,9,FALSE))","v":""},{"$f":"IF(JUL!J25=\"\",\"\",JUL!J25)","v":""},{"$f":"IF(JUL!L25=\"\",\"\",JUL!L25)","v":""},{"$f":"IF(JUL!I25=\"\",\"\",JUL!I25)","v":""},{"$f":"IF(JUL!N25=\"\",\"\",JUL!N25)","v":""},{"$f":"IF(JUL!O25=\"\",\"\",JUL!O25)","v":""},{"$f":"IF(JUL!P25=\"\",\"\",JUL!P25)","v":""},"",""]
[469,{"$f":"IF(JUL!C26=\"\",\"\",JUL!C26)","v":""},{"$f":"IF(JUL!D26=\"\",\"\",JUL!D26)","v":""},{"$f":"IF(JUL!F26=\"\",\"\",JUL!F26)","v":""},{"$f":"IF(JUL!S26=\"\",\"\",JUL!S26)","v":""},{"$f":"IF(E476=\"\",\"\",VLOOKUP(E476,JUL!$A$60:$L$84,9,FALSE))","v":""},{"$f":"IF(JUL!J26=\"\",\"\",JUL!J26)","v":""},{"$f":"IF(JUL!L26=\"\",\"\",JUL!L26)","v":""},{"$f":"IF(JUL!I26=\"\",\"\",JUL!I26)","v":""},{"$f":"IF(JUL!N26=\"\",\"\",JUL!N26)","v":""},{"$f":"IF(JUL!O26=\"\",\"\",JUL!O26)","v":""},{"$f":"IF(JUL!P26=\"\",\"\",JUL!P26)","v":""},"",""]
[470,{"$f":"IF(JUL!C27=\"\",\"\",JUL!C27)","v":""},{"$f":"IF(JUL!D27=\"\",\"\",JUL!D27)","v":""},{"$f":"IF(JUL!F27=\"\",\"\",JUL!F27)","v":""},{"$f":"IF(JUL!S27=\"\",\"\",JUL!S27)","v":""},{"$f":"IF(E477=\"\",\"\",VLOOKUP(E477,JUL!$A$60:$L$84,9,FALSE))","v":""},{"$f":"IF(JUL!J27=\"\",\"\",JUL!J27)","v":""},{"$f":"IF(JUL!L27=\"\",\"\",JUL!L27)","v":""},{"$f":"IF(JUL!I27=\"\",\"\",JUL!I27)","v":""},{"$f":"IF(JUL!N27=\"\",\"\",JUL!N27)","v":""},{"$f":"IF(JUL!O27=\"\",\"\",JUL!O27)","v":""},{"$f":"IF(JUL!P27=\"\",\"\",JUL!P27)","v":""},"",""]
[471,{"$f":"IF(JUL!C28=\"\",\"\",JUL!C28)","v":""},{"$f":"IF(JUL!D28=\"\",\"\",JUL!D28)","v":""},{"$f":"IF(JUL!F28=\"\",\"\",JUL!F28)","v":""},{"$f":"IF(JUL!S28=\"\",\"\",JUL!S28)","v":""},{"$f":"IF(E478=\"\",\"\",VLOOKUP(E478,JUL!$A$60:$L$84,9,FALSE))","v":""},{"$f":"IF(JUL!J28=\"\",\"\",JUL!J28)","v":""},{"$f":"IF(JUL!L28=\"\",\"\",JUL!L28)","v":""},{"$f":"IF(JUL!I28=\"\",\"\",JUL!I28)","v":""},{"$f":"IF(JUL!N28=\"\",\"\",JUL!N28)","v":""},{"$f":"IF(JUL!O28=\"\",\"\",JUL!O28)","v":""},{"$f":"IF(JUL!P28=\"\",\"\",JUL!P28)","v":""},"",""]
[472,{"$f":"IF(JUL!C29=\"\",\"\",JUL!C29)","v":""},{"$f":"IF(JUL!D29=\"\",\"\",JUL!D29)","v":""},{"$f":"IF(JUL!F29=\"\",\"\",JUL!F29)","v":""},{"$f":"IF(JUL!S29=\"\",\"\",JUL!S29)","v":""},{"$f":"IF(E479=\"\",\"\",VLOOKUP(E479,JUL!$A$60:$L$84,9,FALSE))","v":""},{"$f":"IF(JUL!J29=\"\",\"\",JUL!J29)","v":""},{"$f":"IF(JUL!L29=\"\",\"\",JUL!L29)","v":""},{"$f":"IF(JUL!I29=\"\",\"\",JUL!I29)","v":""},{"$f":"IF(JUL!N29=\"\",\"\",JUL!N29)","v":""},{"$f":"IF(JUL!O29=\"\",\"\",JUL!O29)","v":""},{"$f":"IF(JUL!P29=\"\",\"\",JUL!P29)","v":""},"",""]
[473,{"$f":"IF(JUL!C30=\"\",\"\",JUL!C30)","v":""},{"$f":"IF(JUL!D30=\"\",\"\",JUL!D30)","v":""},{"$f":"IF(JUL!F30=\"\",\"\",JUL!F30)","v":""},{"$f":"IF(JUL!S30=\"\",\"\",JUL!S30)","v":""},{"$f":"IF(E480=\"\",\"\",VLOOKUP(E480,JUL!$A$60:$L$84,9,FALSE))","v":""},{"$f":"IF(JUL!J30=\"\",\"\",JUL!J30)","v":""},{"$f":"IF(JUL!L30=\"\",\"\",JUL!L30)","v":""},{"$f":"IF(JUL!I30=\"\",\"\",JUL!I30)","v":""},{"$f":"IF(JUL!N30=\"\",\"\",JUL!N30)","v":""},{"$f":"IF(JUL!O30=\"\",\"\",JUL!O30)","v":""},{"$f":"IF(JUL!P30=\"\",\"\",JUL!P30)","v":""},"",""]
[474,{"$f":"IF(JUL!C31=\"\",\"\",JUL!C31)","v":""},{"$f":"IF(JUL!D31=\"\",\"\",JUL!D31)","v":""},{"$f":"IF(JUL!F31=\"\",\"\",JUL!F31)","v":""},{"$f":"IF(JUL!S31=\"\",\"\",JUL!S31)","v":""},{"$f":"IF(E481=\"\",\"\",VLOOKUP(E481,JUL!$A$60:$L$84,9,FALSE))","v":""},{"$f":"IF(JUL!J31=\"\",\"\",JUL!J31)","v":""},{"$f":"IF(JUL!L31=\"\",\"\",JUL!L31)","v":""},{"$f":"IF(JUL!I31=\"\",\"\",JUL!I31)","v":""},{"$f":"IF(JUL!N31=\"\",\"\",JUL!N31)","v":""},{"$f":"IF(JUL!O31=\"\",\"\",JUL!O31)","v":""},{"$f":"IF(JUL!P31=\"\",\"\",JUL!P31)","v":""},"",""]
[475,{"$f":"IF(JUL!C32=\"\",\"\",JUL!C32)","v":""},{"$f":"IF(JUL!D32=\"\",\"\",JUL!D32)","v":""},{"$f":"IF(JUL!F32=\"\",\"\",JUL!F32)","v":""},{"$f":"IF(JUL!S32=\"\",\"\",JUL!S32)","v":""},{"$f":"IF(E482=\"\",\"\",VLOOKUP(E482,JUL!$A$60:$L$84,9,FALSE))","v":""},{"$f":"IF(JUL!J32=\"\",\"\",JUL!J32)","v":""},{"$f":"IF(JUL!L32=\"\",\"\",JUL!L32)","v":""},{"$f":"IF(JUL!I32=\"\",\"\",JUL!I32)","v":""},{"$f":"IF(JUL!N32=\"\",\"\",JUL!N32)","v":""},{"$f":"IF(JUL!O32=\"\",\"\",JUL!O32)","v":""},{"$f":"IF(JUL!P32=\"\",\"\",JUL!P32)","v":""},"",""]
[476,{"$f":"IF(JUL!C33=\"\",\"\",JUL!C33)","v":""},{"$f":"IF(JUL!D33=\"\",\"\",JUL!D33)","v":""},{"$f":"IF(JUL!F33=\"\",\"\",JUL!F33)","v":""},{"$f":"IF(JUL!S33=\"\",\"\",JUL!S33)","v":""},{"$f":"IF(E483=\"\",\"\",VLOOKUP(E483,JUL!$A$60:$L$84,9,FALSE))","v":""},{"$f":"IF(JUL!J33=\"\",\"\",JUL!J33)","v":""},{"$f":"IF(JUL!L33=\"\",\"\",JUL!L33)","v":""},{"$f":"IF(JUL!I33=\"\",\"\",JUL!I33)","v":""},{"$f":"IF(JUL!N33=\"\",\"\",JUL!N33)","v":""},{"$f":"IF(JUL!O33=\"\",\"\",JUL!O33)","v":""},{"$f":"IF(JUL!P33=\"\",\"\",JUL!P33)","v":""},"",""]
[477,{"$f":"IF(JUL!C34=\"\",\"\",JUL!C34)","v":""},{"$f":"IF(JUL!D34=\"\",\"\",JUL!D34)","v":""},{"$f":"IF(JUL!F34=\"\",\"\",JUL!F34)","v":""},{"$f":"IF(JUL!S34=\"\",\"\",JUL!S34)","v":""},{"$f":"IF(E484=\"\",\"\",VLOOKUP(E484,JUL!$A$60:$L$84,9,FALSE))","v":""},{"$f":"IF(JUL!J34=\"\",\"\",JUL!J34)","v":""},{"$f":"IF(JUL!L34=\"\",\"\",JUL!L34)","v":""},{"$f":"IF(JUL!I34=\"\",\"\",JUL!I34)","v":""},{"$f":"IF(JUL!N34=\"\",\"\",JUL!N34)","v":""},{"$f":"IF(JUL!O34=\"\",\"\",JUL!O34)","v":""},{"$f":"IF(JUL!P34=\"\",\"\",JUL!P34)","v":""},"",""]
[478,{"$f":"IF(JUL!C35=\"\",\"\",JUL!C35)","v":""},{"$f":"IF(JUL!D35=\"\",\"\",JUL!D35)","v":""},{"$f":"IF(JUL!F35=\"\",\"\",JUL!F35)","v":""},{"$f":"IF(JUL!S35=\"\",\"\",JUL!S35)","v":""},{"$f":"IF(E485=\"\",\"\",VLOOKUP(E485,JUL!$A$60:$L$84,9,FALSE))","v":""},{"$f":"IF(JUL!J35=\"\",\"\",JUL!J35)","v":""},{"$f":"IF(JUL!L35=\"\",\"\",JUL!L35)","v":""},{"$f":"IF(JUL!I35=\"\",\"\",JUL!I35)","v":""},{"$f":"IF(JUL!N35=\"\",\"\",JUL!N35)","v":""},{"$f":"IF(JUL!O35=\"\",\"\",JUL!O35)","v":""},{"$f":"IF(JUL!P35=\"\",\"\",JUL!P35)","v":""},"",""]
[479,{"$f":"IF(JUL!C36=\"\",\"\",JUL!C36)","v":""},{"$f":"IF(JUL!D36=\"\",\"\",JUL!D36)","v":""},{"$f":"IF(JUL!F36=\"\",\"\",JUL!F36)","v":""},{"$f":"IF(JUL!S36=\"\",\"\",JUL!S36)","v":""},{"$f":"IF(E486=\"\",\"\",VLOOKUP(E486,JUL!$A$60:$L$84,9,FALSE))","v":""},{"$f":"IF(JUL!J36=\"\",\"\",JUL!J36)","v":""},{"$f":"IF(JUL!L36=\"\",\"\",JUL!L36)","v":""},{"$f":"IF(JUL!I36=\"\",\"\",JUL!I36)","v":""},{"$f":"IF(JUL!N36=\"\",\"\",JUL!N36)","v":""},{"$f":"IF(JUL!O36=\"\",\"\",JUL!O36)","v":""},{"$f":"IF(JUL!P36=\"\",\"\",JUL!P36)","v":""},"",""]
[480,{"$f":"IF(JUL!C37=\"\",\"\",JUL!C37)","v":""},{"$f":"IF(JUL!D37=\"\",\"\",JUL!D37)","v":""},{"$f":"IF(JUL!F37=\"\",\"\",JUL!F37)","v":""},{"$f":"IF(JUL!S37=\"\",\"\",JUL!S37)","v":""},{"$f":"IF(E487=\"\",\"\",VLOOKUP(E487,JUL!$A$60:$L$84,9,FALSE))","v":""},{"$f":"IF(JUL!J37=\"\",\"\",JUL!J37)","v":""},{"$f":"IF(JUL!L37=\"\",\"\",JUL!L37)","v":""},{"$f":"IF(JUL!I37=\"\",\"\",JUL!I37)","v":""},{"$f":"IF(JUL!N37=\"\",\"\",JUL!N37)","v":""},{"$f":"IF(JUL!O37=\"\",\"\",JUL!O37)","v":""},{"$f":"IF(JUL!P37=\"\",\"\",JUL!P37)","v":""},"",""]
[481,{"$f":"IF(JUL!C38=\"\",\"\",JUL!C38)","v":""},{"$f":"IF(JUL!D38=\"\",\"\",JUL!D38)","v":""},{"$f":"IF(JUL!F38=\"\",\"\",JUL!F38)","v":""},{"$f":"IF(JUL!S38=\"\",\"\",JUL!S38)","v":""},{"$f":"IF(E488=\"\",\"\",VLOOKUP(E488,JUL!$A$60:$L$84,9,FALSE))","v":""},{"$f":"IF(JUL!J38=\"\",\"\",JUL!J38)","v":""},{"$f":"IF(JUL!L38=\"\",\"\",JUL!L38)","v":""},{"$f":"IF(JUL!I38=\"\",\"\",JUL!I38)","v":""},{"$f":"IF(JUL!N38=\"\",\"\",JUL!N38)","v":""},{"$f":"IF(JUL!O38=\"\",\"\",JUL!O38)","v":""},{"$f":"IF(JUL!P38=\"\",\"\",JUL!P38)","v":""},"",""]
[482,{"$f":"IF(JUL!C39=\"\",\"\",JUL!C39)","v":""},{"$f":"IF(JUL!D39=\"\",\"\",JUL!D39)","v":""},{"$f":"IF(JUL!F39=\"\",\"\",JUL!F39)","v":""},{"$f":"IF(JUL!S39=\"\",\"\",JUL!S39)","v":""},{"$f":"IF(E489=\"\",\"\",VLOOKUP(E489,JUL!$A$60:$L$84,9,FALSE))","v":""},{"$f":"IF(JUL!J39=\"\",\"\",JUL!J39)","v":""},{"$f":"IF(JUL!L39=\"\",\"\",JUL!L39)","v":""},{"$f":"IF(JUL!I39=\"\",\"\",JUL!I39)","v":""},{"$f":"IF(JUL!N39=\"\",\"\",JUL!N39)","v":""},{"$f":"IF(JUL!O39=\"\",\"\",JUL!O39)","v":""},{"$f":"IF(JUL!P39=\"\",\"\",JUL!P39)","v":""},"",""]
[483,{"$f":"IF(JUL!C40=\"\",\"\",JUL!C40)","v":""},{"$f":"IF(JUL!D40=\"\",\"\",JUL!D40)","v":""},{"$f":"IF(JUL!F40=\"\",\"\",JUL!F40)","v":""},{"$f":"IF(JUL!S40=\"\",\"\",JUL!S40)","v":""},{"$f":"IF(E490=\"\",\"\",VLOOKUP(E490,JUL!$A$60:$L$84,9,FALSE))","v":""},{"$f":"IF(JUL!J40=\"\",\"\",JUL!J40)","v":""},{"$f":"IF(JUL!L40=\"\",\"\",JUL!L40)","v":""},{"$f":"IF(JUL!I40=\"\",\"\",JUL!I40)","v":""},{"$f":"IF(JUL!N40=\"\",\"\",JUL!N40)","v":""},{"$f":"IF(JUL!O40=\"\",\"\",JUL!O40)","v":""},{"$f":"IF(JUL!P40=\"\",\"\",JUL!P40)","v":""},"",""]
[484,{"$f":"IF(JUL!C41=\"\",\"\",JUL!C41)","v":""},{"$f":"IF(JUL!D41=\"\",\"\",JUL!D41)","v":""},{"$f":"IF(JUL!F41=\"\",\"\",JUL!F41)","v":""},{"$f":"IF(JUL!S41=\"\",\"\",JUL!S41)","v":""},{"$f":"IF(E491=\"\",\"\",VLOOKUP(E491,JUL!$A$60:$L$84,9,FALSE))","v":""},{"$f":"IF(JUL!J41=\"\",\"\",JUL!J41)","v":""},{"$f":"IF(JUL!L41=\"\",\"\",JUL!L41)","v":""},{"$f":"IF(JUL!I41=\"\",\"\",JUL!I41)","v":""},{"$f":"IF(JUL!N41=\"\",\"\",JUL!N41)","v":""},{"$f":"IF(JUL!O41=\"\",\"\",JUL!O41)","v":""},{"$f":"IF(JUL!P41=\"\",\"\",JUL!P41)","v":""},"",""]
[485,{"$f":"IF(JUL!C42=\"\",\"\",JUL!C42)","v":""},{"$f":"IF(JUL!D42=\"\",\"\",JUL!D42)","v":""},{"$f":"IF(JUL!F42=\"\",\"\",JUL!F42)","v":""},{"$f":"IF(JUL!S42=\"\",\"\",JUL!S42)","v":""},{"$f":"IF(E492=\"\",\"\",VLOOKUP(E492,JUL!$A$60:$L$84,9,FALSE))","v":""},{"$f":"IF(JUL!J42=\"\",\"\",JUL!J42)","v":""},{"$f":"IF(JUL!L42=\"\",\"\",JUL!L42)","v":""},{"$f":"IF(JUL!I42=\"\",\"\",JUL!I42)","v":""},{"$f":"IF(JUL!N42=\"\",\"\",JUL!N42)","v":""},{"$f":"IF(JUL!O42=\"\",\"\",JUL!O42)","v":""},{"$f":"IF(JUL!P42=\"\",\"\",JUL!P42)","v":""},"",""]
[486,{"$f":"IF(JUL!C43=\"\",\"\",JUL!C43)","v":""},{"$f":"IF(JUL!D43=\"\",\"\",JUL!D43)","v":""},{"$f":"IF(JUL!F43=\"\",\"\",JUL!F43)","v":""},{"$f":"IF(JUL!S43=\"\",\"\",JUL!S43)","v":""},{"$f":"IF(E493=\"\",\"\",VLOOKUP(E493,JUL!$A$60:$L$84,9,FALSE))","v":""},{"$f":"IF(JUL!J43=\"\",\"\",JUL!J43)","v":""},{"$f":"IF(JUL!L43=\"\",\"\",JUL!L43)","v":""},{"$f":"IF(JUL!I43=\"\",\"\",JUL!I43)","v":""},{"$f":"IF(JUL!N43=\"\",\"\",JUL!N43)","v":""},{"$f":"IF(JUL!O43=\"\",\"\",JUL!O43)","v":""},{"$f":"IF(JUL!P43=\"\",\"\",JUL!P43)","v":""},"",""]
[487,{"$f":"IF(JUL!C44=\"\",\"\",JUL!C44)","v":""},{"$f":"IF(JUL!D44=\"\",\"\",JUL!D44)","v":""},{"$f":"IF(JUL!F44=\"\",\"\",JUL!F44)","v":""},{"$f":"IF(JUL!S44=\"\",\"\",JUL!S44)","v":""},{"$f":"IF(E494=\"\",\"\",VLOOKUP(E494,JUL!$A$60:$L$84,9,FALSE))","v":""},{"$f":"IF(JUL!J44=\"\",\"\",JUL!J44)","v":""},{"$f":"IF(JUL!L44=\"\",\"\",JUL!L44)","v":""},{"$f":"IF(JUL!I44=\"\",\"\",JUL!I44)","v":""},{"$f":"IF(JUL!N44=\"\",\"\",JUL!N44)","v":""},{"$f":"IF(JUL!O44=\"\",\"\",JUL!O44)","v":""},{"$f":"IF(JUL!P44=\"\",\"\",JUL!P44)","v":""},"",""]
[488,{"$f":"IF(JUL!C45=\"\",\"\",JUL!C45)","v":""},{"$f":"IF(JUL!D45=\"\",\"\",JUL!D45)","v":""},{"$f":"IF(JUL!F45=\"\",\"\",JUL!F45)","v":""},{"$f":"IF(JUL!S45=\"\",\"\",JUL!S45)","v":""},{"$f":"IF(E495=\"\",\"\",VLOOKUP(E495,JUL!$A$60:$L$84,9,FALSE))","v":""},{"$f":"IF(JUL!J45=\"\",\"\",JUL!J45)","v":""},{"$f":"IF(JUL!L45=\"\",\"\",JUL!L45)","v":""},{"$f":"IF(JUL!I45=\"\",\"\",JUL!I45)","v":""},{"$f":"IF(JUL!N45=\"\",\"\",JUL!N45)","v":""},{"$f":"IF(JUL!O45=\"\",\"\",JUL!O45)","v":""},{"$f":"IF(JUL!P45=\"\",\"\",JUL!P45)","v":""},"",""]
[489,{"$f":"IF(JUL!C46=\"\",\"\",JUL!C46)","v":""},{"$f":"IF(JUL!D46=\"\",\"\",JUL!D46)","v":""},{"$f":"IF(JUL!F46=\"\",\"\",JUL!F46)","v":""},{"$f":"IF(JUL!S46=\"\",\"\",JUL!S46)","v":""},{"$f":"IF(E496=\"\",\"\",VLOOKUP(E496,JUL!$A$60:$L$84,9,FALSE))","v":""},{"$f":"IF(JUL!J46=\"\",\"\",JUL!J46)","v":""},{"$f":"IF(JUL!L46=\"\",\"\",JUL!L46)","v":""},{"$f":"IF(JUL!I46=\"\",\"\",JUL!I46)","v":""},{"$f":"IF(JUL!N46=\"\",\"\",JUL!N46)","v":""},{"$f":"IF(JUL!O46=\"\",\"\",JUL!O46)","v":""},{"$f":"IF(JUL!P46=\"\",\"\",JUL!P46)","v":""},"",""]
[490,{"$f":"IF(JUL!C47=\"\",\"\",JUL!C47)","v":""},{"$f":"IF(JUL!D47=\"\",\"\",JUL!D47)","v":""},{"$f":"IF(JUL!F47=\"\",\"\",JUL!F47)","v":""},{"$f":"IF(JUL!S47=\"\",\"\",JUL!S47)","v":""},{"$f":"IF(E497=\"\",\"\",VLOOKUP(E497,JUL!$A$60:$L$84,9,FALSE))","v":""},{"$f":"IF(JUL!J47=\"\",\"\",JUL!J47)","v":""},{"$f":"IF(JUL!L47=\"\",\"\",JUL!L47)","v":""},{"$f":"IF(JUL!I47=\"\",\"\",JUL!I47)","v":""},{"$f":"IF(JUL!N47=\"\",\"\",JUL!N47)","v":""},{"$f":"IF(JUL!O47=\"\",\"\",JUL!O47)","v":""},{"$f":"IF(JUL!P47=\"\",\"\",JUL!P47)","v":""},"",""]
[491,{"$f":"IF(JUL!C48=\"\",\"\",JUL!C48)","v":""},{"$f":"IF(JUL!D48=\"\",\"\",JUL!D48)","v":""},{"$f":"IF(JUL!F48=\"\",\"\",JUL!F48)","v":""},{"$f":"IF(JUL!S48=\"\",\"\",JUL!S48)","v":""},{"$f":"IF(E498=\"\",\"\",VLOOKUP(E498,JUL!$A$60:$L$84,9,FALSE))","v":""},{"$f":"IF(JUL!J48=\"\",\"\",JUL!J48)","v":""},{"$f":"IF(JUL!L48=\"\",\"\",JUL!L48)","v":""},{"$f":"IF(JUL!I48=\"\",\"\",JUL!I48)","v":""},{"$f":"IF(JUL!N48=\"\",\"\",JUL!N48)","v":""},{"$f":"IF(JUL!O48=\"\",\"\",JUL!O48)","v":""},{"$f":"IF(JUL!P48=\"\",\"\",JUL!P48)","v":""},"",""]
[492,{"$f":"IF(JUL!C49=\"\",\"\",JUL!C49)","v":""},{"$f":"IF(JUL!D49=\"\",\"\",JUL!D49)","v":""},{"$f":"IF(JUL!F49=\"\",\"\",JUL!F49)","v":""},{"$f":"IF(JUL!S49=\"\",\"\",JUL!S49)","v":""},{"$f":"IF(E499=\"\",\"\",VLOOKUP(E499,JUL!$A$60:$L$84,9,FALSE))","v":""},{"$f":"IF(JUL!J49=\"\",\"\",JUL!J49)","v":""},{"$f":"IF(JUL!L49=\"\",\"\",JUL!L49)","v":""},{"$f":"IF(JUL!I49=\"\",\"\",JUL!I49)","v":""},{"$f":"IF(JUL!N49=\"\",\"\",JUL!N49)","v":""},{"$f":"IF(JUL!O49=\"\",\"\",JUL!O49)","v":""},{"$f":"IF(JUL!P49=\"\",\"\",JUL!P49)","v":""},"",""]
[493,{"$f":"IF(JUL!C50=\"\",\"\",JUL!C50)","v":""},{"$f":"IF(JUL!D50=\"\",\"\",JUL!D50)","v":""},{"$f":"IF(JUL!F50=\"\",\"\",JUL!F50)","v":""},{"$f":"IF(JUL!S50=\"\",\"\",JUL!S50)","v":""},{"$f":"IF(E500=\"\",\"\",VLOOKUP(E500,JUL!$A$60:$L$84,9,FALSE))","v":""},{"$f":"IF(JUL!J50=\"\",\"\",JUL!J50)","v":""},{"$f":"IF(JUL!L50=\"\",\"\",JUL!L50)","v":""},{"$f":"IF(JUL!I50=\"\",\"\",JUL!I50)","v":""},{"$f":"IF(JUL!N50=\"\",\"\",JUL!N50)","v":""},{"$f":"IF(JUL!O50=\"\",\"\",JUL!O50)","v":""},{"$f":"IF(JUL!P50=\"\",\"\",JUL!P50)","v":""},"",""]
[494,{"$f":"IF(JUL!C51=\"\",\"\",JUL!C51)","v":""},{"$f":"IF(JUL!D51=\"\",\"\",JUL!D51)","v":""},{"$f":"IF(JUL!F51=\"\",\"\",JUL!F51)","v":""},{"$f":"IF(JUL!S51=\"\",\"\",JUL!S51)","v":""},{"$f":"IF(E501=\"\",\"\",VLOOKUP(E501,JUL!$A$60:$L$84,9,FALSE))","v":""},{"$f":"IF(JUL!J51=\"\",\"\",JUL!J51)","v":""},{"$f":"IF(JUL!L51=\"\",\"\",JUL!L51)","v":""},{"$f":"IF(JUL!I51=\"\",\"\",JUL!I51)","v":""},{"$f":"IF(JUL!N51=\"\",\"\",JUL!N51)","v":""},{"$f":"IF(JUL!O51=\"\",\"\",JUL!O51)","v":""},{"$f":"IF(JUL!P51=\"\",\"\",JUL!P51)","v":""},"",""]
[495,{"$f":"IF(JUL!C52=\"\",\"\",JUL!C52)","v":""},{"$f":"IF(JUL!D52=\"\",\"\",JUL!D52)","v":""},{"$f":"IF(JUL!F52=\"\",\"\",JUL!F52)","v":""},{"$f":"IF(JUL!S52=\"\",\"\",JUL!S52)","v":""},{"$f":"IF(E502=\"\",\"\",VLOOKUP(E502,JUL!$A$60:$L$84,9,FALSE))","v":""},{"$f":"IF(JUL!J52=\"\",\"\",JUL!J52)","v":""},{"$f":"IF(JUL!L52=\"\",\"\",JUL!L52)","v":""},{"$f":"IF(JUL!I52=\"\",\"\",JUL!I52)","v":""},{"$f":"IF(JUL!N52=\"\",\"\",JUL!N52)","v":""},{"$f":"IF(JUL!O52=\"\",\"\",JUL!O52)","v":""},{"$f":"IF(JUL!P52=\"\",\"\",JUL!P52)","v":""},"",""]
[496,{"$f":"IF(JUL!C53=\"\",\"\",JUL!C53)","v":""},{"$f":"IF(JUL!D53=\"\",\"\",JUL!D53)","v":""},{"$f":"IF(JUL!F53=\"\",\"\",JUL!F53)","v":""},{"$f":"IF(JUL!S53=\"\",\"\",JUL!S53)","v":""},{"$f":"IF(E503=\"\",\"\",VLOOKUP(E503,JUL!$A$60:$L$84,9,FALSE))","v":""},{"$f":"IF(JUL!J53=\"\",\"\",JUL!J53)","v":""},{"$f":"IF(JUL!L53=\"\",\"\",JUL!L53)","v":""},{"$f":"IF(JUL!I53=\"\",\"\",JUL!I53)","v":""},{"$f":"IF(JUL!N53=\"\",\"\",JUL!N53)","v":""},{"$f":"IF(JUL!O53=\"\",\"\",JUL!O53)","v":""},{"$f":"IF(JUL!P53=\"\",\"\",JUL!P53)","v":""},"",""]
[497,{"$f":"IF(JUL!C54=\"\",\"\",JUL!C54)","v":""},{"$f":"IF(JUL!D54=\"\",\"\",JUL!D54)","v":""},{"$f":"IF(JUL!F54=\"\",\"\",JUL!F54)","v":""},{"$f":"IF(JUL!S54=\"\",\"\",JUL!S54)","v":""},{"$f":"IF(E504=\"\",\"\",VLOOKUP(E504,JUL!$A$60:$L$84,9,FALSE))","v":""},{"$f":"IF(JUL!J54=\"\",\"\",JUL!J54)","v":""},{"$f":"IF(JUL!L54=\"\",\"\",JUL!L54)","v":""},{"$f":"IF(JUL!I54=\"\",\"\",JUL!I54)","v":""},{"$f":"IF(JUL!N54=\"\",\"\",JUL!N54)","v":""},{"$f":"IF(JUL!O54=\"\",\"\",JUL!O54)","v":""},{"$f":"IF(JUL!P54=\"\",\"\",JUL!P54)","v":""},"",""]
[498,{"$f":"IF(JUL!C55=\"\",\"\",JUL!C55)","v":""},{"$f":"IF(JUL!D55=\"\",\"\",JUL!D55)","v":""},{"$f":"IF(JUL!F55=\"\",\"\",JUL!F55)","v":""},{"$f":"IF(JUL!S55=\"\",\"\",JUL!S55)","v":""},{"$f":"IF(E505=\"\",\"\",VLOOKUP(E505,JUL!$A$60:$L$84,9,FALSE))","v":""},{"$f":"IF(JUL!J55=\"\",\"\",JUL!J55)","v":""},{"$f":"IF(JUL!L55=\"\",\"\",JUL!L55)","v":""},{"$f":"IF(JUL!I55=\"\",\"\",JUL!I55)","v":""},{"$f":"IF(JUL!N55=\"\",\"\",JUL!N55)","v":""},{"$f":"IF(JUL!O55=\"\",\"\",JUL!O55)","v":""},{"$f":"IF(JUL!P55=\"\",\"\",JUL!P55)","v":""},"",""]
[499,{"$f":"IF(JUL!C56=\"\",\"\",JUL!C56)","v":""},{"$f":"IF(JUL!D56=\"\",\"\",JUL!D56)","v":""},{"$f":"IF(JUL!F56=\"\",\"\",JUL!F56)","v":""},{"$f":"IF(JUL!S56=\"\",\"\",JUL!S56)","v":""},{"$f":"IF(E506=\"\",\"\",VLOOKUP(E506,JUL!$A$60:$L$84,9,FALSE))","v":""},{"$f":"IF(JUL!J56=\"\",\"\",JUL!J56)","v":""},{"$f":"IF(JUL!L56=\"\",\"\",JUL!L56)","v":""},{"$f":"IF(JUL!I56=\"\",\"\",JUL!I56)","v":""},{"$f":"IF(JUL!N56=\"\",\"\",JUL!N56)","v":""},{"$f":"IF(JUL!O56=\"\",\"\",JUL!O56)","v":""},{"$f":"IF(JUL!P56=\"\",\"\",JUL!P56)","v":""},"",""]
[500,{"$f":"IF(JUL!C57=\"\",\"\",JUL!C57)","v":""},{"$f":"IF(JUL!D57=\"\",\"\",JUL!D57)","v":""},{"$f":"IF(JUL!F57=\"\",\"\",JUL!F57)","v":""},{"$f":"IF(JUL!S57=\"\",\"\",JUL!S57)","v":""},{"$f":"IF(E507=\"\",\"\",VLOOKUP(E507,JUL!$A$60:$L$84,9,FALSE))","v":""},{"$f":"IF(JUL!J57=\"\",\"\",JUL!J57)","v":""},{"$f":"IF(JUL!L57=\"\",\"\",JUL!L57)","v":""},{"$f":"IF(JUL!I57=\"\",\"\",JUL!I57)","v":""},{"$f":"IF(JUL!N57=\"\",\"\",JUL!N57)","v":""},{"$f":"IF(JUL!O57=\"\",\"\",JUL!O57)","v":""},{"$f":"IF(JUL!P57=\"\",\"\",JUL!P57)","v":""},"",""]
[501,{"$f":"IF(AUG!C8=\"\",\"\",AUG!C8)","v":""},{"$f":"IF(AUG!D8=\"\",\"\",AUG!D8)","v":""},{"$f":"IF(AUG!F8=\"\",\"\",AUG!F8)","v":""},{"$f":"IF(AUG!S8=\"\",\"\",AUG!S8)","v":""},{"$f":"IF(E508=\"\",\"\",VLOOKUP(E508,AUG!$A$60:$L$84,9,FALSE))","v":""},{"$f":"IF(AUG!J8=\"\",\"\",AUG!J8)","v":""},{"$f":"IF(AUG!L8=\"\",\"\",AUG!L8)","v":""},{"$f":"IF(AUG!I8=\"\",\"\",AUG!I8)","v":""},{"$f":"IF(AUG!N8=\"\",\"\",AUG!N8)","v":""},{"$f":"IF(AUG!O8=\"\",\"\",AUG!O8)","v":""},{"$f":"IF(AUG!P8=\"\",\"\",AUG!P8)","v":""},"",""]
[502,{"$f":"IF(AUG!C9=\"\",\"\",AUG!C9)","v":""},{"$f":"IF(AUG!D9=\"\",\"\",AUG!D9)","v":""},{"$f":"IF(AUG!F9=\"\",\"\",AUG!F9)","v":""},{"$f":"IF(AUG!S9=\"\",\"\",AUG!S9)","v":""},{"$f":"IF(E509=\"\",\"\",VLOOKUP(E509,AUG!$A$60:$L$84,9,FALSE))","v":""},{"$f":"IF(AUG!J9=\"\",\"\",AUG!J9)","v":""},{"$f":"IF(AUG!L9=\"\",\"\",AUG!L9)","v":""},{"$f":"IF(AUG!I9=\"\",\"\",AUG!I9)","v":""},{"$f":"IF(AUG!N9=\"\",\"\",AUG!N9)","v":""},{"$f":"IF(AUG!O9=\"\",\"\",AUG!O9)","v":""},{"$f":"IF(AUG!P9=\"\",\"\",AUG!P9)","v":""},"",""]
[503,{"$f":"IF(AUG!C10=\"\",\"\",AUG!C10)","v":""},{"$f":"IF(AUG!D10=\"\",\"\",AUG!D10)","v":""},{"$f":"IF(AUG!F10=\"\",\"\",AUG!F10)","v":""},{"$f":"IF(AUG!S10=\"\",\"\",AUG!S10)","v":""},{"$f":"IF(E510=\"\",\"\",VLOOKUP(E510,AUG!$A$60:$L$84,9,FALSE))","v":""},{"$f":"IF(AUG!J10=\"\",\"\",AUG!J10)","v":""},{"$f":"IF(AUG!L10=\"\",\"\",AUG!L10)","v":""},{"$f":"IF(AUG!I10=\"\",\"\",AUG!I10)","v":""},{"$f":"IF(AUG!N10=\"\",\"\",AUG!N10)","v":""},{"$f":"IF(AUG!O10=\"\",\"\",AUG!O10)","v":""},{"$f":"IF(AUG!P10=\"\",\"\",AUG!P10)","v":""},"",""]
[504,{"$f":"IF(AUG!C11=\"\",\"\",AUG!C11)","v":""},{"$f":"IF(AUG!D11=\"\",\"\",AUG!D11)","v":""},{"$f":"IF(AUG!F11=\"\",\"\",AUG!F11)","v":""},{"$f":"IF(AUG!S11=\"\",\"\",AUG!S11)","v":""},{"$f":"IF(E511=\"\",\"\",VLOOKUP(E511,AUG!$A$60:$L$84,9,FALSE))","v":""},{"$f":"IF(AUG!J11=\"\",\"\",AUG!J11)","v":""},{"$f":"IF(AUG!L11=\"\",\"\",AUG!L11)","v":""},{"$f":"IF(AUG!I11=\"\",\"\",AUG!I11)","v":""},{"$f":"IF(AUG!N11=\"\",\"\",AUG!N11)","v":""},{"$f":"IF(AUG!O11=\"\",\"\",AUG!O11)","v":""},{"$f":"IF(AUG!P11=\"\",\"\",AUG!P11)","v":""},"",""]
[505,{"$f":"IF(AUG!C12=\"\",\"\",AUG!C12)","v":""},{"$f":"IF(AUG!D12=\"\",\"\",AUG!D12)","v":""},{"$f":"IF(AUG!F12=\"\",\"\",AUG!F12)","v":""},{"$f":"IF(AUG!S12=\"\",\"\",AUG!S12)","v":""},{"$f":"IF(E512=\"\",\"\",VLOOKUP(E512,AUG!$A$60:$L$84,9,FALSE))","v":""},{"$f":"IF(AUG!J12=\"\",\"\",AUG!J12)","v":""},{"$f":"IF(AUG!L12=\"\",\"\",AUG!L12)","v":""},{"$f":"IF(AUG!I12=\"\",\"\",AUG!I12)","v":""},{"$f":"IF(AUG!N12=\"\",\"\",AUG!N12)","v":""},{"$f":"IF(AUG!O12=\"\",\"\",AUG!O12)","v":""},{"$f":"IF(AUG!P12=\"\",\"\",AUG!P12)","v":""},"",""]
[506,{"$f":"IF(AUG!C13=\"\",\"\",AUG!C13)","v":""},{"$f":"IF(AUG!D13=\"\",\"\",AUG!D13)","v":""},{"$f":"IF(AUG!F13=\"\",\"\",AUG!F13)","v":""},{"$f":"IF(AUG!S13=\"\",\"\",AUG!S13)","v":""},{"$f":"IF(E513=\"\",\"\",VLOOKUP(E513,AUG!$A$60:$L$84,9,FALSE))","v":""},{"$f":"IF(AUG!J13=\"\",\"\",AUG!J13)","v":""},{"$f":"IF(AUG!L13=\"\",\"\",AUG!L13)","v":""},{"$f":"IF(AUG!I13=\"\",\"\",AUG!I13)","v":""},{"$f":"IF(AUG!N13=\"\",\"\",AUG!N13)","v":""},{"$f":"IF(AUG!O13=\"\",\"\",AUG!O13)","v":""},{"$f":"IF(AUG!P13=\"\",\"\",AUG!P13)","v":""},"",""]
[507,{"$f":"IF(AUG!C14=\"\",\"\",AUG!C14)","v":""},{"$f":"IF(AUG!D14=\"\",\"\",AUG!D14)","v":""},{"$f":"IF(AUG!F14=\"\",\"\",AUG!F14)","v":""},{"$f":"IF(AUG!S14=\"\",\"\",AUG!S14)","v":""},{"$f":"IF(E514=\"\",\"\",VLOOKUP(E514,AUG!$A$60:$L$84,9,FALSE))","v":""},{"$f":"IF(AUG!J14=\"\",\"\",AUG!J14)","v":""},{"$f":"IF(AUG!L14=\"\",\"\",AUG!L14)","v":""},{"$f":"IF(AUG!I14=\"\",\"\",AUG!I14)","v":""},{"$f":"IF(AUG!N14=\"\",\"\",AUG!N14)","v":""},{"$f":"IF(AUG!O14=\"\",\"\",AUG!O14)","v":""},{"$f":"IF(AUG!P14=\"\",\"\",AUG!P14)","v":""},"",""]
[508,{"$f":"IF(AUG!C15=\"\",\"\",AUG!C15)","v":""},{"$f":"IF(AUG!D15=\"\",\"\",AUG!D15)","v":""},{"$f":"IF(AUG!F15=\"\",\"\",AUG!F15)","v":""},{"$f":"IF(AUG!S15=\"\",\"\",AUG!S15)","v":""},{"$f":"IF(E515=\"\",\"\",VLOOKUP(E515,AUG!$A$60:$L$84,9,FALSE))","v":""},{"$f":"IF(AUG!J15=\"\",\"\",AUG!J15)","v":""},{"$f":"IF(AUG!L15=\"\",\"\",AUG!L15)","v":""},{"$f":"IF(AUG!I15=\"\",\"\",AUG!I15)","v":""},{"$f":"IF(AUG!N15=\"\",\"\",AUG!N15)","v":""},{"$f":"IF(AUG!O15=\"\",\"\",AUG!O15)","v":""},{"$f":"IF(AUG!P15=\"\",\"\",AUG!P15)","v":""},"",""]
[509,{"$f":"IF(AUG!C16=\"\",\"\",AUG!C16)","v":""},{"$f":"IF(AUG!D16=\"\",\"\",AUG!D16)","v":""},{"$f":"IF(AUG!F16=\"\",\"\",AUG!F16)","v":""},{"$f":"IF(AUG!S16=\"\",\"\",AUG!S16)","v":""},{"$f":"IF(E516=\"\",\"\",VLOOKUP(E516,AUG!$A$60:$L$84,9,FALSE))","v":""},{"$f":"IF(AUG!J16=\"\",\"\",AUG!J16)","v":""},{"$f":"IF(AUG!L16=\"\",\"\",AUG!L16)","v":""},{"$f":"IF(AUG!I16=\"\",\"\",AUG!I16)","v":""},{"$f":"IF(AUG!N16=\"\",\"\",AUG!N16)","v":""},{"$f":"IF(AUG!O16=\"\",\"\",AUG!O16)","v":""},{"$f":"IF(AUG!P16=\"\",\"\",AUG!P16)","v":""},"",""]
[510,{"$f":"IF(AUG!C17=\"\",\"\",AUG!C17)","v":""},{"$f":"IF(AUG!D17=\"\",\"\",AUG!D17)","v":""},{"$f":"IF(AUG!F17=\"\",\"\",AUG!F17)","v":""},{"$f":"IF(AUG!S17=\"\",\"\",AUG!S17)","v":""},{"$f":"IF(E517=\"\",\"\",VLOOKUP(E517,AUG!$A$60:$L$84,9,FALSE))","v":""},{"$f":"IF(AUG!J17=\"\",\"\",AUG!J17)","v":""},{"$f":"IF(AUG!L17=\"\",\"\",AUG!L17)","v":""},{"$f":"IF(AUG!I17=\"\",\"\",AUG!I17)","v":""},{"$f":"IF(AUG!N17=\"\",\"\",AUG!N17)","v":""},{"$f":"IF(AUG!O17=\"\",\"\",AUG!O17)","v":""},{"$f":"IF(AUG!P17=\"\",\"\",AUG!P17)","v":""},"",""]
[511,{"$f":"IF(AUG!C18=\"\",\"\",AUG!C18)","v":""},{"$f":"IF(AUG!D18=\"\",\"\",AUG!D18)","v":""},{"$f":"IF(AUG!F18=\"\",\"\",AUG!F18)","v":""},{"$f":"IF(AUG!S18=\"\",\"\",AUG!S18)","v":""},{"$f":"IF(E518=\"\",\"\",VLOOKUP(E518,AUG!$A$60:$L$84,9,FALSE))","v":""},{"$f":"IF(AUG!J18=\"\",\"\",AUG!J18)","v":""},{"$f":"IF(AUG!L18=\"\",\"\",AUG!L18)","v":""},{"$f":"IF(AUG!I18=\"\",\"\",AUG!I18)","v":""},{"$f":"IF(AUG!N18=\"\",\"\",AUG!N18)","v":""},{"$f":"IF(AUG!O18=\"\",\"\",AUG!O18)","v":""},{"$f":"IF(AUG!P18=\"\",\"\",AUG!P18)","v":""},"",""]
[512,{"$f":"IF(AUG!C19=\"\",\"\",AUG!C19)","v":""},{"$f":"IF(AUG!D19=\"\",\"\",AUG!D19)","v":""},{"$f":"IF(AUG!F19=\"\",\"\",AUG!F19)","v":""},{"$f":"IF(AUG!S19=\"\",\"\",AUG!S19)","v":""},{"$f":"IF(E519=\"\",\"\",VLOOKUP(E519,AUG!$A$60:$L$84,9,FALSE))","v":""},{"$f":"IF(AUG!J19=\"\",\"\",AUG!J19)","v":""},{"$f":"IF(AUG!L19=\"\",\"\",AUG!L19)","v":""},{"$f":"IF(AUG!I19=\"\",\"\",AUG!I19)","v":""},{"$f":"IF(AUG!N19=\"\",\"\",AUG!N19)","v":""},{"$f":"IF(AUG!O19=\"\",\"\",AUG!O19)","v":""},{"$f":"IF(AUG!P19=\"\",\"\",AUG!P19)","v":""},"",""]
[513,{"$f":"IF(AUG!C20=\"\",\"\",AUG!C20)","v":""},{"$f":"IF(AUG!D20=\"\",\"\",AUG!D20)","v":""},{"$f":"IF(AUG!F20=\"\",\"\",AUG!F20)","v":""},{"$f":"IF(AUG!S20=\"\",\"\",AUG!S20)","v":""},{"$f":"IF(E520=\"\",\"\",VLOOKUP(E520,AUG!$A$60:$L$84,9,FALSE))","v":""},{"$f":"IF(AUG!J20=\"\",\"\",AUG!J20)","v":""},{"$f":"IF(AUG!L20=\"\",\"\",AUG!L20)","v":""},{"$f":"IF(AUG!I20=\"\",\"\",AUG!I20)","v":""},{"$f":"IF(AUG!N20=\"\",\"\",AUG!N20)","v":""},{"$f":"IF(AUG!O20=\"\",\"\",AUG!O20)","v":""},{"$f":"IF(AUG!P20=\"\",\"\",AUG!P20)","v":""},{"$f":"IF(J520=\"\",\"\",J520+L520)","v":""},""]
[514,{"$f":"IF(AUG!C21=\"\",\"\",AUG!C21)","v":""},{"$f":"IF(AUG!D21=\"\",\"\",AUG!D21)","v":""},{"$f":"IF(AUG!F21=\"\",\"\",AUG!F21)","v":""},{"$f":"IF(AUG!S21=\"\",\"\",AUG!S21)","v":""},{"$f":"IF(E521=\"\",\"\",VLOOKUP(E521,AUG!$A$60:$L$84,9,FALSE))","v":""},{"$f":"IF(AUG!J21=\"\",\"\",AUG!J21)","v":""},{"$f":"IF(AUG!L21=\"\",\"\",AUG!L21)","v":""},{"$f":"IF(AUG!I21=\"\",\"\",AUG!I21)","v":""},{"$f":"IF(AUG!N21=\"\",\"\",AUG!N21)","v":""},{"$f":"IF(AUG!O21=\"\",\"\",AUG!O21)","v":""},{"$f":"IF(AUG!P21=\"\",\"\",AUG!P21)","v":""},"",""]
[515,{"$f":"IF(AUG!C22=\"\",\"\",AUG!C22)","v":""},{"$f":"IF(AUG!D22=\"\",\"\",AUG!D22)","v":""},{"$f":"IF(AUG!F22=\"\",\"\",AUG!F22)","v":""},{"$f":"IF(AUG!S22=\"\",\"\",AUG!S22)","v":""},{"$f":"IF(E522=\"\",\"\",VLOOKUP(E522,AUG!$A$60:$L$84,9,FALSE))","v":""},{"$f":"IF(AUG!J22=\"\",\"\",AUG!J22)","v":""},{"$f":"IF(AUG!L22=\"\",\"\",AUG!L22)","v":""},{"$f":"IF(AUG!I22=\"\",\"\",AUG!I22)","v":""},{"$f":"IF(AUG!N22=\"\",\"\",AUG!N22)","v":""},{"$f":"IF(AUG!O22=\"\",\"\",AUG!O22)","v":""},{"$f":"IF(AUG!P22=\"\",\"\",AUG!P22)","v":""},"",""]
[516,{"$f":"IF(AUG!C23=\"\",\"\",AUG!C23)","v":""},{"$f":"IF(AUG!D23=\"\",\"\",AUG!D23)","v":""},{"$f":"IF(AUG!F23=\"\",\"\",AUG!F23)","v":""},{"$f":"IF(AUG!S23=\"\",\"\",AUG!S23)","v":""},{"$f":"IF(E523=\"\",\"\",VLOOKUP(E523,AUG!$A$60:$L$84,9,FALSE))","v":""},{"$f":"IF(AUG!J23=\"\",\"\",AUG!J23)","v":""},{"$f":"IF(AUG!L23=\"\",\"\",AUG!L23)","v":""},{"$f":"IF(AUG!I23=\"\",\"\",AUG!I23)","v":""},{"$f":"IF(AUG!N23=\"\",\"\",AUG!N23)","v":""},{"$f":"IF(AUG!O23=\"\",\"\",AUG!O23)","v":""},{"$f":"IF(AUG!P23=\"\",\"\",AUG!P23)","v":""},"",""]
[517,{"$f":"IF(AUG!C24=\"\",\"\",AUG!C24)","v":""},{"$f":"IF(AUG!D24=\"\",\"\",AUG!D24)","v":""},{"$f":"IF(AUG!F24=\"\",\"\",AUG!F24)","v":""},{"$f":"IF(AUG!S24=\"\",\"\",AUG!S24)","v":""},{"$f":"IF(E524=\"\",\"\",VLOOKUP(E524,AUG!$A$60:$L$84,9,FALSE))","v":""},{"$f":"IF(AUG!J24=\"\",\"\",AUG!J24)","v":""},{"$f":"IF(AUG!L24=\"\",\"\",AUG!L24)","v":""},{"$f":"IF(AUG!I24=\"\",\"\",AUG!I24)","v":""},{"$f":"IF(AUG!N24=\"\",\"\",AUG!N24)","v":""},{"$f":"IF(AUG!O24=\"\",\"\",AUG!O24)","v":""},{"$f":"IF(AUG!P24=\"\",\"\",AUG!P24)","v":""},"",""]
[518,{"$f":"IF(AUG!C25=\"\",\"\",AUG!C25)","v":""},{"$f":"IF(AUG!D25=\"\",\"\",AUG!D25)","v":""},{"$f":"IF(AUG!F25=\"\",\"\",AUG!F25)","v":""},{"$f":"IF(AUG!S25=\"\",\"\",AUG!S25)","v":""},{"$f":"IF(E525=\"\",\"\",VLOOKUP(E525,AUG!$A$60:$L$84,9,FALSE))","v":""},{"$f":"IF(AUG!J25=\"\",\"\",AUG!J25)","v":""},{"$f":"IF(AUG!L25=\"\",\"\",AUG!L25)","v":""},{"$f":"IF(AUG!I25=\"\",\"\",AUG!I25)","v":""},{"$f":"IF(AUG!N25=\"\",\"\",AUG!N25)","v":""},{"$f":"IF(AUG!O25=\"\",\"\",AUG!O25)","v":""},{"$f":"IF(AUG!P25=\"\",\"\",AUG!P25)","v":""},"",""]
[519,{"$f":"IF(AUG!C26=\"\",\"\",AUG!C26)","v":""},{"$f":"IF(AUG!D26=\"\",\"\",AUG!D26)","v":""},{"$f":"IF(AUG!F26=\"\",\"\",AUG!F26)","v":""},{"$f":"IF(AUG!S26=\"\",\"\",AUG!S26)","v":""},{"$f":"IF(E526=\"\",\"\",VLOOKUP(E526,AUG!$A$60:$L$84,9,FALSE))","v":""},{"$f":"IF(AUG!J26=\"\",\"\",AUG!J26)","v":""},{"$f":"IF(AUG!L26=\"\",\"\",AUG!L26)","v":""},{"$f":"IF(AUG!I26=\"\",\"\",AUG!I26)","v":""},{"$f":"IF(AUG!N26=\"\",\"\",AUG!N26)","v":""},{"$f":"IF(AUG!O26=\"\",\"\",AUG!O26)","v":""},{"$f":"IF(AUG!P26=\"\",\"\",AUG!P26)","v":""},"",""]
[520,{"$f":"IF(AUG!C27=\"\",\"\",AUG!C27)","v":""},{"$f":"IF(AUG!D27=\"\",\"\",AUG!D27)","v":""},{"$f":"IF(AUG!F27=\"\",\"\",AUG!F27)","v":""},{"$f":"IF(AUG!S27=\"\",\"\",AUG!S27)","v":""},{"$f":"IF(E527=\"\",\"\",VLOOKUP(E527,AUG!$A$60:$L$84,9,FALSE))","v":""},{"$f":"IF(AUG!J27=\"\",\"\",AUG!J27)","v":""},{"$f":"IF(AUG!L27=\"\",\"\",AUG!L27)","v":""},{"$f":"IF(AUG!I27=\"\",\"\",AUG!I27)","v":""},{"$f":"IF(AUG!N27=\"\",\"\",AUG!N27)","v":""},{"$f":"IF(AUG!O27=\"\",\"\",AUG!O27)","v":""},{"$f":"IF(AUG!P27=\"\",\"\",AUG!P27)","v":""},"",""]
[521,{"$f":"IF(AUG!C28=\"\",\"\",AUG!C28)","v":""},{"$f":"IF(AUG!D28=\"\",\"\",AUG!D28)","v":""},{"$f":"IF(AUG!F28=\"\",\"\",AUG!F28)","v":""},{"$f":"IF(AUG!S28=\"\",\"\",AUG!S28)","v":""},{"$f":"IF(E528=\"\",\"\",VLOOKUP(E528,AUG!$A$60:$L$84,9,FALSE))","v":""},{"$f":"IF(AUG!J28=\"\",\"\",AUG!J28)","v":""},{"$f":"IF(AUG!L28=\"\",\"\",AUG!L28)","v":""},{"$f":"IF(AUG!I28=\"\",\"\",AUG!I28)","v":""},{"$f":"IF(AUG!N28=\"\",\"\",AUG!N28)","v":""},{"$f":"IF(AUG!O28=\"\",\"\",AUG!O28)","v":""},{"$f":"IF(AUG!P28=\"\",\"\",AUG!P28)","v":""},"",{"$f":"IF(B528=\"\",\"\",N527+J528+L528)","v":""}]
[522,{"$f":"IF(AUG!C29=\"\",\"\",AUG!C29)","v":""},{"$f":"IF(AUG!D29=\"\",\"\",AUG!D29)","v":""},{"$f":"IF(AUG!F29=\"\",\"\",AUG!F29)","v":""},{"$f":"IF(AUG!S29=\"\",\"\",AUG!S29)","v":""},{"$f":"IF(E529=\"\",\"\",VLOOKUP(E529,AUG!$A$60:$L$84,9,FALSE))","v":""},{"$f":"IF(AUG!J29=\"\",\"\",AUG!J29)","v":""},{"$f":"IF(AUG!L29=\"\",\"\",AUG!L29)","v":""},{"$f":"IF(AUG!I29=\"\",\"\",AUG!I29)","v":""},{"$f":"IF(AUG!N29=\"\",\"\",AUG!N29)","v":""},{"$f":"IF(AUG!O29=\"\",\"\",AUG!O29)","v":""},{"$f":"IF(AUG!P29=\"\",\"\",AUG!P29)","v":""},"",""]
[523,{"$f":"IF(AUG!C30=\"\",\"\",AUG!C30)","v":""},{"$f":"IF(AUG!D30=\"\",\"\",AUG!D30)","v":""},{"$f":"IF(AUG!F30=\"\",\"\",AUG!F30)","v":""},{"$f":"IF(AUG!S30=\"\",\"\",AUG!S30)","v":""},{"$f":"IF(E530=\"\",\"\",VLOOKUP(E530,AUG!$A$60:$L$84,9,FALSE))","v":""},{"$f":"IF(AUG!J30=\"\",\"\",AUG!J30)","v":""},{"$f":"IF(AUG!L30=\"\",\"\",AUG!L30)","v":""},{"$f":"IF(AUG!I30=\"\",\"\",AUG!I30)","v":""},{"$f":"IF(AUG!N30=\"\",\"\",AUG!N30)","v":""},{"$f":"IF(AUG!O30=\"\",\"\",AUG!O30)","v":""},{"$f":"IF(AUG!P30=\"\",\"\",AUG!P30)","v":""},"",""]
[524,{"$f":"IF(AUG!C31=\"\",\"\",AUG!C31)","v":""},{"$f":"IF(AUG!D31=\"\",\"\",AUG!D31)","v":""},{"$f":"IF(AUG!F31=\"\",\"\",AUG!F31)","v":""},{"$f":"IF(AUG!S31=\"\",\"\",AUG!S31)","v":""},{"$f":"IF(E531=\"\",\"\",VLOOKUP(E531,AUG!$A$60:$L$84,9,FALSE))","v":""},{"$f":"IF(AUG!J31=\"\",\"\",AUG!J31)","v":""},{"$f":"IF(AUG!L31=\"\",\"\",AUG!L31)","v":""},{"$f":"IF(AUG!I31=\"\",\"\",AUG!I31)","v":""},{"$f":"IF(AUG!N31=\"\",\"\",AUG!N31)","v":""},{"$f":"IF(AUG!O31=\"\",\"\",AUG!O31)","v":""},{"$f":"IF(AUG!P31=\"\",\"\",AUG!P31)","v":""},"",""]
[525,{"$f":"IF(AUG!C32=\"\",\"\",AUG!C32)","v":""},{"$f":"IF(AUG!D32=\"\",\"\",AUG!D32)","v":""},{"$f":"IF(AUG!F32=\"\",\"\",AUG!F32)","v":""},{"$f":"IF(AUG!S32=\"\",\"\",AUG!S32)","v":""},{"$f":"IF(E532=\"\",\"\",VLOOKUP(E532,AUG!$A$60:$L$84,9,FALSE))","v":""},{"$f":"IF(AUG!J32=\"\",\"\",AUG!J32)","v":""},{"$f":"IF(AUG!L32=\"\",\"\",AUG!L32)","v":""},{"$f":"IF(AUG!I32=\"\",\"\",AUG!I32)","v":""},{"$f":"IF(AUG!N32=\"\",\"\",AUG!N32)","v":""},{"$f":"IF(AUG!O32=\"\",\"\",AUG!O32)","v":""},{"$f":"IF(AUG!P32=\"\",\"\",AUG!P32)","v":""},"",""]
[526,{"$f":"IF(AUG!C33=\"\",\"\",AUG!C33)","v":""},{"$f":"IF(AUG!D33=\"\",\"\",AUG!D33)","v":""},{"$f":"IF(AUG!F33=\"\",\"\",AUG!F33)","v":""},{"$f":"IF(AUG!S33=\"\",\"\",AUG!S33)","v":""},{"$f":"IF(E533=\"\",\"\",VLOOKUP(E533,AUG!$A$60:$L$84,9,FALSE))","v":""},{"$f":"IF(AUG!J33=\"\",\"\",AUG!J33)","v":""},{"$f":"IF(AUG!L33=\"\",\"\",AUG!L33)","v":""},{"$f":"IF(AUG!I33=\"\",\"\",AUG!I33)","v":""},{"$f":"IF(AUG!N33=\"\",\"\",AUG!N33)","v":""},{"$f":"IF(AUG!O33=\"\",\"\",AUG!O33)","v":""},{"$f":"IF(AUG!P33=\"\",\"\",AUG!P33)","v":""},"",""]
[527,{"$f":"IF(AUG!C34=\"\",\"\",AUG!C34)","v":""},{"$f":"IF(AUG!D34=\"\",\"\",AUG!D34)","v":""},{"$f":"IF(AUG!F34=\"\",\"\",AUG!F34)","v":""},{"$f":"IF(AUG!S34=\"\",\"\",AUG!S34)","v":""},{"$f":"IF(E534=\"\",\"\",VLOOKUP(E534,AUG!$A$60:$L$84,9,FALSE))","v":""},{"$f":"IF(AUG!J34=\"\",\"\",AUG!J34)","v":""},{"$f":"IF(AUG!L34=\"\",\"\",AUG!L34)","v":""},{"$f":"IF(AUG!I34=\"\",\"\",AUG!I34)","v":""},{"$f":"IF(AUG!N34=\"\",\"\",AUG!N34)","v":""},{"$f":"IF(AUG!O34=\"\",\"\",AUG!O34)","v":""},{"$f":"IF(AUG!P34=\"\",\"\",AUG!P34)","v":""},"",""]
[528,{"$f":"IF(AUG!C35=\"\",\"\",AUG!C35)","v":""},{"$f":"IF(AUG!D35=\"\",\"\",AUG!D35)","v":""},{"$f":"IF(AUG!F35=\"\",\"\",AUG!F35)","v":""},{"$f":"IF(AUG!S35=\"\",\"\",AUG!S35)","v":""},{"$f":"IF(E535=\"\",\"\",VLOOKUP(E535,AUG!$A$60:$L$84,9,FALSE))","v":""},{"$f":"IF(AUG!J35=\"\",\"\",AUG!J35)","v":""},{"$f":"IF(AUG!L35=\"\",\"\",AUG!L35)","v":""},{"$f":"IF(AUG!I35=\"\",\"\",AUG!I35)","v":""},{"$f":"IF(AUG!N35=\"\",\"\",AUG!N35)","v":""},{"$f":"IF(AUG!O35=\"\",\"\",AUG!O35)","v":""},{"$f":"IF(AUG!P35=\"\",\"\",AUG!P35)","v":""},"",""]
[529,{"$f":"IF(AUG!C36=\"\",\"\",AUG!C36)","v":""},{"$f":"IF(AUG!D36=\"\",\"\",AUG!D36)","v":""},{"$f":"IF(AUG!F36=\"\",\"\",AUG!F36)","v":""},{"$f":"IF(AUG!S36=\"\",\"\",AUG!S36)","v":""},{"$f":"IF(E536=\"\",\"\",VLOOKUP(E536,AUG!$A$60:$L$84,9,FALSE))","v":""},{"$f":"IF(AUG!J36=\"\",\"\",AUG!J36)","v":""},{"$f":"IF(AUG!L36=\"\",\"\",AUG!L36)","v":""},{"$f":"IF(AUG!I36=\"\",\"\",AUG!I36)","v":""},{"$f":"IF(AUG!N36=\"\",\"\",AUG!N36)","v":""},{"$f":"IF(AUG!O36=\"\",\"\",AUG!O36)","v":""},{"$f":"IF(AUG!P36=\"\",\"\",AUG!P36)","v":""},"",""]
[530,{"$f":"IF(AUG!C37=\"\",\"\",AUG!C37)","v":""},{"$f":"IF(AUG!D37=\"\",\"\",AUG!D37)","v":""},{"$f":"IF(AUG!F37=\"\",\"\",AUG!F37)","v":""},{"$f":"IF(AUG!S37=\"\",\"\",AUG!S37)","v":""},{"$f":"IF(E537=\"\",\"\",VLOOKUP(E537,AUG!$A$60:$L$84,9,FALSE))","v":""},{"$f":"IF(AUG!J37=\"\",\"\",AUG!J37)","v":""},{"$f":"IF(AUG!L37=\"\",\"\",AUG!L37)","v":""},{"$f":"IF(AUG!I37=\"\",\"\",AUG!I37)","v":""},{"$f":"IF(AUG!N37=\"\",\"\",AUG!N37)","v":""},{"$f":"IF(AUG!O37=\"\",\"\",AUG!O37)","v":""},{"$f":"IF(AUG!P37=\"\",\"\",AUG!P37)","v":""},"",""]
[531,{"$f":"IF(AUG!C38=\"\",\"\",AUG!C38)","v":""},{"$f":"IF(AUG!D38=\"\",\"\",AUG!D38)","v":""},{"$f":"IF(AUG!F38=\"\",\"\",AUG!F38)","v":""},{"$f":"IF(AUG!S38=\"\",\"\",AUG!S38)","v":""},{"$f":"IF(E538=\"\",\"\",VLOOKUP(E538,AUG!$A$60:$L$84,9,FALSE))","v":""},{"$f":"IF(AUG!J38=\"\",\"\",AUG!J38)","v":""},{"$f":"IF(AUG!L38=\"\",\"\",AUG!L38)","v":""},{"$f":"IF(AUG!I38=\"\",\"\",AUG!I38)","v":""},{"$f":"IF(AUG!N38=\"\",\"\",AUG!N38)","v":""},{"$f":"IF(AUG!O38=\"\",\"\",AUG!O38)","v":""},{"$f":"IF(AUG!P38=\"\",\"\",AUG!P38)","v":""},"",""]
[532,{"$f":"IF(AUG!C39=\"\",\"\",AUG!C39)","v":""},{"$f":"IF(AUG!D39=\"\",\"\",AUG!D39)","v":""},{"$f":"IF(AUG!F39=\"\",\"\",AUG!F39)","v":""},{"$f":"IF(AUG!S39=\"\",\"\",AUG!S39)","v":""},{"$f":"IF(E539=\"\",\"\",VLOOKUP(E539,AUG!$A$60:$L$84,9,FALSE))","v":""},{"$f":"IF(AUG!J39=\"\",\"\",AUG!J39)","v":""},{"$f":"IF(AUG!L39=\"\",\"\",AUG!L39)","v":""},{"$f":"IF(AUG!I39=\"\",\"\",AUG!I39)","v":""},{"$f":"IF(AUG!N39=\"\",\"\",AUG!N39)","v":""},{"$f":"IF(AUG!O39=\"\",\"\",AUG!O39)","v":""},{"$f":"IF(AUG!P39=\"\",\"\",AUG!P39)","v":""},"",""]
[533,{"$f":"IF(AUG!C40=\"\",\"\",AUG!C40)","v":""},{"$f":"IF(AUG!D40=\"\",\"\",AUG!D40)","v":""},{"$f":"IF(AUG!F40=\"\",\"\",AUG!F40)","v":""},{"$f":"IF(AUG!S40=\"\",\"\",AUG!S40)","v":""},{"$f":"IF(E540=\"\",\"\",VLOOKUP(E540,AUG!$A$60:$L$84,9,FALSE))","v":""},{"$f":"IF(AUG!J40=\"\",\"\",AUG!J40)","v":""},{"$f":"IF(AUG!L40=\"\",\"\",AUG!L40)","v":""},{"$f":"IF(AUG!I40=\"\",\"\",AUG!I40)","v":""},{"$f":"IF(AUG!N40=\"\",\"\",AUG!N40)","v":""},{"$f":"IF(AUG!O40=\"\",\"\",AUG!O40)","v":""},{"$f":"IF(AUG!P40=\"\",\"\",AUG!P40)","v":""},"",""]
[534,{"$f":"IF(AUG!C41=\"\",\"\",AUG!C41)","v":""},{"$f":"IF(AUG!D41=\"\",\"\",AUG!D41)","v":""},{"$f":"IF(AUG!F41=\"\",\"\",AUG!F41)","v":""},{"$f":"IF(AUG!S41=\"\",\"\",AUG!S41)","v":""},{"$f":"IF(E541=\"\",\"\",VLOOKUP(E541,AUG!$A$60:$L$84,9,FALSE))","v":""},{"$f":"IF(AUG!J41=\"\",\"\",AUG!J41)","v":""},{"$f":"IF(AUG!L41=\"\",\"\",AUG!L41)","v":""},{"$f":"IF(AUG!I41=\"\",\"\",AUG!I41)","v":""},{"$f":"IF(AUG!N41=\"\",\"\",AUG!N41)","v":""},{"$f":"IF(AUG!O41=\"\",\"\",AUG!O41)","v":""},{"$f":"IF(AUG!P41=\"\",\"\",AUG!P41)","v":""},"",""]
[535,{"$f":"IF(AUG!C42=\"\",\"\",AUG!C42)","v":""},{"$f":"IF(AUG!D42=\"\",\"\",AUG!D42)","v":""},{"$f":"IF(AUG!F42=\"\",\"\",AUG!F42)","v":""},{"$f":"IF(AUG!S42=\"\",\"\",AUG!S42)","v":""},{"$f":"IF(E542=\"\",\"\",VLOOKUP(E542,AUG!$A$60:$L$84,9,FALSE))","v":""},{"$f":"IF(AUG!J42=\"\",\"\",AUG!J42)","v":""},{"$f":"IF(AUG!L42=\"\",\"\",AUG!L42)","v":""},{"$f":"IF(AUG!I42=\"\",\"\",AUG!I42)","v":""},{"$f":"IF(AUG!N42=\"\",\"\",AUG!N42)","v":""},{"$f":"IF(AUG!O42=\"\",\"\",AUG!O42)","v":""},{"$f":"IF(AUG!P42=\"\",\"\",AUG!P42)","v":""},"",""]
[536,{"$f":"IF(AUG!C43=\"\",\"\",AUG!C43)","v":""},{"$f":"IF(AUG!D43=\"\",\"\",AUG!D43)","v":""},{"$f":"IF(AUG!F43=\"\",\"\",AUG!F43)","v":""},{"$f":"IF(AUG!S43=\"\",\"\",AUG!S43)","v":""},{"$f":"IF(E543=\"\",\"\",VLOOKUP(E543,AUG!$A$60:$L$84,9,FALSE))","v":""},{"$f":"IF(AUG!J43=\"\",\"\",AUG!J43)","v":""},{"$f":"IF(AUG!L43=\"\",\"\",AUG!L43)","v":""},{"$f":"IF(AUG!I43=\"\",\"\",AUG!I43)","v":""},{"$f":"IF(AUG!N43=\"\",\"\",AUG!N43)","v":""},{"$f":"IF(AUG!O43=\"\",\"\",AUG!O43)","v":""},{"$f":"IF(AUG!P43=\"\",\"\",AUG!P43)","v":""},"",""]
[537,{"$f":"IF(AUG!C44=\"\",\"\",AUG!C44)","v":""},{"$f":"IF(AUG!D44=\"\",\"\",AUG!D44)","v":""},{"$f":"IF(AUG!F44=\"\",\"\",AUG!F44)","v":""},{"$f":"IF(AUG!S44=\"\",\"\",AUG!S44)","v":""},{"$f":"IF(E544=\"\",\"\",VLOOKUP(E544,AUG!$A$60:$L$84,9,FALSE))","v":""},{"$f":"IF(AUG!J44=\"\",\"\",AUG!J44)","v":""},{"$f":"IF(AUG!L44=\"\",\"\",AUG!L44)","v":""},{"$f":"IF(AUG!I44=\"\",\"\",AUG!I44)","v":""},{"$f":"IF(AUG!N44=\"\",\"\",AUG!N44)","v":""},{"$f":"IF(AUG!O44=\"\",\"\",AUG!O44)","v":""},{"$f":"IF(AUG!P44=\"\",\"\",AUG!P44)","v":""},"",""]
[538,{"$f":"IF(AUG!C45=\"\",\"\",AUG!C45)","v":""},{"$f":"IF(AUG!D45=\"\",\"\",AUG!D45)","v":""},{"$f":"IF(AUG!F45=\"\",\"\",AUG!F45)","v":""},{"$f":"IF(AUG!S45=\"\",\"\",AUG!S45)","v":""},{"$f":"IF(E545=\"\",\"\",VLOOKUP(E545,AUG!$A$60:$L$84,9,FALSE))","v":""},{"$f":"IF(AUG!J45=\"\",\"\",AUG!J45)","v":""},{"$f":"IF(AUG!L45=\"\",\"\",AUG!L45)","v":""},{"$f":"IF(AUG!I45=\"\",\"\",AUG!I45)","v":""},{"$f":"IF(AUG!N45=\"\",\"\",AUG!N45)","v":""},{"$f":"IF(AUG!O45=\"\",\"\",AUG!O45)","v":""},{"$f":"IF(AUG!P45=\"\",\"\",AUG!P45)","v":""},"",""]
[539,{"$f":"IF(AUG!C46=\"\",\"\",AUG!C46)","v":""},{"$f":"IF(AUG!D46=\"\",\"\",AUG!D46)","v":""},{"$f":"IF(AUG!F46=\"\",\"\",AUG!F46)","v":""},{"$f":"IF(AUG!S46=\"\",\"\",AUG!S46)","v":""},{"$f":"IF(E546=\"\",\"\",VLOOKUP(E546,AUG!$A$60:$L$84,9,FALSE))","v":""},{"$f":"IF(AUG!J46=\"\",\"\",AUG!J46)","v":""},{"$f":"IF(AUG!L46=\"\",\"\",AUG!L46)","v":""},{"$f":"IF(AUG!I46=\"\",\"\",AUG!I46)","v":""},{"$f":"IF(AUG!N46=\"\",\"\",AUG!N46)","v":""},{"$f":"IF(AUG!O46=\"\",\"\",AUG!O46)","v":""},{"$f":"IF(AUG!P46=\"\",\"\",AUG!P46)","v":""},"",""]
[540,{"$f":"IF(AUG!C47=\"\",\"\",AUG!C47)","v":""},{"$f":"IF(AUG!D47=\"\",\"\",AUG!D47)","v":""},{"$f":"IF(AUG!F47=\"\",\"\",AUG!F47)","v":""},{"$f":"IF(AUG!S47=\"\",\"\",AUG!S47)","v":""},{"$f":"IF(E547=\"\",\"\",VLOOKUP(E547,AUG!$A$60:$L$84,9,FALSE))","v":""},{"$f":"IF(AUG!J47=\"\",\"\",AUG!J47)","v":""},{"$f":"IF(AUG!L47=\"\",\"\",AUG!L47)","v":""},{"$f":"IF(AUG!I47=\"\",\"\",AUG!I47)","v":""},{"$f":"IF(AUG!N47=\"\",\"\",AUG!N47)","v":""},{"$f":"IF(AUG!O47=\"\",\"\",AUG!O47)","v":""},{"$f":"IF(AUG!P47=\"\",\"\",AUG!P47)","v":""},"",""]
[541,{"$f":"IF(AUG!C48=\"\",\"\",AUG!C48)","v":""},{"$f":"IF(AUG!D48=\"\",\"\",AUG!D48)","v":""},{"$f":"IF(AUG!F48=\"\",\"\",AUG!F48)","v":""},{"$f":"IF(AUG!S48=\"\",\"\",AUG!S48)","v":""},{"$f":"IF(E548=\"\",\"\",VLOOKUP(E548,AUG!$A$60:$L$84,9,FALSE))","v":""},{"$f":"IF(AUG!J48=\"\",\"\",AUG!J48)","v":""},{"$f":"IF(AUG!L48=\"\",\"\",AUG!L48)","v":""},{"$f":"IF(AUG!I48=\"\",\"\",AUG!I48)","v":""},{"$f":"IF(AUG!N48=\"\",\"\",AUG!N48)","v":""},{"$f":"IF(AUG!O48=\"\",\"\",AUG!O48)","v":""},{"$f":"IF(AUG!P48=\"\",\"\",AUG!P48)","v":""},"",""]
[542,{"$f":"IF(AUG!C49=\"\",\"\",AUG!C49)","v":""},{"$f":"IF(AUG!D49=\"\",\"\",AUG!D49)","v":""},{"$f":"IF(AUG!F49=\"\",\"\",AUG!F49)","v":""},{"$f":"IF(AUG!S49=\"\",\"\",AUG!S49)","v":""},{"$f":"IF(E549=\"\",\"\",VLOOKUP(E549,AUG!$A$60:$L$84,9,FALSE))","v":""},{"$f":"IF(AUG!J49=\"\",\"\",AUG!J49)","v":""},{"$f":"IF(AUG!L49=\"\",\"\",AUG!L49)","v":""},{"$f":"IF(AUG!I49=\"\",\"\",AUG!I49)","v":""},{"$f":"IF(AUG!N49=\"\",\"\",AUG!N49)","v":""},{"$f":"IF(AUG!O49=\"\",\"\",AUG!O49)","v":""},{"$f":"IF(AUG!P49=\"\",\"\",AUG!P49)","v":""},"",""]
[543,{"$f":"IF(AUG!C50=\"\",\"\",AUG!C50)","v":""},{"$f":"IF(AUG!D50=\"\",\"\",AUG!D50)","v":""},{"$f":"IF(AUG!F50=\"\",\"\",AUG!F50)","v":""},{"$f":"IF(AUG!S50=\"\",\"\",AUG!S50)","v":""},{"$f":"IF(E550=\"\",\"\",VLOOKUP(E550,AUG!$A$60:$L$84,9,FALSE))","v":""},{"$f":"IF(AUG!J50=\"\",\"\",AUG!J50)","v":""},{"$f":"IF(AUG!L50=\"\",\"\",AUG!L50)","v":""},{"$f":"IF(AUG!I50=\"\",\"\",AUG!I50)","v":""},{"$f":"IF(AUG!N50=\"\",\"\",AUG!N50)","v":""},{"$f":"IF(AUG!O50=\"\",\"\",AUG!O50)","v":""},{"$f":"IF(AUG!P50=\"\",\"\",AUG!P50)","v":""},"",""]
[544,{"$f":"IF(AUG!C51=\"\",\"\",AUG!C51)","v":""},{"$f":"IF(AUG!D51=\"\",\"\",AUG!D51)","v":""},{"$f":"IF(AUG!F51=\"\",\"\",AUG!F51)","v":""},{"$f":"IF(AUG!S51=\"\",\"\",AUG!S51)","v":""},{"$f":"IF(E551=\"\",\"\",VLOOKUP(E551,AUG!$A$60:$L$84,9,FALSE))","v":""},{"$f":"IF(AUG!J51=\"\",\"\",AUG!J51)","v":""},{"$f":"IF(AUG!L51=\"\",\"\",AUG!L51)","v":""},{"$f":"IF(AUG!I51=\"\",\"\",AUG!I51)","v":""},{"$f":"IF(AUG!N51=\"\",\"\",AUG!N51)","v":""},{"$f":"IF(AUG!O51=\"\",\"\",AUG!O51)","v":""},{"$f":"IF(AUG!P51=\"\",\"\",AUG!P51)","v":""},"",""]
[545,{"$f":"IF(AUG!C52=\"\",\"\",AUG!C52)","v":""},{"$f":"IF(AUG!D52=\"\",\"\",AUG!D52)","v":""},{"$f":"IF(AUG!F52=\"\",\"\",AUG!F52)","v":""},{"$f":"IF(AUG!S52=\"\",\"\",AUG!S52)","v":""},{"$f":"IF(E552=\"\",\"\",VLOOKUP(E552,AUG!$A$60:$L$84,9,FALSE))","v":""},{"$f":"IF(AUG!J52=\"\",\"\",AUG!J52)","v":""},{"$f":"IF(AUG!L52=\"\",\"\",AUG!L52)","v":""},{"$f":"IF(AUG!I52=\"\",\"\",AUG!I52)","v":""},{"$f":"IF(AUG!N52=\"\",\"\",AUG!N52)","v":""},{"$f":"IF(AUG!O52=\"\",\"\",AUG!O52)","v":""},{"$f":"IF(AUG!P52=\"\",\"\",AUG!P52)","v":""},"",""]
[546,{"$f":"IF(AUG!C53=\"\",\"\",AUG!C53)","v":""},{"$f":"IF(AUG!D53=\"\",\"\",AUG!D53)","v":""},{"$f":"IF(AUG!F53=\"\",\"\",AUG!F53)","v":""},{"$f":"IF(AUG!S53=\"\",\"\",AUG!S53)","v":""},{"$f":"IF(E553=\"\",\"\",VLOOKUP(E553,AUG!$A$60:$L$84,9,FALSE))","v":""},{"$f":"IF(AUG!J53=\"\",\"\",AUG!J53)","v":""},{"$f":"IF(AUG!L53=\"\",\"\",AUG!L53)","v":""},{"$f":"IF(AUG!I53=\"\",\"\",AUG!I53)","v":""},{"$f":"IF(AUG!N53=\"\",\"\",AUG!N53)","v":""},{"$f":"IF(AUG!O53=\"\",\"\",AUG!O53)","v":""},{"$f":"IF(AUG!P53=\"\",\"\",AUG!P53)","v":""},"",""]
[547,{"$f":"IF(AUG!C54=\"\",\"\",AUG!C54)","v":""},{"$f":"IF(AUG!D54=\"\",\"\",AUG!D54)","v":""},{"$f":"IF(AUG!F54=\"\",\"\",AUG!F54)","v":""},{"$f":"IF(AUG!S54=\"\",\"\",AUG!S54)","v":""},{"$f":"IF(E554=\"\",\"\",VLOOKUP(E554,AUG!$A$60:$L$84,9,FALSE))","v":""},{"$f":"IF(AUG!J54=\"\",\"\",AUG!J54)","v":""},{"$f":"IF(AUG!L54=\"\",\"\",AUG!L54)","v":""},{"$f":"IF(AUG!I54=\"\",\"\",AUG!I54)","v":""},{"$f":"IF(AUG!N54=\"\",\"\",AUG!N54)","v":""},{"$f":"IF(AUG!O54=\"\",\"\",AUG!O54)","v":""},{"$f":"IF(AUG!P54=\"\",\"\",AUG!P54)","v":""},"",""]
[548,{"$f":"IF(AUG!C55=\"\",\"\",AUG!C55)","v":""},{"$f":"IF(AUG!D55=\"\",\"\",AUG!D55)","v":""},{"$f":"IF(AUG!F55=\"\",\"\",AUG!F55)","v":""},{"$f":"IF(AUG!S55=\"\",\"\",AUG!S55)","v":""},{"$f":"IF(E555=\"\",\"\",VLOOKUP(E555,AUG!$A$60:$L$84,9,FALSE))","v":""},{"$f":"IF(AUG!J55=\"\",\"\",AUG!J55)","v":""},{"$f":"IF(AUG!L55=\"\",\"\",AUG!L55)","v":""},{"$f":"IF(AUG!I55=\"\",\"\",AUG!I55)","v":""},{"$f":"IF(AUG!N55=\"\",\"\",AUG!N55)","v":""},{"$f":"IF(AUG!O55=\"\",\"\",AUG!O55)","v":""},{"$f":"IF(AUG!P55=\"\",\"\",AUG!P55)","v":""},"",""]
[549,{"$f":"IF(AUG!C56=\"\",\"\",AUG!C56)","v":""},{"$f":"IF(AUG!D56=\"\",\"\",AUG!D56)","v":""},{"$f":"IF(AUG!F56=\"\",\"\",AUG!F56)","v":""},{"$f":"IF(AUG!S56=\"\",\"\",AUG!S56)","v":""},{"$f":"IF(E556=\"\",\"\",VLOOKUP(E556,AUG!$A$60:$L$84,9,FALSE))","v":""},{"$f":"IF(AUG!J56=\"\",\"\",AUG!J56)","v":""},{"$f":"IF(AUG!L56=\"\",\"\",AUG!L56)","v":""},{"$f":"IF(AUG!I56=\"\",\"\",AUG!I56)","v":""},{"$f":"IF(AUG!N56=\"\",\"\",AUG!N56)","v":""},{"$f":"IF(AUG!O56=\"\",\"\",AUG!O56)","v":""},{"$f":"IF(AUG!P56=\"\",\"\",AUG!P56)","v":""},"",""]
[550,{"$f":"IF(AUG!C57=\"\",\"\",AUG!C57)","v":""},{"$f":"IF(AUG!D57=\"\",\"\",AUG!D57)","v":""},{"$f":"IF(AUG!F57=\"\",\"\",AUG!F57)","v":""},{"$f":"IF(AUG!S57=\"\",\"\",AUG!S57)","v":""},{"$f":"IF(E557=\"\",\"\",VLOOKUP(E557,AUG!$A$60:$L$84,9,FALSE))","v":""},{"$f":"IF(AUG!J57=\"\",\"\",AUG!J57)","v":""},{"$f":"IF(AUG!L57=\"\",\"\",AUG!L57)","v":""},{"$f":"IF(AUG!I57=\"\",\"\",AUG!I57)","v":""},{"$f":"IF(AUG!N57=\"\",\"\",AUG!N57)","v":""},{"$f":"IF(AUG!O57=\"\",\"\",AUG!O57)","v":""},{"$f":"IF(AUG!P57=\"\",\"\",AUG!P57)","v":""},"",""]
[551,{"$f":"IF(SEP!C8=\"\",\"\",SEP!C8)","v":""},{"$f":"IF(SEP!D8=\"\",\"\",SEP!D8)","v":""},{"$f":"IF(SEP!F8=\"\",\"\",SEP!F8)","v":""},{"$f":"IF(SEP!S8=\"\",\"\",SEP!S8)","v":""},{"$f":"IF(E558=\"\",\"\",VLOOKUP(E558,SEP!$A$60:$L$84,9,FALSE))","v":""},{"$f":"IF(SEP!J8=\"\",\"\",SEP!J8)","v":""},{"$f":"IF(SEP!L8=\"\",\"\",SEP!L8)","v":""},{"$f":"IF(SEP!I8=\"\",\"\",SEP!I8)","v":""},{"$f":"IF(SEP!N8=\"\",\"\",SEP!N8)","v":""},{"$f":"IF(SEP!O8=\"\",\"\",SEP!O8)","v":""},{"$f":"IF(SEP!P8=\"\",\"\",SEP!P8)","v":""},"",""]
[552,{"$f":"IF(SEP!C9=\"\",\"\",SEP!C9)","v":""},{"$f":"IF(SEP!D9=\"\",\"\",SEP!D9)","v":""},{"$f":"IF(SEP!F9=\"\",\"\",SEP!F9)","v":""},{"$f":"IF(SEP!S9=\"\",\"\",SEP!S9)","v":""},{"$f":"IF(E559=\"\",\"\",VLOOKUP(E559,SEP!$A$60:$L$84,9,FALSE))","v":""},{"$f":"IF(SEP!J9=\"\",\"\",SEP!J9)","v":""},{"$f":"IF(SEP!L9=\"\",\"\",SEP!L9)","v":""},{"$f":"IF(SEP!I9=\"\",\"\",SEP!I9)","v":""},{"$f":"IF(SEP!N9=\"\",\"\",SEP!N9)","v":""},{"$f":"IF(SEP!O9=\"\",\"\",SEP!O9)","v":""},{"$f":"IF(SEP!P9=\"\",\"\",SEP!P9)","v":""},"",""]
[553,{"$f":"IF(SEP!C10=\"\",\"\",SEP!C10)","v":""},{"$f":"IF(SEP!D10=\"\",\"\",SEP!D10)","v":""},{"$f":"IF(SEP!F10=\"\",\"\",SEP!F10)","v":""},{"$f":"IF(SEP!S10=\"\",\"\",SEP!S10)","v":""},{"$f":"IF(E560=\"\",\"\",VLOOKUP(E560,SEP!$A$60:$L$84,9,FALSE))","v":""},{"$f":"IF(SEP!J10=\"\",\"\",SEP!J10)","v":""},{"$f":"IF(SEP!L10=\"\",\"\",SEP!L10)","v":""},{"$f":"IF(SEP!I10=\"\",\"\",SEP!I10)","v":""},{"$f":"IF(SEP!N10=\"\",\"\",SEP!N10)","v":""},{"$f":"IF(SEP!O10=\"\",\"\",SEP!O10)","v":""},{"$f":"IF(SEP!P10=\"\",\"\",SEP!P10)","v":""},"",""]
[554,{"$f":"IF(SEP!C11=\"\",\"\",SEP!C11)","v":""},{"$f":"IF(SEP!D11=\"\",\"\",SEP!D11)","v":""},{"$f":"IF(SEP!F11=\"\",\"\",SEP!F11)","v":""},{"$f":"IF(SEP!S11=\"\",\"\",SEP!S11)","v":""},{"$f":"IF(E561=\"\",\"\",VLOOKUP(E561,SEP!$A$60:$L$84,9,FALSE))","v":""},{"$f":"IF(SEP!J11=\"\",\"\",SEP!J11)","v":""},{"$f":"IF(SEP!L11=\"\",\"\",SEP!L11)","v":""},{"$f":"IF(SEP!I11=\"\",\"\",SEP!I11)","v":""},{"$f":"IF(SEP!N11=\"\",\"\",SEP!N11)","v":""},{"$f":"IF(SEP!O11=\"\",\"\",SEP!O11)","v":""},{"$f":"IF(SEP!P11=\"\",\"\",SEP!P11)","v":""},"",""]
[555,{"$f":"IF(SEP!C12=\"\",\"\",SEP!C12)","v":""},{"$f":"IF(SEP!D12=\"\",\"\",SEP!D12)","v":""},{"$f":"IF(SEP!F12=\"\",\"\",SEP!F12)","v":""},{"$f":"IF(SEP!S12=\"\",\"\",SEP!S12)","v":""},{"$f":"IF(E562=\"\",\"\",VLOOKUP(E562,SEP!$A$60:$L$84,9,FALSE))","v":""},{"$f":"IF(SEP!J12=\"\",\"\",SEP!J12)","v":""},{"$f":"IF(SEP!L12=\"\",\"\",SEP!L12)","v":""},{"$f":"IF(SEP!I12=\"\",\"\",SEP!I12)","v":""},{"$f":"IF(SEP!N12=\"\",\"\",SEP!N12)","v":""},{"$f":"IF(SEP!O12=\"\",\"\",SEP!O12)","v":""},{"$f":"IF(SEP!P12=\"\",\"\",SEP!P12)","v":""},"",""]
[556,{"$f":"IF(SEP!C13=\"\",\"\",SEP!C13)","v":""},{"$f":"IF(SEP!D13=\"\",\"\",SEP!D13)","v":""},{"$f":"IF(SEP!F13=\"\",\"\",SEP!F13)","v":""},{"$f":"IF(SEP!S13=\"\",\"\",SEP!S13)","v":""},{"$f":"IF(E563=\"\",\"\",VLOOKUP(E563,SEP!$A$60:$L$84,9,FALSE))","v":""},{"$f":"IF(SEP!J13=\"\",\"\",SEP!J13)","v":""},{"$f":"IF(SEP!L13=\"\",\"\",SEP!L13)","v":""},{"$f":"IF(SEP!I13=\"\",\"\",SEP!I13)","v":""},{"$f":"IF(SEP!N13=\"\",\"\",SEP!N13)","v":""},{"$f":"IF(SEP!O13=\"\",\"\",SEP!O13)","v":""},{"$f":"IF(SEP!P13=\"\",\"\",SEP!P13)","v":""},"",""]
[557,{"$f":"IF(SEP!C14=\"\",\"\",SEP!C14)","v":""},{"$f":"IF(SEP!D14=\"\",\"\",SEP!D14)","v":""},{"$f":"IF(SEP!F14=\"\",\"\",SEP!F14)","v":""},{"$f":"IF(SEP!S14=\"\",\"\",SEP!S14)","v":""},{"$f":"IF(E564=\"\",\"\",VLOOKUP(E564,SEP!$A$60:$L$84,9,FALSE))","v":""},{"$f":"IF(SEP!J14=\"\",\"\",SEP!J14)","v":""},{"$f":"IF(SEP!L14=\"\",\"\",SEP!L14)","v":""},{"$f":"IF(SEP!I14=\"\",\"\",SEP!I14)","v":""},{"$f":"IF(SEP!N14=\"\",\"\",SEP!N14)","v":""},{"$f":"IF(SEP!O14=\"\",\"\",SEP!O14)","v":""},{"$f":"IF(SEP!P14=\"\",\"\",SEP!P14)","v":""},"",""]
[558,{"$f":"IF(SEP!C15=\"\",\"\",SEP!C15)","v":""},{"$f":"IF(SEP!D15=\"\",\"\",SEP!D15)","v":""},{"$f":"IF(SEP!F15=\"\",\"\",SEP!F15)","v":""},{"$f":"IF(SEP!S15=\"\",\"\",SEP!S15)","v":""},{"$f":"IF(E565=\"\",\"\",VLOOKUP(E565,SEP!$A$60:$L$84,9,FALSE))","v":""},{"$f":"IF(SEP!J15=\"\",\"\",SEP!J15)","v":""},{"$f":"IF(SEP!L15=\"\",\"\",SEP!L15)","v":""},{"$f":"IF(SEP!I15=\"\",\"\",SEP!I15)","v":""},{"$f":"IF(SEP!N15=\"\",\"\",SEP!N15)","v":""},{"$f":"IF(SEP!O15=\"\",\"\",SEP!O15)","v":""},{"$f":"IF(SEP!P15=\"\",\"\",SEP!P15)","v":""},"",""]
[559,{"$f":"IF(SEP!C16=\"\",\"\",SEP!C16)","v":""},{"$f":"IF(SEP!D16=\"\",\"\",SEP!D16)","v":""},{"$f":"IF(SEP!F16=\"\",\"\",SEP!F16)","v":""},{"$f":"IF(SEP!S16=\"\",\"\",SEP!S16)","v":""},{"$f":"IF(E566=\"\",\"\",VLOOKUP(E566,SEP!$A$60:$L$84,9,FALSE))","v":""},{"$f":"IF(SEP!J16=\"\",\"\",SEP!J16)","v":""},{"$f":"IF(SEP!L16=\"\",\"\",SEP!L16)","v":""},{"$f":"IF(SEP!I16=\"\",\"\",SEP!I16)","v":""},{"$f":"IF(SEP!N16=\"\",\"\",SEP!N16)","v":""},{"$f":"IF(SEP!O16=\"\",\"\",SEP!O16)","v":""},{"$f":"IF(SEP!P16=\"\",\"\",SEP!P16)","v":""},"",""]
[560,{"$f":"IF(SEP!C17=\"\",\"\",SEP!C17)","v":""},{"$f":"IF(SEP!D17=\"\",\"\",SEP!D17)","v":""},{"$f":"IF(SEP!F17=\"\",\"\",SEP!F17)","v":""},{"$f":"IF(SEP!S17=\"\",\"\",SEP!S17)","v":""},{"$f":"IF(E567=\"\",\"\",VLOOKUP(E567,SEP!$A$60:$L$84,9,FALSE))","v":""},{"$f":"IF(SEP!J17=\"\",\"\",SEP!J17)","v":""},{"$f":"IF(SEP!L17=\"\",\"\",SEP!L17)","v":""},{"$f":"IF(SEP!I17=\"\",\"\",SEP!I17)","v":""},{"$f":"IF(SEP!N17=\"\",\"\",SEP!N17)","v":""},{"$f":"IF(SEP!O17=\"\",\"\",SEP!O17)","v":""},{"$f":"IF(SEP!P17=\"\",\"\",SEP!P17)","v":""},"",""]
[561,{"$f":"IF(SEP!C18=\"\",\"\",SEP!C18)","v":""},{"$f":"IF(SEP!D18=\"\",\"\",SEP!D18)","v":""},{"$f":"IF(SEP!F18=\"\",\"\",SEP!F18)","v":""},{"$f":"IF(SEP!S18=\"\",\"\",SEP!S18)","v":""},{"$f":"IF(E568=\"\",\"\",VLOOKUP(E568,SEP!$A$60:$L$84,9,FALSE))","v":""},{"$f":"IF(SEP!J18=\"\",\"\",SEP!J18)","v":""},{"$f":"IF(SEP!L18=\"\",\"\",SEP!L18)","v":""},{"$f":"IF(SEP!I18=\"\",\"\",SEP!I18)","v":""},{"$f":"IF(SEP!N18=\"\",\"\",SEP!N18)","v":""},{"$f":"IF(SEP!O18=\"\",\"\",SEP!O18)","v":""},{"$f":"IF(SEP!P18=\"\",\"\",SEP!P18)","v":""},"",""]
[562,{"$f":"IF(SEP!C19=\"\",\"\",SEP!C19)","v":""},{"$f":"IF(SEP!D19=\"\",\"\",SEP!D19)","v":""},{"$f":"IF(SEP!F19=\"\",\"\",SEP!F19)","v":""},{"$f":"IF(SEP!S19=\"\",\"\",SEP!S19)","v":""},{"$f":"IF(E569=\"\",\"\",VLOOKUP(E569,SEP!$A$60:$L$84,9,FALSE))","v":""},{"$f":"IF(SEP!J19=\"\",\"\",SEP!J19)","v":""},{"$f":"IF(SEP!L19=\"\",\"\",SEP!L19)","v":""},{"$f":"IF(SEP!I19=\"\",\"\",SEP!I19)","v":""},{"$f":"IF(SEP!N19=\"\",\"\",SEP!N19)","v":""},{"$f":"IF(SEP!O19=\"\",\"\",SEP!O19)","v":""},{"$f":"IF(SEP!P19=\"\",\"\",SEP!P19)","v":""},"",""]
[563,{"$f":"IF(SEP!C20=\"\",\"\",SEP!C20)","v":""},{"$f":"IF(SEP!D20=\"\",\"\",SEP!D20)","v":""},{"$f":"IF(SEP!F20=\"\",\"\",SEP!F20)","v":""},{"$f":"IF(SEP!S20=\"\",\"\",SEP!S20)","v":""},{"$f":"IF(E570=\"\",\"\",VLOOKUP(E570,SEP!$A$60:$L$84,9,FALSE))","v":""},{"$f":"IF(SEP!J20=\"\",\"\",SEP!J20)","v":""},{"$f":"IF(SEP!L20=\"\",\"\",SEP!L20)","v":""},{"$f":"IF(SEP!I20=\"\",\"\",SEP!I20)","v":""},{"$f":"IF(SEP!N20=\"\",\"\",SEP!N20)","v":""},{"$f":"IF(SEP!O20=\"\",\"\",SEP!O20)","v":""},{"$f":"IF(SEP!P20=\"\",\"\",SEP!P20)","v":""},"",""]
[564,{"$f":"IF(SEP!C21=\"\",\"\",SEP!C21)","v":""},{"$f":"IF(SEP!D21=\"\",\"\",SEP!D21)","v":""},{"$f":"IF(SEP!F21=\"\",\"\",SEP!F21)","v":""},{"$f":"IF(SEP!S21=\"\",\"\",SEP!S21)","v":""},{"$f":"IF(E571=\"\",\"\",VLOOKUP(E571,SEP!$A$60:$L$84,9,FALSE))","v":""},{"$f":"IF(SEP!J21=\"\",\"\",SEP!J21)","v":""},{"$f":"IF(SEP!L21=\"\",\"\",SEP!L21)","v":""},{"$f":"IF(SEP!I21=\"\",\"\",SEP!I21)","v":""},{"$f":"IF(SEP!N21=\"\",\"\",SEP!N21)","v":""},{"$f":"IF(SEP!O21=\"\",\"\",SEP!O21)","v":""},{"$f":"IF(SEP!P21=\"\",\"\",SEP!P21)","v":""},"",""]
[565,{"$f":"IF(SEP!C22=\"\",\"\",SEP!C22)","v":""},{"$f":"IF(SEP!D22=\"\",\"\",SEP!D22)","v":""},{"$f":"IF(SEP!F22=\"\",\"\",SEP!F22)","v":""},{"$f":"IF(SEP!S22=\"\",\"\",SEP!S22)","v":""},{"$f":"IF(E572=\"\",\"\",VLOOKUP(E572,SEP!$A$60:$L$84,9,FALSE))","v":""},{"$f":"IF(SEP!J22=\"\",\"\",SEP!J22)","v":""},{"$f":"IF(SEP!L22=\"\",\"\",SEP!L22)","v":""},{"$f":"IF(SEP!I22=\"\",\"\",SEP!I22)","v":""},{"$f":"IF(SEP!N22=\"\",\"\",SEP!N22)","v":""},{"$f":"IF(SEP!O22=\"\",\"\",SEP!O22)","v":""},{"$f":"IF(SEP!P22=\"\",\"\",SEP!P22)","v":""},"",""]
[566,{"$f":"IF(SEP!C23=\"\",\"\",SEP!C23)","v":""},{"$f":"IF(SEP!D23=\"\",\"\",SEP!D23)","v":""},{"$f":"IF(SEP!F23=\"\",\"\",SEP!F23)","v":""},{"$f":"IF(SEP!S23=\"\",\"\",SEP!S23)","v":""},{"$f":"IF(E573=\"\",\"\",VLOOKUP(E573,SEP!$A$60:$L$84,9,FALSE))","v":""},{"$f":"IF(SEP!J23=\"\",\"\",SEP!J23)","v":""},{"$f":"IF(SEP!L23=\"\",\"\",SEP!L23)","v":""},{"$f":"IF(SEP!I23=\"\",\"\",SEP!I23)","v":""},{"$f":"IF(SEP!N23=\"\",\"\",SEP!N23)","v":""},{"$f":"IF(SEP!O23=\"\",\"\",SEP!O23)","v":""},{"$f":"IF(SEP!P23=\"\",\"\",SEP!P23)","v":""},"",""]
[567,{"$f":"IF(SEP!C24=\"\",\"\",SEP!C24)","v":""},{"$f":"IF(SEP!D24=\"\",\"\",SEP!D24)","v":""},{"$f":"IF(SEP!F24=\"\",\"\",SEP!F24)","v":""},{"$f":"IF(SEP!S24=\"\",\"\",SEP!S24)","v":""},{"$f":"IF(E574=\"\",\"\",VLOOKUP(E574,SEP!$A$60:$L$84,9,FALSE))","v":""},{"$f":"IF(SEP!J24=\"\",\"\",SEP!J24)","v":""},{"$f":"IF(SEP!L24=\"\",\"\",SEP!L24)","v":""},{"$f":"IF(SEP!I24=\"\",\"\",SEP!I24)","v":""},{"$f":"IF(SEP!N24=\"\",\"\",SEP!N24)","v":""},{"$f":"IF(SEP!O24=\"\",\"\",SEP!O24)","v":""},{"$f":"IF(SEP!P24=\"\",\"\",SEP!P24)","v":""},"",""]
[568,{"$f":"IF(SEP!C25=\"\",\"\",SEP!C25)","v":""},{"$f":"IF(SEP!D25=\"\",\"\",SEP!D25)","v":""},{"$f":"IF(SEP!F25=\"\",\"\",SEP!F25)","v":""},{"$f":"IF(SEP!S25=\"\",\"\",SEP!S25)","v":""},{"$f":"IF(E575=\"\",\"\",VLOOKUP(E575,SEP!$A$60:$L$84,9,FALSE))","v":""},{"$f":"IF(SEP!J25=\"\",\"\",SEP!J25)","v":""},{"$f":"IF(SEP!L25=\"\",\"\",SEP!L25)","v":""},{"$f":"IF(SEP!I25=\"\",\"\",SEP!I25)","v":""},{"$f":"IF(SEP!N25=\"\",\"\",SEP!N25)","v":""},{"$f":"IF(SEP!O25=\"\",\"\",SEP!O25)","v":""},{"$f":"IF(SEP!P25=\"\",\"\",SEP!P25)","v":""},"",""]
[569,{"$f":"IF(SEP!C26=\"\",\"\",SEP!C26)","v":""},{"$f":"IF(SEP!D26=\"\",\"\",SEP!D26)","v":""},{"$f":"IF(SEP!F26=\"\",\"\",SEP!F26)","v":""},{"$f":"IF(SEP!S26=\"\",\"\",SEP!S26)","v":""},{"$f":"IF(E576=\"\",\"\",VLOOKUP(E576,SEP!$A$60:$L$84,9,FALSE))","v":""},{"$f":"IF(SEP!J26=\"\",\"\",SEP!J26)","v":""},{"$f":"IF(SEP!L26=\"\",\"\",SEP!L26)","v":""},{"$f":"IF(SEP!I26=\"\",\"\",SEP!I26)","v":""},{"$f":"IF(SEP!N26=\"\",\"\",SEP!N26)","v":""},{"$f":"IF(SEP!O26=\"\",\"\",SEP!O26)","v":""},{"$f":"IF(SEP!P26=\"\",\"\",SEP!P26)","v":""},"",""]
[570,{"$f":"IF(SEP!C27=\"\",\"\",SEP!C27)","v":""},{"$f":"IF(SEP!D27=\"\",\"\",SEP!D27)","v":""},{"$f":"IF(SEP!F27=\"\",\"\",SEP!F27)","v":""},{"$f":"IF(SEP!S27=\"\",\"\",SEP!S27)","v":""},{"$f":"IF(E577=\"\",\"\",VLOOKUP(E577,SEP!$A$60:$L$84,9,FALSE))","v":""},{"$f":"IF(SEP!J27=\"\",\"\",SEP!J27)","v":""},{"$f":"IF(SEP!L27=\"\",\"\",SEP!L27)","v":""},{"$f":"IF(SEP!I27=\"\",\"\",SEP!I27)","v":""},{"$f":"IF(SEP!N27=\"\",\"\",SEP!N27)","v":""},{"$f":"IF(SEP!O27=\"\",\"\",SEP!O27)","v":""},{"$f":"IF(SEP!P27=\"\",\"\",SEP!P27)","v":""},"",""]
[571,{"$f":"IF(SEP!C28=\"\",\"\",SEP!C28)","v":""},{"$f":"IF(SEP!D28=\"\",\"\",SEP!D28)","v":""},{"$f":"IF(SEP!F28=\"\",\"\",SEP!F28)","v":""},{"$f":"IF(SEP!S28=\"\",\"\",SEP!S28)","v":""},{"$f":"IF(E578=\"\",\"\",VLOOKUP(E578,SEP!$A$60:$L$84,9,FALSE))","v":""},{"$f":"IF(SEP!J28=\"\",\"\",SEP!J28)","v":""},{"$f":"IF(SEP!L28=\"\",\"\",SEP!L28)","v":""},{"$f":"IF(SEP!I28=\"\",\"\",SEP!I28)","v":""},{"$f":"IF(SEP!N28=\"\",\"\",SEP!N28)","v":""},{"$f":"IF(SEP!O28=\"\",\"\",SEP!O28)","v":""},{"$f":"IF(SEP!P28=\"\",\"\",SEP!P28)","v":""},"",""]
[572,{"$f":"IF(SEP!C29=\"\",\"\",SEP!C29)","v":""},{"$f":"IF(SEP!D29=\"\",\"\",SEP!D29)","v":""},{"$f":"IF(SEP!F29=\"\",\"\",SEP!F29)","v":""},{"$f":"IF(SEP!S29=\"\",\"\",SEP!S29)","v":""},{"$f":"IF(E579=\"\",\"\",VLOOKUP(E579,SEP!$A$60:$L$84,9,FALSE))","v":""},{"$f":"IF(SEP!J29=\"\",\"\",SEP!J29)","v":""},{"$f":"IF(SEP!L29=\"\",\"\",SEP!L29)","v":""},{"$f":"IF(SEP!I29=\"\",\"\",SEP!I29)","v":""},{"$f":"IF(SEP!N29=\"\",\"\",SEP!N29)","v":""},{"$f":"IF(SEP!O29=\"\",\"\",SEP!O29)","v":""},{"$f":"IF(SEP!P29=\"\",\"\",SEP!P29)","v":""},"",""]
[573,{"$f":"IF(SEP!C30=\"\",\"\",SEP!C30)","v":""},{"$f":"IF(SEP!D30=\"\",\"\",SEP!D30)","v":""},{"$f":"IF(SEP!F30=\"\",\"\",SEP!F30)","v":""},{"$f":"IF(SEP!S30=\"\",\"\",SEP!S30)","v":""},{"$f":"IF(E580=\"\",\"\",VLOOKUP(E580,SEP!$A$60:$L$84,9,FALSE))","v":""},{"$f":"IF(SEP!J30=\"\",\"\",SEP!J30)","v":""},{"$f":"IF(SEP!L30=\"\",\"\",SEP!L30)","v":""},{"$f":"IF(SEP!I30=\"\",\"\",SEP!I30)","v":""},{"$f":"IF(SEP!N30=\"\",\"\",SEP!N30)","v":""},{"$f":"IF(SEP!O30=\"\",\"\",SEP!O30)","v":""},{"$f":"IF(SEP!P30=\"\",\"\",SEP!P30)","v":""},"",""]
[574,{"$f":"IF(SEP!C31=\"\",\"\",SEP!C31)","v":""},{"$f":"IF(SEP!D31=\"\",\"\",SEP!D31)","v":""},{"$f":"IF(SEP!F31=\"\",\"\",SEP!F31)","v":""},{"$f":"IF(SEP!S31=\"\",\"\",SEP!S31)","v":""},{"$f":"IF(E581=\"\",\"\",VLOOKUP(E581,SEP!$A$60:$L$84,9,FALSE))","v":""},{"$f":"IF(SEP!J31=\"\",\"\",SEP!J31)","v":""},{"$f":"IF(SEP!L31=\"\",\"\",SEP!L31)","v":""},{"$f":"IF(SEP!I31=\"\",\"\",SEP!I31)","v":""},{"$f":"IF(SEP!N31=\"\",\"\",SEP!N31)","v":""},{"$f":"IF(SEP!O31=\"\",\"\",SEP!O31)","v":""},{"$f":"IF(SEP!P31=\"\",\"\",SEP!P31)","v":""},"",""]
[575,{"$f":"IF(SEP!C32=\"\",\"\",SEP!C32)","v":""},{"$f":"IF(SEP!D32=\"\",\"\",SEP!D32)","v":""},{"$f":"IF(SEP!F32=\"\",\"\",SEP!F32)","v":""},{"$f":"IF(SEP!S32=\"\",\"\",SEP!S32)","v":""},{"$f":"IF(E582=\"\",\"\",VLOOKUP(E582,SEP!$A$60:$L$84,9,FALSE))","v":""},{"$f":"IF(SEP!J32=\"\",\"\",SEP!J32)","v":""},{"$f":"IF(SEP!L32=\"\",\"\",SEP!L32)","v":""},{"$f":"IF(SEP!I32=\"\",\"\",SEP!I32)","v":""},{"$f":"IF(SEP!N32=\"\",\"\",SEP!N32)","v":""},{"$f":"IF(SEP!O32=\"\",\"\",SEP!O32)","v":""},{"$f":"IF(SEP!P32=\"\",\"\",SEP!P32)","v":""},"",""]
[576,{"$f":"IF(SEP!C33=\"\",\"\",SEP!C33)","v":""},{"$f":"IF(SEP!D33=\"\",\"\",SEP!D33)","v":""},{"$f":"IF(SEP!F33=\"\",\"\",SEP!F33)","v":""},{"$f":"IF(SEP!S33=\"\",\"\",SEP!S33)","v":""},{"$f":"IF(E583=\"\",\"\",VLOOKUP(E583,SEP!$A$60:$L$84,9,FALSE))","v":""},{"$f":"IF(SEP!J33=\"\",\"\",SEP!J33)","v":""},{"$f":"IF(SEP!L33=\"\",\"\",SEP!L33)","v":""},{"$f":"IF(SEP!I33=\"\",\"\",SEP!I33)","v":""},{"$f":"IF(SEP!N33=\"\",\"\",SEP!N33)","v":""},{"$f":"IF(SEP!O33=\"\",\"\",SEP!O33)","v":""},{"$f":"IF(SEP!P33=\"\",\"\",SEP!P33)","v":""},"",""]
[577,{"$f":"IF(SEP!C34=\"\",\"\",SEP!C34)","v":""},{"$f":"IF(SEP!D34=\"\",\"\",SEP!D34)","v":""},{"$f":"IF(SEP!F34=\"\",\"\",SEP!F34)","v":""},{"$f":"IF(SEP!S34=\"\",\"\",SEP!S34)","v":""},{"$f":"IF(E584=\"\",\"\",VLOOKUP(E584,SEP!$A$60:$L$84,9,FALSE))","v":""},{"$f":"IF(SEP!J34=\"\",\"\",SEP!J34)","v":""},{"$f":"IF(SEP!L34=\"\",\"\",SEP!L34)","v":""},{"$f":"IF(SEP!I34=\"\",\"\",SEP!I34)","v":""},{"$f":"IF(SEP!N34=\"\",\"\",SEP!N34)","v":""},{"$f":"IF(SEP!O34=\"\",\"\",SEP!O34)","v":""},{"$f":"IF(SEP!P34=\"\",\"\",SEP!P34)","v":""},{"$f":"IF(J584=\"\",\"\",J584+L584)","v":""},""]
[578,{"$f":"IF(SEP!C35=\"\",\"\",SEP!C35)","v":""},{"$f":"IF(SEP!D35=\"\",\"\",SEP!D35)","v":""},{"$f":"IF(SEP!F35=\"\",\"\",SEP!F35)","v":""},{"$f":"IF(SEP!S35=\"\",\"\",SEP!S35)","v":""},{"$f":"IF(E585=\"\",\"\",VLOOKUP(E585,SEP!$A$60:$L$84,9,FALSE))","v":""},{"$f":"IF(SEP!J35=\"\",\"\",SEP!J35)","v":""},{"$f":"IF(SEP!L35=\"\",\"\",SEP!L35)","v":""},{"$f":"IF(SEP!I35=\"\",\"\",SEP!I35)","v":""},{"$f":"IF(SEP!N35=\"\",\"\",SEP!N35)","v":""},{"$f":"IF(SEP!O35=\"\",\"\",SEP!O35)","v":""},{"$f":"IF(SEP!P35=\"\",\"\",SEP!P35)","v":""},"",""]
[579,{"$f":"IF(SEP!C36=\"\",\"\",SEP!C36)","v":""},{"$f":"IF(SEP!D36=\"\",\"\",SEP!D36)","v":""},{"$f":"IF(SEP!F36=\"\",\"\",SEP!F36)","v":""},{"$f":"IF(SEP!S36=\"\",\"\",SEP!S36)","v":""},{"$f":"IF(E586=\"\",\"\",VLOOKUP(E586,SEP!$A$60:$L$84,9,FALSE))","v":""},{"$f":"IF(SEP!J36=\"\",\"\",SEP!J36)","v":""},{"$f":"IF(SEP!L36=\"\",\"\",SEP!L36)","v":""},{"$f":"IF(SEP!I36=\"\",\"\",SEP!I36)","v":""},{"$f":"IF(SEP!N36=\"\",\"\",SEP!N36)","v":""},{"$f":"IF(SEP!O36=\"\",\"\",SEP!O36)","v":""},{"$f":"IF(SEP!P36=\"\",\"\",SEP!P36)","v":""},"",""]
[580,{"$f":"IF(SEP!C37=\"\",\"\",SEP!C37)","v":""},{"$f":"IF(SEP!D37=\"\",\"\",SEP!D37)","v":""},{"$f":"IF(SEP!F37=\"\",\"\",SEP!F37)","v":""},{"$f":"IF(SEP!S37=\"\",\"\",SEP!S37)","v":""},{"$f":"IF(E587=\"\",\"\",VLOOKUP(E587,SEP!$A$60:$L$84,9,FALSE))","v":""},{"$f":"IF(SEP!J37=\"\",\"\",SEP!J37)","v":""},{"$f":"IF(SEP!L37=\"\",\"\",SEP!L37)","v":""},{"$f":"IF(SEP!I37=\"\",\"\",SEP!I37)","v":""},{"$f":"IF(SEP!N37=\"\",\"\",SEP!N37)","v":""},{"$f":"IF(SEP!O37=\"\",\"\",SEP!O37)","v":""},{"$f":"IF(SEP!P37=\"\",\"\",SEP!P37)","v":""},"",""]
[581,{"$f":"IF(SEP!C38=\"\",\"\",SEP!C38)","v":""},{"$f":"IF(SEP!D38=\"\",\"\",SEP!D38)","v":""},{"$f":"IF(SEP!F38=\"\",\"\",SEP!F38)","v":""},{"$f":"IF(SEP!S38=\"\",\"\",SEP!S38)","v":""},{"$f":"IF(E588=\"\",\"\",VLOOKUP(E588,SEP!$A$60:$L$84,9,FALSE))","v":""},{"$f":"IF(SEP!J38=\"\",\"\",SEP!J38)","v":""},{"$f":"IF(SEP!L38=\"\",\"\",SEP!L38)","v":""},{"$f":"IF(SEP!I38=\"\",\"\",SEP!I38)","v":""},{"$f":"IF(SEP!N38=\"\",\"\",SEP!N38)","v":""},{"$f":"IF(SEP!O38=\"\",\"\",SEP!O38)","v":""},{"$f":"IF(SEP!P38=\"\",\"\",SEP!P38)","v":""},"",""]
[582,{"$f":"IF(SEP!C39=\"\",\"\",SEP!C39)","v":""},{"$f":"IF(SEP!D39=\"\",\"\",SEP!D39)","v":""},{"$f":"IF(SEP!F39=\"\",\"\",SEP!F39)","v":""},{"$f":"IF(SEP!S39=\"\",\"\",SEP!S39)","v":""},{"$f":"IF(E589=\"\",\"\",VLOOKUP(E589,SEP!$A$60:$L$84,9,FALSE))","v":""},{"$f":"IF(SEP!J39=\"\",\"\",SEP!J39)","v":""},{"$f":"IF(SEP!L39=\"\",\"\",SEP!L39)","v":""},{"$f":"IF(SEP!I39=\"\",\"\",SEP!I39)","v":""},{"$f":"IF(SEP!N39=\"\",\"\",SEP!N39)","v":""},{"$f":"IF(SEP!O39=\"\",\"\",SEP!O39)","v":""},{"$f":"IF(SEP!P39=\"\",\"\",SEP!P39)","v":""},"",""]
[583,{"$f":"IF(SEP!C40=\"\",\"\",SEP!C40)","v":""},{"$f":"IF(SEP!D40=\"\",\"\",SEP!D40)","v":""},{"$f":"IF(SEP!F40=\"\",\"\",SEP!F40)","v":""},{"$f":"IF(SEP!S40=\"\",\"\",SEP!S40)","v":""},{"$f":"IF(E590=\"\",\"\",VLOOKUP(E590,SEP!$A$60:$L$84,9,FALSE))","v":""},{"$f":"IF(SEP!J40=\"\",\"\",SEP!J40)","v":""},{"$f":"IF(SEP!L40=\"\",\"\",SEP!L40)","v":""},{"$f":"IF(SEP!I40=\"\",\"\",SEP!I40)","v":""},{"$f":"IF(SEP!N40=\"\",\"\",SEP!N40)","v":""},{"$f":"IF(SEP!O40=\"\",\"\",SEP!O40)","v":""},{"$f":"IF(SEP!P40=\"\",\"\",SEP!P40)","v":""},"",""]
[584,{"$f":"IF(SEP!C41=\"\",\"\",SEP!C41)","v":""},{"$f":"IF(SEP!D41=\"\",\"\",SEP!D41)","v":""},{"$f":"IF(SEP!F41=\"\",\"\",SEP!F41)","v":""},{"$f":"IF(SEP!S41=\"\",\"\",SEP!S41)","v":""},{"$f":"IF(E591=\"\",\"\",VLOOKUP(E591,SEP!$A$60:$L$84,9,FALSE))","v":""},{"$f":"IF(SEP!J41=\"\",\"\",SEP!J41)","v":""},{"$f":"IF(SEP!L41=\"\",\"\",SEP!L41)","v":""},{"$f":"IF(SEP!I41=\"\",\"\",SEP!I41)","v":""},{"$f":"IF(SEP!N41=\"\",\"\",SEP!N41)","v":""},{"$f":"IF(SEP!O41=\"\",\"\",SEP!O41)","v":""},{"$f":"IF(SEP!P41=\"\",\"\",SEP!P41)","v":""},"",""]
[585,{"$f":"IF(SEP!C42=\"\",\"\",SEP!C42)","v":""},{"$f":"IF(SEP!D42=\"\",\"\",SEP!D42)","v":""},{"$f":"IF(SEP!F42=\"\",\"\",SEP!F42)","v":""},{"$f":"IF(SEP!S42=\"\",\"\",SEP!S42)","v":""},{"$f":"IF(E592=\"\",\"\",VLOOKUP(E592,SEP!$A$60:$L$84,9,FALSE))","v":""},{"$f":"IF(SEP!J42=\"\",\"\",SEP!J42)","v":""},{"$f":"IF(SEP!L42=\"\",\"\",SEP!L42)","v":""},{"$f":"IF(SEP!I42=\"\",\"\",SEP!I42)","v":""},{"$f":"IF(SEP!N42=\"\",\"\",SEP!N42)","v":""},{"$f":"IF(SEP!O42=\"\",\"\",SEP!O42)","v":""},{"$f":"IF(SEP!P42=\"\",\"\",SEP!P42)","v":""},"",{"$f":"IF(B592=\"\",\"\",N591+J592+L592)","v":""}]
[586,{"$f":"IF(SEP!C43=\"\",\"\",SEP!C43)","v":""},{"$f":"IF(SEP!D43=\"\",\"\",SEP!D43)","v":""},{"$f":"IF(SEP!F43=\"\",\"\",SEP!F43)","v":""},{"$f":"IF(SEP!S43=\"\",\"\",SEP!S43)","v":""},{"$f":"IF(E593=\"\",\"\",VLOOKUP(E593,SEP!$A$60:$L$84,9,FALSE))","v":""},{"$f":"IF(SEP!J43=\"\",\"\",SEP!J43)","v":""},{"$f":"IF(SEP!L43=\"\",\"\",SEP!L43)","v":""},{"$f":"IF(SEP!I43=\"\",\"\",SEP!I43)","v":""},{"$f":"IF(SEP!N43=\"\",\"\",SEP!N43)","v":""},{"$f":"IF(SEP!O43=\"\",\"\",SEP!O43)","v":""},{"$f":"IF(SEP!P43=\"\",\"\",SEP!P43)","v":""},"",""]
[587,{"$f":"IF(SEP!C44=\"\",\"\",SEP!C44)","v":""},{"$f":"IF(SEP!D44=\"\",\"\",SEP!D44)","v":""},{"$f":"IF(SEP!F44=\"\",\"\",SEP!F44)","v":""},{"$f":"IF(SEP!S44=\"\",\"\",SEP!S44)","v":""},{"$f":"IF(E594=\"\",\"\",VLOOKUP(E594,SEP!$A$60:$L$84,9,FALSE))","v":""},{"$f":"IF(SEP!J44=\"\",\"\",SEP!J44)","v":""},{"$f":"IF(SEP!L44=\"\",\"\",SEP!L44)","v":""},{"$f":"IF(SEP!I44=\"\",\"\",SEP!I44)","v":""},{"$f":"IF(SEP!N44=\"\",\"\",SEP!N44)","v":""},{"$f":"IF(SEP!O44=\"\",\"\",SEP!O44)","v":""},{"$f":"IF(SEP!P44=\"\",\"\",SEP!P44)","v":""},"",""]
[588,{"$f":"IF(SEP!C45=\"\",\"\",SEP!C45)","v":""},{"$f":"IF(SEP!D45=\"\",\"\",SEP!D45)","v":""},{"$f":"IF(SEP!F45=\"\",\"\",SEP!F45)","v":""},{"$f":"IF(SEP!S45=\"\",\"\",SEP!S45)","v":""},{"$f":"IF(E595=\"\",\"\",VLOOKUP(E595,SEP!$A$60:$L$84,9,FALSE))","v":""},{"$f":"IF(SEP!J45=\"\",\"\",SEP!J45)","v":""},{"$f":"IF(SEP!L45=\"\",\"\",SEP!L45)","v":""},{"$f":"IF(SEP!I45=\"\",\"\",SEP!I45)","v":""},{"$f":"IF(SEP!N45=\"\",\"\",SEP!N45)","v":""},{"$f":"IF(SEP!O45=\"\",\"\",SEP!O45)","v":""},{"$f":"IF(SEP!P45=\"\",\"\",SEP!P45)","v":""},"",""]
[589,{"$f":"IF(SEP!C46=\"\",\"\",SEP!C46)","v":""},{"$f":"IF(SEP!D46=\"\",\"\",SEP!D46)","v":""},{"$f":"IF(SEP!F46=\"\",\"\",SEP!F46)","v":""},{"$f":"IF(SEP!S46=\"\",\"\",SEP!S46)","v":""},{"$f":"IF(E596=\"\",\"\",VLOOKUP(E596,SEP!$A$60:$L$84,9,FALSE))","v":""},{"$f":"IF(SEP!J46=\"\",\"\",SEP!J46)","v":""},{"$f":"IF(SEP!L46=\"\",\"\",SEP!L46)","v":""},{"$f":"IF(SEP!I46=\"\",\"\",SEP!I46)","v":""},{"$f":"IF(SEP!N46=\"\",\"\",SEP!N46)","v":""},{"$f":"IF(SEP!O46=\"\",\"\",SEP!O46)","v":""},{"$f":"IF(SEP!P46=\"\",\"\",SEP!P46)","v":""},"",""]
[590,{"$f":"IF(SEP!C47=\"\",\"\",SEP!C47)","v":""},{"$f":"IF(SEP!D47=\"\",\"\",SEP!D47)","v":""},{"$f":"IF(SEP!F47=\"\",\"\",SEP!F47)","v":""},{"$f":"IF(SEP!S47=\"\",\"\",SEP!S47)","v":""},{"$f":"IF(E597=\"\",\"\",VLOOKUP(E597,SEP!$A$60:$L$84,9,FALSE))","v":""},{"$f":"IF(SEP!J47=\"\",\"\",SEP!J47)","v":""},{"$f":"IF(SEP!L47=\"\",\"\",SEP!L47)","v":""},{"$f":"IF(SEP!I47=\"\",\"\",SEP!I47)","v":""},{"$f":"IF(SEP!N47=\"\",\"\",SEP!N47)","v":""},{"$f":"IF(SEP!O47=\"\",\"\",SEP!O47)","v":""},{"$f":"IF(SEP!P47=\"\",\"\",SEP!P47)","v":""},"",""]
[591,{"$f":"IF(SEP!C48=\"\",\"\",SEP!C48)","v":""},{"$f":"IF(SEP!D48=\"\",\"\",SEP!D48)","v":""},{"$f":"IF(SEP!F48=\"\",\"\",SEP!F48)","v":""},{"$f":"IF(SEP!S48=\"\",\"\",SEP!S48)","v":""},{"$f":"IF(E598=\"\",\"\",VLOOKUP(E598,SEP!$A$60:$L$84,9,FALSE))","v":""},{"$f":"IF(SEP!J48=\"\",\"\",SEP!J48)","v":""},{"$f":"IF(SEP!L48=\"\",\"\",SEP!L48)","v":""},{"$f":"IF(SEP!I48=\"\",\"\",SEP!I48)","v":""},{"$f":"IF(SEP!N48=\"\",\"\",SEP!N48)","v":""},{"$f":"IF(SEP!O48=\"\",\"\",SEP!O48)","v":""},{"$f":"IF(SEP!P48=\"\",\"\",SEP!P48)","v":""},"",""]
[592,{"$f":"IF(SEP!C49=\"\",\"\",SEP!C49)","v":""},{"$f":"IF(SEP!D49=\"\",\"\",SEP!D49)","v":""},{"$f":"IF(SEP!F49=\"\",\"\",SEP!F49)","v":""},{"$f":"IF(SEP!S49=\"\",\"\",SEP!S49)","v":""},{"$f":"IF(E599=\"\",\"\",VLOOKUP(E599,SEP!$A$60:$L$84,9,FALSE))","v":""},{"$f":"IF(SEP!J49=\"\",\"\",SEP!J49)","v":""},{"$f":"IF(SEP!L49=\"\",\"\",SEP!L49)","v":""},{"$f":"IF(SEP!I49=\"\",\"\",SEP!I49)","v":""},{"$f":"IF(SEP!N49=\"\",\"\",SEP!N49)","v":""},{"$f":"IF(SEP!O49=\"\",\"\",SEP!O49)","v":""},{"$f":"IF(SEP!P49=\"\",\"\",SEP!P49)","v":""},"",""]
[593,{"$f":"IF(SEP!C50=\"\",\"\",SEP!C50)","v":""},{"$f":"IF(SEP!D50=\"\",\"\",SEP!D50)","v":""},{"$f":"IF(SEP!F50=\"\",\"\",SEP!F50)","v":""},{"$f":"IF(SEP!S50=\"\",\"\",SEP!S50)","v":""},{"$f":"IF(E600=\"\",\"\",VLOOKUP(E600,SEP!$A$60:$L$84,9,FALSE))","v":""},{"$f":"IF(SEP!J50=\"\",\"\",SEP!J50)","v":""},{"$f":"IF(SEP!L50=\"\",\"\",SEP!L50)","v":""},{"$f":"IF(SEP!I50=\"\",\"\",SEP!I50)","v":""},{"$f":"IF(SEP!N50=\"\",\"\",SEP!N50)","v":""},{"$f":"IF(SEP!O50=\"\",\"\",SEP!O50)","v":""},{"$f":"IF(SEP!P50=\"\",\"\",SEP!P50)","v":""},"",""]
[594,{"$f":"IF(SEP!C51=\"\",\"\",SEP!C51)","v":""},{"$f":"IF(SEP!D51=\"\",\"\",SEP!D51)","v":""},{"$f":"IF(SEP!F51=\"\",\"\",SEP!F51)","v":""},{"$f":"IF(SEP!S51=\"\",\"\",SEP!S51)","v":""},{"$f":"IF(E601=\"\",\"\",VLOOKUP(E601,SEP!$A$60:$L$84,9,FALSE))","v":""},{"$f":"IF(SEP!J51=\"\",\"\",SEP!J51)","v":""},{"$f":"IF(SEP!L51=\"\",\"\",SEP!L51)","v":""},{"$f":"IF(SEP!I51=\"\",\"\",SEP!I51)","v":""},{"$f":"IF(SEP!N51=\"\",\"\",SEP!N51)","v":""},{"$f":"IF(SEP!O51=\"\",\"\",SEP!O51)","v":""},{"$f":"IF(SEP!P51=\"\",\"\",SEP!P51)","v":""},"",""]
[595,{"$f":"IF(SEP!C52=\"\",\"\",SEP!C52)","v":""},{"$f":"IF(SEP!D52=\"\",\"\",SEP!D52)","v":""},{"$f":"IF(SEP!F52=\"\",\"\",SEP!F52)","v":""},{"$f":"IF(SEP!S52=\"\",\"\",SEP!S52)","v":""},{"$f":"IF(E602=\"\",\"\",VLOOKUP(E602,SEP!$A$60:$L$84,9,FALSE))","v":""},{"$f":"IF(SEP!J52=\"\",\"\",SEP!J52)","v":""},{"$f":"IF(SEP!L52=\"\",\"\",SEP!L52)","v":""},{"$f":"IF(SEP!I52=\"\",\"\",SEP!I52)","v":""},{"$f":"IF(SEP!N52=\"\",\"\",SEP!N52)","v":""},{"$f":"IF(SEP!O52=\"\",\"\",SEP!O52)","v":""},{"$f":"IF(SEP!P52=\"\",\"\",SEP!P52)","v":""},"",""]
[596,{"$f":"IF(SEP!C53=\"\",\"\",SEP!C53)","v":""},{"$f":"IF(SEP!D53=\"\",\"\",SEP!D53)","v":""},{"$f":"IF(SEP!F53=\"\",\"\",SEP!F53)","v":""},{"$f":"IF(SEP!S53=\"\",\"\",SEP!S53)","v":""},{"$f":"IF(E603=\"\",\"\",VLOOKUP(E603,SEP!$A$60:$L$84,9,FALSE))","v":""},{"$f":"IF(SEP!J53=\"\",\"\",SEP!J53)","v":""},{"$f":"IF(SEP!L53=\"\",\"\",SEP!L53)","v":""},{"$f":"IF(SEP!I53=\"\",\"\",SEP!I53)","v":""},{"$f":"IF(SEP!N53=\"\",\"\",SEP!N53)","v":""},{"$f":"IF(SEP!O53=\"\",\"\",SEP!O53)","v":""},{"$f":"IF(SEP!P53=\"\",\"\",SEP!P53)","v":""},"",""]
[597,{"$f":"IF(SEP!C54=\"\",\"\",SEP!C54)","v":""},{"$f":"IF(SEP!D54=\"\",\"\",SEP!D54)","v":""},{"$f":"IF(SEP!F54=\"\",\"\",SEP!F54)","v":""},{"$f":"IF(SEP!S54=\"\",\"\",SEP!S54)","v":""},{"$f":"IF(E604=\"\",\"\",VLOOKUP(E604,SEP!$A$60:$L$84,9,FALSE))","v":""},{"$f":"IF(SEP!J54=\"\",\"\",SEP!J54)","v":""},{"$f":"IF(SEP!L54=\"\",\"\",SEP!L54)","v":""},{"$f":"IF(SEP!I54=\"\",\"\",SEP!I54)","v":""},{"$f":"IF(SEP!N54=\"\",\"\",SEP!N54)","v":""},{"$f":"IF(SEP!O54=\"\",\"\",SEP!O54)","v":""},{"$f":"IF(SEP!P54=\"\",\"\",SEP!P54)","v":""},"",""]
[598,{"$f":"IF(SEP!C55=\"\",\"\",SEP!C55)","v":""},{"$f":"IF(SEP!D55=\"\",\"\",SEP!D55)","v":""},{"$f":"IF(SEP!F55=\"\",\"\",SEP!F55)","v":""},{"$f":"IF(SEP!S55=\"\",\"\",SEP!S55)","v":""},{"$f":"IF(E605=\"\",\"\",VLOOKUP(E605,SEP!$A$60:$L$84,9,FALSE))","v":""},{"$f":"IF(SEP!J55=\"\",\"\",SEP!J55)","v":""},{"$f":"IF(SEP!L55=\"\",\"\",SEP!L55)","v":""},{"$f":"IF(SEP!I55=\"\",\"\",SEP!I55)","v":""},{"$f":"IF(SEP!N55=\"\",\"\",SEP!N55)","v":""},{"$f":"IF(SEP!O55=\"\",\"\",SEP!O55)","v":""},{"$f":"IF(SEP!P55=\"\",\"\",SEP!P55)","v":""},"",""]
[599,{"$f":"IF(SEP!C56=\"\",\"\",SEP!C56)","v":""},{"$f":"IF(SEP!D56=\"\",\"\",SEP!D56)","v":""},{"$f":"IF(SEP!F56=\"\",\"\",SEP!F56)","v":""},{"$f":"IF(SEP!S56=\"\",\"\",SEP!S56)","v":""},{"$f":"IF(E606=\"\",\"\",VLOOKUP(E606,SEP!$A$60:$L$84,9,FALSE))","v":""},{"$f":"IF(SEP!J56=\"\",\"\",SEP!J56)","v":""},{"$f":"IF(SEP!L56=\"\",\"\",SEP!L56)","v":""},{"$f":"IF(SEP!I56=\"\",\"\",SEP!I56)","v":""},{"$f":"IF(SEP!N56=\"\",\"\",SEP!N56)","v":""},{"$f":"IF(SEP!O56=\"\",\"\",SEP!O56)","v":""},{"$f":"IF(SEP!P56=\"\",\"\",SEP!P56)","v":""},"",""]
[600,{"$f":"IF(SEP!C57=\"\",\"\",SEP!C57)","v":""},{"$f":"IF(SEP!D57=\"\",\"\",SEP!D57)","v":""},{"$f":"IF(SEP!F57=\"\",\"\",SEP!F57)","v":""},{"$f":"IF(SEP!S57=\"\",\"\",SEP!S57)","v":""},{"$f":"IF(E607=\"\",\"\",VLOOKUP(E607,SEP!$A$60:$L$84,9,FALSE))","v":""},{"$f":"IF(SEP!J57=\"\",\"\",SEP!J57)","v":""},{"$f":"IF(SEP!L57=\"\",\"\",SEP!L57)","v":""},{"$f":"IF(SEP!I57=\"\",\"\",SEP!I57)","v":""},{"$f":"IF(SEP!N57=\"\",\"\",SEP!N57)","v":""},{"$f":"IF(SEP!O57=\"\",\"\",SEP!O57)","v":""},{"$f":"IF(SEP!P57=\"\",\"\",SEP!P57)","v":""},"",""]

{"sheet":"MONTHLY_TOTALS","index":2,"n_rows":28,"n_cols":4,"rows_kept":28,"cut":false,"hidden":false,"merged":[[3,0,4,1],[3,2,4,2],[5,0,6,1],[5,2,6,2],[9,0,10,1],[9,2,10,2],[11,0,12,1],[11,2,12,2],[7,0,8,1],[7,2,8,2],[15,0,16,1],[15,2,16,2],[17,0,18,1],[17,2,18,2],[13,0,14,1],[13,2,14,2],[27,2,28,2],[19,2,20,2],[21,0,22,1],[21,2,22,2],[23,0,24,1],[23,2,24,2],[19,0,20,1],[25,0,26,1],[25,2,26,2],[23,3,24,3],[25,3,26,3],[27,3,28,3],[0,0,1,3],[2,0,2,1],[13,3,14,3],[15,3,16,3],[17,3,18,3],[19,3,20,3],[21,3,22,3],[3,3,4,3],[5,3,6,3],[7,3,8,3],[9,3,10,3],[11,3,12,3],[27,0,28,1]]}
["TOTAL MONTHLY SPENDING"]
[]
["MONTH",null,"ORDERED","EXPENSED"]
["OCTOBER",null,{"$f":"OCT!$Q$85","v":0},{"$f":"SUMIF(OCT!T$8:$T$57,\"10\",OCT!$N$8:$N$57)+SUMIF(NOV!$T$8:T$57,\"10\",NOV!$N$8:$N$57)+SUMIF(DEC!$T$8:T$57,\"10\",DEC!$N$8:$N$57)+SUMIF(JAN!$T$8:T$57,\"10\",JAN!$N$8:$N$57)+SUMIF(FEB!$T$8:T$57,\"10\",FEB!$N$8:$N$57)+SUMIF(MAR!$T$8:T$57,\"10\",MAR!$N$8:$N$57)+SUMIF(APR!$T$8:T$57,\"10\",APR!$N$8:$N$57)+SUMIF(MAY!$T$8:T$57,\"10\",MAY!$N$8:$N$57)+SUMIF(JUN!$T$8:T$57,\"10\",JUN!$N$8:$N$57)+SUMIF(JUL!$T$8:T$57,\"10\",JUL!$N$8:$N$57)+SUMIF(AUG!$T$8:T$57,\"10\",AUG!$N$8:$N$57)+SUMIF(SEP!$T$8:T$57,\"10\",SEP!$N$8:$N$57)","v":0}]
[]
["NOVEMBER",null,{"$f":"NOV!$Q$85","v":0},{"$f":"SUMIF(OCT!T$8:$T$57,\"11\",OCT!$N$8:$N$57)+SUMIF(NOV!$T$8:T$57,\"11\",NOV!$N$8:$N$57)+SUMIF(DEC!$T$8:T$57,\"11\",DEC!$N$8:$N$57)+SUMIF(JAN!$T$8:T$57,\"11\",JAN!$N$8:$N$57)+SUMIF(FEB!$T$8:T$57,\"11\",FEB!$N$8:$N$57)+SUMIF(MAR!$T$8:T$57,\"11\",MAR!$N$8:$N$57)+SUMIF(APR!$T$8:T$57,\"11\",APR!$N$8:$N$57)+SUMIF(MAY!$T$8:T$57,\"11\",MAY!$N$8:$N$57)+SUMIF(JUN!$T$8:T$57,\"11\",JUN!$N$8:$N$57)+SUMIF(JUL!$T$8:T$57,\"11\",JUL!$N$8:$N$57)+SUMIF(AUG!$T$8:T$57,\"11\",AUG!$N$8:$N$57)+SUMIF(SEP!$T$8:T$57,\"11\",SEP!$N$8:$N$57)","v":0}]
["NOVEMBER"]
["DECEMBER",null,{"$f":"DEC!$Q$85","v":0},{"$f":"SUMIF(OCT!T$8:$T$57,\"12\",OCT!$N$8:$N$57)+SUMIF(NOV!$T$8:T$57,\"12\",NOV!$N$8:$N$57)+SUMIF(DEC!$T$8:T$57,\"12\",DEC!$N$8:$N$57)+SUMIF(JAN!$T$8:T$57,\"12\",JAN!$N$8:$N$57)+SUMIF(FEB!$T$8:T$57,\"12\",FEB!$N$8:$N$57)+SUMIF(MAR!$T$8:T$57,\"12\",MAR!$N$8:$N$57)+SUMIF(APR!$T$8:T$57,\"12\",APR!$N$8:$N$57)+SUMIF(MAY!$T$8:T$57,\"12\",MAY!$N$8:$N$57)+SUMIF(JUN!$T$8:T$57,\"12\",JUN!$N$8:$N$57)+SUMIF(JUL!$T$8:T$57,\"12\",JUL!$N$8:$N$57)+SUMIF(AUG!$T$8:T$57,\"12\",AUG!$N$8:$N$57)+SUMIF(SEP!$T$8:T$57,\"12\",SEP!$N$8:$N$57)","v":0}]
["DECEMBER"]
["JANUARY",null,{"$f":"JAN!$Q$85","v":0},{"$f":"SUMIF(OCT!T$8:$T$57,\"1\",OCT!$N$8:$N$57)+SUMIF(NOV!$T$8:T$57,\"1\",NOV!$N$8:$N$57)+SUMIF(DEC!$T$8:T$57,\"1\",DEC!$N$8:$N$57)+SUMIF(JAN!$T$8:T$57,\"1\",JAN!$N$8:$N$57)+SUMIF(FEB!$T$8:T$57,\"1\",FEB!$N$8:$N$57)+SUMIF(MAR!$T$8:T$57,\"1\",MAR!$N$8:$N$57)+SUMIF(APR!$T$8:T$57,\"1\",APR!$N$8:$N$57)+SUMIF(MAY!$T$8:T$57,\"1\",MAY!$N$8:$N$57)+SUMIF(JUN!$T$8:T$57,\"1\",JUN!$N$8:$N$57)+SUMIF(JUL!$T$8:T$57,\"1\",JUL!$N$8:$N$57)+SUMIF(AUG!$T$8:T$57,\"1\",AUG!$N$8:$N$57)+SUMIF(SEP!$T$8:T$57,\"1\",SEP!$N$8:$N$57)","v":0}]
["JANUARY"]
["FEBRUARY",null,{"$f":"FEB!$Q$85","v":0},{"$f":"SUMIF(OCT!T$8:$T$57,\"2\",OCT!$N$8:$N$57)+SUMIF(NOV!$T$8:T$57,\"2\",NOV!$N$8:$N$57)+SUMIF(DEC!$T$8:T$57,\"2\",DEC!$N$8:$N$57)+SUMIF(JAN!$T$8:T$57,\"2\",JAN!$N$8:$N$57)+SUMIF(FEB!$T$8:T$57,\"2\",FEB!$N$8:$N$57)+SUMIF(MAR!$T$8:T$57,\"2\",MAR!$N$8:$N$57)+SUMIF(APR!$T$8:T$57,\"2\",APR!$N$8:$N$57)+SUMIF(MAY!$T$8:T$57,\"2\",MAY!$N$8:$N$57)+SUMIF(JUN!$T$8:T$57,\"2\",JUN!$N$8:$N$57)+SUMIF(JUL!$T$8:T$57,\"2\",JUL!$N$8:$N$57)+SUMIF(AUG!$T$8:T$57,\"2\",AUG!$N$8:$N$57)+SUMIF(SEP!$T$8:T$57,\"2\",SEP!$N$8:$N$57)","v":0}]
["FEBRUARY"]
["MARCH",null,{"$f":"MAR!$Q$85","v":0},{"$f":"SUMIF(OCT!T$8:$T$57,\"3\",OCT!$N$8:$N$57)+SUMIF(NOV!$T$8:T$57,\"3\",NOV!$N$8:$N$57)+SUMIF(DEC!$T$8:T$57,\"3\",DEC!$N$8:$N$57)+SUMIF(JAN!$T$8:T$57,\"3\",JAN!$N$8:$N$57)+SUMIF(FEB!$T$8:T$57,\"3\",FEB!$N$8:$N$57)+SUMIF(MAR!$T$8:T$57,\"3\",MAR!$N$8:$N$57)+SUMIF(APR!$T$8:T$57,\"3\",APR!$N$8:$N$57)+SUMIF(MAY!$T$8:T$57,\"3\",MAY!$N$8:$N$57)+SUMIF(JUN!$T$8:T$57,\"3\",JUN!$N$8:$N$57)+SUMIF(JUL!$T$8:T$57,\"3\",JUL!$N$8:$N$57)+SUMIF(AUG!$T$8:T$57,\"3\",AUG!$N$8:$N$57)+SUMIF(SEP!$T$8:T$57,\"3\",SEP!$N$8:$N$57)","v":0}]
["MARCH"]
["APRIL",null,{"$f":"APR!$Q$85","v":0},{"$f":"SUMIF(OCT!T$8:$T$57,\"4\",OCT!$N$8:$N$57)+SUMIF(NOV!$T$8:T$57,\"4\",NOV!$N$8:$N$57)+SUMIF(DEC!$T$8:T$57,\"4\",DEC!$N$8:$N$57)+SUMIF(JAN!$T$8:T$57,\"4\",JAN!$N$8:$N$57)+SUMIF(FEB!$T$8:T$57,\"4\",FEB!$N$8:$N$57)+SUMIF(MAR!$T$8:T$57,\"4\",MAR!$N$8:$N$57)+SUMIF(APR!$T$8:T$57,\"4\",APR!$N$8:$N$57)+SUMIF(MAY!$T$8:T$57,\"4\",MAY!$N$8:$N$57)+SUMIF(JUN!$T$8:T$57,\"4\",JUN!$N$8:$N$57)+SUMIF(JUL!$T$8:T$57,\"4\",JUL!$N$8:$N$57)+SUMIF(AUG!$T$8:T$57,\"4\",AUG!$N$8:$N$57)+SUMIF(SEP!$T$8:T$57,\"4\",SEP!$N$8:$N$57)","v":0}]
["APRIL"]
["MAY",null,{"$f":"MAY!$Q$85","v":0},{"$f":"SUMIF(OCT!T$8:$T$57,\"5\",OCT!$N$8:$N$57)+SUMIF(NOV!$T$8:T$57,\"5\",NOV!$N$8:$N$57)+SUMIF(DEC!$T$8:T$57,\"5\",DEC!$N$8:$N$57)+SUMIF(JAN!$T$8:T$57,\"5\",JAN!$N$8:$N$57)+SUMIF(FEB!$T$8:T$57,\"5\",FEB!$N$8:$N$57)+SUMIF(MAR!$T$8:T$57,\"5\",MAR!$N$8:$N$57)+SUMIF(APR!$T$8:T$57,\"5\",APR!$N$8:$N$57)+SUMIF(MAY!$T$8:T$57,\"5\",MAY!$N$8:$N$57)+SUMIF(JUN!$T$8:T$57,\"5\",JUN!$N$8:$N$57)+SUMIF(JUL!$T$8:T$57,\"5\",JUL!$N$8:$N$57)+SUMIF(AUG!$T$8:T$57,\"5\",AUG!$N$8:$N$57)+SUMIF(SEP!$T$8:T$57,\"5\",SEP!$N$8:$N$57)","v":0}]
["MAY"]
["JUNE",null,{"$f":"JUN!$Q$85","v":0},{"$f":"SUMIF(OCT!T$8:$T$57,\"6\",OCT!$N$8:$N$57)+SUMIF(NOV!$T$8:T$57,\"6\",NOV!$N$8:$N$57)+SUMIF(DEC!$T$8:T$57,\"6\",DEC!$N$8:$N$57)+SUMIF(JAN!$T$8:T$57,\"6\",JAN!$N$8:$N$57)+SUMIF(FEB!$T$8:T$57,\"6\",FEB!$N$8:$N$57)+SUMIF(MAR!$T$8:T$57,\"6\",MAR!$N$8:$N$57)+SUMIF(APR!$T$8:T$57,\"6\",APR!$N$8:$N$57)+SUMIF(MAY!$T$8:T$57,\"6\",MAY!$N$8:$N$57)+SUMIF(JUN!$T$8:T$57,\"6\",JUN!$N$8:$N$57)+SUMIF(JUL!$T$8:T$57,\"6\",JUL!$N$8:$N$57)+SUMIF(AUG!$T$8:T$57,\"6\",AUG!$N$8:$N$57)+SUMIF(SEP!$T$8:T$57,\"6\",SEP!$N$8:$N$57)","v":0}]
["JUNE"]
["JULY",null,{"$f":"JUL!$Q$85","v":0},{"$f":"SUMIF(OCT!T$8:$T$57,\"7\",OCT!$N$8:$N$57)+SUMIF(NOV!$T$8:T$57,\"7\",NOV!$N$8:$N$57)+SUMIF(DEC!$T$8:T$57,\"7\",DEC!$N$8:$N$57)+SUMIF(JAN!$T$8:T$57,\"7\",JAN!$N$8:$N$57)+SUMIF(FEB!$T$8:T$57,\"7\",FEB!$N$8:$N$57)+SUMIF(MAR!$T$8:T$57,\"7\",MAR!$N$8:$N$57)+SUMIF(APR!$T$8:T$57,\"7\",APR!$N$8:$N$57)+SUMIF(MAY!$T$8:T$57,\"7\",MAY!$N$8:$N$57)+SUMIF(JUN!$T$8:T$57,\"7\",JUN!$N$8:$N$57)+SUMIF(JUL!$T$8:T$57,\"7\",JUL!$N$8:$N$57)+SUMIF(AUG!$T$8:T$57,\"7\",AUG!$N$8:$N$57)+SUMIF(SEP!$T$8:T$57,\"7\",SEP!$N$8:$N$57)","v":0}]
["JULY"]
["AUGUST",null,{"$f":"AUG!$Q$85","v":0},{"$f":"SUMIF(OCT!T$8:$T$57,\"8\",OCT!$N$8:$N$57)+SUMIF(NOV!$T$8:T$57,\"8\",NOV!$N$8:$N$57)+SUMIF(DEC!$T$8:T$57,\"8\",DEC!$N$8:$N$57)+SUMIF(JAN!$T$8:T$57,\"8\",JAN!$N$8:$N$57)+SUMIF(FEB!$T$8:T$57,\"8\",FEB!$N$8:$N$57)+SUMIF(MAR!$T$8:T$57,\"8\",MAR!$N$8:$N$57)+SUMIF(APR!$T$8:T$57,\"8\",APR!$N$8:$N$57)+SUMIF(MAY!$T$8:T$57,\"8\",MAY!$N$8:$N$57)+SUMIF(JUN!$T$8:T$57,\"8\",JUN!$N$8:$N$57)+SUMIF(JUL!$T$8:T$57,\"8\",JUL!$N$8:$N$57)+SUMIF(AUG!$T$8:T$57,\"8\",AUG!$N$8:$N$57)+SUMIF(SEP!$T$8:T$57,\"8\",SEP!$N$8:$N$57)","v":0}]
["AUGUST"]
["SEPTEMBER",null,{"$f":"SEP!$Q$85","v":0},{"$f":"SUMIF(OCT!T$8:$T$57,\"9\",OCT!$N$8:$N$57)+SUMIF(NOV!$T$8:T$57,\"9\",NOV!$N$8:$N$57)+SUMIF(DEC!$T$8:T$57,\"9\",DEC!$N$8:$N$57)+SUMIF(JAN!$T$8:T$57,\"9\",JAN!$N$8:$N$57)+SUMIF(FEB!$T$8:T$57,\"9\",FEB!$N$8:$N$57)+SUMIF(MAR!$T$8:T$57,\"9\",MAR!$N$8:$N$57)+SUMIF(APR!$T$8:T$57,\"9\",APR!$N$8:$N$57)+SUMIF(MAY!$T$8:T$57,\"9\",MAY!$N$8:$N$57)+SUMIF(JUN!$T$8:T$57,\"9\",JUN!$N$8:$N$57)+SUMIF(JUL!$T$8:T$57,\"9\",JUL!$N$8:$N$57)+SUMIF(AUG!$T$8:T$57,\"9\",AUG!$N$8:$N$57)+SUMIF(SEP!$T$8:T$57,\"9\",SEP!$N$8:$N$57)","v":0}]
["SEPTEMBER"]
["TOTALS:     ",null,{"$f":"SUM(C4:C27)","v":0},{"$f":"SUM(D4:D27)","v":0}]

{"sheet":"OCT","index":3,"n_rows":85,"n_cols":22,"rows_kept":85,"cut":false,"hidden":false,"merged":[[66,16,66,17],[67,14,67,15],[67,16,67,17],[61,16,61,17],[62,14,62,15],[62,16,62,17],[63,14,63,15],[63,16,63,17],[64,14,64,15],[64,16,64,17],[65,14,65,15],[65,16,65,17],[7,3,7,4],[8,3,8,4],[9,3,9,4],[10,3,10,4],[11,3,11,4],[12,3,12,4],[13,3,13,4],[14,3,14,4],[15,3,15,4],[36,3,36,4],[6,13,6,15],[3,13,4,16],[51,3,51,4],[20,3,20,4],[21,3,21,4],[22,3,22,4],[23,3,23,4],[24,3,24,4],[25,3,25,4],[16,3,16,4],[17,3,17,4],[18,3,18,4],[19,3,19,4],[37,3,37,4],[26,3,26,4],[27,3,27,4],[28,3,28,4],[29,3,29,4],[30,3,30,4],[49,3,49,4],[50,3,50,4],[31,3,31,4],[32,3,32,4],[0,0,1,18],[2,0,2,5],[2,16,2,17],[2,11,2,12],[2,13,2,14],[3,18,5,18],[3,2,4,5],[3,0,5,0],[3,7,4,11],[5,3,5,4],[2,7,2,8],[2,9,2,10],[84,14,84,15],[38,3,38,4],[39,3,39,4],[40,3,40,4],[41,3,41,4],[42,3,42,4],[43,3,43,4],[57,0,57,18],[58,16,58,17],[59,16,59,17],[56,3,56,4],[55,3,55,4],[44,3,44,4],[45,3,45,4],[46,3,46,4],[47,3,47,4],[48,3,48,4],[58,14,58,15],[78,14,78,15],[82,16,82,17],[78,16,78,17],[53,3,53,4],[54,3,54,4],[65,5,65,7],[60,14,60,15],[59,14,59,15],[68,14,68,15],[69,14,69,15],[70,14,70,15],[71,14,71,15],[72,14,72,15],[73,14,73,15],[74,14,74,15],[61,14,61,15],[66,14,66,15],[82,14,82,15],[81,14,81,15],[80,14,80,15],[79,14,79,15],[75,5,75,7],[76,5,76,7],[77,5,77,7],[78,5,78,7],[79,5,79,7],[82,8,82,9],[76,10,76,11],[77,10,77,11],[78,10,78,11],[79,10,79,11],[80,10,80,11],[81,10,81,11],[82,10,82,11],[33,3,33,4],[34,3,34,4],[35,3,35,4],[52,3,52,4],[83,16,83,17],[60,16,60,17],[79,16,79,17],[80,16,80,17],[81,16,81,17],[68,16,68,17],[69,16,69,17],[70,16,70,17],[71,16,71,17],[72,16,72,17],[73,16,73,17],[74,16,74,17],[75,16,75,17],[76,16,76,17],[77,16,77,17],[75,14,75,15],[76,14,76,15],[77,14,77,15],[83,14,83,15],[82,5,82,7],[83,5,83,7],[58,5,58,7],[66,5,66,7],[67,5,67,7],[68,5,68,7],[69,5,69,7],[70,5,70,7],[71,5,71,7],[72,5,72,7],[73,5,73,7],[64,5,64,7],[63,5,63,7],[62,5,62,7],[61,5,61,7],[60,5,60,7],[59,5,59,7],[74,5,74,7],[67,8,67,9],[68,8,68,9],[69,8,69,9],[70,8,70,9],[71,8,71,9],[72,8,72,9],[73,8,73,9],[80,5,80,7],[81,5,81,7],[74,8,74,9],[75,8,75,9],[76,8,76,9],[77,8,77,9],[78,8,78,9],[79,8,79,9],[80,8,80,9],[81,8,81,9],[83,8,83,9],[5,9,5,10],[7,9,7,10],[8,9,8,10],[9,9,9,10],[10,9,10,10],[11,9,11,10],[12,9,12,10],[13,9,13,10],[14,9,14,10],[15,9,15,10],[16,9,16,10],[17,9,17,10],[18,9,18,10],[19,9,19,10],[20,9,20,10],[21,9,21,10],[22,9,22,10],[23,9,23,10],[24,9,24,10],[25,9,25,10],[26,9,26,10],[27,9,27,10],[28,9,28,10],[29,9,29,10],[30,9,30,10],[31,9,31,10],[32,9,32,10],[33,9,33,10],[34,9,34,10],[35,9,35,10],[36,9,36,10],[37,9,37,10],[38,9,38,10],[39,9,39,10],[40,9,40,10],[41,9,41,10],[42,9,42,10],[43,9,43,10],[44,9,44,10],[45,9,45,10],[46,9,46,10],[47,9,47,10],[48,9,48,10],[49,9,49,10],[50,9,50,10],[51,9,51,10],[52,9,52,10],[53,9,53,10],[54,9,54,10],[55,9,55,10],[56,9,56,10],[59,10,59,11],[60,10,60,11],[61,10,61,11],[62,10,62,11],[63,10,63,11],[64,10,64,11],[65,10,65,11],[66,10,66,11],[59,8,59,9],[58,8,58,9],[58,10,58,11],[60,8,60,9],[61,8,61,9],[62,8,62,9],[63,8,63,9],[64,8,64,9],[65,8,65,9],[66,8,66,9],[83,10,83,11],[67,10,67,11],[68,10,68,11],[69,10,69,11],[70,10,70,11],[71,10,71,11],[72,10,72,11],[73,10,73,11],[74,10,74,11],[75,10,75,11]]}
["CARDHOLDER TRANSACTION LOG"]
[]
[null,null,null,null,null,null,null,{"$f":"'FUNDING SHEET'!$K$3","v":"CARDHOLDER NAME:"},null,{"$f":"'FUNDING SHEET'!$L$3","v":0},null,"CARD ACCOUNT NUMBER:",null,"XXXX-XXXX-XXXX-",null,{"$f":"'FUNDING SHEET'!$L$2","v":0},"FISCAL YEAR:",null,{"$f":"'FUNDING SHEET'!$L$1","v":0}]
["Log Number",null,"DATE",null,null,null,null,"PURCHASE DETAIL",null,null,null,null,null,"AMOUNT",null,null,null,null,"Account                     (see below)"]
[]
[null,null,"Date of Order","Date Received",null,"Statement Date",null,"Budget Object Class   (BOC)","VERNDOR           REQ # / CONTACT  (optional)","Item(s) purchased",null,"Vendor",null,"Amount","Paid by Conv. Check","Check Fee Amount (1.7%)","Total to Date"]
[null,null,null,null,null,null,null,null,null,null,null,null,null,"YEAR TO DATE EXPENDITURES",null,null,0,null,null,null,null,"ACCOUNT NUMBER"]
[1,null,null,null,null,null,null,{"$f":"IF(S8=$A$60,RIGHT($K$60,5),IF(S8=$A$61,RIGHT($K$61,5),IF(S8=$A$62,RIGHT($K$62,5),IF(S8=$A$63,RIGHT($K$63,5),IF(S8=$A$64,RIGHT($K$64,5),IF(S8=$A$65,RIGHT($K$65,5),IF(S8=$A$66,RIGHT($K$66,5),IF(S8=$A$67,RIGHT($K$67,5),IF(S8=$A$68,RIGHT($K$68,5),IF(S8=$A$69,RIGHT($K$69,5),IF(S8=$A$70,RIGHT($K$70,5),IF(S8=$A$71,RIGHT($K$71,5),IF(S8=$A$72,RIGHT($K$72,5),IF(S8=$A$73,RIGHT($K$73,5),IF(S8=$A$74,RIGHT($K$74,5),IF(S8=$A$75,RIGHT($K$75,5),IF(S8=$A$76,RIGHT($K$76,5),IF(S8=$A$77,RIGHT($K$77,5),IF(S8=$A$78,RIGHT($K$78,5),IF(S8=$A$79,RIGHT($K$79,5),IF(S8=$A$80,RIGHT($K$80,5),IF(S8=$A$81,RIGHT($K$81,5),IF(S8=$A$82,RIGHT($K$82,5),IF(S8=$A$83,RIGHT($K$83,5),IF(S8=$A$84,RIGHT($K$84,5),\"\")))))))))))))))))))))))))","v":""},null,null,null,null,null,null,null,{"$f":"IF(C8=\"\",\"\",IF(O8=\"Y\",N8*0.017,0))","v":""},{"$f":"IF(N8=\"\",\"\",Q7+N8+P8)","v":""},null,null,{"$f":"IF(F8=\"\",\"\",MONTH(F8))","v":""},null,{"$f":"IF('FUNDING SHEET'!A4=\"\",\"\",A60&\"  \"&'FUNDING SHEET'!D4&\" \"&'FUNDING SHEET'!E4&\"  \"&'FUNDING SHEET'!F4)","v":""}]
[2,null,null,null,null,null,null,{"$f":"IF(S9=$A$60,RIGHT($K$60,5),IF(S9=$A$61,RIGHT($K$61,5),IF(S9=$A$62,RIGHT($K$62,5),IF(S9=$A$63,RIGHT($K$63,5),IF(S9=$A$64,RIGHT($K$64,5),IF(S9=$A$65,RIGHT($K$65,5),IF(S9=$A$66,RIGHT($K$66,5),IF(S9=$A$67,RIGHT($K$67,5),IF(S9=$A$68,RIGHT($K$68,5),IF(S9=$A$69,RIGHT($K$69,5),IF(S9=$A$70,RIGHT($K$70,5),IF(S9=$A$71,RIGHT($K$71,5),IF(S9=$A$72,RIGHT($K$72,5),IF(S9=$A$73,RIGHT($K$73,5),IF(S9=$A$74,RIGHT($K$74,5),IF(S9=$A$75,RIGHT($K$75,5),IF(S9=$A$76,RIGHT($K$76,5),IF(S9=$A$77,RIGHT($K$77,5),IF(S9=$A$78,RIGHT($K$78,5),IF(S9=$A$79,RIGHT($K$79,5),IF(S9=$A$80,RIGHT($K$80,5),IF(S9=$A$81,RIGHT($K$81,5),IF(S9=$A$82,RIGHT($K$82,5),IF(S9=$A$83,RIGHT($K$83,5),IF(S9=$A$84,RIGHT($K$84,5),\"\")))))))))))))))))))))))))","v":""},null,null,null,null,null,null,null,{"$f":"IF(C9=\"\",\"\",IF(O9=\"Y\",N9*0.017,0))","v":""},{"$f":"IF(N9=\"\",\"\",Q8+N9+P9)","v":""},null,null,{"$f":"IF(F9=\"\",\"\",MONTH(F9))","v":""},null,{"$f":"IF('FUNDING SHEET'!A5=\"\",\"\",A61&\"  \"&'FUNDING SHEET'!D5&\" \"&'FUNDING SHEET'!E5&\"  \"&'FUNDING SHEET'!F5)","v":""}]
[3,null,null,null,null,null,null,"",null,null,null,null,null,null,null,"",{"$f":"IF(N10=\"\",\"\",Q9+N10+P10)","v":""},null,null,"",null,{"$f":"IF('FUNDING SHEET'!A6=\"\",\"\",A62&\"  \"&'FUNDING SHEET'!D6&\" \"&'FUNDING SHEET'!E6&\"  \"&'FUNDING SHEET'!F6)","v":""}]
[4,null,null,null,null,null,null,"",null,null,null,null,null,null,null,"","",null,null,"",null,{"$f":"IF('FUNDING SHEET'!A7=\"\",\"\",A63&\"  \"&'FUNDING SHEET'!D7&\" \"&'FUNDING SHEET'!E7&\"  \"&'FUNDING SHEET'!F7)","v":""}]
[5,null,null,null,null,null,null,"",null,null,null,null,null,null,null,"","",null,null,"",null,{"$f":"IF('FUNDING SHEET'!A8=\"\",\"\",A64&\"  \"&'FUNDING SHEET'!D8&\" \"&'FUNDING SHEET'!E8&\"  \"&'FUNDING SHEET'!F8)","v":""}]
[6,null,null,null,null,null,null,"",null,null,null,null,null,null,null,"","",null,null,"",null,{"$f":"IF('FUNDING SHEET'!A9=\"\",\"\",A65&\"  \"&'FUNDING SHEET'!D9&\" \"&'FUNDING SHEET'!E9&\"  \"&'FUNDING SHEET'!F9)","v":""}]
[7,null,null,null,null,null,null,"",null,null,null,null,null,null,null,"","",null,null,"",null,{"$f":"IF('FUNDING SHEET'!A10=\"\",\"\",A66&\"  \"&'FUNDING SHEET'!D10&\" \"&'FUNDING SHEET'!E10&\"  \"&'FUNDING SHEET'!F10)","v":""}]
[8,null,null,null,null,null,null,"",null,null,null,null,null,null,null,"","",null,null,"",null,{"$f":"IF('FUNDING SHEET'!A11=\"\",\"\",A67&\"  \"&'FUNDING SHEET'!D11&\" \"&'FUNDING SHEET'!E11&\"  \"&'FUNDING SHEET'!F11)","v":""}]
[9,null,null,null,null,null,null,"",null,null,null,null,null,null,null,"","",null,null,"",null,{"$f":"IF('FUNDING SHEET'!A12=\"\",\"\",A68&\"  \"&'FUNDING SHEET'!D12&\" \"&'FUNDING SHEET'!E12&\"  \"&'FUNDING SHEET'!F12)","v":""}]
[10,null,null,null,null,null,null,"",null,null,null,null,null,null,null,"","",null,null,"",null,{"$f":"IF('FUNDING SHEET'!A13=\"\",\"\",A69&\"  \"&'FUNDING SHEET'!D13&\" \"&'FUNDING SHEET'!E13&\"  \"&'FUNDING SHEET'!F13)","v":""}]
[11,null,null,null,null,null,null,"",null,null,null,null,null,null,null,"","",null,null,"",null,{"$f":"IF('FUNDING SHEET'!A14=\"\",\"\",A70&\"  \"&'FUNDING SHEET'!D14&\" \"&'FUNDING SHEET'!E14&\"  \"&'FUNDING SHEET'!F14)","v":""}]
[12,null,null,null,null,null,null,"",null,null,null,null,null,null,null,"","",null,null,"",null,{"$f":"IF('FUNDING SHEET'!A15=\"\",\"\",A71&\"  \"&'FUNDING SHEET'!D15&\" \"&'FUNDING SHEET'!E15&\"  \"&'FUNDING SHEET'!F15)","v":""}]
[13,null,null,null,null,null,null,"",null,null,null,null,null,null,null,"","",null,null,"",null,{"$f":"IF('FUNDING SHEET'!A16=\"\",\"\",A72&\"  \"&'FUNDING SHEET'!D16&\" \"&'FUNDING SHEET'!E16&\"  \"&'FUNDING SHEET'!F16)","v":""}]
[14,null,null,null,null,null,null,"",null,null,null,null,null,null,null,"","",null,null,"",null,{"$f":"IF('FUNDING SHEET'!A17=\"\",\"\",A73&\"  \"&'FUNDING SHEET'!D17&\" \"&'FUNDING SHEET'!E17&\"  \"&'FUNDING SHEET'!F17)","v":""}]
[15,null,null,null,null,null,null,"",null,null,null,null,null,null,null,"","",null,null,"",null,{"$f":"IF('FUNDING SHEET'!A18=\"\",\"\",A74&\"  \"&'FUNDING SHEET'!D18&\" \"&'FUNDING SHEET'!E18&\"  \"&'FUNDING SHEET'!F18)","v":""}]
[16,null,null,null,null,null,null,"",null,null,null,null,null,null,null,"","",null,null,"",null,{"$f":"IF('FUNDING SHEET'!A19=\"\",\"\",A75&\"  \"&'FUNDING SHEET'!D19&\" \"&'FUNDING SHEET'!E19&\"  \"&'FUNDING SHEET'!F19)","v":""}]
[17,null,null,null,null,null,null,"",null,null,null,null,null,null,null,"","",null,null,"",null,{"$f":"IF('FUNDING SHEET'!A20=\"\",\"\",A76&\"  \"&'FUNDING SHEET'!D20&\" \"&'FUNDING SHEET'!E20&\"  \"&'FUNDING SHEET'!F20)","v":""}]
[18,null,null,null,null,null,null,"",null,null,null,null,null,null,null,"","",null,null,"",null,{"$f":"IF('FUNDING SHEET'!A21=\"\",\"\",A77&\"  \"&'FUNDING SHEET'!D21&\" \"&'FUNDING SHEET'!E21&\"  \"&'FUNDING SHEET'!F21)","v":""}]
[19,null,null,null,null,null,null,"",null,null,null,null,null,null,null,"","",null,null,"",null,{"$f":"IF('FUNDING SHEET'!A22=\"\",\"\",A78&\"  \"&'FUNDING SHEET'!D22&\" \"&'FUNDING SHEET'!E22&\"  \"&'FUNDING SHEET'!F22)","v":""}]
[20,null,null,null,null,null,null,"",null,null,null,null,null,null,null,"","",null,null,"",null,{"$f":"IF('FUNDING SHEET'!A23=\"\",\"\",A79&\"  \"&'FUNDING SHEET'!D23&\" \"&'FUNDING SHEET'!E23&\"  \"&'FUNDING SHEET'!F23)","v":""}]
[21,null,null,null,null,null,null,"",null,null,null,null,null,null,null,"","",null,null,"",null,{"$f":"IF('FUNDING SHEET'!A24=\"\",\"\",A80&\"  \"&'FUNDING SHEET'!D24&\" \"&'FUNDING SHEET'!E24&\"  \"&'FUNDING SHEET'!F24)","v":""}]
[22,null,null,null,null,null,null,"",null,null,null,null,null,null,null,"","",null,null,"",null,{"$f":"IF('FUNDING SHEET'!A25=\"\",\"\",A81&\"  \"&'FUNDING SHEET'!D25&\" \"&'FUNDING SHEET'!E25&\"  \"&'FUNDING SHEET'!F25)","v":""}]
[23,null,null,null,null,null,null,"",null,null,null,null,null,null,null,"","",null,null,"",null,{"$f":"IF('FUNDING SHEET'!A26=\"\",\"\",A82&\"  \"&'FUNDING SHEET'!D26&\" \"&'FUNDING SHEET'!E26&\"  \"&'FUNDING SHEET'!F26)","v":""}]
[24,null,null,null,null,null,null,"",null,null,null,null,null,null,null,"","",null,null,"",null,{"$f":"IF('FUNDING SHEET'!A27=\"\",\"\",A83&\"  \"&'FUNDING SHEET'!D27&\" \"&'FUNDING SHEET'!E27&\"  \"&'FUNDING SHEET'!F27)","v":""}]
[25,null,null,null,null,null,null,"",null,null,null,null,null,null,null,"","",null,null,"",null,{"$f":"IF('FUNDING SHEET'!A28=\"\",\"\",A84&\"  \"&'FUNDING SHEET'!D28&\" \"&'FUNDING SHEET'!E28&\"  \"&'FUNDING SHEET'!F28)","v":""}]
[26,null,null,null,null,null,null,"",null,null,null,null,null,null,null,"","",null,null,""]
[27,null,null,null,null,null,null,"",null,null,null,null,null,null,null,"","",null,null,""]
[28,null,null,null,null,null,null,"",null,null,null,null,null,null,null,"","",null,null,""]
[29,null,null,null,null,null,null,"",null,null,null,null,null,null,null,"","",null,null,""]
[30,null,null,null,null,null,null,"",null,null,null,null,null,null,null,"","",null,null,""]
[31,null,null,null,null,null,null,"",null,null,null,null,null,null,null,"","",null,null,""]
[32,null,null,null,null,null,null,"",null,null,null,null,null,null,null,"","",null,null,""]
[33,null,null,null,null,null,null,"",null,null,null,null,null,null,null,"","",null,null,""]
[34,null,null,null,null,null,null,"",null,null,null,null,null,null,null,"","",null,null,""]
[35,null,null,null,null,null,null,"",null,null,null,null,null,null,null,"","",null,null,""]
[36,null,null,null,null,null,null,"",null,null,null,null,null,null,null,"","",null,null,""]
[37,null,null,null,null,null,null,"",null,null,null,null,null,null,null,"","",null,null,""]
[38,null,null,null,null,null,null,"",null,null,null,null,null,null,null,"","",null,null,""]
[39,null,null,null,null,null,null,"",null,null,null,null,null,null,null,"","",null,null,""]
[40,null,null,null,null,null,null,"",null,null,null,null,null,null,null,"","",null,null,""]
[41,null,null,null,null,null,null,"",null,null,null,null,null,null,null,"","",null,null,""]
[42,null,null,null,null,null,null,"",null,null,null,null,null,null,null,"","",null,null,""]
[43,null,null,null,null,null,null,"",null,null,null,null,null,null,null,"","",null,null,""]
[44,null,null,null,null,null,null,"",null,null,null,null,null,null,null,"","",null,null,""]
[45,null,null,null,null,null,null,"",null,null,null,null,null,null,null,"","",null,null,""]
[46,null,null,null,null,null,null,"",null,null,null,null,null,null,null,"","",null,null,""]
[47,null,null,null,null,null,null,"",null,null,null,null,null,null,null,"","",null,null,""]
[48,null,null,null,null,null,null,"",null,null,null,null,null,null,null,"","",null,null,""]
[49,null,null,null,null,null,null,"",null,null,null,null,null,null,null,"","",null,null,""]
[50,null,null,null,null,null,null,"",null,null,null,null,null,null,null,"","",null,null,""]
["ACCOUNT INFORMATION"]
["Line #",null,"Date",null,"PR #","PROJECT",null,null,"LINE ITEM NOMENCLATURE",null,"ACCOUNT NUMBER (WITH BOC)",null,null,"PR Funding","Previous Expenditures",null,"Current Expenditures",null,"Remaining Funds"]
[1,null,{"$f":"IF('FUNDING SHEET'!A4=\"\",\"\",'FUNDING SHEET'!A4)","v":""},null,{"$f":"IF('FUNDING SHEET'!B4=\"\",\"\",'FUNDING SHEET'!B4)","v":""},null,null,null,{"$f":"IF('FUNDING SHEET'!C4=\"\",\"\",'FUNDING SHEET'!C4)","v":""},null,{"$f":"'FUNDING SHEET'!J4","v":"    "},null,null,{"$f":"SUMIF('FUNDING SHEET'!$J$4:$J$28,K60,'FUNDING SHEET'!$I$4:$I$28)+SUMIF('FUNDING SHEET'!$J$30:$J$229,K60,'FUNDING SHEET'!$H$30:$H$229)","v":0},0,null,{"$f":"SUMIF($S$8:$S$57,A60,$N$8:$N$57)+SUMIF($S$8:$S$57,A60,$P$8:$P$57)","v":0},null,{"$f":"N60-O60-Q60","v":0}]
[2,null,{"$f":"IF('FUNDING SHEET'!A5=\"\",\"\",'FUNDING SHEET'!A5)","v":""},null,{"$f":"IF('FUNDING SHEET'!B5=\"\",\"\",'FUNDING SHEET'!B5)","v":""},null,null,null,{"$f":"IF('FUNDING SHEET'!C5=\"\",\"\",'FUNDING SHEET'!C5)","v":""},null,{"$f":"'FUNDING SHEET'!J5","v":"    "},null,null,{"$f":"SUMIF('FUNDING SHEET'!$J$4:$J$28,K61,'FUNDING SHEET'!$I$4:$I$28)+SUMIF('FUNDING SHEET'!$J$30:$J$229,K61,'FUNDING SHEET'!$H$30:$H$229)","v":0},0,null,0,null,{"$f":"N61-O61-Q61","v":0}]
[3,null,{"$f":"IF('FUNDING SHEET'!A6=\"\",\"\",'FUNDING SHEET'!A6)","v":""},null,{"$f":"IF('FUNDING SHEET'!B6=\"\",\"\",'FUNDING SHEET'!B6)","v":""},null,null,null,{"$f":"IF('FUNDING SHEET'!C6=\"\",\"\",'FUNDING SHEET'!C6)","v":""},null,{"$f":"'FUNDING SHEET'!J6","v":"    "},null,null,{"$f":"SUMIF('FUNDING SHEET'!$J$4:$J$28,K62,'FUNDING SHEET'!$I$4:$I$28)+SUMIF('FUNDING SHEET'!$J$30:$J$229,K62,'FUNDING SHEET'!$H$30:$H$229)","v":0},0,null,0,null,0]
[4,null,{"$f":"IF('FUNDING SHEET'!A7=\"\",\"\",'FUNDING SHEET'!A7)","v":""},null,{"$f":"IF('FUNDING SHEET'!B7=\"\",\"\",'FUNDING SHEET'!B7)","v":""},null,null,null,{"$f":"IF('FUNDING SHEET'!C7=\"\",\"\",'FUNDING SHEET'!C7)","v":""},null,{"$f":"'FUNDING SHEET'!J7","v":"    "},null,null,{"$f":"SUMIF('FUNDING SHEET'!$J$4:$J$28,K63,'FUNDING SHEET'!$I$4:$I$28)+SUMIF('FUNDING SHEET'!$J$30:$J$229,K63,'FUNDING SHEET'!$H$30:$H$229)","v":0},0,null,0,null,0]
[5,null,{"$f":"IF('FUNDING SHEET'!A8=\"\",\"\",'FUNDING SHEET'!A8)","v":""},null,{"$f":"IF('FUNDING SHEET'!B8=\"\",\"\",'FUNDING SHEET'!B8)","v":""},null,null,null,{"$f":"IF('FUNDING SHEET'!C8=\"\",\"\",'FUNDING SHEET'!C8)","v":""},null,{"$f":"'FUNDING SHEET'!J8","v":"    "},null,null,{"$f":"SUMIF('FUNDING SHEET'!$J$4:$J$28,K64,'FUNDING SHEET'!$I$4:$I$28)+SUMIF('FUNDING SHEET'!$J$30:$J$229,K64,'FUNDING SHEET'!$H$30:$H$229)","v":0},0,null,0,null,0]
[6,null,{"$f":"IF('FUNDING SHEET'!A9=\"\",\"\",'FUNDING SHEET'!A9)","v":""},null,{"$f":"IF('FUNDING SHEET'!B9=\"\",\"\",'FUNDING SHEET'!B9)","v":""},null,null,null,{"$f":"IF('FUNDING SHEET'!C9=\"\",\"\",'FUNDING SHEET'!C9)","v":""},null,{"$f":"'FUNDING SHEET'!J9","v":"    "},null,null,{"$f":"SUMIF('FUNDING SHEET'!$J$4:$J$28,K65,'FUNDING SHEET'!$I$4:$I$28)+SUMIF('FUNDING SHEET'!$J$30:$J$229,K65,'FUNDING SHEET'!$H$30:$H$229)","v":0},0,null,0,null,0]
[7,null,{"$f":"IF('FUNDING SHEET'!A10=\"\",\"\",'FUNDING SHEET'!A10)","v":""},null,{"$f":"IF('FUNDING SHEET'!B10=\"\",\"\",'FUNDING SHEET'!B10)","v":""},null,null,null,{"$f":"IF('FUNDING SHEET'!C10=\"\",\"\",'FUNDING SHEET'!C10)","v":""},null,{"$f":"'FUNDING SHEET'!J10","v":"    "},null,null,{"$f":"SUMIF('FUNDING SHEET'!$J$4:$J$28,K66,'FUNDING SHEET'!$I$4:$I$28)+SUMIF('FUNDING SHEET'!$J$30:$J$229,K66,'FUNDING SHEET'!$H$30:$H$229)","v":0},0,null,0,null,0]
[8,null,{"$f":"IF('FUNDING SHEET'!A11=\"\",\"\",'FUNDING SHEET'!A11)","v":""},null,{"$f":"IF('FUNDING SHEET'!B11=\"\",\"\",'FUNDING SHEET'!B11)","v":""},null,null,null,{"$f":"IF('FUNDING SHEET'!C11=\"\",\"\",'FUNDING SHEET'!C11)","v":""},null,{"$f":"'FUNDING SHEET'!J11","v":"    "},null,null,{"$f":"SUMIF('FUNDING SHEET'!$J$4:$J$28,K67,'FUNDING SHEET'!$I$4:$I$28)+SUMIF('FUNDING SHEET'!$J$30:$J$229,K67,'FUNDING SHEET'!$H$30:$H$229)","v":0},0,null,0,null,0]
[9,null,{"$f":"IF('FUNDING SHEET'!A12=\"\",\"\",'FUNDING SHEET'!A12)","v":""},null,{"$f":"IF('FUNDING SHEET'!B12=\"\",\"\",'FUNDING SHEET'!B12)","v":""},null,null,null,{"$f":"IF('FUNDING SHEET'!C12=\"\",\"\",'FUNDING SHEET'!C12)","v":""},null,{"$f":"'FUNDING SHEET'!J12","v":"    "},null,null,{"$f":"SUMIF('FUNDING SHEET'!$J$4:$J$28,K68,'FUNDING SHEET'!$I$4:$I$28)+SUMIF('FUNDING SHEET'!$J$30:$J$229,K68,'FUNDING SHEET'!$H$30:$H$229)","v":0},0,null,0,null,0]
[10,null,{"$f":"IF('FUNDING SHEET'!A13=\"\",\"\",'FUNDING SHEET'!A13)","v":""},null,{"$f":"IF('FUNDING SHEET'!B13=\"\",\"\",'FUNDING SHEET'!B13)","v":""},null,null,null,{"$f":"IF('FUNDING SHEET'!C13=\"\",\"\",'FUNDING SHEET'!C13)","v":""},null,{"$f":"'FUNDING SHEET'!J13","v":"    "},null,null,{"$f":"SUMIF('FUNDING SHEET'!$J$4:$J$28,K69,'FUNDING SHEET'!$I$4:$I$28)+SUMIF('FUNDING SHEET'!$J$30:$J$229,K69,'FUNDING SHEET'!$H$30:$H$229)","v":0},0,null,0,null,0]
[11,null,{"$f":"IF('FUNDING SHEET'!A14=\"\",\"\",'FUNDING SHEET'!A14)","v":""},null,{"$f":"IF('FUNDING SHEET'!B14=\"\",\"\",'FUNDING SHEET'!B14)","v":""},null,null,null,{"$f":"IF('FUNDING SHEET'!C14=\"\",\"\",'FUNDING SHEET'!C14)","v":""},null,{"$f":"'FUNDING SHEET'!J14","v":"    "},null,null,{"$f":"SUMIF('FUNDING SHEET'!$J$4:$J$28,K70,'FUNDING SHEET'!$I$4:$I$28)+SUMIF('FUNDING SHEET'!$J$30:$J$229,K70,'FUNDING SHEET'!$H$30:$H$229)","v":0},0,null,0,null,0]
[12,null,{"$f":"IF('FUNDING SHEET'!A15=\"\",\"\",'FUNDING SHEET'!A15)","v":""},null,{"$f":"IF('FUNDING SHEET'!B15=\"\",\"\",'FUNDING SHEET'!B15)","v":""},null,null,null,{"$f":"IF('FUNDING SHEET'!C15=\"\",\"\",'FUNDING SHEET'!C15)","v":""},null,{"$f":"'FUNDING SHEET'!J15","v":"    "},null,null,{"$f":"SUMIF('FUNDING SHEET'!$J$4:$J$28,K71,'FUNDING SHEET'!$I$4:$I$28)+SUMIF('FUNDING SHEET'!$J$30:$J$229,K71,'FUNDING SHEET'!$H$30:$H$229)","v":0},0,null,0,null,0]
[13,null,{"$f":"IF('FUNDING SHEET'!A16=\"\",\"\",'FUNDING SHEET'!A16)","v":""},null,{"$f":"IF('FUNDING SHEET'!B16=\"\",\"\",'FUNDING SHEET'!B16)","v":""},null,null,null,{"$f":"IF('FUNDING SHEET'!C16=\"\",\"\",'FUNDING SHEET'!C16)","v":""},null,{"$f":"'FUNDING SHEET'!J16","v":"    "},null,null,{"$f":"SUMIF('FUNDING SHEET'!$J$4:$J$28,K72,'FUNDING SHEET'!$I$4:$I$28)+SUMIF('FUNDING SHEET'!$J$30:$J$229,K72,'FUNDING SHEET'!$H$30:$H$229)","v":0},0,null,0,null,0]
[14,null,{"$f":"IF('FUNDING SHEET'!A17=\"\",\"\",'FUNDING SHEET'!A17)","v":""},null,{"$f":"IF('FUNDING SHEET'!B17=\"\",\"\",'FUNDING SHEET'!B17)","v":""},null,null,null,{"$f":"IF('FUNDING SHEET'!C17=\"\",\"\",'FUNDING SHEET'!C17)","v":""},null,{"$f":"'FUNDING SHEET'!J17","v":"    "},null,null,{"$f":"SUMIF('FUNDING SHEET'!$J$4:$J$28,K73,'FUNDING SHEET'!$I$4:$I$28)+SUMIF('FUNDING SHEET'!$J$30:$J$229,K73,'FUNDING SHEET'!$H$30:$H$229)","v":0},0,null,0,null,0]
[15,null,{"$f":"IF('FUNDING SHEET'!A18=\"\",\"\",'FUNDING SHEET'!A18)","v":""},null,{"$f":"IF('FUNDING SHEET'!B18=\"\",\"\",'FUNDING SHEET'!B18)","v":""},null,null,null,{"$f":"IF('FUNDING SHEET'!C18=\"\",\"\",'FUNDING SHEET'!C18)","v":""},null,{"$f":"'FUNDING SHEET'!J18","v":"    "},null,null,{"$f":"SUMIF('FUNDING SHEET'!$J$4:$J$28,K74,'FUNDING SHEET'!$I$4:$I$28)+SUMIF('FUNDING SHEET'!$J$30:$J$229,K74,'FUNDING SHEET'!$H$30:$H$229)","v":0},0,null,0,null,0]
[16,null,{"$f":"IF('FUNDING SHEET'!A19=\"\",\"\",'FUNDING SHEET'!A19)","v":""},null,{"$f":"IF('FUNDING SHEET'!B19=\"\",\"\",'FUNDING SHEET'!B19)","v":""},null,null,null,{"$f":"IF('FUNDING SHEET'!C19=\"\",\"\",'FUNDING SHEET'!C19)","v":""},null,{"$f":"'FUNDING SHEET'!J19","v":"    "},null,null,{"$f":"SUMIF('FUNDING SHEET'!$J$4:$J$28,K75,'FUNDING SHEET'!$I$4:$I$28)+SUMIF('FUNDING SHEET'!$J$30:$J$229,K75,'FUNDING SHEET'!$H$30:$H$229)","v":0},0,null,0,null,0]
[17,null,{"$f":"IF('FUNDING SHEET'!A20=\"\",\"\",'FUNDING SHEET'!A20)","v":""},null,{"$f":"IF('FUNDING SHEET'!B20=\"\",\"\",'FUNDING SHEET'!B20)","v":""},null,null,null,{"$f":"IF('FUNDING SHEET'!C20=\"\",\"\",'FUNDING SHEET'!C20)","v":""},null,{"$f":"'FUNDING SHEET'!J20","v":"    "},null,null,{"$f":"SUMIF('FUNDING SHEET'!$J$4:$J$28,K76,'FUNDING SHEET'!$I$4:$I$28)+SUMIF('FUNDING SHEET'!$J$30:$J$229,K76,'FUNDING SHEET'!$H$30:$H$229)","v":0},0,null,0,null,0]
[18,null,{"$f":"IF('FUNDING SHEET'!A21=\"\",\"\",'FUNDING SHEET'!A21)","v":""},null,{"$f":"IF('FUNDING SHEET'!B21=\"\",\"\",'FUNDING SHEET'!B21)","v":""},null,null,null,{"$f":"IF('FUNDING SHEET'!C21=\"\",\"\",'FUNDING SHEET'!C21)","v":""},null,{"$f":"'FUNDING SHEET'!J21","v":"    "},null,null,{"$f":"SUMIF('FUNDING SHEET'!$J$4:$J$28,K77,'FUNDING SHEET'!$I$4:$I$28)+SUMIF('FUNDING SHEET'!$J$30:$J$229,K77,'FUNDING SHEET'!$H$30:$H$229)","v":0},0,null,0,null,0]
[19,null,{"$f":"IF('FUNDING SHEET'!A22=\"\",\"\",'FUNDING SHEET'!A22)","v":""},null,{"$f":"IF('FUNDING SHEET'!B22=\"\",\"\",'FUNDING SHEET'!B22)","v":""},null,null,null,{"$f":"IF('FUNDING SHEET'!C22=\"\",\"\",'FUNDING SHEET'!C22)","v":""},null,{"$f":"'FUNDING SHEET'!J22","v":"    "},null,null,{"$f":"SUMIF('FUNDING SHEET'!$J$4:$J$28,K78,'FUNDING SHEET'!$I$4:$I$28)+SUMIF('FUNDING SHEET'!$J$30:$J$229,K78,'FUNDING SHEET'!$H$30:$H$229)","v":0},0,null,0,null,0]
[20,null,{"$f":"IF('FUNDING SHEET'!A23=\"\",\"\",'FUNDING SHEET'!A23)","v":""},null,{"$f":"IF('FUNDING SHEET'!B23=\"\",\"\",'FUNDING SHEET'!B23)","v":""},null,null,null,{"$f":"IF('FUNDING SHEET'!C23=\"\",\"\",'FUNDING SHEET'!C23)","v":""},null,{"$f":"'FUNDING SHEET'!J23","v":"    "},null,null,{"$f":"SUMIF('FUNDING SHEET'!$J$4:$J$28,K79,'FUNDING SHEET'!$I$4:$I$28)+SUMIF('FUNDING SHEET'!$J$30:$J$229,K79,'FUNDING SHEET'!$H$30:$H$229)","v":0},0,null,0,null,0]
[21,null,{"$f":"IF('FUNDING SHEET'!A24=\"\",\"\",'FUNDING SHEET'!A24)","v":""},null,{"$f":"IF('FUNDING SHEET'!B24=\"\",\"\",'FUNDING SHEET'!B24)","v":""},null,null,null,{"$f":"IF('FUNDING SHEET'!C24=\"\",\"\",'FUNDING SHEET'!C24)","v":""},null,{"$f":"'FUNDING SHEET'!J24","v":"    "},null,null,{"$f":"SUMIF('FUNDING SHEET'!$J$4:$J$28,K80,'FUNDING SHEET'!$I$4:$I$28)+SUMIF('FUNDING SHEET'!$J$30:$J$229,K80,'FUNDING SHEET'!$H$30:$H$229)","v":0},0,null,0,null,0]
[22,null,{"$f":"IF('FUNDING SHEET'!A25=\"\",\"\",'FUNDING SHEET'!A25)","v":""},null,{"$f":"IF('FUNDING SHEET'!B25=\"\",\"\",'FUNDING SHEET'!B25)","v":""},null,null,null,{"$f":"IF('FUNDING SHEET'!C25=\"\",\"\",'FUNDING SHEET'!C25)","v":""},null,{"$f":"'FUNDING SHEET'!J25","v":"    "},null,null,{"$f":"SUMIF('FUNDING SHEET'!$J$4:$J$28,K81,'FUNDING SHEET'!$I$4:$I$28)+SUMIF('FUNDING SHEET'!$J$30:$J$229,K81,'FUNDING SHEET'!$H$30:$H$229)","v":0},0,null,0,null,0]
[23,null,{"$f":"IF('FUNDING SHEET'!A26=\"\",\"\",'FUNDING SHEET'!A26)","v":""},null,{"$f":"IF('FUNDING SHEET'!B26=\"\",\"\",'FUNDING SHEET'!B26)","v":""},null,null,null,{"$f":"IF('FUNDING SHEET'!C26=\"\",\"\",'FUNDING SHEET'!C26)","v":""},null,{"$f":"'FUNDING SHEET'!J26","v":"    "},null,null,{"$f":"SUMIF('FUNDING SHEET'!$J$4:$J$28,K82,'FUNDING SHEET'!$I$4:$I$28)+SUMIF('FUNDING SHEET'!$J$30:$J$229,K82,'FUNDING SHEET'!$H$30:$H$229)","v":0},0,null,0,null,0]
[24,null,{"$f":"IF('FUNDING SHEET'!A27=\"\",\"\",'FUNDING SHEET'!A27)","v":""},null,{"$f":"IF('FUNDING SHEET'!B27=\"\",\"\",'FUNDING SHEET'!B27)","v":""},null,null,null,{"$f":"IF('FUNDING SHEET'!C27=\"\",\"\",'FUNDING SHEET'!C27)","v":""},null,{"$f":"'FUNDING SHEET'!J27","v":"    "},null,null,{"$f":"SUMIF('FUNDING SHEET'!$J$4:$J$28,K83,'FUNDING SHEET'!$I$4:$I$28)+SUMIF('FUNDING SHEET'!$J$30:$J$229,K83,'FUNDING SHEET'!$H$30:$H$229)","v":0},0,null,0,null,0]
[25,null,{"$f":"IF('FUNDING SHEET'!A28=\"\",\"\",'FUNDING SHEET'!A28)","v":""},null,{"$f":"IF('FUNDING SHEET'!B28=\"\",\"\",'FUNDING SHEET'!B28)","v":""},null,null,null,{"$f":"IF('FUNDING SHEET'!C28=\"\",\"\",'FUNDING SHEET'!C28)","v":""},null,{"$f":"'FUNDING SHEET'!J28","v":"    "},null,null,{"$f":"SUMIF('FUNDING SHEET'!$J$4:$J$28,K84,'FUNDING SHEET'!$I$4:$I$28)+SUMIF('FUNDING SHEET'!$J$30:$J$229,K84,'FUNDING SHEET'!$H$30:$H$229)","v":0},0,null,0,null,0]
[null,null,null,null,null,null,null,null,null,null,null,"TOTALS:",null,{"$f":"SUM(N60:N84)","v":0},{"$f":"SUM(O60:O84)","v":0},null,{"$f":"SUM(Q60:Q84)","v":0},null,{"$f":"SUM(S60:S84)","v":0}]

{"sheet":"NOV","index":4,"n_rows":85,"n_cols":22,"rows_kept":85,"cut":false,"hidden":false,"merged":[[83,14,83,15],[83,16,83,17],[84,14,84,15],[59,14,59,15],[17,3,17,4],[7,3,7,4],[8,3,8,4],[9,3,9,4],[10,3,10,4],[11,3,11,4],[12,3,12,4],[13,3,13,4],[14,3,14,4],[15,3,15,4],[16,3,16,4],[18,3,18,4],[81,14,81,15],[81,16,81,17],[82,14,82,15],[82,16,82,17],[79,14,79,15],[79,16,79,17],[80,14,80,15],[80,16,80,17],[81,5,81,7],[82,5,82,7],[79,8,79,9],[79,10,79,11],[80,8,80,9],[80,10,80,11],[81,8,81,9],[81,10,81,11],[82,8,82,9],[82,10,82,11],[77,14,77,15],[77,16,77,17],[78,14,78,15],[78,16,78,17],[75,14,75,15],[75,16,75,17],[76,14,76,15],[76,16,76,17],[75,8,75,9],[75,10,75,11],[76,8,76,9],[76,10,76,11],[77,8,77,9],[77,10,77,11],[78,8,78,9],[78,10,78,11],[73,14,73,15],[73,16,73,17],[74,14,74,15],[74,16,74,17],[71,14,71,15],[71,16,71,17],[72,14,72,15],[72,16,72,17],[71,8,71,9],[71,10,71,11],[72,8,72,9],[72,10,72,11],[73,8,73,9],[73,10,73,11],[74,8,74,9],[74,10,74,11],[69,14,69,15],[69,16,69,17],[70,14,70,15],[70,16,70,17],[67,16,67,17],[68,14,68,15],[68,16,68,17],[67,14,67,15],[67,8,67,9],[67,10,67,11],[68,8,68,9],[68,10,68,11],[69,8,69,9],[69,10,69,11],[70,8,70,9],[70,10,70,11],[60,14,60,15],[60,16,60,17],[55,3,55,4],[56,3,56,4],[57,0,57,18],[58,14,58,15],[58,16,58,17],[59,16,59,17],[48,3,48,4],[58,8,58,9],[58,10,58,11],[59,8,59,9],[59,10,59,11],[60,8,60,9],[60,10,60,11],[51,9,51,10],[52,9,52,10],[53,9,53,10],[54,9,54,10],[55,9,55,10],[56,9,56,10],[50,9,50,10],[66,14,66,15],[66,16,66,17],[63,14,63,15],[63,16,63,17],[64,14,64,15],[64,16,64,17],[65,14,65,15],[65,16,65,17],[61,14,61,15],[61,16,61,17],[62,14,62,15],[62,16,62,17],[36,3,36,4],[37,3,37,4],[38,3,38,4],[39,3,39,4],[0,0,1,18],[2,0,2,5],[2,11,2,12],[2,13,2,14],[2,16,2,17],[26,3,26,4],[27,3,27,4],[28,3,28,4],[19,3,19,4],[20,3,20,4],[6,13,6,15],[3,0,5,0],[3,2,4,5],[3,7,4,11],[3,13,4,16],[3,18,5,18],[5,3,5,4],[21,3,21,4],[22,3,22,4],[29,3,29,4],[23,3,23,4],[24,3,24,4],[25,3,25,4],[2,7,2,8],[31,3,31,4],[32,3,32,4],[33,3,33,4],[34,3,34,4],[35,3,35,4],[30,3,30,4],[40,3,40,4],[41,3,41,4],[54,3,54,4],[43,3,43,4],[44,3,44,4],[45,3,45,4],[46,3,46,4],[47,3,47,4],[49,3,49,4],[50,3,50,4],[51,3,51,4],[52,3,52,4],[42,3,42,4],[53,3,53,4],[83,5,83,7],[58,5,58,7],[60,5,60,7],[59,5,59,7],[61,5,61,7],[62,5,62,7],[63,5,63,7],[64,5,64,7],[65,5,65,7],[66,5,66,7],[67,5,67,7],[68,5,68,7],[69,5,69,7],[70,5,70,7],[71,5,71,7],[72,5,72,7],[73,5,73,7],[74,5,74,7],[75,5,75,7],[76,5,76,7],[77,5,77,7],[78,5,78,7],[79,5,79,7],[80,5,80,7],[61,8,61,9],[61,10,61,11],[62,8,62,9],[62,10,62,11],[83,8,83,9],[83,10,83,11],[63,8,63,9],[63,10,63,11],[64,8,64,9],[64,10,64,11],[65,8,65,9],[65,10,65,11],[66,8,66,9],[66,10,66,11],[5,9,5,10],[7,9,7,10],[8,9,8,10],[9,9,9,10],[10,9,10,10],[11,9,11,10],[12,9,12,10],[13,9,13,10],[14,9,14,10],[30,9,30,10],[31,9,31,10],[32,9,32,10],[15,9,15,10],[16,9,16,10],[17,9,17,10],[18,9,18,10],[19,9,19,10],[20,9,20,10],[21,9,21,10],[22,9,22,10],[23,9,23,10],[2,9,2,10],[42,9,42,10],[43,9,43,10],[44,9,44,10],[45,9,45,10],[46,9,46,10],[47,9,47,10],[48,9,48,10],[49,9,49,10],[33,9,33,10],[34,9,34,10],[35,9,35,10],[36,9,36,10],[37,9,37,10],[38,9,38,10],[39,9,39,10],[40,9,40,10],[41,9,41,10],[24,9,24,10],[25,9,25,10],[26,9,26,10],[27,9,27,10],[28,9,28,10],[29,9,29,10]]}
["CARDHOLDER TRANSACTION LOG"]
[]
[null,null,null,null,null,null,null,{"$f":"'FUNDING SHEET'!$K$3","v":"CARDHOLDER NAME:"},null,{"$f":"'FUNDING SHEET'!$L$3","v":0},null,"CARD ACCOUNT NUMBER:",null,"XXXX-XXXX-XXXX-",null,{"$f":"'FUNDING SHEET'!$L$2","v":0},"FISCAL YEAR:",null,{"$f":"'FUNDING SHEET'!$L$1","v":0}]
["Log Number",null,"DATE",null,null,null,null,"PURCHASE DETAIL",null,null,null,null,null,"AMOUNT",null,null,null,null,"Account                     (see below)"]
[]
[null,null,"Date of Order","Date Received",null,"Statement Date",null,"Budget Object Class   (BOC)","VERNDOR           REQ # / CONTACT  (optional)","Item(s) purchased",null,"Vendor",null,"Amount","Paid by Conv. Check","Check Fee Amount (1.7%)","Total to Date"]
[null,null,null,null,null,null,null,null,null,null,null,null,null,"YEAR TO DATE EXPENDITURES",null,null,{"$f":"SUM(OCT!$Q$60:$R$84)+OCT!$Q$7","v":0},null,null,null,null,"ACCOUNT NUMBER"]
[1,null,null,null,null,null,null,{"$f":"IF(S8=$A$60,RIGHT($K$60,5),IF(S8=$A$61,RIGHT($K$61,5),IF(S8=$A$62,RIGHT($K$62,5),IF(S8=$A$63,RIGHT($K$63,5),IF(S8=$A$64,RIGHT($K$64,5),IF(S8=$A$65,RIGHT($K$65,5),IF(S8=$A$66,RIGHT($K$66,5),IF(S8=$A$67,RIGHT($K$67,5),IF(S8=$A$68,RIGHT($K$68,5),IF(S8=$A$69,RIGHT($K$69,5),IF(S8=$A$70,RIGHT($K$70,5),IF(S8=$A$71,RIGHT($K$71,5),IF(S8=$A$72,RIGHT($K$72,5),IF(S8=$A$73,RIGHT($K$73,5),IF(S8=$A$74,RIGHT($K$74,5),IF(S8=$A$75,RIGHT($K$75,5),IF(S8=$A$76,RIGHT($K$76,5),IF(S8=$A$77,RIGHT($K$77,5),IF(S8=$A$78,RIGHT($K$78,5),IF(S8=$A$79,RIGHT($K$79,5),IF(S8=$A$80,RIGHT($K$80,5),IF(S8=$A$81,RIGHT($K$81,5),IF(S8=$A$82,RIGHT($K$82,5),IF(S8=$A$83,RIGHT($K$83,5),IF(S8=$A$84,RIGHT($K$84,5),\"\")))))))))))))))))))))))))","v":""},null,null,null,null,null,null,null,{"$f":"IF(C8=\"\",\"\",IF(O8=\"Y\",N8*0.017,0))","v":""},{"$f":"IF(N8=\"\",\"\",Q7+N8+P8)","v":""},null,null,{"$f":"IF(F8=\"\",\"\",MONTH(F8))","v":""},null,{"$f":"IF('FUNDING SHEET'!A4=\"\",\"\",A60&\"  \"&'FUNDING SHEET'!D4&\" \"&'FUNDING SHEET'!E4&\"  \"&'FUNDING SHEET'!F4)","v":""}]
[2,null,null,null,null,null,null,{"$f":"IF(S9=$A$60,RIGHT($K$60,5),IF(S9=$A$61,RIGHT($K$61,5),IF(S9=$A$62,RIGHT($K$62,5),IF(S9=$A$63,RIGHT($K$63,5),IF(S9=$A$64,RIGHT($K$64,5),IF(S9=$A$65,RIGHT($K$65,5),IF(S9=$A$66,RIGHT($K$66,5),IF(S9=$A$67,RIGHT($K$67,5),IF(S9=$A$68,RIGHT($K$68,5),IF(S9=$A$69,RIGHT($K$69,5),IF(S9=$A$70,RIGHT($K$70,5),IF(S9=$A$71,RIGHT($K$71,5),IF(S9=$A$72,RIGHT($K$72,5),IF(S9=$A$73,RIGHT($K$73,5),IF(S9=$A$74,RIGHT($K$74,5),IF(S9=$A$75,RIGHT($K$75,5),IF(S9=$A$76,RIGHT($K$76,5),IF(S9=$A$77,RIGHT($K$77,5),IF(S9=$A$78,RIGHT($K$78,5),IF(S9=$A$79,RIGHT($K$79,5),IF(S9=$A$80,RIGHT($K$80,5),IF(S9=$A$81,RIGHT($K$81,5),IF(S9=$A$82,RIGHT($K$82,5),IF(S9=$A$83,RIGHT($K$83,5),IF(S9=$A$84,RIGHT($K$84,5),\"\")))))))))))))))))))))))))","v":""},null,null,null,null,null,null,null,{"$f":"IF(C9=\"\",\"\",IF(O9=\"Y\",N9*0.017,0))","v":""},{"$f":"IF(N9=\"\",\"\",Q8+N9+P9)","v":""},null,null,{"$f":"IF(F9=\"\",\"\",MONTH(F9))","v":""},null,{"$f":"IF('FUNDING SHEET'!A5=\"\",\"\",A61&\"  \"&'FUNDING SHEET'!D5&\" \"&'FUNDING SHEET'!E5&\"  \"&'FUNDING SHEET'!F5)","v":""}]
[3,null,null,null,null,null,null,"",null,null,null,null,null,null,null,"",{"$f":"IF(N10=\"\",\"\",Q9+N10+P10)","v":""},null,null,"",null,{"$f":"IF('FUNDING SHEET'!A6=\"\",\"\",A62&\"  \"&'FUNDING SHEET'!D6&\" \"&'FUNDING SHEET'!E6&\"  \"&'FUNDING SHEET'!F6)","v":""}]
[4,null,null,null,null,null,null,"",null,null,null,null,null,null,null,"","",null,null,"",null,{"$f":"IF('FUNDING SHEET'!A7=\"\",\"\",A63&\"  \"&'FUNDING SHEET'!D7&\" \"&'FUNDING SHEET'!E7&\"  \"&'FUNDING SHEET'!F7)","v":""}]
[5,null,null,null,null,null,null,"",null,null,null,null,null,null,null,"","",null,null,"",null,{"$f":"IF('FUNDING SHEET'!A8=\"\",\"\",A64&\"  \"&'FUNDING SHEET'!D8&\" \"&'FUNDING SHEET'!E8&\"  \"&'FUNDING SHEET'!F8)","v":""}]
[6,null,null,null,null,null,null,"",null,null,null,null,null,null,null,"","",null,null,"",null,{"$f":"IF('FUNDING SHEET'!A9=\"\",\"\",A65&\"  \"&'FUNDING SHEET'!D9&\" \"&'FUNDING SHEET'!E9&\"  \"&'FUNDING SHEET'!F9)","v":""}]
[7,null,null,null,null,null,null,"",null,null,null,null,null,null,null,"","",null,null,"",null,{"$f":"IF('FUNDING SHEET'!A10=\"\",\"\",A66&\"  \"&'FUNDING SHEET'!D10&\" \"&'FUNDING SHEET'!E10&\"  \"&'FUNDING SHEET'!F10)","v":""}]
[8,null,null,null,null,null,null,"",null,null,null,null,null,null,null,"","",null,null,"",null,{"$f":"IF('FUNDING SHEET'!A11=\"\",\"\",A67&\"  \"&'FUNDING SHEET'!D11&\" \"&'FUNDING SHEET'!E11&\"  \"&'FUNDING SHEET'!F11)","v":""}]
[9,null,null,null,null,null,null,"",null,null,null,null,null,null,null,"","",null,null,"",null,{"$f":"IF('FUNDING SHEET'!A12=\"\",\"\",A68&\"  \"&'FUNDING SHEET'!D12&\" \"&'FUNDING SHEET'!E12&\"  \"&'FUNDING SHEET'!F12)","v":""}]
[10,null,null,null,null,null,null,"",null,null,null,null,null,null,null,"","",null,null,"",null,{"$f":"IF('FUNDING SHEET'!A13=\"\",\"\",A69&\"  \"&'FUNDING SHEET'!D13&\" \"&'FUNDING SHEET'!E13&\"  \"&'FUNDING SHEET'!F13)","v":""}]
[11,null,null,null,null,null,null,"",null,null,null,null,null,null,null,"","",null,null,"",null,{"$f":"IF('FUNDING SHEET'!A14=\"\",\"\",A70&\"  \"&'FUNDING SHEET'!D14&\" \"&'FUNDING SHEET'!E14&\"  \"&'FUNDING SHEET'!F14)","v":""}]
[12,null,null,null,null,null,null,"",null,null,null,null,null,null,null,"","",null,null,"",null,{"$f":"IF('FUNDING SHEET'!A15=\"\",\"\",A71&\"  \"&'FUNDING SHEET'!D15&\" \"&'FUNDING SHEET'!E15&\"  \"&'FUNDING SHEET'!F15)","v":""}]
[13,null,null,null,null,null,null,"",null,null,null,null,null,null,null,"","",null,null,"",null,{"$f":"IF('FUNDING SHEET'!A16=\"\",\"\",A72&\"  \"&'FUNDING SHEET'!D16&\" \"&'FUNDING SHEET'!E16&\"  \"&'FUNDING SHEET'!F16)","v":""}]
[14,null,null,null,null,null,null,"",null,null,null,null,null,null,null,"","",null,null,"",null,{"$f":"IF('FUNDING SHEET'!A17=\"\",\"\",A73&\"  \"&'FUNDING SHEET'!D17&\" \"&'FUNDING SHEET'!E17&\"  \"&'FUNDING SHEET'!F17)","v":""}]
[15,null,null,null,null,null,null,"",null,null,null,null,null,null,null,"","",null,null,"",null,{"$f":"IF('FUNDING SHEET'!A18=\"\",\"\",A74&\"  \"&'FUNDING SHEET'!D18&\" \"&'FUNDING SHEET'!E18&\"  \"&'FUNDING SHEET'!F18)","v":""}]
[16,null,null,null,null,null,null,"",null,null,null,null,null,null,null,"","",null,null,"",null,{"$f":"IF('FUNDING SHEET'!A19=\"\",\"\",A75&\"  \"&'FUNDING SHEET'!D19&\" \"&'FUNDING SHEET'!E19&\"  \"&'FUNDING SHEET'!F19)","v":""}]
[17,null,null,null,null,null,null,"",null,null,null,null,null,null,null,"","",null,null,"",null,{"$f":"IF('FUNDING SHEET'!A20=\"\",\"\",A76&\"  \"&'FUNDING SHEET'!D20&\" \"&'FUNDING SHEET'!E20&\"  \"&'FUNDING SHEET'!F20)","v":""}]
[18,null,null,null,null,null,null,"",null,null,null,null,null,null,null,"","",null,null,"",null,{"$f":"IF('FUNDING SHEET'!A21=\"\",\"\",A77&\"  \"&'FUNDING SHEET'!D21&\" \"&'FUNDING SHEET'!E21&\"  \"&'FUNDING SHEET'!F21)","v":""}]
[19,null,null,null,null,null,null,"",null,null,null,null,null,null,null,"","",null,null,"",null,{"$f":"IF('FUNDING SHEET'!A22=\"\",\"\",A78&\"  \"&'FUNDING SHEET'!D22&\" \"&'FUNDING SHEET'!E22&\"  \"&'FUNDING SHEET'!F22)","v":""}]
[20,null,null,null,null,null,null,"",null,null,null,null,null,null,null,"","",null,null,"",null,{"$f":"IF('FUNDING SHEET'!A23=\"\",\"\",A79&\"  \"&'FUNDING SHEET'!D23&\" \"&'FUNDING SHEET'!E23&\"  \"&'FUNDING SHEET'!F23)","v":""}]
[21,null,null,null,null,null,null,"",null,null,null,null,null,null,null,"","",null,null,"",null,{"$f":"IF('FUNDING SHEET'!A24=\"\",\"\",A80&\"  \"&'FUNDING SHEET'!D24&\" \"&'FUNDING SHEET'!E24&\"  \"&'FUNDING SHEET'!F24)","v":""}]
[22,null,null,null,null,null,null,"",null,null,null,null,null,null,null,"","",null,null,"",null,{"$f":"IF('FUNDING SHEET'!A25=\"\",\"\",A81&\"  \"&'FUNDING SHEET'!D25&\" \"&'FUNDING SHEET'!E25&\"  \"&'FUNDING SHEET'!F25)","v":""}]
[23,null,null,null,null,null,null,"",null,null,null,null,null,null,null,"","",null,null,"",null,{"$f":"IF('FUNDING SHEET'!A26=\"\",\"\",A82&\"  \"&'FUNDING SHEET'!D26&\" \"&'FUNDING SHEET'!E26&\"  \"&'FUNDING SHEET'!F26)","v":""}]
[24,null,null,null,null,null,null,"",null,null,null,null,null,null,null,"","",null,null,"",null,{"$f":"IF('FUNDING SHEET'!A27=\"\",\"\",A83&\"  \"&'FUNDING SHEET'!D27&\" \"&'FUNDING SHEET'!E27&\"  \"&'FUNDING SHEET'!F27)","v":""}]
[25,null,null,null,null,null,null,"",null,null,null,null,null,null,null,"","",null,null,"",null,{"$f":"IF('FUNDING SHEET'!A28=\"\",\"\",A84&\"  \"&'FUNDING SHEET'!D28&\" \"&'FUNDING SHEET'!E28&\"  \"&'FUNDING SHEET'!F28)","v":""}]
[26,null,null,null,null,null,null,"",null,null,null,null,null,null,null,"","",null,null,""]
[27,null,null,null,null,null,null,"",null,null,null,null,null,null,null,"","",null,null,""]
[28,null,null,null,null,null,null,"",null,null,null,null,null,null,null,"","",null,null,""]
[29,null,null,null,null,null,null,"",null,null,null,null,null,null,null,"","",null,null,""]
[30,null,null,null,null,null,null,"",null,null,null,null,null,null,null,"","",null,null,""]
[31,null,null,null,null,null,null,"",null,null,null,null,null,null,null,"","",null,null,""]
[32,null,null,null,null,null,null,"",null,null,null,null,null,null,null,"","",null,null,""]
[33,null,null,null,null,null,null,"",null,null,null,null,null,null,null,"","",null,null,""]
[34,null,null,null,null,null,null,"",null,null,null,null,null,null,null,"","",null,null,""]
[35,null,null,null,null,null,null,"",null,null,null,null,null,null,null,"","",null,null,""]
[36,null,null,null,null,null,null,"",null,null,null,null,null,null,null,"","",null,null,""]
[37,null,null,null,null,null,null,"",null,null,null,null,null,null,null,"","",null,null,""]
[38,null,null,null,null,null,null,"",null,null,null,null,null,null,null,"","",null,null,""]
[39,null,null,null,null,null,null,"",null,null,null,null,null,null,null,"","",null,null,""]
[40,null,null,null,null,null,null,"",null,null,null,null,null,null,null,"","",null,null,""]
[41,null,null,null,null,null,null,"",null,null,null,null,null,null,null,"","",null,null,""]
[42,null,null,null,null,null,null,"",null,null,null,null,null,null,null,"","",null,null,""]
[43,null,null,null,null,null,null,"",null,null,null,null,null,null,null,"","",null,null,""]
[44,null,null,null,null,null,null,"",null,null,null,null,null,null,null,"","",null,null,""]
[45,null,null,null,null,null,null,"",null,null,null,null,null,null,null,"","",null,null,""]
[46,null,null,null,null,null,null,"",null,null,null,null,null,null,null,"","",null,null,""]
[47,null,null,null,null,null,null,"",null,null,null,null,null,null,null,"","",null,null,""]
[48,null,null,null,null,null,null,"",null,null,null,null,null,null,null,"","",null,null,""]
[49,null,null,null,null,null,null,"",null,null,null,null,null,null,null,"","",null,null,""]
[50,null,null,null,null,null,null,"",null,null,null,null,null,null,null,"","",null,null,""]
["ACCOUNT INFORMATION"]
["Line #",null,"Date",null,"PR #","PROJECT",null,null,"LINE ITEM NOMENCLATURE",null,"ACCOUNT NUMBER (WITH BOC)",null,null,"PR Funding","Previous Expenditures",null,"Current Expenditures",null,"Remaining Funds"]
[1,null,{"$f":"IF('FUNDING SHEET'!A4=\"\",\"\",'FUNDING SHEET'!A4)","v":""},null,{"$f":"IF('FUNDING SHEET'!B4=\"\",\"\",'FUNDING SHEET'!B4)","v":""},null,null,null,{"$f":"IF('FUNDING SHEET'!C4=\"\",\"\",'FUNDING SHEET'!C4)","v":""},null,{"$f":"'FUNDING SHEET'!J4","v":"    "},null,null,{"$f":"SUMIF('FUNDING SHEET'!$J$4:$J$28,K60,'FUNDING SHEET'!$I$4:$I$28)+SUMIF('FUNDING SHEET'!$J$30:$J$229,K60,'FUNDING SHEET'!$H$30:$H$229)","v":0},{"$f":"OCT!Q60","v":0},null,{"$f":"SUMIF($S$8:$S$57,A60,$N$8:$N$57)+SUMIF($S$8:$S$57,A60,$P$8:$P$57)","v":0},null,{"$f":"N60-O60-Q60","v":0}]
[2,null,{"$f":"IF('FUNDING SHEET'!A5=\"\",\"\",'FUNDING SHEET'!A5)","v":""},null,{"$f":"IF('FUNDING SHEET'!B5=\"\",\"\",'FUNDING SHEET'!B5)","v":""},null,null,null,{"$f":"IF('FUNDING SHEET'!C5=\"\",\"\",'FUNDING SHEET'!C5)","v":""},null,{"$f":"'FUNDING SHEET'!J5","v":"    "},null,null,{"$f":"SUMIF('FUNDING SHEET'!$J$4:$J$28,K61,'FUNDING SHEET'!$I$4:$I$28)+SUMIF('FUNDING SHEET'!$J$30:$J$229,K61,'FUNDING SHEET'!$H$30:$H$229)","v":0},{"$f":"OCT!Q61","v":0},null,{"$f":"SUMIF($S$8:$S$57,A61,$N$8:$N$57)+SUMIF($S$8:$S$57,A61,$P$8:$P$57)","v":0},null,{"$f":"N61-O61-Q61","v":0}]
[3,null,{"$f":"IF('FUNDING SHEET'!A6=\"\",\"\",'FUNDING SHEET'!A6)","v":""},null,{"$f":"IF('FUNDING SHEET'!B6=\"\",\"\",'FUNDING SHEET'!B6)","v":""},null,null,null,{"$f":"IF('FUNDING SHEET'!C6=\"\",\"\",'FUNDING SHEET'!C6)","v":""},null,{"$f":"'FUNDING SHEET'!J6","v":"    "},null,null,{"$f":"SUMIF('FUNDING SHEET'!$J$4:$J$28,K62,'FUNDING SHEET'!$I$4:$I$28)+SUMIF('FUNDING SHEET'!$J$30:$J$229,K62,'FUNDING SHEET'!$H$30:$H$229)","v":0},{"$f":"OCT!Q62","v":0},null,0,null,0]
[4,null,{"$f":"IF('FUNDING SHEET'!A7=\"\",\"\",'FUNDING SHEET'!A7)","v":""},null,{"$f":"IF('FUNDING SHEET'!B7=\"\",\"\",'FUNDING SHEET'!B7)","v":""},null,null,null,{"$f":"IF('FUNDING SHEET'!C7=\"\",\"\",'FUNDING SHEET'!C7)","v":""},null,{"$f":"'FUNDING SHEET'!J7","v":"    "},null,null,{"$f":"SUMIF('FUNDING SHEET'!$J$4:$J$28,K63,'FUNDING SHEET'!$I$4:$I$28)+SUMIF('FUNDING SHEET'!$J$30:$J$229,K63,'FUNDING SHEET'!$H$30:$H$229)","v":0},{"$f":"OCT!Q63","v":0},null,0,null,0]
[5,null,{"$f":"IF('FUNDING SHEET'!A8=\"\",\"\",'FUNDING SHEET'!A8)","v":""},null,{"$f":"IF('FUNDING SHEET'!B8=\"\",\"\",'FUNDING SHEET'!B8)","v":""},null,null,null,{"$f":"IF('FUNDING SHEET'!C8=\"\",\"\",'FUNDING SHEET'!C8)","v":""},null,{"$f":"'FUNDING SHEET'!J8","v":"    "},null,null,{"$f":"SUMIF('FUNDING SHEET'!$J$4:$J$28,K64,'FUNDING SHEET'!$I$4:$I$28)+SUMIF('FUNDING SHEET'!$J$30:$J$229,K64,'FUNDING SHEET'!$H$30:$H$229)","v":0},{"$f":"OCT!Q64","v":0},null,0,null,0]
[6,null,{"$f":"IF('FUNDING SHEET'!A9=\"\",\"\",'FUNDING SHEET'!A9)","v":""},null,{"$f":"IF('FUNDING SHEET'!B9=\"\",\"\",'FUNDING SHEET'!B9)","v":""},null,null,null,{"$f":"IF('FUNDING SHEET'!C9=\"\",\"\",'FUNDING SHEET'!C9)","v":""},null,{"$f":"'FUNDING SHEET'!J9","v":"    "},null,null,{"$f":"SUMIF('FUNDING SHEET'!$J$4:$J$28,K65,'FUNDING SHEET'!$I$4:$I$28)+SUMIF('FUNDING SHEET'!$J$30:$J$229,K65,'FUNDING SHEET'!$H$30:$H$229)","v":0},{"$f":"OCT!Q65","v":0},null,0,null,0]
[7,null,{"$f":"IF('FUNDING SHEET'!A10=\"\",\"\",'FUNDING SHEET'!A10)","v":""},null,{"$f":"IF('FUNDING SHEET'!B10=\"\",\"\",'FUNDING SHEET'!B10)","v":""},null,null,null,{"$f":"IF('FUNDING SHEET'!C10=\"\",\"\",'FUNDING SHEET'!C10)","v":""},null,{"$f":"'FUNDING SHEET'!J10","v":"    "},null,null,{"$f":"SUMIF('FUNDING SHEET'!$J$4:$J$28,K66,'FUNDING SHEET'!$I$4:$I$28)+SUMIF('FUNDING SHEET'!$J$30:$J$229,K66,'FUNDING SHEET'!$H$30:$H$229)","v":0},{"$f":"OCT!Q66","v":0},null,0,null,0]
[8,null,{"$f":"IF('FUNDING SHEET'!A11=\"\",\"\",'FUNDING SHEET'!A11)","v":""},null,{"$f":"IF('FUNDING SHEET'!B11=\"\",\"\",'FUNDING SHEET'!B11)","v":""},null,null,null,{"$f":"IF('FUNDING SHEET'!C11=\"\",\"\",'FUNDING SHEET'!C11)","v":""},null,{"$f":"'FUNDING SHEET'!J11","v":"    "},null,null,{"$f":"SUMIF('FUNDING SHEET'!$J$4:$J$28,K67,'FUNDING SHEET'!$I$4:$I$28)+SUMIF('FUNDING SHEET'!$J$30:$J$229,K67,'FUNDING SHEET'!$H$30:$H$229)","v":0},{"$f":"OCT!Q67","v":0},null,0,null,0]
[9,null,{"$f":"IF('FUNDING SHEET'!A12=\"\",\"\",'FUNDING SHEET'!A12)","v":""},null,{"$f":"IF('FUNDING SHEET'!B12=\"\",\"\",'FUNDING SHEET'!B12)","v":""},null,null,null,{"$f":"IF('FUNDING SHEET'!C12=\"\",\"\",'FUNDING SHEET'!C12)","v":""},null,{"$f":"'FUNDING SHEET'!J12","v":"    "},null,null,{"$f":"SUMIF('FUNDING SHEET'!$J$4:$J$28,K68,'FUNDING SHEET'!$I$4:$I$28)+SUMIF('FUNDING SHEET'!$J$30:$J$229,K68,'FUNDING SHEET'!$H$30:$H$229)","v":0},{"$f":"OCT!Q68","v":0},null,0,null,0]
[10,null,{"$f":"IF('FUNDING SHEET'!A13=\"\",\"\",'FUNDING SHEET'!A13)","v":""},null,{"$f":"IF('FUNDING SHEET'!B13=\"\",\"\",'FUNDING SHEET'!B13)","v":""},null,null,null,{"$f":"IF('FUNDING SHEET'!C13=\"\",\"\",'FUNDING SHEET'!C13)","v":""},null,{"$f":"'FUNDING SHEET'!J13","v":"    "},null,null,{"$f":"SUMIF('FUNDING SHEET'!$J$4:$J$28,K69,'FUNDING SHEET'!$I$4:$I$28)+SUMIF('FUNDING SHEET'!$J$30:$J$229,K69,'FUNDING SHEET'!$H$30:$H$229)","v":0},{"$f":"OCT!Q69","v":0},null,0,null,0]
[11,null,{"$f":"IF('FUNDING SHEET'!A14=\"\",\"\",'FUNDING SHEET'!A14)","v":""},null,{"$f":"IF('FUNDING SHEET'!B14=\"\",\"\",'FUNDING SHEET'!B14)","v":""},null,null,null,{"$f":"IF('FUNDING SHEET'!C14=\"\",\"\",'FUNDING SHEET'!C14)","v":""},null,{"$f":"'FUNDING SHEET'!J14","v":"    "},null,null,{"$f":"SUMIF('FUNDING SHEET'!$J$4:$J$28,K70,'FUNDING SHEET'!$I$4:$I$28)+SUMIF('FUNDING SHEET'!$J$30:$J$229,K70,'FUNDING SHEET'!$H$30:$H$229)","v":0},{"$f":"OCT!Q70","v":0},null,0,null,0]
[12,null,{"$f":"IF('FUNDING SHEET'!A15=\"\",\"\",'FUNDING SHEET'!A15)","v":""},null,{"$f":"IF('FUNDING SHEET'!B15=\"\",\"\",'FUNDING SHEET'!B15)","v":""},null,null,null,{"$f":"IF('FUNDING SHEET'!C15=\"\",\"\",'FUNDING SHEET'!C15)","v":""},null,{"$f":"'FUNDING SHEET'!J15","v":"    "},null,null,{"$f":"SUMIF('FUNDING SHEET'!$J$4:$J$28,K71,'FUNDING SHEET'!$I$4:$I$28)+SUMIF('FUNDING SHEET'!$J$30:$J$229,K71,'FUNDING SHEET'!$H$30:$H$229)","v":0},{"$f":"OCT!Q71","v":0},null,0,null,0]
[13,null,{"$f":"IF('FUNDING SHEET'!A16=\"\",\"\",'FUNDING SHEET'!A16)","v":""},null,{"$f":"IF('FUNDING SHEET'!B16=\"\",\"\",'FUNDING SHEET'!B16)","v":""},null,null,null,{"$f":"IF('FUNDING SHEET'!C16=\"\",\"\",'FUNDING SHEET'!C16)","v":""},null,{"$f":"'FUNDING SHEET'!J16","v":"    "},null,null,{"$f":"SUMIF('FUNDING SHEET'!$J$4:$J$28,K72,'FUNDING SHEET'!$I$4:$I$28)+SUMIF('FUNDING SHEET'!$J$30:$J$229,K72,'FUNDING SHEET'!$H$30:$H$229)","v":0},{"$f":"OCT!Q72","v":0},null,0,null,0]
[14,null,{"$f":"IF('FUNDING SHEET'!A17=\"\",\"\",'FUNDING SHEET'!A17)","v":""},null,{"$f":"IF('FUNDING SHEET'!B17=\"\",\"\",'FUNDING SHEET'!B17)","v":""},null,null,null,{"$f":"IF('FUNDING SHEET'!C17=\"\",\"\",'FUNDING SHEET'!C17)","v":""},null,{"$f":"'FUNDING SHEET'!J17","v":"    "},null,null,{"$f":"SUMIF('FUNDING SHEET'!$J$4:$J$28,K73,'FUNDING SHEET'!$I$4:$I$28)+SUMIF('FUNDING SHEET'!$J$30:$J$229,K73,'FUNDING SHEET'!$H$30:$H$229)","v":0},{"$f":"OCT!Q73","v":0},null,0,null,0]
[15,null,{"$f":"IF('FUNDING SHEET'!A18=\"\",\"\",'FUNDING SHEET'!A18)","v":""},null,{"$f":"IF('FUNDING SHEET'!B18=\"\",\"\",'FUNDING SHEET'!B18)","v":""},null,null,null,{"$f":"IF('FUNDING SHEET'!C18=\"\",\"\",'FUNDING SHEET'!C18)","v":""},null,{"$f":"'FUNDING SHEET'!J18","v":"    "},null,null,{"$f":"SUMIF('FUNDING SHEET'!$J$4:$J$28,K74,'FUNDING SHEET'!$I$4:$I$28)+SUMIF('FUNDING SHEET'!$J$30:$J$229,K74,'FUNDING SHEET'!$H$30:$H$229)","v":0},{"$f":"OCT!Q74","v":0},null,0,null,0]
[16,null,{"$f":"IF('FUNDING SHEET'!A19=\"\",\"\",'FUNDING SHEET'!A19)","v":""},null,{"$f":"IF('FUNDING SHEET'!B19=\"\",\"\",'FUNDING SHEET'!B19)","v":""},null,null,null,{"$f":"IF('FUNDING SHEET'!C19=\"\",\"\",'FUNDING SHEET'!C19)","v":""},null,{"$f":"'FUNDING SHEET'!J19","v":"    "},null,null,{"$f":"SUMIF('FUNDING SHEET'!$J$4:$J$28,K75,'FUNDING SHEET'!$I$4:$I$28)+SUMIF('FUNDING SHEET'!$J$30:$J$229,K75,'FUNDING SHEET'!$H$30:$H$229)","v":0},{"$f":"OCT!Q75","v":0},null,0,null,0]
[17,null,{"$f":"IF('FUNDING SHEET'!A20=\"\",\"\",'FUNDING SHEET'!A20)","v":""},null,{"$f":"IF('FUNDING SHEET'!B20=\"\",\"\",'FUNDING SHEET'!B20)","v":""},null,null,null,{"$f":"IF('FUNDING SHEET'!C20=\"\",\"\",'FUNDING SHEET'!C20)","v":""},null,{"$f":"'FUNDING SHEET'!J20","v":"    "},null,null,{"$f":"SUMIF('FUNDING SHEET'!$J$4:$J$28,K76,'FUNDING SHEET'!$I$4:$I$28)+SUMIF('FUNDING SHEET'!$J$30:$J$229,K76,'FUNDING SHEET'!$H$30:$H$229)","v":0},{"$f":"OCT!Q76","v":0},null,0,null,0]
[18,null,{"$f":"IF('FUNDING SHEET'!A21=\"\",\"\",'FUNDING SHEET'!A21)","v":""},null,{"$f":"IF('FUNDING SHEET'!B21=\"\",\"\",'FUNDING SHEET'!B21)","v":""},null,null,null,{"$f":"IF('FUNDING SHEET'!C21=\"\",\"\",'FUNDING SHEET'!C21)","v":""},null,{"$f":"'FUNDING SHEET'!J21","v":"    "},null,null,{"$f":"SUMIF('FUNDING SHEET'!$J$4:$J$28,K77,'FUNDING SHEET'!$I$4:$I$28)+SUMIF('FUNDING SHEET'!$J$30:$J$229,K77,'FUNDING SHEET'!$H$30:$H$229)","v":0},{"$f":"OCT!Q77","v":0},null,0,null,0]
[19,null,{"$f":"IF('FUNDING SHEET'!A22=\"\",\"\",'FUNDING SHEET'!A22)","v":""},null,{"$f":"IF('FUNDING SHEET'!B22=\"\",\"\",'FUNDING SHEET'!B22)","v":""},null,null,null,{"$f":"IF('FUNDING SHEET'!C22=\"\",\"\",'FUNDING SHEET'!C22)","v":""},null,{"$f":"'FUNDING SHEET'!J22","v":"    "},null,null,{"$f":"SUMIF('FUNDING SHEET'!$J$4:$J$28,K78,'FUNDING SHEET'!$I$4:$I$28)+SUMIF('FUNDING SHEET'!$J$30:$J$229,K78,'FUNDING SHEET'!$H$30:$H$229)","v":0},{"$f":"OCT!Q78","v":0},null,0,null,0]
[20,null,{"$f":"IF('FUNDING SHEET'!A23=\"\",\"\",'FUNDING SHEET'!A23)","v":""},null,{"$f":"IF('FUNDING SHEET'!B23=\"\",\"\",'FUNDING SHEET'!B23)","v":""},null,null,null,{"$f":"IF('FUNDING SHEET'!C23=\"\",\"\",'FUNDING SHEET'!C23)","v":""},null,{"$f":"'FUNDING SHEET'!J23","v":"    "},null,null,{"$f":"SUMIF('FUNDING SHEET'!$J$4:$J$28,K79,'FUNDING SHEET'!$I$4:$I$28)+SUMIF('FUNDING SHEET'!$J$30:$J$229,K79,'FUNDING SHEET'!$H$30:$H$229)","v":0},{"$f":"OCT!Q79","v":0},null,0,null,0]
[21,null,{"$f":"IF('FUNDING SHEET'!A24=\"\",\"\",'FUNDING SHEET'!A24)","v":""},null,{"$f":"IF('FUNDING SHEET'!B24=\"\",\"\",'FUNDING SHEET'!B24)","v":""},null,null,null,{"$f":"IF('FUNDING SHEET'!C24=\"\",\"\",'FUNDING SHEET'!C24)","v":""},null,{"$f":"'FUNDING SHEET'!J24","v":"    "},null,null,{"$f":"SUMIF('FUNDING SHEET'!$J$4:$J$28,K80,'FUNDING SHEET'!$I$4:$I$28)+SUMIF('FUNDING SHEET'!$J$30:$J$229,K80,'FUNDING SHEET'!$H$30:$H$229)","v":0},{"$f":"OCT!Q80","v":0},null,0,null,0]
[22,null,{"$f":"IF('FUNDING SHEET'!A25=\"\",\"\",'FUNDING SHEET'!A25)","v":""},null,{"$f":"IF('FUNDING SHEET'!B25=\"\",\"\",'FUNDING SHEET'!B25)","v":""},null,null,null,{"$f":"IF('FUNDING SHEET'!C25=\"\",\"\",'FUNDING SHEET'!C25)","v":""},null,{"$f":"'FUNDING SHEET'!J25","v":"    "},null,null,{"$f":"SUMIF('FUNDING SHEET'!$J$4:$J$28,K81,'FUNDING SHEET'!$I$4:$I$28)+SUMIF('FUNDING SHEET'!$J$30:$J$229,K81,'FUNDING SHEET'!$H$30:$H$229)","v":0},{"$f":"OCT!Q81","v":0},null,0,null,0]
[23,null,{"$f":"IF('FUNDING SHEET'!A26=\"\",\"\",'FUNDING SHEET'!A26)","v":""},null,{"$f":"IF('FUNDING SHEET'!B26=\"\",\"\",'FUNDING SHEET'!B26)","v":""},null,null,null,{"$f":"IF('FUNDING SHEET'!C26=\"\",\"\",'FUNDING SHEET'!C26)","v":""},null,{"$f":"'FUNDING SHEET'!J26","v":"    "},null,null,{"$f":"SUMIF('FUNDING SHEET'!$J$4:$J$28,K82,'FUNDING SHEET'!$I$4:$I$28)+SUMIF('FUNDING SHEET'!$J$30:$J$229,K82,'FUNDING SHEET'!$H$30:$H$229)","v":0},{"$f":"OCT!Q82","v":0},null,0,null,0]
[24,null,{"$f":"IF('FUNDING SHEET'!A27=\"\",\"\",'FUNDING SHEET'!A27)","v":""},null,{"$f":"IF('FUNDING SHEET'!B27=\"\",\"\",'FUNDING SHEET'!B27)","v":""},null,null,null,{"$f":"IF('FUNDING SHEET'!C27=\"\",\"\",'FUNDING SHEET'!C27)","v":""},null,{"$f":"'FUNDING SHEET'!J27","v":"    "},null,null,{"$f":"SUMIF('FUNDING SHEET'!$J$4:$J$28,K83,'FUNDING SHEET'!$I$4:$I$28)+SUMIF('FUNDING SHEET'!$J$30:$J$229,K83,'FUNDING SHEET'!$H$30:$H$229)","v":0},{"$f":"OCT!Q83","v":0},null,0,null,0]
[25,null,{"$f":"IF('FUNDING SHEET'!A28=\"\",\"\",'FUNDING SHEET'!A28)","v":""},null,{"$f":"IF('FUNDING SHEET'!B28=\"\",\"\",'FUNDING SHEET'!B28)","v":""},null,null,null,{"$f":"IF('FUNDING SHEET'!C28=\"\",\"\",'FUNDING SHEET'!C28)","v":""},null,{"$f":"'FUNDING SHEET'!J28","v":"    "},null,null,{"$f":"SUMIF('FUNDING SHEET'!$J$4:$J$28,K84,'FUNDING SHEET'!$I$4:$I$28)+SUMIF('FUNDING SHEET'!$J$30:$J$229,K84,'FUNDING SHEET'!$H$30:$H$229)","v":0},{"$f":"OCT!Q84","v":0},null,0,null,0]
[null,null,null,null,null,null,null,null,null,null,null,"TOTALS:",null,{"$f":"SUM(N60:N84)","v":0},{"$f":"SUM(O60:O84)","v":0},null,{"$f":"SUM(Q60:Q84)","v":0},null,{"$f":"SUM(S60:S84)","v":0}]

{"sheet":"DEC","index":5,"n_rows":85,"n_cols":22,"rows_kept":85,"cut":false,"hidden":false,"merged":[[83,14,83,15],[83,16,83,17],[84,14,84,15],[30,3,30,4],[31,3,31,4],[17,3,17,4],[7,3,7,4],[8,3,8,4],[9,3,9,4],[10,3,10,4],[11,3,11,4],[12,3,12,4],[13,3,13,4],[14,3,14,4],[15,3,15,4],[16,3,16,4],[29,3,29,4],[18,3,18,4],[19,3,19,4],[20,3,20,4],[21,3,21,4],[22,3,22,4],[81,14,81,15],[81,16,81,17],[82,14,82,15],[82,16,82,17],[23,3,23,4],[24,3,24,4],[25,3,25,4],[26,3,26,4],[27,3,27,4],[28,3,28,4],[79,14,79,15],[79,16,79,17],[80,14,80,15],[80,16,80,17],[73,5,73,7],[74,5,74,7],[77,14,77,15],[77,16,77,17],[78,14,78,15],[78,16,78,17],[75,14,75,15],[75,16,75,17],[76,14,76,15],[76,16,76,17],[75,5,75,7],[76,5,76,7],[77,5,77,7],[78,5,78,7],[75,8,75,9],[75,10,75,11],[76,8,76,9],[76,10,76,11],[77,8,77,9],[77,10,77,11],[78,8,78,9],[78,10,78,11],[73,14,73,15],[73,16,73,17],[74,14,74,15],[74,16,74,17],[71,14,71,15],[71,16,71,17],[72,14,72,15],[72,16,72,17],[71,8,71,9],[71,10,71,11],[72,8,72,9],[72,10,72,11],[73,8,73,9],[73,10,73,11],[74,8,74,9],[74,10,74,11],[70,14,70,15],[70,16,70,17],[67,16,67,17],[68,14,68,15],[68,16,68,17],[67,14,67,15],[67,8,67,9],[67,10,67,11],[68,8,68,9],[68,10,68,11],[69,8,69,9],[69,10,69,11],[70,8,70,9],[70,10,70,11],[41,3,41,4],[6,13,6,15],[3,0,5,0],[3,2,4,5],[3,7,4,11],[3,13,4,16],[3,18,5,18],[69,14,69,15],[69,16,69,17],[61,14,61,15],[61,16,61,17],[62,14,62,15],[62,16,62,17],[53,3,53,4],[60,14,60,15],[60,16,60,17],[55,3,55,4],[56,3,56,4],[57,0,57,18],[58,14,58,15],[58,16,58,17],[59,14,59,15],[59,16,59,17],[66,14,66,15],[66,16,66,17],[63,14,63,15],[63,16,63,17],[64,14,64,15],[64,16,64,17],[63,8,63,9],[63,10,63,11],[64,8,64,9],[64,10,64,11],[65,8,65,9],[65,10,65,11],[66,8,66,9],[66,10,66,11],[65,14,65,15],[65,16,65,17],[62,5,62,7],[79,5,79,7],[80,5,80,7],[81,5,81,7],[82,5,82,7],[5,3,5,4],[0,0,1,18],[2,0,2,5],[2,11,2,12],[2,13,2,14],[2,16,2,17],[2,7,2,8],[42,3,42,4],[54,3,54,4],[43,3,43,4],[44,3,44,4],[45,3,45,4],[46,3,46,4],[47,3,47,4],[48,3,48,4],[49,3,49,4],[50,3,50,4],[51,3,51,4],[52,3,52,4],[83,5,83,7],[32,3,32,4],[33,3,33,4],[34,3,34,4],[35,3,35,4],[36,3,36,4],[37,3,37,4],[38,3,38,4],[39,3,39,4],[40,3,40,4],[63,5,63,7],[64,5,64,7],[65,5,65,7],[66,5,66,7],[67,5,67,7],[68,5,68,7],[69,5,69,7],[70,5,70,7],[71,5,71,7],[72,5,72,7],[58,5,58,7],[59,5,59,7],[60,5,60,7],[61,5,61,7],[58,8,58,9],[58,10,58,11],[59,8,59,9],[59,10,59,11],[60,8,60,9],[60,10,60,11],[61,8,61,9],[61,10,61,11],[62,8,62,9],[62,10,62,11],[79,8,79,9],[79,10,79,11],[80,8,80,9],[80,10,80,11],[81,8,81,9],[81,10,81,11],[82,8,82,9],[82,10,82,11],[83,8,83,9],[83,10,83,11],[5,9,5,10],[7,9,7,10],[8,9,8,10],[9,9,9,10],[10,9,10,10],[11,9,11,10],[12,9,12,10],[13,9,13,10],[14,9,14,10],[15,9,15,10],[16,9,16,10],[17,9,17,10],[18,9,18,10],[19,9,19,10],[20,9,20,10],[21,9,21,10],[22,9,22,10],[23,9,23,10],[41,9,41,10],[24,9,24,10],[25,9,25,10],[26,9,26,10],[27,9,27,10],[28,9,28,10],[29,9,29,10],[30,9,30,10],[31,9,31,10],[32,9,32,10],[51,9,51,10],[52,9,52,10],[53,9,53,10],[54,9,54,10],[55,9,55,10],[56,9,56,10],[2,9,2,10],[42,9,42,10],[43,9,43,10],[44,9,44,10],[45,9,45,10],[46,9,46,10],[47,9,47,10],[48,9,48,10],[49,9,49,10],[50,9,50,10],[33,9,33,10],[34,9,34,10],[35,9,35,10],[36,9,36,10],[37,9,37,10],[38,9,38,10],[39,9,39,10],[40,9,40,10]]}
["CARDHOLDER TRANSACTION LOG"]
[]
[null,null,null,null,null,null,null,{"$f":"'FUNDING SHEET'!$K$3","v":"CARDHOLDER NAME:"},null,{"$f":"'FUNDING SHEET'!$L$3","v":0},null,"CARD ACCOUNT NUMBER:",null,"XXXX-XXXX-XXXX-",null,{"$f":"'FUNDING SHEET'!$L$2","v":0},"FISCAL YEAR:",null,{"$f":"'FUNDING SHEET'!$L$1","v":0}]
["Log Number",null,"DATE",null,null,null,null,"PURCHASE DETAIL",null,null,null,null,null,"AMOUNT",null,null,null,null,"Account                     (see below)"]
[]
[null,null,"Date of Order","Date Received",null,"Statement Date",null,"Budget Object Class   (BOC)","VERNDOR           REQ # / CONTACT  (optional)","Item(s) purchased",null,"Vendor",null,"Amount","Paid by Conv. Check","Check Fee Amount (1.7%)","Total to Date"]
[null,null,null,null,null,null,null,null,null,null,null,null,null,"YEAR TO DATE EXPENDITURES",null,null,{"$f":"SUM(NOV!$Q$60:$R$84)+NOV!$Q$7","v":0},null,null,null,null,"ACCOUNT NUMBER"]
[1,null,null,null,null,null,null,{"$f":"IF(S8=$A$60,RIGHT($K$60,5),IF(S8=$A$61,RIGHT($K$61,5),IF(S8=$A$62,RIGHT($K$62,5),IF(S8=$A$63,RIGHT($K$63,5),IF(S8=$A$64,RIGHT($K$64,5),IF(S8=$A$65,RIGHT($K$65,5),IF(S8=$A$66,RIGHT($K$66,5),IF(S8=$A$67,RIGHT($K$67,5),IF(S8=$A$68,RIGHT($K$68,5),IF(S8=$A$69,RIGHT($K$69,5),IF(S8=$A$70,RIGHT($K$70,5),IF(S8=$A$71,RIGHT($K$71,5),IF(S8=$A$72,RIGHT($K$72,5),IF(S8=$A$73,RIGHT($K$73,5),IF(S8=$A$74,RIGHT($K$74,5),IF(S8=$A$75,RIGHT($K$75,5),IF(S8=$A$76,RIGHT($K$76,5),IF(S8=$A$77,RIGHT($K$77,5),IF(S8=$A$78,RIGHT($K$78,5),IF(S8=$A$79,RIGHT($K$79,5),IF(S8=$A$80,RIGHT($K$80,5),IF(S8=$A$81,RIGHT($K$81,5),IF(S8=$A$82,RIGHT($K$82,5),IF(S8=$A$83,RIGHT($K$83,5),IF(S8=$A$84,RIGHT($K$84,5),\"\")))))))))))))))))))))))))","v":""},null,null,null,null,null,null,null,{"$f":"IF(C8=\"\",\"\",IF(O8=\"Y\",N8*0.017,0))","v":""},{"$f":"IF(N8=\"\",\"\",Q7+N8+P8)","v":""},null,null,{"$f":"IF(F8=\"\",\"\",MONTH(F8))","v":""},null,{"$f":"IF('FUNDING SHEET'!A4=\"\",\"\",A60&\"   \"&'FUNDING SHEET'!D4&'FUNDING SHEET'!E4&\"  \"&'FUNDING SHEET'!F4)","v":""}]
[2,null,null,null,null,null,null,{"$f":"IF(S9=$A$60,RIGHT($K$60,5),IF(S9=$A$61,RIGHT($K$61,5),IF(S9=$A$62,RIGHT($K$62,5),IF(S9=$A$63,RIGHT($K$63,5),IF(S9=$A$64,RIGHT($K$64,5),IF(S9=$A$65,RIGHT($K$65,5),IF(S9=$A$66,RIGHT($K$66,5),IF(S9=$A$67,RIGHT($K$67,5),IF(S9=$A$68,RIGHT($K$68,5),IF(S9=$A$69,RIGHT($K$69,5),IF(S9=$A$70,RIGHT($K$70,5),IF(S9=$A$71,RIGHT($K$71,5),IF(S9=$A$72,RIGHT($K$72,5),IF(S9=$A$73,RIGHT($K$73,5),IF(S9=$A$74,RIGHT($K$74,5),IF(S9=$A$75,RIGHT($K$75,5),IF(S9=$A$76,RIGHT($K$76,5),IF(S9=$A$77,RIGHT($K$77,5),IF(S9=$A$78,RIGHT($K$78,5),IF(S9=$A$79,RIGHT($K$79,5),IF(S9=$A$80,RIGHT($K$80,5),IF(S9=$A$81,RIGHT($K$81,5),IF(S9=$A$82,RIGHT($K$82,5),IF(S9=$A$83,RIGHT($K$83,5),IF(S9=$A$84,RIGHT($K$84,5),\"\")))))))))))))))))))))))))","v":""},null,null,null,null,null,null,null,{"$f":"IF(C9=\"\",\"\",IF(O9=\"Y\",N9*0.017,0))","v":""},{"$f":"IF(N9=\"\",\"\",Q8+N9+P9)","v":""},null,null,{"$f":"IF(F9=\"\",\"\",MONTH(F9))","v":""},null,{"$f":"IF('FUNDING SHEET'!A5=\"\",\"\",A61&\"   \"&'FUNDING SHEET'!D5&'FUNDING SHEET'!E5&\"  \"&'FUNDING SHEET'!F5)","v":""}]
[3,null,null,null,null,null,null,"",null,null,null,null,null,null,null,"",{"$f":"IF(N10=\"\",\"\",Q9+N10+P10)","v":""},null,null,"",null,{"$f":"IF('FUNDING SHEET'!A6=\"\",\"\",A62&\"  \"&'FUNDING SHEET'!D6&\" \"&'FUNDING SHEET'!E6&\"  \"&'FUNDING SHEET'!F6)","v":""}]
[4,null,null,null,null,null,null,"",null,null,null,null,null,null,null,"","",null,null,"",null,{"$f":"IF('FUNDING SHEET'!A7=\"\",\"\",A63&\"  \"&'FUNDING SHEET'!D7&\" \"&'FUNDING SHEET'!E7&\"  \"&'FUNDING SHEET'!F7)","v":""}]
[5,null,null,null,null,null,null,"",null,null,null,null,null,null,null,"","",null,null,"",null,{"$f":"IF('FUNDING SHEET'!A8=\"\",\"\",A64&\"  \"&'FUNDING SHEET'!D8&\" \"&'FUNDING SHEET'!E8&\"  \"&'FUNDING SHEET'!F8)","v":""}]
[6,null,null,null,null,null,null,"",null,null,null,null,null,null,null,"","",null,null,"",null,{"$f":"IF('FUNDING SHEET'!A9=\"\",\"\",A65&\"  \"&'FUNDING SHEET'!D9&\" \"&'FUNDING SHEET'!E9&\"  \"&'FUNDING SHEET'!F9)","v":""}]
[7,null,null,null,null,null,null,"",null,null,null,null,null,null,null,"","",null,null,"",null,{"$f":"IF('FUNDING SHEET'!A10=\"\",\"\",A66&\"  \"&'FUNDING SHEET'!D10&\" \"&'FUNDING SHEET'!E10&\"  \"&'FUNDING SHEET'!F10)","v":""}]
[8,null,null,null,null,null,null,"",null,null,null,null,null,null,null,"","",null,null,"",null,{"$f":"IF('FUNDING SHEET'!A11=\"\",\"\",A67&\"  \"&'FUNDING SHEET'!D11&\" \"&'FUNDING SHEET'!E11&\"  \"&'FUNDING SHEET'!F11)","v":""}]
[9,null,null,null,null,null,null,"",null,null,null,null,null,null,null,"","",null,null,"",null,{"$f":"IF('FUNDING SHEET'!A12=\"\",\"\",A68&\"  \"&'FUNDING SHEET'!D12&\" \"&'FUNDING SHEET'!E12&\"  \"&'FUNDING SHEET'!F12)","v":""}]
[10,null,null,null,null,null,null,"",null,null,null,null,null,null,null,"","",null,null,"",null,{"$f":"IF('FUNDING SHEET'!A13=\"\",\"\",A69&\"  \"&'FUNDING SHEET'!D13&\" \"&'FUNDING SHEET'!E13&\"  \"&'FUNDING SHEET'!F13)","v":""}]
[11,null,null,null,null,null,null,"",null,null,null,null,null,null,null,"","",null,null,"",null,{"$f":"IF('FUNDING SHEET'!A14=\"\",\"\",A70&\"  \"&'FUNDING SHEET'!D14&\" \"&'FUNDING SHEET'!E14&\"  \"&'FUNDING SHEET'!F14)","v":""}]
[12,null,null,null,null,null,null,"",null,null,null,null,null,null,null,"","",null,null,"",null,{"$f":"IF('FUNDING SHEET'!A15=\"\",\"\",A71&\"  \"&'FUNDING SHEET'!D15&\" \"&'FUNDING SHEET'!E15&\"  \"&'FUNDING SHEET'!F15)","v":""}]
[13,null,null,null,null,null,null,"",null,null,null,null,null,null,null,"","",null,null,"",null,{"$f":"IF('FUNDING SHEET'!A16=\"\",\"\",A72&\"  \"&'FUNDING SHEET'!D16&\" \"&'FUNDING SHEET'!E16&\"  \"&'FUNDING SHEET'!F16)","v":""}]
[14,null,null,null,null,null,null,"",null,null,null,null,null,null,null,"","",null,null,"",null,{"$f":"IF('FUNDING SHEET'!A17=\"\",\"\",A73&\"  \"&'FUNDING SHEET'!D17&\" \"&'FUNDING SHEET'!E17&\"  \"&'FUNDING SHEET'!F17)","v":""}]
[15,null,null,null,null,null,null,"",null,null,null,null,null,null,null,"","",null,null,"",null,{"$f":"IF('FUNDING SHEET'!A18=\"\",\"\",A74&\"  \"&'FUNDING SHEET'!D18&\" \"&'FUNDING SHEET'!E18&\"  \"&'FUNDING SHEET'!F18)","v":""}]
[16,null,null,null,null,null,null,"",null,null,null,null,null,null,null,"","",null,null,"",null,{"$f":"IF('FUNDING SHEET'!A19=\"\",\"\",A75&\"  \"&'FUNDING SHEET'!D19&\" \"&'FUNDING SHEET'!E19&\"  \"&'FUNDING SHEET'!F19)","v":""}]
[17,null,null,null,null,null,null,"",null,null,null,null,null,null,null,"","",null,null,"",null,{"$f":"IF('FUNDING SHEET'!A20=\"\",\"\",A76&\"  \"&'FUNDING SHEET'!D20&\" \"&'FUNDING SHEET'!E20&\"  \"&'FUNDING SHEET'!F20)","v":""}]
[18,null,null,null,null,null,null,"",null,null,null,null,null,null,null,"","",null,null,"",null,{"$f":"IF('FUNDING SHEET'!A21=\"\",\"\",A77&\"  \"&'FUNDING SHEET'!D21&\" \"&'FUNDING SHEET'!E21&\"  \"&'FUNDING SHEET'!F21)","v":""}]
[19,null,null,null,null,null,null,"",null,null,null,null,null,null,null,"","",null,null,"",null,{"$f":"IF('FUNDING SHEET'!A22=\"\",\"\",A78&\"  \"&'FUNDING SHEET'!D22&\" \"&'FUNDING SHEET'!E22&\"  \"&'FUNDING SHEET'!F22)","v":""}]
[20,null,null,null,null,null,null,"",null,null,null,null,null,null,null,"","",null,null,"",null,{"$f":"IF('FUNDING SHEET'!A23=\"\",\"\",A79&\"  \"&'FUNDING SHEET'!D23&\" \"&'FUNDING SHEET'!E23&\"  \"&'FUNDING SHEET'!F23)","v":""}]
[21,null,null,null,null,null,null,"",null,null,null,null,null,null,null,"","",null,null,"",null,{"$f":"IF('FUNDING SHEET'!A24=\"\",\"\",A80&\"  \"&'FUNDING SHEET'!D24&\" \"&'FUNDING SHEET'!E24&\"  \"&'FUNDING SHEET'!F24)","v":""}]
[22,null,null,null,null,null,null,"",null,null,null,null,null,null,null,"","",null,null,"",null,{"$f":"IF('FUNDING SHEET'!A25=\"\",\"\",A81&\"  \"&'FUNDING SHEET'!D25&\" \"&'FUNDING SHEET'!E25&\"  \"&'FUNDING SHEET'!F25)","v":""}]
[23,null,null,null,null,null,null,"",null,null,null,null,null,null,null,"","",null,null,"",null,{"$f":"IF('FUNDING SHEET'!A26=\"\",\"\",A82&\"  \"&'FUNDING SHEET'!D26&\" \"&'FUNDING SHEET'!E26&\"  \"&'FUNDING SHEET'!F26)","v":""}]
[24,null,null,null,null,null,null,"",null,null,null,null,null,null,null,"","",null,null,"",null,{"$f":"IF('FUNDING SHEET'!A27=\"\",\"\",A83&\"  \"&'FUNDING SHEET'!D27&\" \"&'FUNDING SHEET'!E27&\"  \"&'FUNDING SHEET'!F27)","v":""}]
[25,null,null,null,null,null,null,"",null,null,null,null,null,null,null,"","",null,null,"",null,{"$f":"IF('FUNDING SHEET'!A28=\"\",\"\",A84&\"  \"&'FUNDING SHEET'!D28&\" \"&'FUNDING SHEET'!E28&\"  \"&'FUNDING SHEET'!F28)","v":""}]
[26,null,null,null,null,null,null,"",null,null,null,null,null,null,null,"","",null,null,""]
[27,null,null,null,null,null,null,"",null,null,null,null,null,null,null,"","",null,null,""]
[28,null,null,null,null,null,null,"",null,null,null,null,null,null,null,"","",null,null,""]
[29,null,null,null,null,null,null,"",null,null,null,null,null,null,null,"","",null,null,""]
[30,null,null,null,null,null,null,"",null,null,null,null,null,null,null,"","",null,null,""]
[31,null,null,null,null,null,null,"",null,null,null,null,null,null,null,"","",null,null,""]
[32,null,null,null,null,null,null,"",null,null,null,null,null,null,null,"","",null,null,""]
[33,null,null,null,null,null,null,"",null,null,null,null,null,null,null,"","",null,null,""]
[34,null,null,null,null,null,null,"",null,null,null,null,null,null,null,"","",null,null,""]
[35,null,null,null,null,null,null,"",null,null,null,null,null,null,null,"","",null,null,""]
[36,null,null,null,null,null,null,"",null,null,null,null,null,null,null,"","",null,null,""]
[37,null,null,null,null,null,null,"",null,null,null,null,null,null,null,"","",null,null,""]
[38,null,null,null,null,null,null,"",null,null,null,null,null,null,null,"","",null,null,""]
[39,null,null,null,null,null,null,"",null,null,null,null,null,null,null,"","",null,null,""]
[40,null,null,null,null,null,null,"",null,null,null,null,null,null,null,"","",null,null,""]
[41,null,null,null,null,null,null,"",null,null,null,null,null,null,null,"","",null,null,""]
[42,null,null,null,null,null,null,"",null,null,null,null,null,null,null,"","",null,null,""]
[43,null,null,null,null,null,null,"",null,null,null,null,null,null,null,"","",null,null,""]
[44,null,null,null,null,null,null,"",null,null,null,null,null,null,null,"","",null,null,""]
[45,null,null,null,null,null,null,"",null,null,null,null,null,null,null,"","",null,null,""]
[46,null,null,null,null,null,null,"",null,null,null,null,null,null,null,"","",null,null,""]
[47,null,null,null,null,null,null,"",null,null,null,null,null,null,null,"","",null,null,""]
[48,null,null,null,null,null,null,"",null,null,null,null,null,null,null,"","",null,null,""]
[49,null,null,null,null,null,null,"",null,null,null,null,null,null,null,"","",null,null,""]
[50,null,null,null,null,null,null,"",null,null,null,null,null,null,null,"","",null,null,""]
["ACCOUNT INFORMATION"]
["Line #",null,"Date",null,"PR #","PROJECT",null,null,"LINE ITEM NOMENCLATURE",null,"ACCOUNT NUMBER (WITH BOC)",null,null,"PR Funding","Previous Expenditures",null,"Current Expenditures",null,"Remaining Funds"]
[1,null,{"$f":"IF('FUNDING SHEET'!A4=\"\",\"\",'FUNDING SHEET'!A4)","v":""},null,{"$f":"IF('FUNDING SHEET'!B4=\"\",\"\",'FUNDING SHEET'!B4)","v":""},null,null,null,{"$f":"IF('FUNDING SHEET'!C4=\"\",\"\",'FUNDING SHEET'!C4)","v":""},null,{"$f":"'FUNDING SHEET'!J4","v":"    "},null,null,{"$f":"SUMIF('FUNDING SHEET'!$J$4:$J$28,K60,'FUNDING SHEET'!$I$4:$I$28)+SUMIF('FUNDING SHEET'!$J$30:$J$229,K60,'FUNDING SHEET'!$H$30:$H$229)","v":0},{"$f":"SUM(NOV!O60:R60)","v":0},null,{"$f":"SUMIF($S$8:$S$57,A60,$N$8:$N$57)+SUMIF($S$8:$S$57,A60,$P$8:$P$57)","v":0},null,{"$f":"N60-O60-Q60","v":0}]
[2,null,{"$f":"IF('FUNDING SHEET'!A5=\"\",\"\",'FUNDING SHEET'!A5)","v":""},null,{"$f":"IF('FUNDING SHEET'!B5=\"\",\"\",'FUNDING SHEET'!B5)","v":""},null,null,null,{"$f":"IF('FUNDING SHEET'!C5=\"\",\"\",'FUNDING SHEET'!C5)","v":""},null,{"$f":"'FUNDING SHEET'!J5","v":"    "},null,null,{"$f":"SUMIF('FUNDING SHEET'!$J$4:$J$28,K61,'FUNDING SHEET'!$I$4:$I$28)+SUMIF('FUNDING SHEET'!$J$30:$J$229,K61,'FUNDING SHEET'!$H$30:$H$229)","v":0},{"$f":"SUM(NOV!O61:R61)","v":0},null,0,null,0]
[3,null,{"$f":"IF('FUNDING SHEET'!A6=\"\",\"\",'FUNDING SHEET'!A6)","v":""},null,{"$f":"IF('FUNDING SHEET'!B6=\"\",\"\",'FUNDING SHEET'!B6)","v":""},null,null,null,{"$f":"IF('FUNDING SHEET'!C6=\"\",\"\",'FUNDING SHEET'!C6)","v":""},null,{"$f":"'FUNDING SHEET'!J6","v":"    "},null,null,{"$f":"SUMIF('FUNDING SHEET'!$J$4:$J$28,K62,'FUNDING SHEET'!$I$4:$I$28)+SUMIF('FUNDING SHEET'!$J$30:$J$229,K62,'FUNDING SHEET'!$H$30:$H$229)","v":0},{"$f":"SUM(NOV!O62:R62)","v":0},null,0,null,0]
[4,null,{"$f":"IF('FUNDING SHEET'!A7=\"\",\"\",'FUNDING SHEET'!A7)","v":""},null,{"$f":"IF('FUNDING SHEET'!B7=\"\",\"\",'FUNDING SHEET'!B7)","v":""},null,null,null,{"$f":"IF('FUNDING SHEET'!C7=\"\",\"\",'FUNDING SHEET'!C7)","v":""},null,{"$f":"'FUNDING SHEET'!J7","v":"    "},null,null,{"$f":"SUMIF('FUNDING SHEET'!$J$4:$J$28,K63,'FUNDING SHEET'!$I$4:$I$28)+SUMIF('FUNDING SHEET'!$J$30:$J$229,K63,'FUNDING SHEET'!$H$30:$H$229)","v":0},{"$f":"SUM(NOV!O63:R63)","v":0},null,0,null,0]
[5,null,{"$f":"IF('FUNDING SHEET'!A8=\"\",\"\",'FUNDING SHEET'!A8)","v":""},null,{"$f":"IF('FUNDING SHEET'!B8=\"\",\"\",'FUNDING SHEET'!B8)","v":""},null,null,null,{"$f":"IF('FUNDING SHEET'!C8=\"\",\"\",'FUNDING SHEET'!C8)","v":""},null,{"$f":"'FUNDING SHEET'!J8","v":"    "},null,null,{"$f":"SUMIF('FUNDING SHEET'!$J$4:$J$28,K64,'FUNDING SHEET'!$I$4:$I$28)+SUMIF('FUNDING SHEET'!$J$30:$J$229,K64,'FUNDING SHEET'!$H$30:$H$229)","v":0},{"$f":"SUM(NOV!O64:R64)","v":0},null,0,null,0]
[6,null,{"$f":"IF('FUNDING SHEET'!A9=\"\",\"\",'FUNDING SHEET'!A9)","v":""},null,{"$f":"IF('FUNDING SHEET'!B9=\"\",\"\",'FUNDING SHEET'!B9)","v":""},null,null,null,{"$f":"IF('FUNDING SHEET'!C9=\"\",\"\",'FUNDING SHEET'!C9)","v":""},null,{"$f":"'FUNDING SHEET'!J9","v":"    "},null,null,{"$f":"SUMIF('FUNDING SHEET'!$J$4:$J$28,K65,'FUNDING SHEET'!$I$4:$I$28)+SUMIF('FUNDING SHEET'!$J$30:$J$229,K65,'FUNDING SHEET'!$H$30:$H$229)","v":0},{"$f":"SUM(NOV!O65:R65)","v":0},null,0,null,0]
[7,null,{"$f":"IF('FUNDING SHEET'!A10=\"\",\"\",'FUNDING SHEET'!A10)","v":""},null,{"$f":"IF('FUNDING SHEET'!B10=\"\",\"\",'FUNDING SHEET'!B10)","v":""},null,null,null,{"$f":"IF('FUNDING SHEET'!C10=\"\",\"\",'FUNDING SHEET'!C10)","v":""},null,{"$f":"'FUNDING SHEET'!J10","v":"    "},null,null,{"$f":"SUMIF('FUNDING SHEET'!$J$4:$J$28,K66,'FUNDING SHEET'!$I$4:$I$28)+SUMIF('FUNDING SHEET'!$J$30:$J$229,K66,'FUNDING SHEET'!$H$30:$H$229)","v":0},{"$f":"SUM(NOV!O66:R66)","v":0},null,0,null,0]
[8,null,{"$f":"IF('FUNDING SHEET'!A11=\"\",\"\",'FUNDING SHEET'!A11)","v":""},null,{"$f":"IF('FUNDING SHEET'!B11=\"\",\"\",'FUNDING SHEET'!B11)","v":""},null,null,null,{"$f":"IF('FUNDING SHEET'!C11=\"\",\"\",'FUNDING SHEET'!C11)","v":""},null,{"$f":"'FUNDING SHEET'!J11","v":"    "},null,null,{"$f":"SUMIF('FUNDING SHEET'!$J$4:$J$28,K67,'FUNDING SHEET'!$I$4:$I$28)+SUMIF('FUNDING SHEET'!$J$30:$J$229,K67,'FUNDING SHEET'!$H$30:$H$229)","v":0},{"$f":"SUM(NOV!O67:R67)","v":0},null,0,null,0]
[9,null,{"$f":"IF('FUNDING SHEET'!A12=\"\",\"\",'FUNDING SHEET'!A12)","v":""},null,{"$f":"IF('FUNDING SHEET'!B12=\"\",\"\",'FUNDING SHEET'!B12)","v":""},null,null,null,{"$f":"IF('FUNDING SHEET'!C12=\"\",\"\",'FUNDING SHEET'!C12)","v":""},null,{"$f":"'FUNDING SHEET'!J12","v":"    "},null,null,{"$f":"SUMIF('FUNDING SHEET'!$J$4:$J$28,K68,'FUNDING SHEET'!$I$4:$I$28)+SUMIF('FUNDING SHEET'!$J$30:$J$229,K68,'FUNDING SHEET'!$H$30:$H$229)","v":0},{"$f":"SUM(NOV!O68:R68)","v":0},null,0,null,0]
[10,null,{"$f":"IF('FUNDING SHEET'!A13=\"\",\"\",'FUNDING SHEET'!A13)","v":""},null,{"$f":"IF('FUNDING SHEET'!B13=\"\",\"\",'FUNDING SHEET'!B13)","v":""},null,null,null,{"$f":"IF('FUNDING SHEET'!C13=\"\",\"\",'FUNDING SHEET'!C13)","v":""},null,{"$f":"'FUNDING SHEET'!J13","v":"    "},null,null,{"$f":"SUMIF('FUNDING SHEET'!$J$4:$J$28,K69,'FUNDING SHEET'!$I$4:$I$28)+SUMIF('FUNDING SHEET'!$J$30:$J$229,K69,'FUNDING SHEET'!$H$30:$H$229)","v":0},{"$f":"SUM(NOV!O69:R69)","v":0},null,0,null,0]
[11,null,{"$f":"IF('FUNDING SHEET'!A14=\"\",\"\",'FUNDING SHEET'!A14)","v":""},null,{"$f":"IF('FUNDING SHEET'!B14=\"\",\"\",'FUNDING SHEET'!B14)","v":""},null,null,null,{"$f":"IF('FUNDING SHEET'!C14=\"\",\"\",'FUNDING SHEET'!C14)","v":""},null,{"$f":"'FUNDING SHEET'!J14","v":"    "},null,null,{"$f":"SUMIF('FUNDING SHEET'!$J$4:$J$28,K70,'FUNDING SHEET'!$I$4:$I$28)+SUMIF('FUNDING SHEET'!$J$30:$J$229,K70,'FUNDING SHEET'!$H$30:$H$229)","v":0},{"$f":"SUM(NOV!O70:R70)","v":0},null,0,null,0]
[12,null,{"$f":"IF('FUNDING SHEET'!A15=\"\",\"\",'FUNDING SHEET'!A15)","v":""},null,{"$f":"IF('FUNDING SHEET'!B15=\"\",\"\",'FUNDING SHEET'!B15)","v":""},null,null,null,{"$f":"IF('FUNDING SHEET'!C15=\"\",\"\",'FUNDING SHEET'!C15)","v":""},null,{"$f":"'FUNDING SHEET'!J15","v":"    "},null,null,{"$f":"SUMIF('FUNDING SHEET'!$J$4:$J$28,K71,'FUNDING SHEET'!$I$4:$I$28)+SUMIF('FUNDING SHEET'!$J$30:$J$229,K71,'FUNDING SHEET'!$H$30:$H$229)","v":0},{"$f":"SUM(NOV!O71:R71)","v":0},null,0,null,0]
[13,null,{"$f":"IF('FUNDING SHEET'!A16=\"\",\"\",'FUNDING SHEET'!A16)","v":""},null,{"$f":"IF('FUNDING SHEET'!B16=\"\",\"\",'FUNDING SHEET'!B16)","v":""},null,null,null,{"$f":"IF('FUNDING SHEET'!C16=\"\",\"\",'FUNDING SHEET'!C16)","v":""},null,{"$f":"'FUNDING SHEET'!J16","v":"    "},null,null,{"$f":"SUMIF('FUNDING SHEET'!$J$4:$J$28,K72,'FUNDING SHEET'!$I$4:$I$28)+SUMIF('FUNDING SHEET'!$J$30:$J$229,K72,'FUNDING SHEET'!$H$30:$H$229)","v":0},{"$f":"SUM(NOV!O72:R72)","v":0},null,0,null,0]
[14,null,{"$f":"IF('FUNDING SHEET'!A17=\"\",\"\",'FUNDING SHEET'!A17)","v":""},null,{"$f":"IF('FUNDING SHEET'!B17=\"\",\"\",'FUNDING SHEET'!B17)","v":""},null,null,null,{"$f":"IF('FUNDING SHEET'!C17=\"\",\"\",'FUNDING SHEET'!C17)","v":""},null,{"$f":"'FUNDING SHEET'!J17","v":"    "},null,null,{"$f":"SUMIF('FUNDING SHEET'!$J$4:$J$28,K73,'FUNDING SHEET'!$I$4:$I$28)+SUMIF('FUNDING SHEET'!$J$30:$J$229,K73,'FUNDING SHEET'!$H$30:$H$229)","v":0},{"$f":"SUM(NOV!O73:R73)","v":0},null,0,null,0]
[15,null,{"$f":"IF('FUNDING SHEET'!A18=\"\",\"\",'FUNDING SHEET'!A18)","v":""},null,{"$f":"IF('FUNDING SHEET'!B18=\"\",\"\",'FUNDING SHEET'!B18)","v":""},null,null,null,{"$f":"IF('FUNDING SHEET'!C18=\"\",\"\",'FUNDING SHEET'!C18)","v":""},null,{"$f":"'FUNDING SHEET'!J18","v":"    "},null,null,{"$f":"SUMIF('FUNDING SHEET'!$J$4:$J$28,K74,'FUNDING SHEET'!$I$4:$I$28)+SUMIF('FUNDING SHEET'!$J$30:$J$229,K74,'FUNDING SHEET'!$H$30:$H$229)","v":0},{"$f":"SUM(NOV!O74:R74)","v":0},null,0,null,0]
[16,null,{"$f":"IF('FUNDING SHEET'!A19=\"\",\"\",'FUNDING SHEET'!A19)","v":""},null,{"$f":"IF('FUNDING SHEET'!B19=\"\",\"\",'FUNDING SHEET'!B19)","v":""},null,null,null,{"$f":"IF('FUNDING SHEET'!C19=\"\",\"\",'FUNDING SHEET'!C19)","v":""},null,{"$f":"'FUNDING SHEET'!J19","v":"    "},null,null,{"$f":"SUMIF('FUNDING SHEET'!$J$4:$J$28,K75,'FUNDING SHEET'!$I$4:$I$28)+SUMIF('FUNDING SHEET'!$J$30:$J$229,K75,'FUNDING SHEET'!$H$30:$H$229)","v":0},{"$f":"SUM(NOV!O75:R75)","v":0},null,0,null,0]
[17,null,{"$f":"IF('FUNDING SHEET'!A20=\"\",\"\",'FUNDING SHEET'!A20)","v":""},null,{"$f":"IF('FUNDING SHEET'!B20=\"\",\"\",'FUNDING SHEET'!B20)","v":""},null,null,null,{"$f":"IF('FUNDING SHEET'!C20=\"\",\"\",'FUNDING SHEET'!C20)","v":""},null,{"$f":"'FUNDING SHEET'!J20","v":"    "},null,null,{"$f":"SUMIF('FUNDING SHEET'!$J$4:$J$28,K76,'FUNDING SHEET'!$I$4:$I$28)+SUMIF('FUNDING SHEET'!$J$30:$J$229,K76,'FUNDING SHEET'!$H$30:$H$229)","v":0},{"$f":"SUM(NOV!O76:R76)","v":0},null,0,null,0]
[18,null,{"$f":"IF('FUNDING SHEET'!A21=\"\",\"\",'FUNDING SHEET'!A21)","v":""},null,{"$f":"IF('FUNDING SHEET'!B21=\"\",\"\",'FUNDING SHEET'!B21)","v":""},null,null,null,{"$f":"IF('FUNDING SHEET'!C21=\"\",\"\",'FUNDING SHEET'!C21)","v":""},null,{"$f":"'FUNDING SHEET'!J21","v":"    "},null,null,{"$f":"SUMIF('FUNDING SHEET'!$J$4:$J$28,K77,'FUNDING SHEET'!$I$4:$I$28)+SUMIF('FUNDING SHEET'!$J$30:$J$229,K77,'FUNDING SHEET'!$H$30:$H$229)","v":0},{"$f":"SUM(NOV!O77:R77)","v":0},null,0,null,0]
[19,null,{"$f":"IF('FUNDING SHEET'!A22=\"\",\"\",'FUNDING SHEET'!A22)","v":""},null,{"$f":"IF('FUNDING SHEET'!B22=\"\",\"\",'FUNDING SHEET'!B22)","v":""},null,null,null,{"$f":"IF('FUNDING SHEET'!C22=\"\",\"\",'FUNDING SHEET'!C22)","v":""},null,{"$f":"'FUNDING SHEET'!J22","v":"    "},null,null,{"$f":"SUMIF('FUNDING SHEET'!$J$4:$J$28,K78,'FUNDING SHEET'!$I$4:$I$28)+SUMIF('FUNDING SHEET'!$J$30:$J$229,K78,'FUNDING SHEET'!$H$30:$H$229)","v":0},{"$f":"SUM(NOV!O78:R78)","v":0},null,0,null,0]
[20,null,{"$f":"IF('FUNDING SHEET'!A23=\"\",\"\",'FUNDING SHEET'!A23)","v":""},null,{"$f":"IF('FUNDING SHEET'!B23=\"\",\"\",'FUNDING SHEET'!B23)","v":""},null,null,null,{"$f":"IF('FUNDING SHEET'!C23=\"\",\"\",'FUNDING SHEET'!C23)","v":""},null,{"$f":"'FUNDING SHEET'!J23","v":"    "},null,null,{"$f":"SUMIF('FUNDING SHEET'!$J$4:$J$28,K79,'FUNDING SHEET'!$I$4:$I$28)+SUMIF('FUNDING SHEET'!$J$30:$J$229,K79,'FUNDING SHEET'!$H$30:$H$229)","v":0},{"$f":"SUM(NOV!O79:R79)","v":0},null,0,null,0]
[21,null,{"$f":"IF('FUNDING SHEET'!A24=\"\",\"\",'FUNDING SHEET'!A24)","v":""},null,{"$f":"IF('FUNDING SHEET'!B24=\"\",\"\",'FUNDING SHEET'!B24)","v":""},null,null,null,{"$f":"IF('FUNDING SHEET'!C24=\"\",\"\",'FUNDING SHEET'!C24)","v":""},null,{"$f":"'FUNDING SHEET'!J24","v":"    "},null,null,{"$f":"SUMIF('FUNDING SHEET'!$J$4:$J$28,K80,'FUNDING SHEET'!$I$4:$I$28)+SUMIF('FUNDING SHEET'!$J$30:$J$229,K80,'FUNDING SHEET'!$H$30:$H$229)","v":0},{"$f":"SUM(NOV!O80:R80)","v":0},null,0,null,0]
[22,null,{"$f":"IF('FUNDING SHEET'!A25=\"\",\"\",'FUNDING SHEET'!A25)","v":""},null,{"$f":"IF('FUNDING SHEET'!B25=\"\",\"\",'FUNDING SHEET'!B25)","v":""},null,null,null,{"$f":"IF('FUNDING SHEET'!C25=\"\",\"\",'FUNDING SHEET'!C25)","v":""},null,{"$f":"'FUNDING SHEET'!J25","v":"    "},null,null,{"$f":"SUMIF('FUNDING SHEET'!$J$4:$J$28,K81,'FUNDING SHEET'!$I$4:$I$28)+SUMIF('FUNDING SHEET'!$J$30:$J$229,K81,'FUNDING SHEET'!$H$30:$H$229)","v":0},{"$f":"SUM(NOV!O81:R81)","v":0},null,0,null,0]
[23,null,{"$f":"IF('FUNDING SHEET'!A26=\"\",\"\",'FUNDING SHEET'!A26)","v":""},null,{"$f":"IF('FUNDING SHEET'!B26=\"\",\"\",'FUNDING SHEET'!B26)","v":""},null,null,null,{"$f":"IF('FUNDING SHEET'!C26=\"\",\"\",'FUNDING SHEET'!C26)","v":""},null,{"$f":"'FUNDING SHEET'!J26","v":"    "},null,null,{"$f":"SUMIF('FUNDING SHEET'!$J$4:$J$28,K82,'FUNDING SHEET'!$I$4:$I$28)+SUMIF('FUNDING SHEET'!$J$30:$J$229,K82,'FUNDING SHEET'!$H$30:$H$229)","v":0},{"$f":"SUM(NOV!O82:R82)","v":0},null,0,null,0]
[24,null,{"$f":"IF('FUNDING SHEET'!A27=\"\",\"\",'FUNDING SHEET'!A27)","v":""},null,{"$f":"IF('FUNDING SHEET'!B27=\"\",\"\",'FUNDING SHEET'!B27)","v":""},null,null,null,{"$f":"IF('FUNDING SHEET'!C27=\"\",\"\",'FUNDING SHEET'!C27)","v":""},null,{"$f":"'FUNDING SHEET'!J27","v":"    "},null,null,{"$f":"SUMIF('FUNDING SHEET'!$J$4:$J$28,K83,'FUNDING SHEET'!$I$4:$I$28)+SUMIF('FUNDING SHEET'!$J$30:$J$229,K83,'FUNDING SHEET'!$H$30:$H$229)","v":0},{"$f":"SUM(NOV!O83:R83)","v":0},null,0,null,0]
[25,null,{"$f":"IF('FUNDING SHEET'!A28=\"\",\"\",'FUNDING SHEET'!A28)","v":""},null,{"$f":"IF('FUNDING SHEET'!B28=\"\",\"\",'FUNDING SHEET'!B28)","v":""},null,null,null,{"$f":"IF('FUNDING SHEET'!C28=\"\",\"\",'FUNDING SHEET'!C28)","v":""},null,{"$f":"'FUNDING SHEET'!J28","v":"    "},null,null,{"$f":"SUMIF('FUNDING SHEET'!$J$4:$J$28,K84,'FUNDING SHEET'!$I$4:$I$28)+SUMIF('FUNDING SHEET'!$J$30:$J$229,K84,'FUNDING SHEET'!$H$30:$H$229)","v":0},{"$f":"SUM(NOV!O84:R84)","v":0},null,0,null,0]
[null,null,null,null,null,null,null,null,null,null,null,"TOTALS:",null,{"$f":"SUM(N60:N84)","v":0},{"$f":"SUM(O60:O84)","v":0},null,{"$f":"SUM(Q60:Q84)","v":0},null,{"$f":"SUM(S60:S84)","v":0}]

{"sheet":"JAN","index":6,"n_rows":85,"n_cols":22,"rows_kept":85,"cut":false,"hidden":false,"merged":[[84,14,84,15],[30,3,30,4],[29,3,29,4],[18,3,18,4],[19,3,19,4],[20,3,20,4],[21,3,21,4],[22,3,22,4],[23,3,23,4],[24,3,24,4],[25,3,25,4],[26,3,26,4],[27,3,27,4],[28,3,28,4],[81,14,81,15],[82,14,82,15],[69,14,69,15],[62,5,62,7],[53,3,53,4],[39,3,39,4],[80,5,80,7],[81,5,81,7],[82,5,82,7],[83,5,83,7],[69,16,69,17],[59,16,59,17],[41,3,41,4],[70,14,70,15],[70,16,70,17],[67,16,67,17],[83,14,83,15],[83,16,83,17],[81,16,81,17],[82,16,82,17],[79,14,79,15],[79,16,79,17],[80,14,80,15],[80,16,80,17],[74,16,74,17],[71,14,71,15],[71,16,71,17],[72,14,72,15],[72,16,72,17],[59,14,59,15],[58,5,58,7],[59,5,59,7],[60,5,60,7],[61,5,61,7],[7,3,7,4],[8,3,8,4],[9,3,9,4],[10,3,10,4],[11,3,11,4],[12,3,12,4],[13,3,13,4],[14,3,14,4],[15,3,15,4],[17,3,17,4],[77,14,77,15],[77,16,77,17],[78,14,78,15],[78,16,78,17],[75,14,75,15],[75,16,75,17],[76,14,76,15],[76,16,76,17],[73,14,73,15],[73,16,73,17],[74,14,74,15],[65,14,65,15],[65,16,65,17],[61,14,61,15],[61,16,61,17],[62,14,62,15],[62,16,62,17],[60,14,60,15],[60,16,60,17],[63,14,63,15],[63,16,63,17],[64,14,64,15],[64,16,64,17],[6,13,6,15],[68,14,68,15],[68,16,68,17],[67,14,67,15],[67,5,67,7],[68,5,68,7],[69,5,69,7],[70,5,70,7],[63,5,63,7],[64,5,64,7],[65,5,65,7],[66,5,66,7],[66,14,66,15],[66,16,66,17],[65,8,65,9],[65,10,65,11],[66,8,66,9],[66,10,66,11],[67,8,67,9],[67,10,67,11],[68,8,68,9],[57,0,57,18],[58,14,58,15],[58,16,58,17],[3,13,4,16],[3,18,5,18],[5,3,5,4],[0,0,1,18],[2,0,2,5],[2,11,2,12],[2,13,2,14],[2,16,2,17],[2,7,2,8],[5,9,5,10],[3,0,5,0],[3,2,4,5],[3,7,4,11],[16,3,16,4],[55,3,55,4],[56,3,56,4],[40,3,40,4],[42,3,42,4],[54,3,54,4],[43,3,43,4],[44,3,44,4],[45,3,45,4],[46,3,46,4],[47,3,47,4],[48,3,48,4],[49,3,49,4],[50,3,50,4],[51,3,51,4],[52,3,52,4],[31,3,31,4],[32,3,32,4],[33,3,33,4],[34,3,34,4],[35,3,35,4],[36,3,36,4],[37,3,37,4],[38,3,38,4],[71,5,71,7],[72,5,72,7],[73,5,73,7],[74,5,74,7],[75,5,75,7],[76,5,76,7],[77,5,77,7],[78,5,78,7],[79,5,79,7],[7,9,7,10],[8,9,8,10],[9,9,9,10],[10,9,10,10],[11,9,11,10],[12,9,12,10],[13,9,13,10],[14,9,14,10],[15,9,15,10],[16,9,16,10],[17,9,17,10],[18,9,18,10],[19,9,19,10],[20,9,20,10],[21,9,21,10],[22,9,22,10],[23,9,23,10],[24,9,24,10],[25,9,25,10],[26,9,26,10],[27,9,27,10],[28,9,28,10],[29,9,29,10],[30,9,30,10],[31,9,31,10],[32,9,32,10],[33,9,33,10],[34,9,34,10],[35,9,35,10],[36,9,36,10],[37,9,37,10],[38,9,38,10],[39,9,39,10],[40,9,40,10],[41,9,41,10],[42,9,42,10],[43,9,43,10],[44,9,44,10],[45,9,45,10],[46,9,46,10],[47,9,47,10],[48,9,48,10],[49,9,49,10],[50,9,50,10],[51,9,51,10],[52,9,52,10],[53,9,53,10],[54,9,54,10],[55,9,55,10],[56,9,56,10],[58,8,58,9],[58,10,58,11],[59,8,59,9],[59,10,59,11],[69,8,69,9],[69,10,69,11],[70,8,70,9],[70,10,70,11],[71,8,71,9],[71,10,71,11],[72,8,72,9],[72,10,72,11],[60,8,60,9],[60,10,60,11],[61,8,61,9],[61,10,61,11],[62,8,62,9],[62,10,62,11],[63,8,63,9],[63,10,63,11],[64,8,64,9],[64,10,64,11],[83,8,83,9],[83,10,83,11],[2,9,2,10],[78,8,78,9],[78,10,78,11],[79,8,79,9],[79,10,79,11],[80,8,80,9],[80,10,80,11],[81,8,81,9],[81,10,81,11],[82,8,82,9],[82,10,82,11],[73,8,73,9],[73,10,73,11],[74,8,74,9],[74,10,74,11],[75,8,75,9],[75,10,75,11],[76,8,76,9],[76,10,76,11],[77,8,77,9],[77,10,77,11],[68,10,68,11]]}
["CARDHOLDER TRANSACTION LOG"]
[]
[null,null,null,null,null,null,null,{"$f":"'FUNDING SHEET'!$K$3","v":"CARDHOLDER NAME:"},null,{"$f":"'FUNDING SHEET'!$L$3","v":0},null,"CARD ACCOUNT NUMBER:",null,"XXXX-XXXX-XXXX-",null,{"$f":"'FUNDING SHEET'!$L$2","v":0},"FISCAL YEAR:",null,{"$f":"'FUNDING SHEET'!$L$1","v":0}]
["Log Number",null,"DATE",null,null,null,null,"PURCHASE DETAIL",null,null,null,null,null,"AMOUNT",null,null,null,null,"Account                     (see below)"]
[]
[null,null,"Date of Order","Date Received",null,"Statement Date",null,"Budget Object Class   (BOC)","VERNDOR           REQ # / CONTACT  (optional)","Item(s) purchased",null,"Vendor",null,"Amount","Paid by Conv. Check","Check Fee Amount (1.7%)","Total to Date"]
[null,null,null,null,null,null,null,null,null,null,null,null,null,"YEAR TO DATE EXPENDITURES",null,null,{"$f":"SUM(DEC!$Q$60:$R$84)+DEC!$Q$7","v":0},null,null,null,null,"ACCOUNT NUMBER"]
[1,null,null,null,null,null,null,{"$f":"IF(S8=$A$60,RIGHT($K$60,5),IF(S8=$A$61,RIGHT($K$61,5),IF(S8=$A$62,RIGHT($K$62,5),IF(S8=$A$63,RIGHT($K$63,5),IF(S8=$A$64,RIGHT($K$64,5),IF(S8=$A$65,RIGHT($K$65,5),IF(S8=$A$66,RIGHT($K$66,5),IF(S8=$A$67,RIGHT($K$67,5),IF(S8=$A$68,RIGHT($K$68,5),IF(S8=$A$69,RIGHT($K$69,5),IF(S8=$A$70,RIGHT($K$70,5),IF(S8=$A$71,RIGHT($K$71,5),IF(S8=$A$72,RIGHT($K$72,5),IF(S8=$A$73,RIGHT($K$73,5),IF(S8=$A$74,RIGHT($K$74,5),IF(S8=$A$75,RIGHT($K$75,5),IF(S8=$A$76,RIGHT($K$76,5),IF(S8=$A$77,RIGHT($K$77,5),IF(S8=$A$78,RIGHT($K$78,5),IF(S8=$A$79,RIGHT($K$79,5),IF(S8=$A$80,RIGHT($K$80,5),IF(S8=$A$81,RIGHT($K$81,5),IF(S8=$A$82,RIGHT($K$82,5),IF(S8=$A$83,RIGHT($K$83,5),IF(S8=$A$84,RIGHT($K$84,5),\"\")))))))))))))))))))))))))","v":""},null,null,null,null,null,null,null,{"$f":"IF(C8=\"\",\"\",IF(O8=\"Y\",N8*0.017,0))","v":""},{"$f":"IF(N8=\"\",\"\",Q7+N8+P8)","v":""},null,null,{"$f":"IF(F8=\"\",\"\",MONTH(F8))","v":""},null,{"$f":"IF('FUNDING SHEET'!A4=\"\",\"\",A60&\"   \"&'FUNDING SHEET'!D4&'FUNDING SHEET'!E4&\"  \"&'FUNDING SHEET'!F4)","v":""}]
[2,null,null,null,null,null,null,{"$f":"IF(S9=$A$60,RIGHT($K$60,5),IF(S9=$A$61,RIGHT($K$61,5),IF(S9=$A$62,RIGHT($K$62,5),IF(S9=$A$63,RIGHT($K$63,5),IF(S9=$A$64,RIGHT($K$64,5),IF(S9=$A$65,RIGHT($K$65,5),IF(S9=$A$66,RIGHT($K$66,5),IF(S9=$A$67,RIGHT($K$67,5),IF(S9=$A$68,RIGHT($K$68,5),IF(S9=$A$69,RIGHT($K$69,5),IF(S9=$A$70,RIGHT($K$70,5),IF(S9=$A$71,RIGHT($K$71,5),IF(S9=$A$72,RIGHT($K$72,5),IF(S9=$A$73,RIGHT($K$73,5),IF(S9=$A$74,RIGHT($K$74,5),IF(S9=$A$75,RIGHT($K$75,5),IF(S9=$A$76,RIGHT($K$76,5),IF(S9=$A$77,RIGHT($K$77,5),IF(S9=$A$78,RIGHT($K$78,5),IF(S9=$A$79,RIGHT($K$79,5),IF(S9=$A$80,RIGHT($K$80,5),IF(S9=$A$81,RIGHT($K$81,5),IF(S9=$A$82,RIGHT($K$82,5),IF(S9=$A$83,RIGHT($K$83,5),IF(S9=$A$84,RIGHT($K$84,5),\"\")))))))))))))))))))))))))","v":""},null,null,null,null,null,null,null,{"$f":"IF(C9=\"\",\"\",IF(O9=\"Y\",N9*0.017,0))","v":""},{"$f":"IF(N9=\"\",\"\",Q8+N9+P9)","v":""},null,null,{"$f":"IF(F9=\"\",\"\",MONTH(F9))","v":""},null,{"$f":"IF('FUNDING SHEET'!A5=\"\",\"\",A61&\"   \"&'FUNDING SHEET'!D5&'FUNDING SHEET'!E5&\"  \"&'FUNDING SHEET'!F5)","v":""}]
[3,null,null,null,null,null,null,"",null,null,null,null,null,null,null,"",{"$f":"IF(N10=\"\",\"\",Q9+N10+P10)","v":""},null,null,"",null,{"$f":"IF('FUNDING SHEET'!A6=\"\",\"\",A62&\"  \"&'FUNDING SHEET'!D6&\" \"&'FUNDING SHEET'!E6&\"  \"&'FUNDING SHEET'!F6)","v":""}]
[4,null,null,null,null,null,null,"",null,null,null,null,null,null,null,"","",null,null,"",null,{"$f":"IF('FUNDING SHEET'!A7=\"\",\"\",A63&\"  \"&'FUNDING SHEET'!D7&\" \"&'FUNDING SHEET'!E7&\"  \"&'FUNDING SHEET'!F7)","v":""}]
[5,null,null,null,null,null,null,"",null,null,null,null,null,null,null,"","",null,null,"",null,{"$f":"IF('FUNDING SHEET'!A8=\"\",\"\",A64&\"  \"&'FUNDING SHEET'!D8&\" \"&'FUNDING SHEET'!E8&\"  \"&'FUNDING SHEET'!F8)","v":""}]
[6,null,null,null,null,null,null,"",null,null,null,null,null,null,null,"","",null,null,"",null,{"$f":"IF('FUNDING SHEET'!A9=\"\",\"\",A65&\"  \"&'FUNDING SHEET'!D9&\" \"&'FUNDING SHEET'!E9&\"  \"&'FUNDING SHEET'!F9)","v":""}]
[7,null,null,null,null,null,null,"",null,null,null,null,null,null,null,"","",null,null,"",null,{"$f":"IF('FUNDING SHEET'!A10=\"\",\"\",A66&\"  \"&'FUNDING SHEET'!D10&\" \"&'FUNDING SHEET'!E10&\"  \"&'FUNDING SHEET'!F10)","v":""}]
[8,null,null,null,null,null,null,"",null,null,null,null,null,null,null,"","",null,null,"",null,{"$f":"IF('FUNDING SHEET'!A11=\"\",\"\",A67&\"  \"&'FUNDING SHEET'!D11&\" \"&'FUNDING SHEET'!E11&\"  \"&'FUNDING SHEET'!F11)","v":""}]
[9,null,null,null,null,null,null,"",null,null,null,null,null,null,null,"","",null,null,"",null,{"$f":"IF('FUNDING SHEET'!A12=\"\",\"\",A68&\"  \"&'FUNDING SHEET'!D12&\" \"&'FUNDING SHEET'!E12&\"  \"&'FUNDING SHEET'!F12)","v":""}]
[10,null,null,null,null,null,null,"",null,null,null,null,null,null,null,"","",null,null,"",null,{"$f":"IF('FUNDING SHEET'!A13=\"\",\"\",A69&\"  \"&'FUNDING SHEET'!D13&\" \"&'FUNDING SHEET'!E13&\"  \"&'FUNDING SHEET'!F13)","v":""}]
[11,null,null,null,null,null,null,"",null,null,null,null,null,null,null,"","",null,null,"",null,{"$f":"IF('FUNDING SHEET'!A14=\"\",\"\",A70&\"  \"&'FUNDING SHEET'!D14&\" \"&'FUNDING SHEET'!E14&\"  \"&'FUNDING SHEET'!F14)","v":""}]
[12,null,null,null,null,null,null,"",null,null,null,null,null,null,null,"","",null,null,"",null,{"$f":"IF('FUNDING SHEET'!A15=\"\",\"\",A71&\"  \"&'FUNDING SHEET'!D15&\" \"&'FUNDING SHEET'!E15&\"  \"&'FUNDING SHEET'!F15)","v":""}]
[13,null,null,null,null,null,null,"",null,null,null,null,null,null,null,"","",null,null,"",null,{"$f":"IF('FUNDING SHEET'!A16=\"\",\"\",A72&\"  \"&'FUNDING SHEET'!D16&\" \"&'FUNDING SHEET'!E16&\"  \"&'FUNDING SHEET'!F16)","v":""}]
[14,null,null,null,null,null,null,"",null,null,null,null,null,null,null,"","",null,null,"",null,{"$f":"IF('FUNDING SHEET'!A17=\"\",\"\",A73&\"  \"&'FUNDING SHEET'!D17&\" \"&'FUNDING SHEET'!E17&\"  \"&'FUNDING SHEET'!F17)","v":""}]
[15,null,null,null,null,null,null,"",null,null,null,null,null,null,null,"","",null,null,"",null,{"$f":"IF('FUNDING SHEET'!A18=\"\",\"\",A74&\"  \"&'FUNDING SHEET'!D18&\" \"&'FUNDING SHEET'!E18&\"  \"&'FUNDING SHEET'!F18)","v":""}]
[16,null,null,null,null,null,null,"",null,null,null,null,null,null,null,"","",null,null,"",null,{"$f":"IF('FUNDING SHEET'!A19=\"\",\"\",A75&\"  \"&'FUNDING SHEET'!D19&\" \"&'FUNDING SHEET'!E19&\"  \"&'FUNDING SHEET'!F19)","v":""}]
[17,null,null,null,null,null,null,"",null,null,null,null,null,null,null,"","",null,null,"",null,{"$f":"IF('FUNDING SHEET'!A20=\"\",\"\",A76&\"  \"&'FUNDING SHEET'!D20&\" \"&'FUNDING SHEET'!E20&\"  \"&'FUNDING SHEET'!F20)","v":""}]
[18,null,null,null,null,null,null,"",null,null,null,null,null,null,null,"","",null,null,"",null,{"$f":"IF('FUNDING SHEET'!A21=\"\",\"\",A77&\"  \"&'FUNDING SHEET'!D21&\" \"&'FUNDING SHEET'!E21&\"  \"&'FUNDING SHEET'!F21)","v":""}]
[19,null,null,null,null,null,null,"",null,null,null,null,null,null,null,"","",null,null,"",null,{"$f":"IF('FUNDING SHEET'!A22=\"\",\"\",A78&\"  \"&'FUNDING SHEET'!D22&\" \"&'FUNDING SHEET'!E22&\"  \"&'FUNDING SHEET'!F22)","v":""}]
[20,null,null,null,null,null,null,"",null,null,null,null,null,null,null,"","",null,null,"",null,{"$f":"IF('FUNDING SHEET'!A23=\"\",\"\",A79&\"  \"&'FUNDING SHEET'!D23&\" \"&'FUNDING SHEET'!E23&\"  \"&'FUNDING SHEET'!F23)","v":""}]
[21,null,null,null,null,null,null,"",null,null,null,null,null,null,null,"","",null,null,"",null,{"$f":"IF('FUNDING SHEET'!A24=\"\",\"\",A80&\"  \"&'FUNDING SHEET'!D24&\" \"&'FUNDING SHEET'!E24&\"  \"&'FUNDING SHEET'!F24)","v":""}]
[22,null,null,null,null,null,null,"",null,null,null,null,null,null,null,"","",null,null,"",null,{"$f":"IF('FUNDING SHEET'!A25=\"\",\"\",A81&\"  \"&'FUNDING SHEET'!D25&\" \"&'FUNDING SHEET'!E25&\"  \"&'FUNDING SHEET'!F25)","v":""}]
[23,null,null,null,null,null,null,"",null,null,null,null,null,null,null,"","",null,null,"",null,{"$f":"IF('FUNDING SHEET'!A26=\"\",\"\",A82&\"  \"&'FUNDING SHEET'!D26&\" \"&'FUNDING SHEET'!E26&\"  \"&'FUNDING SHEET'!F26)","v":""}]
[24,null,null,null,null,null,null,"",null,null,null,null,null,null,null,"","",null,null,"",null,{"$f":"IF('FUNDING SHEET'!A27=\"\",\"\",A83&\"  \"&'FUNDING SHEET'!D27&\" \"&'FUNDING SHEET'!E27&\"  \"&'FUNDING SHEET'!F27)","v":""}]
[25,null,null,null,null,null,null,"",null,null,null,null,null,null,null,"","",null,null,"",null,{"$f":"IF('FUNDING SHEET'!A28=\"\",\"\",A84&\"  \"&'FUNDING SHEET'!D28&\" \"&'FUNDING SHEET'!E28&\"  \"&'FUNDING SHEET'!F28)","v":""}]
[26,null,null,null,null,null,null,"",null,null,null,null,null,null,null,"","",null,null,""]
[27,null,null,null,null,null,null,"",null,null,null,null,null,null,null,"","",null,null,""]
[28,null,null,null,null,null,null,"",null,null,null,null,null,null,null,"","",null,null,""]
[29,null,null,null,null,null,null,"",null,null,null,null,null,null,null,"","",null,null,""]
[30,null,null,null,null,null,null,"",null,null,null,null,null,null,null,"","",null,null,""]
[31,null,null,null,null,null,null,"",null,null,null,null,null,null,null,"","",null,null,""]
[32,null,null,null,null,null,null,"",null,null,null,null,null,null,null,"","",null,null,""]
[33,null,null,null,null,null,null,"",null,null,null,null,null,null,null,"","",null,null,""]
[34,null,null,null,null,null,null,"",null,null,null,null,null,null,null,"","",null,null,""]
[35,null,null,null,null,null,null,"",null,null,null,null,null,null,null,"","",null,null,""]
[36,null,null,null,null,null,null,"",null,null,null,null,null,null,null,"","",null,null,""]
[37,null,null,null,null,null,null,"",null,null,null,null,null,null,null,"","",null,null,""]
[38,null,null,null,null,null,null,"",null,null,null,null,null,null,null,"","",null,null,""]
[39,null,null,null,null,null,null,"",null,null,null,null,null,null,null,"","",null,null,""]
[40,null,null,null,null,null,null,"",null,null,null,null,null,null,null,"","",null,null,""]
[41,null,null,null,null,null,null,"",null,null,null,null,null,null,null,"","",null,null,""]
[42,null,null,null,null,null,null,"",null,null,null,null,null,null,null,"","",null,null,""]
[43,null,null,null,null,null,null,"",null,null,null,null,null,null,null,"","",null,null,""]
[44,null,null,null,null,null,null,"",null,null,null,null,null,null,null,"","",null,null,""]
[45,null,null,null,null,null,null,"",null,null,null,null,null,null,null,"","",null,null,""]
[46,null,null,null,null,null,null,"",null,null,null,null,null,null,null,"","",null,null,""]
[47,null,null,null,null,null,null,"",null,null,null,null,null,null,null,"","",null,null,""]
[48,null,null,null,null,null,null,"",null,null,null,null,null,null,null,"","",null,null,""]
[49,null,null,null,null,null,null,"",null,null,null,null,null,null,null,"","",null,null,""]
[50,null,null,null,null,null,null,"",null,null,null,null,null,null,null,"","",null,null,""]
["ACCOUNT INFORMATION"]
["Line #",null,"Date",null,"PR #","PROJECT",null,null,"LINE ITEM NOMENCLATURE",null,"ACCOUNT NUMBER (WITH BOC)",null,null,"PR Funding","Previous Expenditures",null,"Current Expenditures",null,"Remaining Funds"]
[1,null,{"$f":"IF('FUNDING SHEET'!A4=\"\",\"\",'FUNDING SHEET'!A4)","v":""},null,{"$f":"IF('FUNDING SHEET'!B4=\"\",\"\",'FUNDING SHEET'!B4)","v":""},null,null,null,{"$f":"IF('FUNDING SHEET'!C4=\"\",\"\",'FUNDING SHEET'!C4)","v":""},null,{"$f":"'FUNDING SHEET'!J4","v":"    "},null,null,{"$f":"SUMIF('FUNDING SHEET'!$J$4:$J$28,K60,'FUNDING SHEET'!$I$4:$I$28)+SUMIF('FUNDING SHEET'!$J$30:$J$229,K60,'FUNDING SHEET'!$H$30:$H$229)","v":0},{"$f":"SUM(DEC!O60:R60)","v":0},null,{"$f":"SUMIF($S$8:$S$57,A60,$N$8:$N$57)+SUMIF($S$8:$S$57,A60,$P$8:$P$57)","v":0},null,{"$f":"N60-O60-Q60","v":0}]
[2,null,{"$f":"IF('FUNDING SHEET'!A5=\"\",\"\",'FUNDING SHEET'!A5)","v":""},null,{"$f":"IF('FUNDING SHEET'!B5=\"\",\"\",'FUNDING SHEET'!B5)","v":""},null,null,null,{"$f":"IF('FUNDING SHEET'!C5=\"\",\"\",'FUNDING SHEET'!C5)","v":""},null,{"$f":"'FUNDING SHEET'!J5","v":"    "},null,null,{"$f":"SUMIF('FUNDING SHEET'!$J$4:$J$28,K61,'FUNDING SHEET'!$I$4:$I$28)+SUMIF('FUNDING SHEET'!$J$30:$J$229,K61,'FUNDING SHEET'!$H$30:$H$229)","v":0},{"$f":"SUM(DEC!O61:R61)","v":0},null,0,null,0]
[3,null,{"$f":"IF('FUNDING SHEET'!A6=\"\",\"\",'FUNDING SHEET'!A6)","v":""},null,{"$f":"IF('FUNDING SHEET'!B6=\"\",\"\",'FUNDING SHEET'!B6)","v":""},null,null,null,{"$f":"IF('FUNDING SHEET'!C6=\"\",\"\",'FUNDING SHEET'!C6)","v":""},null,{"$f":"'FUNDING SHEET'!J6","v":"    "},null,null,{"$f":"SUMIF('FUNDING SHEET'!$J$4:$J$28,K62,'FUNDING SHEET'!$I$4:$I$28)+SUMIF('FUNDING SHEET'!$J$30:$J$229,K62,'FUNDING SHEET'!$H$30:$H$229)","v":0},{"$f":"SUM(DEC!O62:R62)","v":0},null,0,null,0]
[4,null,{"$f":"IF('FUNDING SHEET'!A7=\"\",\"\",'FUNDING SHEET'!A7)","v":""},null,{"$f":"IF('FUNDING SHEET'!B7=\"\",\"\",'FUNDING SHEET'!B7)","v":""},null,null,null,{"$f":"IF('FUNDING SHEET'!C7=\"\",\"\",'FUNDING SHEET'!C7)","v":""},null,{"$f":"'FUNDING SHEET'!J7","v":"    "},null,null,{"$f":"SUMIF('FUNDING SHEET'!$J$4:$J$28,K63,'FUNDING SHEET'!$I$4:$I$28)+SUMIF('FUNDING SHEET'!$J$30:$J$229,K63,'FUNDING SHEET'!$H$30:$H$229)","v":0},{"$f":"SUM(DEC!O63:R63)","v":0},null,0,null,0]
[5,null,{"$f":"IF('FUNDING SHEET'!A8=\"\",\"\",'FUNDING SHEET'!A8)","v":""},null,{"$f":"IF('FUNDING SHEET'!B8=\"\",\"\",'FUNDING SHEET'!B8)","v":""},null,null,null,{"$f":"IF('FUNDING SHEET'!C8=\"\",\"\",'FUNDING SHEET'!C8)","v":""},null,{"$f":"'FUNDING SHEET'!J8","v":"    "},null,null,{"$f":"SUMIF('FUNDING SHEET'!$J$4:$J$28,K64,'FUNDING SHEET'!$I$4:$I$28)+SUMIF('FUNDING SHEET'!$J$30:$J$229,K64,'FUNDING SHEET'!$H$30:$H$229)","v":0},{"$f":"SUM(DEC!O64:R64)","v":0},null,0,null,0]
[6,null,{"$f":"IF('FUNDING SHEET'!A9=\"\",\"\",'FUNDING SHEET'!A9)","v":""},null,{"$f":"IF('FUNDING SHEET'!B9=\"\",\"\",'FUNDING SHEET'!B9)","v":""},null,null,null,{"$f":"IF('FUNDING SHEET'!C9=\"\",\"\",'FUNDING SHEET'!C9)","v":""},null,{"$f":"'FUNDING SHEET'!J9","v":"    "},null,null,{"$f":"SUMIF('FUNDING SHEET'!$J$4:$J$28,K65,'FUNDING SHEET'!$I$4:$I$28)+SUMIF('FUNDING SHEET'!$J$30:$J$229,K65,'FUNDING SHEET'!$H$30:$H$229)","v":0},{"$f":"SUM(DEC!O65:R65)","v":0},null,0,null,0]
[7,null,{"$f":"IF('FUNDING SHEET'!A10=\"\",\"\",'FUNDING SHEET'!A10)","v":""},null,{"$f":"IF('FUNDING SHEET'!B10=\"\",\"\",'FUNDING SHEET'!B10)","v":""},null,null,null,{"$f":"IF('FUNDING SHEET'!C10=\"\",\"\",'FUNDING SHEET'!C10)","v":""},null,{"$f":"'FUNDING SHEET'!J10","v":"    "},null,null,{"$f":"SUMIF('FUNDING SHEET'!$J$4:$J$28,K66,'FUNDING SHEET'!$I$4:$I$28)+SUMIF('FUNDING SHEET'!$J$30:$J$229,K66,'FUNDING SHEET'!$H$30:$H$229)","v":0},{"$f":"SUM(DEC!O66:R66)","v":0},null,0,null,0]
[8,null,{"$f":"IF('FUNDING SHEET'!A11=\"\",\"\",'FUNDING SHEET'!A11)","v":""},null,{"$f":"IF('FUNDING SHEET'!B11=\"\",\"\",'FUNDING SHEET'!B11)","v":""},null,null,null,{"$f":"IF('FUNDING SHEET'!C11=\"\",\"\",'FUNDING SHEET'!C11)","v":""},null,{"$f":"'FUNDING SHEET'!J11","v":"    "},null,null,{"$f":"SUMIF('FUNDING SHEET'!$J$4:$J$28,K67,'FUNDING SHEET'!$I$4:$I$28)+SUMIF('FUNDING SHEET'!$J$30:$J$229,K67,'FUNDING SHEET'!$H$30:$H$229)","v":0},{"$f":"SUM(DEC!O67:R67)","v":0},null,0,null,0]
[9,null,{"$f":"IF('FUNDING SHEET'!A12=\"\",\"\",'FUNDING SHEET'!A12)","v":""},null,{"$f":"IF('FUNDING SHEET'!B12=\"\",\"\",'FUNDING SHEET'!B12)","v":""},null,null,null,{"$f":"IF('FUNDING SHEET'!C12=\"\",\"\",'FUNDING SHEET'!C12)","v":""},null,{"$f":"'FUNDING SHEET'!J12","v":"    "},null,null,{"$f":"SUMIF('FUNDING SHEET'!$J$4:$J$28,K68,'FUNDING SHEET'!$I$4:$I$28)+SUMIF('FUNDING SHEET'!$J$30:$J$229,K68,'FUNDING SHEET'!$H$30:$H$229)","v":0},{"$f":"SUM(DEC!O68:R68)","v":0},null,0,null,0]
[10,null,{"$f":"IF('FUNDING SHEET'!A13=\"\",\"\",'FUNDING SHEET'!A13)","v":""},null,{"$f":"IF('FUNDING SHEET'!B13=\"\",\"\",'FUNDING SHEET'!B13)","v":""},null,null,null,{"$f":"IF('FUNDING SHEET'!C13=\"\",\"\",'FUNDING SHEET'!C13)","v":""},null,{"$f":"'FUNDING SHEET'!J13","v":"    "},null,null,{"$f":"SUMIF('FUNDING SHEET'!$J$4:$J$28,K69,'FUNDING SHEET'!$I$4:$I$28)+SUMIF('FUNDING SHEET'!$J$30:$J$229,K69,'FUNDING SHEET'!$H$30:$H$229)","v":0},{"$f":"SUM(DEC!O69:R69)","v":0},null,0,null,0]
[11,null,{"$f":"IF('FUNDING SHEET'!A14=\"\",\"\",'FUNDING SHEET'!A14)","v":""},null,{"$f":"IF('FUNDING SHEET'!B14=\"\",\"\",'FUNDING SHEET'!B14)","v":""},null,null,null,{"$f":"IF('FUNDING SHEET'!C14=\"\",\"\",'FUNDING SHEET'!C14)","v":""},null,{"$f":"'FUNDING SHEET'!J14","v":"    "},null,null,{"$f":"SUMIF('FUNDING SHEET'!$J$4:$J$28,K70,'FUNDING SHEET'!$I$4:$I$28)+SUMIF('FUNDING SHEET'!$J$30:$J$229,K70,'FUNDING SHEET'!$H$30:$H$229)","v":0},{"$f":"SUM(DEC!O70:R70)","v":0},null,0,null,0]
[12,null,{"$f":"IF('FUNDING SHEET'!A15=\"\",\"\",'FUNDING SHEET'!A15)","v":""},null,{"$f":"IF('FUNDING SHEET'!B15=\"\",\"\",'FUNDING SHEET'!B15)","v":""},null,null,null,{"$f":"IF('FUNDING SHEET'!C15=\"\",\"\",'FUNDING SHEET'!C15)","v":""},null,{"$f":"'FUNDING SHEET'!J15","v":"    "},null,null,{"$f":"SUMIF('FUNDING SHEET'!$J$4:$J$28,K71,'FUNDING SHEET'!$I$4:$I$28)+SUMIF('FUNDING SHEET'!$J$30:$J$229,K71,'FUNDING SHEET'!$H$30:$H$229)","v":0},{"$f":"SUM(DEC!O71:R71)","v":0},null,0,null,0]
[13,null,{"$f":"IF('FUNDING SHEET'!A16=\"\",\"\",'FUNDING SHEET'!A16)","v":""},null,{"$f":"IF('FUNDING SHEET'!B16=\"\",\"\",'FUNDING SHEET'!B16)","v":""},null,null,null,{"$f":"IF('FUNDING SHEET'!C16=\"\",\"\",'FUNDING SHEET'!C16)","v":""},null,{"$f":"'FUNDING SHEET'!J16","v":"    "},null,null,{"$f":"SUMIF('FUNDING SHEET'!$J$4:$J$28,K72,'FUNDING SHEET'!$I$4:$I$28)+SUMIF('FUNDING SHEET'!$J$30:$J$229,K72,'FUNDING SHEET'!$H$30:$H$229)","v":0},{"$f":"SUM(DEC!O72:R72)","v":0},null,0,null,0]
[14,null,{"$f":"IF('FUNDING SHEET'!A17=\"\",\"\",'FUNDING SHEET'!A17)","v":""},null,{"$f":"IF('FUNDING SHEET'!B17=\"\",\"\",'FUNDING SHEET'!B17)","v":""},null,null,null,{"$f":"IF('FUNDING SHEET'!C17=\"\",\"\",'FUNDING SHEET'!C17)","v":""},null,{"$f":"'FUNDING SHEET'!J17","v":"    "},null,null,{"$f":"SUMIF('FUNDING SHEET'!$J$4:$J$28,K73,'FUNDING SHEET'!$I$4:$I$28)+SUMIF('FUNDING SHEET'!$J$30:$J$229,K73,'FUNDING SHEET'!$H$30:$H$229)","v":0},{"$f":"SUM(DEC!O73:R73)","v":0},null,0,null,0]
[15,null,{"$f":"IF('FUNDING SHEET'!A18=\"\",\"\",'FUNDING SHEET'!A18)","v":""},null,{"$f":"IF('FUNDING SHEET'!B18=\"\",\"\",'FUNDING SHEET'!B18)","v":""},null,null,null,{"$f":"IF('FUNDING SHEET'!C18=\"\",\"\",'FUNDING SHEET'!C18)","v":""},null,{"$f":"'FUNDING SHEET'!J18","v":"    "},null,null,{"$f":"SUMIF('FUNDING SHEET'!$J$4:$J$28,K74,'FUNDING SHEET'!$I$4:$I$28)+SUMIF('FUNDING SHEET'!$J$30:$J$229,K74,'FUNDING SHEET'!$H$30:$H$229)","v":0},{"$f":"SUM(DEC!O74:R74)","v":0},null,0,null,0]
[16,null,{"$f":"IF('FUNDING SHEET'!A19=\"\",\"\",'FUNDING SHEET'!A19)","v":""},null,{"$f":"IF('FUNDING SHEET'!B19=\"\",\"\",'FUNDING SHEET'!B19)","v":""},null,null,null,{"$f":"IF('FUNDING SHEET'!C19=\"\",\"\",'FUNDING SHEET'!C19)","v":""},null,{"$f":"'FUNDING SHEET'!J19","v":"    "},null,null,{"$f":"SUMIF('FUNDING SHEET'!$J$4:$J$28,K75,'FUNDING SHEET'!$I$4:$I$28)+SUMIF('FUNDING SHEET'!$J$30:$J$229,K75,'FUNDING SHEET'!$H$30:$H$229)","v":0},{"$f":"SUM(DEC!O75:R75)","v":0},null,0,null,0]
[17,null,{"$f":"IF('FUNDING SHEET'!A20=\"\",\"\",'FUNDING SHEET'!A20)","v":""},null,{"$f":"IF('FUNDING SHEET'!B20=\"\",\"\",'FUNDING SHEET'!B20)","v":""},null,null,null,{"$f":"IF('FUNDING SHEET'!C20=\"\",\"\",'FUNDING SHEET'!C20)","v":""},null,{"$f":"'FUNDING SHEET'!J20","v":"    "},null,null,{"$f":"SUMIF('FUNDING SHEET'!$J$4:$J$28,K76,'FUNDING SHEET'!$I$4:$I$28)+SUMIF('FUNDING SHEET'!$J$30:$J$229,K76,'FUNDING SHEET'!$H$30:$H$229)","v":0},{"$f":"SUM(DEC!O76:R76)","v":0},null,0,null,0]
[18,null,{"$f":"IF('FUNDING SHEET'!A21=\"\",\"\",'FUNDING SHEET'!A21)","v":""},null,{"$f":"IF('FUNDING SHEET'!B21=\"\",\"\",'FUNDING SHEET'!B21)","v":""},null,null,null,{"$f":"IF('FUNDING SHEET'!C21=\"\",\"\",'FUNDING SHEET'!C21)","v":""},null,{"$f":"'FUNDING SHEET'!J21","v":"    "},null,null,{"$f":"SUMIF('FUNDING SHEET'!$J$4:$J$28,K77,'FUNDING SHEET'!$I$4:$I$28)+SUMIF('FUNDING SHEET'!$J$30:$J$229,K77,'FUNDING SHEET'!$H$30:$H$229)","v":0},{"$f":"SUM(DEC!O77:R77)","v":0},null,0,null,0]
[19,null,{"$f":"IF('FUNDING SHEET'!A22=\"\",\"\",'FUNDING SHEET'!A22)","v":""},null,{"$f":"IF('FUNDING SHEET'!B22=\"\",\"\",'FUNDING SHEET'!B22)","v":""},null,null,null,{"$f":"IF('FUNDING SHEET'!C22=\"\",\"\",'FUNDING SHEET'!C22)","v":""},null,{"$f":"'FUNDING SHEET'!J22","v":"    "},null,null,{"$f":"SUMIF('FUNDING SHEET'!$J$4:$J$28,K78,'FUNDING SHEET'!$I$4:$I$28)+SUMIF('FUNDING SHEET'!$J$30:$J$229,K78,'FUNDING SHEET'!$H$30:$H$229)","v":0},{"$f":"SUM(DEC!O78:R78)","v":0},null,0,null,0]
[20,null,{"$f":"IF('FUNDING SHEET'!A23=\"\",\"\",'FUNDING SHEET'!A23)","v":""},null,{"$f":"IF('FUNDING SHEET'!B23=\"\",\"\",'FUNDING SHEET'!B23)","v":""},null,null,null,{"$f":"IF('FUNDING SHEET'!C23=\"\",\"\",'FUNDING SHEET'!C23)","v":""},null,{"$f":"'FUNDING SHEET'!J23","v":"    "},null,null,{"$f":"SUMIF('FUNDING SHEET'!$J$4:$J$28,K79,'FUNDING SHEET'!$I$4:$I$28)+SUMIF('FUNDING SHEET'!$J$30:$J$229,K79,'FUNDING SHEET'!$H$30:$H$229)","v":0},{"$f":"SUM(DEC!O79:R79)","v":0},null,0,null,0]
[21,null,{"$f":"IF('FUNDING SHEET'!A24=\"\",\"\",'FUNDING SHEET'!A24)","v":""},null,{"$f":"IF('FUNDING SHEET'!B24=\"\",\"\",'FUNDING SHEET'!B24)","v":""},null,null,null,{"$f":"IF('FUNDING SHEET'!C24=\"\",\"\",'FUNDING SHEET'!C24)","v":""},null,{"$f":"'FUNDING SHEET'!J24","v":"    "},null,null,{"$f":"SUMIF('FUNDING SHEET'!$J$4:$J$28,K80,'FUNDING SHEET'!$I$4:$I$28)+SUMIF('FUNDING SHEET'!$J$30:$J$229,K80,'FUNDING SHEET'!$H$30:$H$229)","v":0},{"$f":"SUM(DEC!O80:R80)","v":0},null,0,null,0]
[22,null,{"$f":"IF('FUNDING SHEET'!A25=\"\",\"\",'FUNDING SHEET'!A25)","v":""},null,{"$f":"IF('FUNDING SHEET'!B25=\"\",\"\",'FUNDING SHEET'!B25)","v":""},null,null,null,{"$f":"IF('FUNDING SHEET'!C25=\"\",\"\",'FUNDING SHEET'!C25)","v":""},null,{"$f":"'FUNDING SHEET'!J25","v":"    "},null,null,{"$f":"SUMIF('FUNDING SHEET'!$J$4:$J$28,K81,'FUNDING SHEET'!$I$4:$I$28)+SUMIF('FUNDING SHEET'!$J$30:$J$229,K81,'FUNDING SHEET'!$H$30:$H$229)","v":0},{"$f":"SUM(DEC!O81:R81)","v":0},null,0,null,0]
[23,null,{"$f":"IF('FUNDING SHEET'!A26=\"\",\"\",'FUNDING SHEET'!A26)","v":""},null,{"$f":"IF('FUNDING SHEET'!B26=\"\",\"\",'FUNDING SHEET'!B26)","v":""},null,null,null,{"$f":"IF('FUNDING SHEET'!C26=\"\",\"\",'FUNDING SHEET'!C26)","v":""},null,{"$f":"'FUNDING SHEET'!J26","v":"    "},null,null,{"$f":"SUMIF('FUNDING SHEET'!$J$4:$J$28,K82,'FUNDING SHEET'!$I$4:$I$28)+SUMIF('FUNDING SHEET'!$J$30:$J$229,K82,'FUNDING SHEET'!$H$30:$H$229)","v":0},{"$f":"SUM(DEC!O82:R82)","v":0},null,0,null,0]
[24,null,{"$f":"IF('FUNDING SHEET'!A27=\"\",\"\",'FUNDING SHEET'!A27)","v":""},null,{"$f":"IF('FUNDING SHEET'!B27=\"\",\"\",'FUNDING SHEET'!B27)","v":""},null,null,null,{"$f":"IF('FUNDING SHEET'!C27=\"\",\"\",'FUNDING SHEET'!C27)","v":""},null,{"$f":"'FUNDING SHEET'!J27","v":"    "},null,null,{"$f":"SUMIF('FUNDING SHEET'!$J$4:$J$28,K83,'FUNDING SHEET'!$I$4:$I$28)+SUMIF('FUNDING SHEET'!$J$30:$J$229,K83,'FUNDING SHEET'!$H$30:$H$229)","v":0},{"$f":"SUM(DEC!O83:R83)","v":0},null,0,null,0]
[25,null,{"$f":"IF('FUNDING SHEET'!A28=\"\",\"\",'FUNDING SHEET'!A28)","v":""},null,{"$f":"IF('FUNDING SHEET'!B28=\"\",\"\",'FUNDING SHEET'!B28)","v":""},null,null,null,{"$f":"IF('FUNDING SHEET'!C28=\"\",\"\",'FUNDING SHEET'!C28)","v":""},null,{"$f":"'FUNDING SHEET'!J28","v":"    "},null,null,{"$f":"SUMIF('FUNDING SHEET'!$J$4:$J$28,K84,'FUNDING SHEET'!$I$4:$I$28)+SUMIF('FUNDING SHEET'!$J$30:$J$229,K84,'FUNDING SHEET'!$H$30:$H$229)","v":0},{"$f":"SUM(DEC!O84:R84)","v":0},null,0,null,0]
[null,null,null,null,null,null,null,null,null,null,null,"TOTALS:",null,{"$f":"SUM(N60:N84)","v":0},{"$f":"SUM(O60:O84)","v":0},null,{"$f":"SUM(Q60:Q84)","v":0},null,{"$f":"SUM(S60:S84)","v":0}]

{"sheet":"FEB","index":7,"n_rows":85,"n_cols":22,"rows_kept":85,"cut":false,"hidden":false,"merged":[[83,8,83,9],[83,10,83,11],[84,14,84,15],[18,3,18,4],[19,3,19,4],[20,3,20,4],[21,3,21,4],[22,3,22,4],[23,3,23,4],[24,3,24,4],[25,3,25,4],[26,3,26,4],[27,3,27,4],[81,14,81,15],[82,14,82,15],[70,14,70,15],[73,14,73,15],[77,14,77,15],[58,14,58,15],[83,14,83,15],[69,14,69,15],[71,14,71,15],[72,8,72,9],[72,10,72,11],[71,16,71,17],[72,14,72,15],[70,16,70,17],[72,16,72,17],[83,16,83,17],[81,16,81,17],[82,16,82,17],[79,14,79,15],[79,16,79,17],[80,14,80,15],[80,16,80,17],[77,16,77,17],[78,14,78,15],[78,16,78,17],[75,14,75,15],[75,16,75,17],[76,14,76,15],[76,16,76,17],[73,8,73,9],[73,10,73,11],[74,8,74,9],[74,10,74,11],[75,8,75,9],[75,10,75,11],[76,8,76,9],[76,10,76,11],[77,8,77,9],[77,10,77,11],[78,8,78,9],[74,16,74,17],[73,16,73,17],[74,14,74,15],[41,3,41,4],[3,18,5,18],[5,3,5,4],[0,0,1,18],[2,0,2,5],[2,11,2,12],[2,13,2,14],[2,16,2,17],[69,16,69,17],[7,3,7,4],[8,3,8,4],[9,3,9,4],[10,3,10,4],[11,3,11,4],[12,3,12,4],[13,3,13,4],[14,3,14,4],[15,3,15,4],[17,3,17,4],[67,16,67,17],[68,14,68,15],[68,16,68,17],[67,14,67,15],[65,14,65,15],[65,16,65,17],[61,14,61,15],[61,16,61,17],[62,14,62,15],[62,16,62,17],[33,3,33,4],[34,3,34,4],[30,3,30,4],[5,9,5,10],[7,9,7,10],[8,9,8,10],[9,9,9,10],[10,9,10,10],[11,9,11,10],[12,9,12,10],[13,9,13,10],[14,9,14,10],[15,9,15,10],[16,9,16,10],[17,9,17,10],[18,9,18,10],[19,9,19,10],[28,3,28,4],[29,3,29,4],[20,9,20,10],[21,9,21,10],[22,9,22,10],[23,9,23,10],[24,9,24,10],[6,13,6,15],[3,0,5,0],[3,2,4,5],[3,7,4,11],[3,13,4,16],[31,3,31,4],[32,3,32,4],[66,8,66,9],[66,10,66,11],[35,3,35,4],[62,10,62,11],[63,8,63,9],[63,10,63,11],[64,8,64,9],[64,10,64,11],[65,8,65,9],[65,10,65,11],[60,14,60,15],[60,16,60,17],[59,16,59,17],[42,3,42,4],[54,3,54,4],[43,3,43,4],[44,3,44,4],[2,7,2,8],[53,3,53,4],[55,3,55,4],[56,3,56,4],[66,14,66,15],[66,16,66,17],[63,14,63,15],[63,16,63,17],[64,14,64,15],[64,16,64,17],[16,3,16,4],[48,3,48,4],[49,3,49,4],[50,3,50,4],[51,3,51,4],[52,3,52,4],[36,3,36,4],[37,3,37,4],[38,3,38,4],[39,3,39,4],[40,3,40,4],[58,16,58,17],[59,14,59,15],[62,8,62,9],[45,3,45,4],[46,3,46,4],[47,3,47,4],[58,5,58,7],[59,5,59,7],[57,0,57,18],[60,5,60,7],[61,5,61,7],[62,5,62,7],[63,5,63,7],[64,5,64,7],[65,5,65,7],[66,5,66,7],[67,5,67,7],[68,5,68,7],[69,5,69,7],[70,5,70,7],[71,5,71,7],[72,5,72,7],[73,5,73,7],[83,5,83,7],[74,5,74,7],[75,5,75,7],[76,5,76,7],[77,5,77,7],[78,5,78,7],[79,5,79,7],[80,5,80,7],[81,5,81,7],[82,5,82,7],[25,9,25,10],[26,9,26,10],[27,9,27,10],[28,9,28,10],[29,9,29,10],[30,9,30,10],[31,9,31,10],[32,9,32,10],[33,9,33,10],[34,9,34,10],[35,9,35,10],[36,9,36,10],[37,9,37,10],[38,9,38,10],[39,9,39,10],[40,9,40,10],[41,9,41,10],[42,9,42,10],[43,9,43,10],[44,9,44,10],[45,9,45,10],[46,9,46,10],[59,10,59,11],[60,8,60,9],[60,10,60,11],[61,8,61,9],[61,10,61,11],[47,9,47,10],[48,9,48,10],[49,9,49,10],[50,9,50,10],[51,9,51,10],[52,9,52,10],[53,9,53,10],[54,9,54,10],[55,9,55,10],[2,9,2,10],[78,10,78,11],[79,8,79,9],[79,10,79,11],[80,8,80,9],[80,10,80,11],[81,8,81,9],[81,10,81,11],[82,8,82,9],[82,10,82,11],[67,8,67,9],[67,10,67,11],[68,8,68,9],[68,10,68,11],[69,8,69,9],[69,10,69,11],[70,8,70,9],[70,10,70,11],[71,8,71,9],[71,10,71,11],[56,9,56,10],[58,8,58,9],[58,10,58,11],[59,8,59,9]]}
["CARDHOLDER TRANSACTION LOG"]
[]
[null,null,null,null,null,null,null,{"$f":"'FUNDING SHEET'!$K$3","v":"CARDHOLDER NAME:"},null,{"$f":"'FUNDING SHEET'!$L$3","v":0},null,"CARD ACCOUNT NUMBER:",null,"XXXX-XXXX-XXXX-",null,{"$f":"'FUNDING SHEET'!$L$2","v":0},"FISCAL YEAR:",null,{"$f":"'FUNDING SHEET'!$L$1","v":0}]
["Log Number",null,"DATE",null,null,null,null,"PURCHASE DETAIL",null,null,null,null,null,"AMOUNT",null,null,null,null,"Account                     (see below)"]
[]
[null,null,"Date of Order","Date Received",null,"Statement Date",null,"Budget Object Class   (BOC)","VERNDOR           REQ # / CONTACT  (optional)","Item(s) purchased",null,"Vendor",null,"Amount","Paid by Conv. Check","Check Fee Amount (1.7%)","Total to Date"]
[null,null,null,null,null,null,null,null,null,null,null,null,null,"YEAR TO DATE EXPENDITURES",null,null,{"$f":"SUM(JAN!$Q$60:$R$84)+JAN!$Q$7","v":0},null,null,null,null,"ACCOUNT NUMBER"]
[1,null,null,null,null,null,null,{"$f":"IF(S8=$A$60,RIGHT($K$60,5),IF(S8=$A$61,RIGHT($K$61,5),IF(S8=$A$62,RIGHT($K$62,5),IF(S8=$A$63,RIGHT($K$63,5),IF(S8=$A$64,RIGHT($K$64,5),IF(S8=$A$65,RIGHT($K$65,5),IF(S8=$A$66,RIGHT($K$66,5),IF(S8=$A$67,RIGHT($K$67,5),IF(S8=$A$68,RIGHT($K$68,5),IF(S8=$A$69,RIGHT($K$69,5),IF(S8=$A$70,RIGHT($K$70,5),IF(S8=$A$71,RIGHT($K$71,5),IF(S8=$A$72,RIGHT($K$72,5),IF(S8=$A$73,RIGHT($K$73,5),IF(S8=$A$74,RIGHT($K$74,5),IF(S8=$A$75,RIGHT($K$75,5),IF(S8=$A$76,RIGHT($K$76,5),IF(S8=$A$77,RIGHT($K$77,5),IF(S8=$A$78,RIGHT($K$78,5),IF(S8=$A$79,RIGHT($K$79,5),IF(S8=$A$80,RIGHT($K$80,5),IF(S8=$A$81,RIGHT($K$81,5),IF(S8=$A$82,RIGHT($K$82,5),IF(S8=$A$83,RIGHT($K$83,5),IF(S8=$A$84,RIGHT($K$84,5),\"\")))))))))))))))))))))))))","v":""},null,null,null,null,null,null,null,{"$f":"IF(C8=\"\",\"\",IF(O8=\"Y\",N8*0.017,0))","v":""},{"$f":"IF(N8=\"\",\"\",Q7+N8+P8)","v":""},null,null,{"$f":"IF(F8=\"\",\"\",MONTH(F8))","v":""},null,{"$f":"IF('FUNDING SHEET'!A4=\"\",\"\",A60&\"   \"&'FUNDING SHEET'!D4&'FUNDING SHEET'!E4&\"  \"&'FUNDING SHEET'!F4)","v":""}]
[2,null,null,null,null,null,null,{"$f":"IF(S9=$A$60,RIGHT($K$60,5),IF(S9=$A$61,RIGHT($K$61,5),IF(S9=$A$62,RIGHT($K$62,5),IF(S9=$A$63,RIGHT($K$63,5),IF(S9=$A$64,RIGHT($K$64,5),IF(S9=$A$65,RIGHT($K$65,5),IF(S9=$A$66,RIGHT($K$66,5),IF(S9=$A$67,RIGHT($K$67,5),IF(S9=$A$68,RIGHT($K$68,5),IF(S9=$A$69,RIGHT($K$69,5),IF(S9=$A$70,RIGHT($K$70,5),IF(S9=$A$71,RIGHT($K$71,5),IF(S9=$A$72,RIGHT($K$72,5),IF(S9=$A$73,RIGHT($K$73,5),IF(S9=$A$74,RIGHT($K$74,5),IF(S9=$A$75,RIGHT($K$75,5),IF(S9=$A$76,RIGHT($K$76,5),IF(S9=$A$77,RIGHT($K$77,5),IF(S9=$A$78,RIGHT($K$78,5),IF(S9=$A$79,RIGHT($K$79,5),IF(S9=$A$80,RIGHT($K$80,5),IF(S9=$A$81,RIGHT($K$81,5),IF(S9=$A$82,RIGHT($K$82,5),IF(S9=$A$83,RIGHT($K$83,5),IF(S9=$A$84,RIGHT($K$84,5),\"\")))))))))))))))))))))))))","v":""},null,null,null,null,null,null,null,{"$f":"IF(C9=\"\",\"\",IF(O9=\"Y\",N9*0.017,0))","v":""},{"$f":"IF(N9=\"\",\"\",Q8+N9+P9)","v":""},null,null,{"$f":"IF(F9=\"\",\"\",MONTH(F9))","v":""},null,{"$f":"IF('FUNDING SHEET'!A5=\"\",\"\",A61&\"   \"&'FUNDING SHEET'!D5&'FUNDING SHEET'!E5&\"  \"&'FUNDING SHEET'!F5)","v":""}]
[3,null,null,null,null,null,null,"",null,null,null,null,null,null,null,"",{"$f":"IF(N10=\"\",\"\",Q9+N10+P10)","v":""},null,null,"",null,{"$f":"IF('FUNDING SHEET'!A6=\"\",\"\",A62&\"  \"&'FUNDING SHEET'!D6&\" \"&'FUNDING SHEET'!E6&\"  \"&'FUNDING SHEET'!F6)","v":""}]
[4,null,null,null,null,null,null,"",null,null,null,null,null,null,null,"","",null,null,"",null,{"$f":"IF('FUNDING SHEET'!A7=\"\",\"\",A63&\"  \"&'FUNDING SHEET'!D7&\" \"&'FUNDING SHEET'!E7&\"  \"&'FUNDING SHEET'!F7)","v":""}]
[5,null,null,null,null,null,null,"",null,null,null,null,null,null,null,{"$f":"IF(C12=\"\",\"\",IF(O12=\"Y\",N12*0.017,0))","v":""},{"$f":"IF(N12=\"\",\"\",Q11+N12+P12)","v":""},null,null,"",null,{"$f":"IF('FUNDING SHEET'!A8=\"\",\"\",A64&\"  \"&'FUNDING SHEET'!D8&\" \"&'FUNDING SHEET'!E8&\"  \"&'FUNDING SHEET'!F8)","v":""}]
[6,null,null,null,null,null,null,"",null,null,null,null,null,null,null,"","",null,null,"",null,{"$f":"IF('FUNDING SHEET'!A9=\"\",\"\",A65&\"  \"&'FUNDING SHEET'!D9&\" \"&'FUNDING SHEET'!E9&\"  \"&'FUNDING SHEET'!F9)","v":""}]
[7,null,null,null,null,null,null,"",null,null,null,null,null,null,null,"","",null,null,"",null,{"$f":"IF('FUNDING SHEET'!A10=\"\",\"\",A66&\"  \"&'FUNDING SHEET'!D10&\" \"&'FUNDING SHEET'!E10&\"  \"&'FUNDING SHEET'!F10)","v":""}]
[8,null,null,null,null,null,null,"",null,null,null,null,null,null,null,"","",null,null,"",null,{"$f":"IF('FUNDING SHEET'!A11=\"\",\"\",A67&\"  \"&'FUNDING SHEET'!D11&\" \"&'FUNDING SHEET'!E11&\"  \"&'FUNDING SHEET'!F11)","v":""}]
[9,null,null,null,null,null,null,"",null,null,null,null,null,null,null,"","",null,null,"",null,{"$f":"IF('FUNDING SHEET'!A12=\"\",\"\",A68&\"  \"&'FUNDING SHEET'!D12&\" \"&'FUNDING SHEET'!E12&\"  \"&'FUNDING SHEET'!F12)","v":""}]
[10,null,null,null,null,null,null,"",null,null,null,null,null,null,null,"","",null,null,"",null,{"$f":"IF('FUNDING SHEET'!A13=\"\",\"\",A69&\"  \"&'FUNDING SHEET'!D13&\" \"&'FUNDING SHEET'!E13&\"  \"&'FUNDING SHEET'!F13)","v":""}]
[11,null,null,null,null,null,null,"",null,null,null,null,null,null,null,"","",null,null,"",null,{"$f":"IF('FUNDING SHEET'!A14=\"\",\"\",A70&\"  \"&'FUNDING SHEET'!D14&\" \"&'FUNDING SHEET'!E14&\"  \"&'FUNDING SHEET'!F14)","v":""}]
[12,null,null,null,null,null,null,"",null,null,null,null,null,null,null,"","",null,null,"",null,{"$f":"IF('FUNDING SHEET'!A15=\"\",\"\",A71&\"  \"&'FUNDING SHEET'!D15&\" \"&'FUNDING SHEET'!E15&\"  \"&'FUNDING SHEET'!F15)","v":""}]
[13,null,null,null,null,null,null,"",null,null,null,null,null,null,null,"","",null,null,"",null,{"$f":"IF('FUNDING SHEET'!A16=\"\",\"\",A72&\"  \"&'FUNDING SHEET'!D16&\" \"&'FUNDING SHEET'!E16&\"  \"&'FUNDING SHEET'!F16)","v":""}]
[14,null,null,null,null,null,null,"",null,null,null,null,null,null,null,"","",null,null,"",null,{"$f":"IF('FUNDING SHEET'!A17=\"\",\"\",A73&\"  \"&'FUNDING SHEET'!D17&\" \"&'FUNDING SHEET'!E17&\"  \"&'FUNDING SHEET'!F17)","v":""}]
[15,null,null,null,null,null,null,"",null,null,null,null,null,null,null,"","",null,null,"",null,{"$f":"IF('FUNDING SHEET'!A18=\"\",\"\",A74&\"  \"&'FUNDING SHEET'!D18&\" \"&'FUNDING SHEET'!E18&\"  \"&'FUNDING SHEET'!F18)","v":""}]
[16,null,null,null,null,null,null,"",null,null,null,null,null,null,null,"","",null,null,"",null,{"$f":"IF('FUNDING SHEET'!A19=\"\",\"\",A75&\"  \"&'FUNDING SHEET'!D19&\" \"&'FUNDING SHEET'!E19&\"  \"&'FUNDING SHEET'!F19)","v":""}]
[17,null,null,null,null,null,null,"",null,null,null,null,null,null,null,"","",null,null,"",null,{"$f":"IF('FUNDING SHEET'!A20=\"\",\"\",A76&\"  \"&'FUNDING SHEET'!D20&\" \"&'FUNDING SHEET'!E20&\"  \"&'FUNDING SHEET'!F20)","v":""}]
[18,null,null,null,null,null,null,"",null,null,null,null,null,null,null,"","",null,null,"",null,{"$f":"IF('FUNDING SHEET'!A21=\"\",\"\",A77&\"  \"&'FUNDING SHEET'!D21&\" \"&'FUNDING SHEET'!E21&\"  \"&'FUNDING SHEET'!F21)","v":""}]
[19,null,null,null,null,null,null,"",null,null,null,null,null,null,null,"","",null,null,"",null,{"$f":"IF('FUNDING SHEET'!A22=\"\",\"\",A78&\"  \"&'FUNDING SHEET'!D22&\" \"&'FUNDING SHEET'!E22&\"  \"&'FUNDING SHEET'!F22)","v":""}]
[20,null,null,null,null,null,null,"",null,null,null,null,null,null,null,"","",null,null,"",null,{"$f":"IF('FUNDING SHEET'!A23=\"\",\"\",A79&\"  \"&'FUNDING SHEET'!D23&\" \"&'FUNDING SHEET'!E23&\"  \"&'FUNDING SHEET'!F23)","v":""}]
[21,null,null,null,null,null,null,"",null,null,null,null,null,null,null,"","",null,null,"",null,{"$f":"IF('FUNDING SHEET'!A24=\"\",\"\",A80&\"  \"&'FUNDING SHEET'!D24&\" \"&'FUNDING SHEET'!E24&\"  \"&'FUNDING SHEET'!F24)","v":""}]
[22,null,null,null,null,null,null,"",null,null,null,null,null,null,null,"","",null,null,"",null,{"$f":"IF('FUNDING SHEET'!A25=\"\",\"\",A81&\"  \"&'FUNDING SHEET'!D25&\" \"&'FUNDING SHEET'!E25&\"  \"&'FUNDING SHEET'!F25)","v":""}]
[23,null,null,null,null,null,null,"",null,null,null,null,null,null,null,"","",null,null,"",null,{"$f":"IF('FUNDING SHEET'!A26=\"\",\"\",A82&\"  \"&'FUNDING SHEET'!D26&\" \"&'FUNDING SHEET'!E26&\"  \"&'FUNDING SHEET'!F26)","v":""}]
[24,null,null,null,null,null,null,"",null,null,null,null,null,null,null,"","",null,null,"",null,{"$f":"IF('FUNDING SHEET'!A27=\"\",\"\",A83&\"  \"&'FUNDING SHEET'!D27&\" \"&'FUNDING SHEET'!E27&\"  \"&'FUNDING SHEET'!F27)","v":""}]
[25,null,null,null,null,null,null,"",null,null,null,null,null,null,null,"","",null,null,"",null,{"$f":"IF('FUNDING SHEET'!A28=\"\",\"\",A84&\"  \"&'FUNDING SHEET'!D28&\" \"&'FUNDING SHEET'!E28&\"  \"&'FUNDING SHEET'!F28)","v":""}]
[26,null,null,null,null,null,null,"",null,null,null,null,null,null,null,"","",null,null,""]
[27,null,null,null,null,null,null,"",null,null,null,null,null,null,null,"","",null,null,""]
[28,null,null,null,null,null,null,"",null,null,null,null,null,null,null,"","",null,null,""]
[29,null,null,null,null,null,null,"",null,null,null,null,null,null,null,"","",null,null,""]
[30,null,null,null,null,null,null,"",null,null,null,null,null,null,null,"","",null,null,""]
[31,null,null,null,null,null,null,"",null,null,null,null,null,null,null,"","",null,null,""]
[32,null,null,null,null,null,null,"",null,null,null,null,null,null,null,"","",null,null,""]
[33,null,null,null,null,null,null,"",null,null,null,null,null,null,null,"","",null,null,""]
[34,null,null,null,null,null,null,"",null,null,null,null,null,null,null,"","",null,null,""]
[35,null,null,null,null,null,null,"",null,null,null,null,null,null,null,"","",null,null,""]
[36,null,null,null,null,null,null,"",null,null,null,null,null,null,null,"","",null,null,""]
[37,null,null,null,null,null,null,"",null,null,null,null,null,null,null,"","",null,null,""]
[38,null,null,null,null,null,null,"",null,null,null,null,null,null,null,"","",null,null,""]
[39,null,null,null,null,null,null,"",null,null,null,null,null,null,null,"","",null,null,""]
[40,null,null,null,null,null,null,"",null,null,null,null,null,null,null,"","",null,null,""]
[41,null,null,null,null,null,null,"",null,null,null,null,null,null,null,"","",null,null,""]
[42,null,null,null,null,null,null,"",null,null,null,null,null,null,null,"","",null,null,""]
[43,null,null,null,null,null,null,"",null,null,null,null,null,null,null,"","",null,null,""]
[44,null,null,null,null,null,null,"",null,null,null,null,null,null,null,"","",null,null,""]
[45,null,null,null,null,null,null,"",null,null,null,null,null,null,null,"","",null,null,""]
[46,null,null,null,null,null,null,"",null,null,null,null,null,null,null,"","",null,null,""]
[47,null,null,null,null,null,null,"",null,null,null,null,null,null,null,"","",null,null,""]
[48,null,null,null,null,null,null,"",null,null,null,null,null,null,null,"","",null,null,""]
[49,null,null,null,null,null,null,"",null,null,null,null,null,null,null,"","",null,null,""]
[50,null,null,null,null,null,null,"",null,null,null,null,null,null,null,"","",null,null,""]
["ACCOUNT INFORMATION"]
["Line #",null,"Date",null,"PR #","PROJECT",null,null,"LINE ITEM NOMENCLATURE",null,"ACCOUNT NUMBER (WITH BOC)",null,null,"PR Funding","Previous Expenditures",null,"Current Expenditures",null,"Remaining Funds"]
[1,null,{"$f":"IF('FUNDING SHEET'!A4=\"\",\"\",'FUNDING SHEET'!A4)","v":""},null,{"$f":"IF('FUNDING SHEET'!B4=\"\",\"\",'FUNDING SHEET'!B4)","v":""},null,null,null,{"$f":"IF('FUNDING SHEET'!C4=\"\",\"\",'FUNDING SHEET'!C4)","v":""},null,{"$f":"'FUNDING SHEET'!J4","v":"    "},null,null,{"$f":"SUMIF('FUNDING SHEET'!$J$4:$J$28,K60,'FUNDING SHEET'!$I$4:$I$28)+SUMIF('FUNDING SHEET'!$J$30:$J$229,K60,'FUNDING SHEET'!$H$30:$H$229)","v":0},{"$f":"SUM(JAN!O60:R60)","v":0},null,{"$f":"SUMIF($S$8:$S$57,A60,$N$8:$N$57)+SUMIF($S$8:$S$57,A60,$P$8:$P$57)","v":0},null,{"$f":"N60-O60-Q60","v":0}]
[2,null,{"$f":"IF('FUNDING SHEET'!A5=\"\",\"\",'FUNDING SHEET'!A5)","v":""},null,{"$f":"IF('FUNDING SHEET'!B5=\"\",\"\",'FUNDING SHEET'!B5)","v":""},null,null,null,{"$f":"IF('FUNDING SHEET'!C5=\"\",\"\",'FUNDING SHEET'!C5)","v":""},null,{"$f":"'FUNDING SHEET'!J5","v":"    "},null,null,{"$f":"SUMIF('FUNDING SHEET'!$J$4:$J$28,K61,'FUNDING SHEET'!$I$4:$I$28)+SUMIF('FUNDING SHEET'!$J$30:$J$229,K61,'FUNDING SHEET'!$H$30:$H$229)","v":0},{"$f":"SUM(JAN!O61:R61)","v":0},null,0,null,0]
[3,null,{"$f":"IF('FUNDING SHEET'!A6=\"\",\"\",'FUNDING SHEET'!A6)","v":""},null,{"$f":"IF('FUNDING SHEET'!B6=\"\",\"\",'FUNDING SHEET'!B6)","v":""},null,null,null,{"$f":"IF('FUNDING SHEET'!C6=\"\",\"\",'FUNDING SHEET'!C6)","v":""},null,{"$f":"'FUNDING SHEET'!J6","v":"    "},null,null,{"$f":"SUMIF('FUNDING SHEET'!$J$4:$J$28,K62,'FUNDING SHEET'!$I$4:$I$28)+SUMIF('FUNDING SHEET'!$J$30:$J$229,K62,'FUNDING SHEET'!$H$30:$H$229)","v":0},{"$f":"SUM(JAN!O62:R62)","v":0},null,0,null,0]
[4,null,{"$f":"IF('FUNDING SHEET'!A7=\"\",\"\",'FUNDING SHEET'!A7)","v":""},null,{"$f":"IF('FUNDING SHEET'!B7=\"\",\"\",'FUNDING SHEET'!B7)","v":""},null,null,null,{"$f":"IF('FUNDING SHEET'!C7=\"\",\"\",'FUNDING SHEET'!C7)","v":""},null,{"$f":"'FUNDING SHEET'!J7","v":"    "},null,null,{"$f":"SUMIF('FUNDING SHEET'!$J$4:$J$28,K63,'FUNDING SHEET'!$I$4:$I$28)+SUMIF('FUNDING SHEET'!$J$30:$J$229,K63,'FUNDING SHEET'!$H$30:$H$229)","v":0},{"$f":"SUM(JAN!O63:R63)","v":0},null,0,null,0]
[5,null,{"$f":"IF('FUNDING SHEET'!A8=\"\",\"\",'FUNDING SHEET'!A8)","v":""},null,{"$f":"IF('FUNDING SHEET'!B8=\"\",\"\",'FUNDING SHEET'!B8)","v":""},null,null,null,{"$f":"IF('FUNDING SHEET'!C8=\"\",\"\",'FUNDING SHEET'!C8)","v":""},null,{"$f":"'FUNDING SHEET'!J8","v":"    "},null,null,{"$f":"SUMIF('FUNDING SHEET'!$J$4:$J$28,K64,'FUNDING SHEET'!$I$4:$I$28)+SUMIF('FUNDING SHEET'!$J$30:$J$229,K64,'FUNDING SHEET'!$H$30:$H$229)","v":0},{"$f":"SUM(JAN!O64:R64)","v":0},null,0,null,0]
[6,null,{"$f":"IF('FUNDING SHEET'!A9=\"\",\"\",'FUNDING SHEET'!A9)","v":""},null,{"$f":"IF('FUNDING SHEET'!B9=\"\",\"\",'FUNDING SHEET'!B9)","v":""},null,null,null,{"$f":"IF('FUNDING SHEET'!C9=\"\",\"\",'FUNDING SHEET'!C9)","v":""},null,{"$f":"'FUNDING SHEET'!J9","v":"    "},null,null,{"$f":"SUMIF('FUNDING SHEET'!$J$4:$J$28,K65,'FUNDING SHEET'!$I$4:$I$28)+SUMIF('FUNDING SHEET'!$J$30:$J$229,K65,'FUNDING SHEET'!$H$30:$H$229)","v":0},{"$f":"SUM(JAN!O65:R65)","v":0},null,0,null,0]
[7,null,{"$f":"IF('FUNDING SHEET'!A10=\"\",\"\",'FUNDING SHEET'!A10)","v":""},null,{"$f":"IF('FUNDING SHEET'!B10=\"\",\"\",'FUNDING SHEET'!B10)","v":""},null,null,null,{"$f":"IF('FUNDING SHEET'!C10=\"\",\"\",'FUNDING SHEET'!C10)","v":""},null,{"$f":"'FUNDING SHEET'!J10","v":"    "},null,null,{"$f":"SUMIF('FUNDING SHEET'!$J$4:$J$28,K66,'FUNDING SHEET'!$I$4:$I$28)+SUMIF('FUNDING SHEET'!$J$30:$J$229,K66,'FUNDING SHEET'!$H$30:$H$229)","v":0},{"$f":"SUM(JAN!O66:R66)","v":0},null,0,null,0]
[8,null,{"$f":"IF('FUNDING SHEET'!A11=\"\",\"\",'FUNDING SHEET'!A11)","v":""},null,{"$f":"IF('FUNDING SHEET'!B11=\"\",\"\",'FUNDING SHEET'!B11)","v":""},null,null,null,{"$f":"IF('FUNDING SHEET'!C11=\"\",\"\",'FUNDING SHEET'!C11)","v":""},null,{"$f":"'FUNDING SHEET'!J11","v":"    "},null,null,{"$f":"SUMIF('FUNDING SHEET'!$J$4:$J$28,K67,'FUNDING SHEET'!$I$4:$I$28)+SUMIF('FUNDING SHEET'!$J$30:$J$229,K67,'FUNDING SHEET'!$H$30:$H$229)","v":0},{"$f":"SUM(JAN!O67:R67)","v":0},null,0,null,0]
[9,null,{"$f":"IF('FUNDING SHEET'!A12=\"\",\"\",'FUNDING SHEET'!A12)","v":""},null,{"$f":"IF('FUNDING SHEET'!B12=\"\",\"\",'FUNDING SHEET'!B12)","v":""},null,null,null,{"$f":"IF('FUNDING SHEET'!C12=\"\",\"\",'FUNDING SHEET'!C12)","v":""},null,{"$f":"'FUNDING SHEET'!J12","v":"    "},null,null,{"$f":"SUMIF('FUNDING SHEET'!$J$4:$J$28,K68,'FUNDING SHEET'!$I$4:$I$28)+SUMIF('FUNDING SHEET'!$J$30:$J$229,K68,'FUNDING SHEET'!$H$30:$H$229)","v":0},{"$f":"SUM(JAN!O68:R68)","v":0},null,0,null,0]
[10,null,{"$f":"IF('FUNDING SHEET'!A13=\"\",\"\",'FUNDING SHEET'!A13)","v":""},null,{"$f":"IF('FUNDING SHEET'!B13=\"\",\"\",'FUNDING SHEET'!B13)","v":""},null,null,null,{"$f":"IF('FUNDING SHEET'!C13=\"\",\"\",'FUNDING SHEET'!C13)","v":""},null,{"$f":"'FUNDING SHEET'!J13","v":"    "},null,null,{"$f":"SUMIF('FUNDING SHEET'!$J$4:$J$28,K69,'FUNDING SHEET'!$I$4:$I$28)+SUMIF('FUNDING SHEET'!$J$30:$J$229,K69,'FUNDING SHEET'!$H$30:$H$229)","v":0},{"$f":"SUM(JAN!O69:R69)","v":0},null,0,null,0]
[11,null,{"$f":"IF('FUNDING SHEET'!A14=\"\",\"\",'FUNDING SHEET'!A14)","v":""},null,{"$f":"IF('FUNDING SHEET'!B14=\"\",\"\",'FUNDING SHEET'!B14)","v":""},null,null,null,{"$f":"IF('FUNDING SHEET'!C14=\"\",\"\",'FUNDING SHEET'!C14)","v":""},null,{"$f":"'FUNDING SHEET'!J14","v":"    "},null,null,{"$f":"SUMIF('FUNDING SHEET'!$J$4:$J$28,K70,'FUNDING SHEET'!$I$4:$I$28)+SUMIF('FUNDING SHEET'!$J$30:$J$229,K70,'FUNDING SHEET'!$H$30:$H$229)","v":0},{"$f":"SUM(JAN!O70:R70)","v":0},null,0,null,0]
[12,null,{"$f":"IF('FUNDING SHEET'!A15=\"\",\"\",'FUNDING SHEET'!A15)","v":""},null,{"$f":"IF('FUNDING SHEET'!B15=\"\",\"\",'FUNDING SHEET'!B15)","v":""},null,null,null,{"$f":"IF('FUNDING SHEET'!C15=\"\",\"\",'FUNDING SHEET'!C15)","v":""},null,{"$f":"'FUNDING SHEET'!J15","v":"    "},null,null,{"$f":"SUMIF('FUNDING SHEET'!$J$4:$J$28,K71,'FUNDING SHEET'!$I$4:$I$28)+SUMIF('FUNDING SHEET'!$J$30:$J$229,K71,'FUNDING SHEET'!$H$30:$H$229)","v":0},{"$f":"SUM(JAN!O71:R71)","v":0},null,0,null,0]
[13,null,{"$f":"IF('FUNDING SHEET'!A16=\"\",\"\",'FUNDING SHEET'!A16)","v":""},null,{"$f":"IF('FUNDING SHEET'!B16=\"\",\"\",'FUNDING SHEET'!B16)","v":""},null,null,null,{"$f":"IF('FUNDING SHEET'!C16=\"\",\"\",'FUNDING SHEET'!C16)","v":""},null,{"$f":"'FUNDING SHEET'!J16","v":"    "},null,null,{"$f":"SUMIF('FUNDING SHEET'!$J$4:$J$28,K72,'FUNDING SHEET'!$I$4:$I$28)+SUMIF('FUNDING SHEET'!$J$30:$J$229,K72,'FUNDING SHEET'!$H$30:$H$229)","v":0},{"$f":"SUM(JAN!O72:R72)","v":0},null,0,null,0]
[14,null,{"$f":"IF('FUNDING SHEET'!A17=\"\",\"\",'FUNDING SHEET'!A17)","v":""},null,{"$f":"IF('FUNDING SHEET'!B17=\"\",\"\",'FUNDING SHEET'!B17)","v":""},null,null,null,{"$f":"IF('FUNDING SHEET'!C17=\"\",\"\",'FUNDING SHEET'!C17)","v":""},null,{"$f":"'FUNDING SHEET'!J17","v":"    "},null,null,{"$f":"SUMIF('FUNDING SHEET'!$J$4:$J$28,K73,'FUNDING SHEET'!$I$4:$I$28)+SUMIF('FUNDING SHEET'!$J$30:$J$229,K73,'FUNDING SHEET'!$H$30:$H$229)","v":0},{"$f":"SUM(JAN!O73:R73)","v":0},null,0,null,0]
[15,null,{"$f":"IF('FUNDING SHEET'!A18=\"\",\"\",'FUNDING SHEET'!A18)","v":""},null,{"$f":"IF('FUNDING SHEET'!B18=\"\",\"\",'FUNDING SHEET'!B18)","v":""},null,null,null,{"$f":"IF('FUNDING SHEET'!C18=\"\",\"\",'FUNDING SHEET'!C18)","v":""},null,{"$f":"'FUNDING SHEET'!J18","v":"    "},null,null,{"$f":"SUMIF('FUNDING SHEET'!$J$4:$J$28,K74,'FUNDING SHEET'!$I$4:$I$28)+SUMIF('FUNDING SHEET'!$J$30:$J$229,K74,'FUNDING SHEET'!$H$30:$H$229)","v":0},{"$f":"SUM(JAN!O74:R74)","v":0},null,0,null,0]
[16,null,{"$f":"IF('FUNDING SHEET'!A19=\"\",\"\",'FUNDING SHEET'!A19)","v":""},null,{"$f":"IF('FUNDING SHEET'!B19=\"\",\"\",'FUNDING SHEET'!B19)","v":""},null,null,null,{"$f":"IF('FUNDING SHEET'!C19=\"\",\"\",'FUNDING SHEET'!C19)","v":""},null,{"$f":"'FUNDING SHEET'!J19","v":"    "},null,null,{"$f":"SUMIF('FUNDING SHEET'!$J$4:$J$28,K75,'FUNDING SHEET'!$I$4:$I$28)+SUMIF('FUNDING SHEET'!$J$30:$J$229,K75,'FUNDING SHEET'!$H$30:$H$229)","v":0},{"$f":"SUM(JAN!O75:R75)","v":0},null,0,null,0]
[17,null,{"$f":"IF('FUNDING SHEET'!A20=\"\",\"\",'FUNDING SHEET'!A20)","v":""},null,{"$f":"IF('FUNDING SHEET'!B20=\"\",\"\",'FUNDING SHEET'!B20)","v":""},null,null,null,{"$f":"IF('FUNDING SHEET'!C20=\"\",\"\",'FUNDING SHEET'!C20)","v":""},null,{"$f":"'FUNDING SHEET'!J20","v":"    "},null,null,{"$f":"SUMIF('FUNDING SHEET'!$J$4:$J$28,K76,'FUNDING SHEET'!$I$4:$I$28)+SUMIF('FUNDING SHEET'!$J$30:$J$229,K76,'FUNDING SHEET'!$H$30:$H$229)","v":0},{"$f":"SUM(JAN!O76:R76)","v":0},null,0,null,0]
[18,null,{"$f":"IF('FUNDING SHEET'!A21=\"\",\"\",'FUNDING SHEET'!A21)","v":""},null,{"$f":"IF('FUNDING SHEET'!B21=\"\",\"\",'FUNDING SHEET'!B21)","v":""},null,null,null,{"$f":"IF('FUNDING SHEET'!C21=\"\",\"\",'FUNDING SHEET'!C21)","v":""},null,{"$f":"'FUNDING SHEET'!J21","v":"    "},null,null,{"$f":"SUMIF('FUNDING SHEET'!$J$4:$J$28,K77,'FUNDING SHEET'!$I$4:$I$28)+SUMIF('FUNDING SHEET'!$J$30:$J$229,K77,'FUNDING SHEET'!$H$30:$H$229)","v":0},{"$f":"SUM(JAN!O77:R77)","v":0},null,0,null,0]
[19,null,{"$f":"IF('FUNDING SHEET'!A22=\"\",\"\",'FUNDING SHEET'!A22)","v":""},null,{"$f":"IF('FUNDING SHEET'!B22=\"\",\"\",'FUNDING SHEET'!B22)","v":""},null,null,null,{"$f":"IF('FUNDING SHEET'!C22=\"\",\"\",'FUNDING SHEET'!C22)","v":""},null,{"$f":"'FUNDING SHEET'!J22","v":"    "},null,null,{"$f":"SUMIF('FUNDING SHEET'!$J$4:$J$28,K78,'FUNDING SHEET'!$I$4:$I$28)+SUMIF('FUNDING SHEET'!$J$30:$J$229,K78,'FUNDING SHEET'!$H$30:$H$229)","v":0},{"$f":"SUM(JAN!O78:R78)","v":0},null,0,null,0]
[20,null,{"$f":"IF('FUNDING SHEET'!A23=\"\",\"\",'FUNDING SHEET'!A23)","v":""},null,{"$f":"IF('FUNDING SHEET'!B23=\"\",\"\",'FUNDING SHEET'!B23)","v":""},null,null,null,{"$f":"IF('FUNDING SHEET'!C23=\"\",\"\",'FUNDING SHEET'!C23)","v":""},null,{"$f":"'FUNDING SHEET'!J23","v":"    "},null,null,{"$f":"SUMIF('FUNDING SHEET'!$J$4:$J$28,K79,'FUNDING SHEET'!$I$4:$I$28)+SUMIF('FUNDING SHEET'!$J$30:$J$229,K79,'FUNDING SHEET'!$H$30:$H$229)","v":0},{"$f":"SUM(JAN!O79:R79)","v":0},null,0,null,0]
[21,null,{"$f":"IF('FUNDING SHEET'!A24=\"\",\"\",'FUNDING SHEET'!A24)","v":""},null,{"$f":"IF('FUNDING SHEET'!B24=\"\",\"\",'FUNDING SHEET'!B24)","v":""},null,null,null,{"$f":"IF('FUNDING SHEET'!C24=\"\",\"\",'FUNDING SHEET'!C24)","v":""},null,{"$f":"'FUNDING SHEET'!J24","v":"    "},null,null,{"$f":"SUMIF('FUNDING SHEET'!$J$4:$J$28,K80,'FUNDING SHEET'!$I$4:$I$28)+SUMIF('FUNDING SHEET'!$J$30:$J$229,K80,'FUNDING SHEET'!$H$30:$H$229)","v":0},{"$f":"SUM(JAN!O80:R80)","v":0},null,0,null,0]
[22,null,{"$f":"IF('FUNDING SHEET'!A25=\"\",\"\",'FUNDING SHEET'!A25)","v":""},null,{"$f":"IF('FUNDING SHEET'!B25=\"\",\"\",'FUNDING SHEET'!B25)","v":""},null,null,null,{"$f":"IF('FUNDING SHEET'!C25=\"\",\"\",'FUNDING SHEET'!C25)","v":""},null,{"$f":"'FUNDING SHEET'!J25","v":"    "},null,null,{"$f":"SUMIF('FUNDING SHEET'!$J$4:$J$28,K81,'FUNDING SHEET'!$I$4:$I$28)+SUMIF('FUNDING SHEET'!$J$30:$J$229,K81,'FUNDING SHEET'!$H$30:$H$229)","v":0},{"$f":"SUM(JAN!O81:R81)","v":0},null,0,null,0]
[23,null,{"$f":"IF('FUNDING SHEET'!A26=\"\",\"\",'FUNDING SHEET'!A26)","v":""},null,{"$f":"IF('FUNDING SHEET'!B26=\"\",\"\",'FUNDING SHEET'!B26)","v":""},null,null,null,{"$f":"IF('FUNDING SHEET'!C26=\"\",\"\",'FUNDING SHEET'!C26)","v":""},null,{"$f":"'FUNDING SHEET'!J26","v":"    "},null,null,{"$f":"SUMIF('FUNDING SHEET'!$J$4:$J$28,K82,'FUNDING SHEET'!$I$4:$I$28)+SUMIF('FUNDING SHEET'!$J$30:$J$229,K82,'FUNDING SHEET'!$H$30:$H$229)","v":0},{"$f":"SUM(JAN!O82:R82)","v":0},null,0,null,0]
[24,null,{"$f":"IF('FUNDING SHEET'!A27=\"\",\"\",'FUNDING SHEET'!A27)","v":""},null,{"$f":"IF('FUNDING SHEET'!B27=\"\",\"\",'FUNDING SHEET'!B27)","v":""},null,null,null,{"$f":"IF('FUNDING SHEET'!C27=\"\",\"\",'FUNDING SHEET'!C27)","v":""},null,{"$f":"'FUNDING SHEET'!J27","v":"    "},null,null,{"$f":"SUMIF('FUNDING SHEET'!$J$4:$J$28,K83,'FUNDING SHEET'!$I$4:$I$28)+SUMIF('FUNDING SHEET'!$J$30:$J$229,K83,'FUNDING SHEET'!$H$30:$H$229)","v":0},{"$f":"SUM(JAN!O83:R83)","v":0},null,0,null,0]
[25,null,{"$f":"IF('FUNDING SHEET'!A28=\"\",\"\",'FUNDING SHEET'!A28)","v":""},null,{"$f":"IF('FUNDING SHEET'!B28=\"\",\"\",'FUNDING SHEET'!B28)","v":""},null,null,null,{"$f":"IF('FUNDING SHEET'!C28=\"\",\"\",'FUNDING SHEET'!C28)","v":""},null,{"$f":"'FUNDING SHEET'!J28","v":"    "},null,null,{"$f":"SUMIF('FUNDING SHEET'!$J$4:$J$28,K84,'FUNDING SHEET'!$I$4:$I$28)+SUMIF('FUNDING SHEET'!$J$30:$J$229,K84,'FUNDING SHEET'!$H$30:$H$229)","v":0},{"$f":"SUM(JAN!O84:R84)","v":0},null,0,null,0]
[null,null,null,null,null,null,null,null,null,null,null,"TOTALS:",null,{"$f":"SUM(N60:N84)","v":0},{"$f":"SUM(O60:O84)","v":0},null,{"$f":"SUM(Q60:Q84)","v":0},null,{"$f":"SUM(S60:S84)","v":0}]

{"sheet":"MAR","index":8,"n_rows":85,"n_cols":22,"rows_kept":85,"cut":false,"hidden":false,"merged":[[84,14,84,15],[7,3,7,4],[8,3,8,4],[9,3,9,4],[10,3,10,4],[11,3,11,4],[12,3,12,4],[13,3,13,4],[14,3,14,4],[82,14,82,15],[78,14,78,15],[74,14,74,15],[70,14,70,15],[67,14,67,15],[66,14,66,15],[28,3,28,4],[29,3,29,4],[30,3,30,4],[31,3,31,4],[32,3,32,4],[34,3,34,4],[35,3,35,4],[19,3,19,4],[20,3,20,4],[78,5,78,7],[79,5,79,7],[58,5,58,7],[59,5,59,7],[55,3,55,4],[56,3,56,4],[21,3,21,4],[22,3,22,4],[23,3,23,4],[24,3,24,4],[25,3,25,4],[26,3,26,4],[27,3,27,4],[82,16,82,17],[83,14,83,15],[83,16,83,17],[80,14,80,15],[80,16,80,17],[81,14,81,15],[81,16,81,17],[80,5,80,7],[81,5,81,7],[82,5,82,7],[83,5,83,7],[83,8,83,9],[83,10,83,11],[78,16,78,17],[79,14,79,15],[79,16,79,17],[76,16,76,17],[77,14,77,15],[77,16,77,17],[68,5,68,7],[69,5,69,7],[70,5,70,7],[71,5,71,7],[74,16,74,17],[75,14,75,15],[75,16,75,17],[72,14,72,15],[72,16,72,17],[73,14,73,15],[73,16,73,17],[72,5,72,7],[73,5,73,7],[74,5,74,7],[75,5,75,7],[70,16,70,17],[76,5,76,7],[77,5,77,7],[76,14,76,15],[33,3,33,4],[60,14,60,15],[63,14,63,15],[60,16,60,17],[71,14,71,15],[71,16,71,17],[68,14,68,15],[68,16,68,17],[69,14,69,15],[69,16,69,17],[60,5,60,7],[61,5,61,7],[62,5,62,7],[63,5,63,7],[64,5,64,7],[65,5,65,7],[66,5,66,7],[67,5,67,7],[66,16,66,17],[67,16,67,17],[62,8,62,9],[62,10,62,11],[63,8,63,9],[65,14,65,15],[65,16,65,17],[61,14,61,15],[61,16,61,17],[62,14,62,15],[62,16,62,17],[63,16,63,17],[64,14,64,15],[64,16,64,17],[59,14,59,15],[59,16,59,17],[54,3,54,4],[43,3,43,4],[44,3,44,4],[45,3,45,4],[46,3,46,4],[47,3,47,4],[48,3,48,4],[49,3,49,4],[50,3,50,4],[51,3,51,4],[52,3,52,4],[53,3,53,4],[51,9,51,10],[52,9,52,10],[53,9,53,10],[54,9,54,10],[55,9,55,10],[56,9,56,10],[57,0,57,18],[58,14,58,15],[58,16,58,17],[2,7,2,8],[3,18,5,18],[5,3,5,4],[0,0,1,18],[2,0,2,5],[2,11,2,12],[2,13,2,14],[2,16,2,17],[42,3,42,4],[6,13,6,15],[36,3,36,4],[37,3,37,4],[38,3,38,4],[39,3,39,4],[40,3,40,4],[41,3,41,4],[3,0,5,0],[3,2,4,5],[3,7,4,11],[3,13,4,16],[15,3,15,4],[16,3,16,4],[17,3,17,4],[18,3,18,4],[5,9,5,10],[7,9,7,10],[8,9,8,10],[9,9,9,10],[10,9,10,10],[11,9,11,10],[12,9,12,10],[13,9,13,10],[14,9,14,10],[15,9,15,10],[16,9,16,10],[17,9,17,10],[18,9,18,10],[19,9,19,10],[20,9,20,10],[21,9,21,10],[22,9,22,10],[23,9,23,10],[39,9,39,10],[40,9,40,10],[41,9,41,10],[24,9,24,10],[25,9,25,10],[26,9,26,10],[27,9,27,10],[28,9,28,10],[29,9,29,10],[30,9,30,10],[31,9,31,10],[32,9,32,10],[2,9,2,10],[58,8,58,9],[58,10,58,11],[59,8,59,9],[59,10,59,11],[60,8,60,9],[60,10,60,11],[61,8,61,9],[61,10,61,11],[42,9,42,10],[43,9,43,10],[44,9,44,10],[45,9,45,10],[46,9,46,10],[47,9,47,10],[48,9,48,10],[49,9,49,10],[50,9,50,10],[33,9,33,10],[34,9,34,10],[35,9,35,10],[36,9,36,10],[37,9,37,10],[38,9,38,10],[63,10,63,11],[64,8,64,9],[64,10,64,11],[65,8,65,9],[65,10,65,11],[66,8,66,9],[66,10,66,11],[67,8,67,9],[67,10,67,11],[68,8,68,9],[68,10,68,11],[69,8,69,9],[69,10,69,11],[70,8,70,9],[70,10,70,11],[71,8,71,9],[71,10,71,11],[72,8,72,9],[72,10,72,11],[73,8,73,9],[73,10,73,11],[74,8,74,9],[74,10,74,11],[75,8,75,9],[75,10,75,11],[76,8,76,9],[76,10,76,11],[77,8,77,9],[77,10,77,11],[78,8,78,9],[78,10,78,11],[79,8,79,9],[79,10,79,11],[80,8,80,9],[80,10,80,11],[81,8,81,9],[81,10,81,11],[82,8,82,9],[82,10,82,11]]}
["CARDHOLDER TRANSACTION LOG"]
[]
[null,null,null,null,null,null,null,{"$f":"'FUNDING SHEET'!$K$3","v":"CARDHOLDER NAME:"},null,{"$f":"'FUNDING SHEET'!$L$3","v":0},null,"CARD ACCOUNT NUMBER:",null,"XXXX-XXXX-XXXX-",null,{"$f":"'FUNDING SHEET'!$L$2","v":0},"FISCAL YEAR:",null,{"$f":"'FUNDING SHEET'!$L$1","v":0}]
["Log Number",null,"DATE",null,null,null,null,"PURCHASE DETAIL",null,null,null,null,null,"AMOUNT",null,null,null,null,"Account                     (see below)"]
[]
[null,null,"Date of Order","Date Received",null,"Statement Date",null,"Budget Object Class   (BOC)","VERNDOR           REQ # / CONTACT  (optional)","Item(s) purchased",null,"Vendor",null,"Amount","Paid by Conv. Check","Check Fee Amount (1.7%)","Total to Date"]
[null,null,null,null,null,null,null,null,null,null,null,null,null,"YEAR TO DATE EXPENDITURES",null,null,{"$f":"SUM(FEB!$Q$60:$R$84)+FEB!$Q$7","v":0},null,null,null,null,"ACCOUNT NUMBER"]
[1,null,null,null,null,null,null,{"$f":"IF(T8=$A$60,RIGHT($L$60,5),IF(T8=$A$61,RIGHT($L$61,5),IF(T8=$A$62,RIGHT($L$62,5),IF(T8=$A$63,RIGHT($L$63,5),IF(T8=$A$64,RIGHT($L$64,5),IF(T8=$A$65,RIGHT($L$65,5),IF(T8=$A$66,RIGHT($L$66,5),IF(T8=$A$67,RIGHT($L$67,5),IF(T8=$A$68,RIGHT($L$68,5),IF(T8=$A$69,RIGHT($L$69,5),IF(T8=$A$70,RIGHT($L$70,5),IF(T8=$A$71,RIGHT($L$71,5),IF(T8=$A$72,RIGHT($L$72,5),IF(T8=$A$73,RIGHT($L$73,5),IF(T8=$A$74,RIGHT($L$74,5),IF(T8=$A$75,RIGHT($L$75,5),IF(T8=$A$76,RIGHT($L$76,5),IF(T8=$A$77,RIGHT($L$77,5),IF(T8=$A$78,RIGHT($L$78,5),IF(T8=$A$79,RIGHT($L$79,5),IF(T8=$A$80,RIGHT($L$80,5),IF(T8=$A$81,RIGHT($L$81,5),IF(T8=$A$82,RIGHT($L$82,5),IF(T8=$A$83,RIGHT($L$83,5),IF(T8=$A$84,RIGHT($L$84,5),\"\")))))))))))))))))))))))))","v":""},null,null,null,null,null,null,null,{"$f":"IF(C8=\"\",\"\",IF(O8=\"Y\",N8*0.017,0))","v":""},{"$f":"IF(N8=\"\",\"\",Q7+N8+P8)","v":""},null,null,{"$f":"IF(F8=\"\",\"\",MONTH(F8))","v":""},null,{"$f":"IF('FUNDING SHEET'!A4=\"\",\"\",A60&\"   \"&'FUNDING SHEET'!D4&'FUNDING SHEET'!E4&\"  \"&'FUNDING SHEET'!F4)","v":""}]
[2,null,null,null,null,null,null,{"$f":"IF(T9=$A$60,RIGHT($L$60,5),IF(T9=$A$61,RIGHT($L$61,5),IF(T9=$A$62,RIGHT($L$62,5),IF(T9=$A$63,RIGHT($L$63,5),IF(T9=$A$64,RIGHT($L$64,5),IF(T9=$A$65,RIGHT($L$65,5),IF(T9=$A$66,RIGHT($L$66,5),IF(T9=$A$67,RIGHT($L$67,5),IF(T9=$A$68,RIGHT($L$68,5),IF(T9=$A$69,RIGHT($L$69,5),IF(T9=$A$70,RIGHT($L$70,5),IF(T9=$A$71,RIGHT($L$71,5),IF(T9=$A$72,RIGHT($L$72,5),IF(T9=$A$73,RIGHT($L$73,5),IF(T9=$A$74,RIGHT($L$74,5),IF(T9=$A$75,RIGHT($L$75,5),IF(T9=$A$76,RIGHT($L$76,5),IF(T9=$A$77,RIGHT($L$77,5),IF(T9=$A$78,RIGHT($L$78,5),IF(T9=$A$79,RIGHT($L$79,5),IF(T9=$A$80,RIGHT($L$80,5),IF(T9=$A$81,RIGHT($L$81,5),IF(T9=$A$82,RIGHT($L$82,5),IF(T9=$A$83,RIGHT($L$83,5),IF(T9=$A$84,RIGHT($L$84,5),\"\")))))))))))))))))))))))))","v":""},null,null,null,null,null,null,null,{"$f":"IF(C9=\"\",\"\",IF(O9=\"Y\",N9*0.017,0))","v":""},{"$f":"IF(N9=\"\",\"\",Q8+N9+P9)","v":""},null,null,{"$f":"IF(F9=\"\",\"\",MONTH(F9))","v":""},null,{"$f":"IF('FUNDING SHEET'!A5=\"\",\"\",A61&\"   \"&'FUNDING SHEET'!D5&'FUNDING SHEET'!E5&\"  \"&'FUNDING SHEET'!F5)","v":""}]
[3,null,null,null,null,null,null,"",null,null,null,null,null,null,null,"",{"$f":"IF(N10=\"\",\"\",Q9+N10+P10)","v":""},null,null,"",null,{"$f":"IF('FUNDING SHEET'!A6=\"\",\"\",A62&\"  \"&'FUNDING SHEET'!D6&\" \"&'FUNDING SHEET'!E6&\"  \"&'FUNDING SHEET'!F6)","v":""}]
[4,null,null,null,null,null,null,"",null,null,null,null,null,null,null,"","",null,null,"",null,{"$f":"IF('FUNDING SHEET'!A7=\"\",\"\",A63&\"  \"&'FUNDING SHEET'!D7&\" \"&'FUNDING SHEET'!E7&\"  \"&'FUNDING SHEET'!F7)","v":""}]
[5,null,null,null,null,null,null,"",null,null,null,null,null,null,null,"","",null,null,"",null,{"$f":"IF('FUNDING SHEET'!A8=\"\",\"\",A64&\"  \"&'FUNDING SHEET'!D8&\" \"&'FUNDING SHEET'!E8&\"  \"&'FUNDING SHEET'!F8)","v":""}]
[6,null,null,null,null,null,null,"",null,null,null,null,null,null,null,"","",null,null,"",null,{"$f":"IF('FUNDING SHEET'!A9=\"\",\"\",A65&\"  \"&'FUNDING SHEET'!D9&\" \"&'FUNDING SHEET'!E9&\"  \"&'FUNDING SHEET'!F9)","v":""}]
[7,null,null,null,null,null,null,"",null,null,null,null,null,null,null,"","",null,null,"",null,{"$f":"IF('FUNDING SHEET'!A10=\"\",\"\",A66&\"  \"&'FUNDING SHEET'!D10&\" \"&'FUNDING SHEET'!E10&\"  \"&'FUNDING SHEET'!F10)","v":""}]
[8,null,null,null,null,null,null,"",null,null,null,null,null,null,null,"","",null,null,"",null,{"$f":"IF('FUNDING SHEET'!A11=\"\",\"\",A67&\"  \"&'FUNDING SHEET'!D11&\" \"&'FUNDING SHEET'!E11&\"  \"&'FUNDING SHEET'!F11)","v":""}]
[9,null,null,null,null,null,null,"",null,null,null,null,null,null,null,"","",null,null,"",null,{"$f":"IF('FUNDING SHEET'!A12=\"\",\"\",A68&\"  \"&'FUNDING SHEET'!D12&\" \"&'FUNDING SHEET'!E12&\"  \"&'FUNDING SHEET'!F12)","v":""}]
[10,null,null,null,null,null,null,"",null,null,null,null,null,null,null,"","",null,null,"",null,{"$f":"IF('FUNDING SHEET'!A13=\"\",\"\",A69&\"  \"&'FUNDING SHEET'!D13&\" \"&'FUNDING SHEET'!E13&\"  \"&'FUNDING SHEET'!F13)","v":""}]
[11,null,null,null,null,null,null,"",null,null,null,null,null,null,null,"","",null,null,"",null,{"$f":"IF('FUNDING SHEET'!A14=\"\",\"\",A70&\"  \"&'FUNDING SHEET'!D14&\" \"&'FUNDING SHEET'!E14&\"  \"&'FUNDING SHEET'!F14)","v":""}]
[12,null,null,null,null,null,null,"",null,null,null,null,null,null,null,"","",null,null,"",null,{"$f":"IF('FUNDING SHEET'!A15=\"\",\"\",A71&\"  \"&'FUNDING SHEET'!D15&\" \"&'FUNDING SHEET'!E15&\"  \"&'FUNDING SHEET'!F15)","v":""}]
[13,null,null,null,null,null,null,"",null,null,null,null,null,null,null,"","",null,null,"",null,{"$f":"IF('FUNDING SHEET'!A16=\"\",\"\",A72&\"  \"&'FUNDING SHEET'!D16&\" \"&'FUNDING SHEET'!E16&\"  \"&'FUNDING SHEET'!F16)","v":""}]
[14,null,null,null,null,null,null,"",null,null,null,null,null,null,null,"","",null,null,"",null,{"$f":"IF('FUNDING SHEET'!A17=\"\",\"\",A73&\"  \"&'FUNDING SHEET'!D17&\" \"&'FUNDING SHEET'!E17&\"  \"&'FUNDING SHEET'!F17)","v":""}]
[15,null,null,null,null,null,null,"",null,null,null,null,null,null,null,"","",null,null,"",null,{"$f":"IF('FUNDING SHEET'!A18=\"\",\"\",A74&\"  \"&'FUNDING SHEET'!D18&\" \"&'FUNDING SHEET'!E18&\"  \"&'FUNDING SHEET'!F18)","v":""}]
[16,null,null,null,null,null,null,"",null,null,null,null,null,null,null,"","",null,null,"",null,{"$f":"IF('FUNDING SHEET'!A19=\"\",\"\",A75&\"  \"&'FUNDING SHEET'!D19&\" \"&'FUNDING SHEET'!E19&\"  \"&'FUNDING SHEET'!F19)","v":""}]
[17,null,null,null,null,null,null,"",null,null,null,null,null,null,null,"","",null,null,"",null,{"$f":"IF('FUNDING SHEET'!A20=\"\",\"\",A76&\"  \"&'FUNDING SHEET'!D20&\" \"&'FUNDING SHEET'!E20&\"  \"&'FUNDING SHEET'!F20)","v":""}]
[18,null,null,null,null,null,null,"",null,null,null,null,null,null,null,"","",null,null,"",null,{"$f":"IF('FUNDING SHEET'!A21=\"\",\"\",A77&\"  \"&'FUNDING SHEET'!D21&\" \"&'FUNDING SHEET'!E21&\"  \"&'FUNDING SHEET'!F21)","v":""}]
[19,null,null,null,null,null,null,"",null,null,null,null,null,null,null,"","",null,null,"",null,{"$f":"IF('FUNDING SHEET'!A22=\"\",\"\",A78&\"  \"&'FUNDING SHEET'!D22&\" \"&'FUNDING SHEET'!E22&\"  \"&'FUNDING SHEET'!F22)","v":""}]
[20,null,null,null,null,null,null,"",null,null,null,null,null,null,null,"","",null,null,"",null,{"$f":"IF('FUNDING SHEET'!A23=\"\",\"\",A79&\"  \"&'FUNDING SHEET'!D23&\" \"&'FUNDING SHEET'!E23&\"  \"&'FUNDING SHEET'!F23)","v":""}]
[21,null,null,null,null,null,null,"",null,null,null,null,null,null,null,"","",null,null,"",null,{"$f":"IF('FUNDING SHEET'!A24=\"\",\"\",A80&\"  \"&'FUNDING SHEET'!D24&\" \"&'FUNDING SHEET'!E24&\"  \"&'FUNDING SHEET'!F24)","v":""}]
[22,null,null,null,null,null,null,"",null,null,null,null,null,null,null,"","",null,null,"",null,{"$f":"IF('FUNDING SHEET'!A25=\"\",\"\",A81&\"  \"&'FUNDING SHEET'!D25&\" \"&'FUNDING SHEET'!E25&\"  \"&'FUNDING SHEET'!F25)","v":""}]
[23,null,null,null,null,null,null,"",null,null,null,null,null,null,null,"","",null,null,"",null,{"$f":"IF('FUNDING SHEET'!A26=\"\",\"\",A82&\"  \"&'FUNDING SHEET'!D26&\" \"&'FUNDING SHEET'!E26&\"  \"&'FUNDING SHEET'!F26)","v":""}]
[24,null,null,null,null,null,null,"",null,null,null,null,null,null,null,"","",null,null,"",null,{"$f":"IF('FUNDING SHEET'!A27=\"\",\"\",A83&\"  \"&'FUNDING SHEET'!D27&\" \"&'FUNDING SHEET'!E27&\"  \"&'FUNDING SHEET'!F27)","v":""}]
[25,null,null,null,null,null,null,"",null,null,null,null,null,null,null,"","",null,null,"",null,{"$f":"IF('FUNDING SHEET'!A28=\"\",\"\",A84&\"  \"&'FUNDING SHEET'!D28&\" \"&'FUNDING SHEET'!E28&\"  \"&'FUNDING SHEET'!F28)","v":""}]
[26,null,null,null,null,null,null,"",null,null,null,null,null,null,null,"","",null,null,""]
[27,null,null,null,null,null,null,"",null,null,null,null,null,null,null,"","",null,null,""]
[28,null,null,null,null,null,null,"",null,null,null,null,null,null,null,"","",null,null,""]
[29,null,null,null,null,null,null,"",null,null,null,null,null,null,null,"","",null,null,""]
[30,null,null,null,null,null,null,"",null,null,null,null,null,null,null,"","",null,null,""]
[31,null,null,null,null,null,null,"",null,null,null,null,null,null,null,"","",null,null,""]
[32,null,null,null,null,null,null,"",null,null,null,null,null,null,null,"","",null,null,""]
[33,null,null,null,null,null,null,"",null,null,null,null,null,null,null,"","",null,null,""]
[34,null,null,null,null,null,null,"",null,null,null,null,null,null,null,"","",null,null,""]
[35,null,null,null,null,null,null,"",null,null,null,null,null,null,null,"","",null,null,""]
[36,null,null,null,null,null,null,"",null,null,null,null,null,null,null,"","",null,null,""]
[37,null,null,null,null,null,null,"",null,null,null,null,null,null,null,"","",null,null,""]
[38,null,null,null,null,null,null,"",null,null,null,null,null,null,null,"","",null,null,""]
[39,null,null,null,null,null,null,"",null,null,null,null,null,null,null,"","",null,null,""]
[40,null,null,null,null,null,null,"",null,null,null,null,null,null,null,"","",null,null,""]
[41,null,null,null,null,null,null,"",null,null,null,null,null,null,null,"","",null,null,""]
[42,null,null,null,null,null,null,"",null,null,null,null,null,null,null,"","",null,null,""]
[43,null,null,null,null,null,null,"",null,null,null,null,null,null,null,"","",null,null,""]
[44,null,null,null,null,null,null,"",null,null,null,null,null,null,null,"","",null,null,""]
[45,null,null,null,null,null,null,"",null,null,null,null,null,null,null,"","",null,null,""]
[46,null,null,null,null,null,null,"",null,null,null,null,null,null,null,"","",null,null,""]
[47,null,null,null,null,null,null,"",null,null,null,null,null,null,null,"","",null,null,""]
[48,null,null,null,null,null,null,"",null,null,null,null,null,null,null,"","",null,null,""]
[49,null,null,null,null,null,null,"",null,null,null,null,null,null,null,"","",null,null,""]
[50,null,null,null,null,null,null,"",null,null,null,null,null,null,null,"","",null,null,""]
["ACCOUNT INFORMATION"]
["Line #",null,"Date",null,"PR #","PROJECT",null,null,"LINE ITEM NOMENCLATURE",null,"ACCOUNT NUMBER (WITH BOC)",null,null,"PR Funding","Previous Expenditures",null,"Current Expenditures",null,"Remaining Funds"]
[1,null,{"$f":"IF('FUNDING SHEET'!A4=\"\",\"\",'FUNDING SHEET'!A4)","v":""},null,{"$f":"IF('FUNDING SHEET'!B4=\"\",\"\",'FUNDING SHEET'!B4)","v":""},null,null,null,{"$f":"IF('FUNDING SHEET'!C4=\"\",\"\",'FUNDING SHEET'!C4)","v":""},null,{"$f":"'FUNDING SHEET'!J4","v":"    "},null,null,{"$f":"SUMIF('FUNDING SHEET'!$J$4:$J$28,K60,'FUNDING SHEET'!$I$4:$I$28)+SUMIF('FUNDING SHEET'!$J$30:$J$229,K60,'FUNDING SHEET'!$H$30:$H$229)","v":0},{"$f":"SUM(FEB!O60:R60)","v":0},null,{"$f":"SUMIF($S$8:$S$57,A60,$N$8:$N$57)+SUMIF($S$8:$S$57,A60,$P$8:$P$57)","v":0},null,{"$f":"N60-O60-Q60","v":0}]
[2,null,{"$f":"IF('FUNDING SHEET'!A5=\"\",\"\",'FUNDING SHEET'!A5)","v":""},null,{"$f":"IF('FUNDING SHEET'!B5=\"\",\"\",'FUNDING SHEET'!B5)","v":""},null,null,null,{"$f":"IF('FUNDING SHEET'!C5=\"\",\"\",'FUNDING SHEET'!C5)","v":""},null,{"$f":"'FUNDING SHEET'!J5","v":"    "},null,null,{"$f":"SUMIF('FUNDING SHEET'!$J$4:$J$28,K61,'FUNDING SHEET'!$I$4:$I$28)+SUMIF('FUNDING SHEET'!$J$30:$J$229,K61,'FUNDING SHEET'!$H$30:$H$229)","v":0},{"$f":"SUM(FEB!O61:R61)","v":0},null,0,null,0]
[3,null,{"$f":"IF('FUNDING SHEET'!A6=\"\",\"\",'FUNDING SHEET'!A6)","v":""},null,{"$f":"IF('FUNDING SHEET'!B6=\"\",\"\",'FUNDING SHEET'!B6)","v":""},null,null,null,{"$f":"IF('FUNDING SHEET'!C6=\"\",\"\",'FUNDING SHEET'!C6)","v":""},null,{"$f":"'FUNDING SHEET'!J6","v":"    "},null,null,{"$f":"SUMIF('FUNDING SHEET'!$J$4:$J$28,K62,'FUNDING SHEET'!$I$4:$I$28)+SUMIF('FUNDING SHEET'!$J$30:$J$229,K62,'FUNDING SHEET'!$H$30:$H$229)","v":0},{"$f":"SUM(FEB!O62:R62)","v":0},null,0,null,0]
[4,null,{"$f":"IF('FUNDING SHEET'!A7=\"\",\"\",'FUNDING SHEET'!A7)","v":""},null,{"$f":"IF('FUNDING SHEET'!B7=\"\",\"\",'FUNDING SHEET'!B7)","v":""},null,null,null,{"$f":"IF('FUNDING SHEET'!C7=\"\",\"\",'FUNDING SHEET'!C7)","v":""},null,{"$f":"'FUNDING SHEET'!J7","v":"    "},null,null,{"$f":"SUMIF('FUNDING SHEET'!$J$4:$J$28,K63,'FUNDING SHEET'!$I$4:$I$28)+SUMIF('FUNDING SHEET'!$J$30:$J$229,K63,'FUNDING SHEET'!$H$30:$H$229)","v":0},{"$f":"SUM(FEB!O63:R63)","v":0},null,0,null,0]
[5,null,{"$f":"IF('FUNDING SHEET'!A8=\"\",\"\",'FUNDING SHEET'!A8)","v":""},null,{"$f":"IF('FUNDING SHEET'!B8=\"\",\"\",'FUNDING SHEET'!B8)","v":""},null,null,null,{"$f":"IF('FUNDING SHEET'!C8=\"\",\"\",'FUNDING SHEET'!C8)","v":""},null,{"$f":"'FUNDING SHEET'!J8","v":"    "},null,null,{"$f":"SUMIF('FUNDING SHEET'!$J$4:$J$28,K64,'FUNDING SHEET'!$I$4:$I$28)+SUMIF('FUNDING SHEET'!$J$30:$J$229,K64,'FUNDING SHEET'!$H$30:$H$229)","v":0},{"$f":"SUM(FEB!O64:R64)","v":0},null,0,null,0]
[6,null,{"$f":"IF('FUNDING SHEET'!A9=\"\",\"\",'FUNDING SHEET'!A9)","v":""},null,{"$f":"IF('FUNDING SHEET'!B9=\"\",\"\",'FUNDING SHEET'!B9)","v":""},null,null,null,{"$f":"IF('FUNDING SHEET'!C9=\"\",\"\",'FUNDING SHEET'!C9)","v":""},null,{"$f":"'FUNDING SHEET'!J9","v":"    "},null,null,{"$f":"SUMIF('FUNDING SHEET'!$J$4:$J$28,K65,'FUNDING SHEET'!$I$4:$I$28)+SUMIF('FUNDING SHEET'!$J$30:$J$229,K65,'FUNDING SHEET'!$H$30:$H$229)","v":0},{"$f":"SUM(FEB!O65:R65)","v":0},null,0,null,0]
[7,null,{"$f":"IF('FUNDING SHEET'!A10=\"\",\"\",'FUNDING SHEET'!A10)","v":""},null,{"$f":"IF('FUNDING SHEET'!B10=\"\",\"\",'FUNDING SHEET'!B10)","v":""},null,null,null,{"$f":"IF('FUNDING SHEET'!C10=\"\",\"\",'FUNDING SHEET'!C10)","v":""},null,{"$f":"'FUNDING SHEET'!J10","v":"    "},null,null,{"$f":"SUMIF('FUNDING SHEET'!$J$4:$J$28,K66,'FUNDING SHEET'!$I$4:$I$28)+SUMIF('FUNDING SHEET'!$J$30:$J$229,K66,'FUNDING SHEET'!$H$30:$H$229)","v":0},{"$f":"SUM(FEB!O66:R66)","v":0},null,0,null,0]
[8,null,{"$f":"IF('FUNDING SHEET'!A11=\"\",\"\",'FUNDING SHEET'!A11)","v":""},null,{"$f":"IF('FUNDING SHEET'!B11=\"\",\"\",'FUNDING SHEET'!B11)","v":""},null,null,null,{"$f":"IF('FUNDING SHEET'!C11=\"\",\"\",'FUNDING SHEET'!C11)","v":""},null,{"$f":"'FUNDING SHEET'!J11","v":"    "},null,null,{"$f":"SUMIF('FUNDING SHEET'!$J$4:$J$28,K67,'FUNDING SHEET'!$I$4:$I$28)+SUMIF('FUNDING SHEET'!$J$30:$J$229,K67,'FUNDING SHEET'!$H$30:$H$229)","v":0},{"$f":"SUM(FEB!O67:R67)","v":0},null,0,null,0]
[9,null,{"$f":"IF('FUNDING SHEET'!A12=\"\",\"\",'FUNDING SHEET'!A12)","v":""},null,{"$f":"IF('FUNDING SHEET'!B12=\"\",\"\",'FUNDING SHEET'!B12)","v":""},null,null,null,{"$f":"IF('FUNDING SHEET'!C12=\"\",\"\",'FUNDING SHEET'!C12)","v":""},null,{"$f":"'FUNDING SHEET'!J12","v":"    "},null,null,{"$f":"SUMIF('FUNDING SHEET'!$J$4:$J$28,K68,'FUNDING SHEET'!$I$4:$I$28)+SUMIF('FUNDING SHEET'!$J$30:$J$229,K68,'FUNDING SHEET'!$H$30:$H$229)","v":0},{"$f":"SUM(FEB!O68:R68)","v":0},null,0,null,0]
[10,null,{"$f":"IF('FUNDING SHEET'!A13=\"\",\"\",'FUNDING SHEET'!A13)","v":""},null,{"$f":"IF('FUNDING SHEET'!B13=\"\",\"\",'FUNDING SHEET'!B13)","v":""},null,null,null,{"$f":"IF('FUNDING SHEET'!C13=\"\",\"\",'FUNDING SHEET'!C13)","v":""},null,{"$f":"'FUNDING SHEET'!J13","v":"    "},null,null,{"$f":"SUMIF('FUNDING SHEET'!$J$4:$J$28,K69,'FUNDING SHEET'!$I$4:$I$28)+SUMIF('FUNDING SHEET'!$J$30:$J$229,K69,'FUNDING SHEET'!$H$30:$H$229)","v":0},{"$f":"SUM(FEB!O69:R69)","v":0},null,0,null,0]
[11,null,{"$f":"IF('FUNDING SHEET'!A14=\"\",\"\",'FUNDING SHEET'!A14)","v":""},null,{"$f":"IF('FUNDING SHEET'!B14=\"\",\"\",'FUNDING SHEET'!B14)","v":""},null,null,null,{"$f":"IF('FUNDING SHEET'!C14=\"\",\"\",'FUNDING SHEET'!C14)","v":""},null,{"$f":"'FUNDING SHEET'!J14","v":"    "},null,null,{"$f":"SUMIF('FUNDING SHEET'!$J$4:$J$28,K70,'FUNDING SHEET'!$I$4:$I$28)+SUMIF('FUNDING SHEET'!$J$30:$J$229,K70,'FUNDING SHEET'!$H$30:$H$229)","v":0},{"$f":"SUM(FEB!O70:R70)","v":0},null,0,null,0]
[12,null,{"$f":"IF('FUNDING SHEET'!A15=\"\",\"\",'FUNDING SHEET'!A15)","v":""},null,{"$f":"IF('FUNDING SHEET'!B15=\"\",\"\",'FUNDING SHEET'!B15)","v":""},null,null,null,{"$f":"IF('FUNDING SHEET'!C15=\"\",\"\",'FUNDING SHEET'!C15)","v":""},null,{"$f":"'FUNDING SHEET'!J15","v":"    "},null,null,{"$f":"SUMIF('FUNDING SHEET'!$J$4:$J$28,K71,'FUNDING SHEET'!$I$4:$I$28)+SUMIF('FUNDING SHEET'!$J$30:$J$229,K71,'FUNDING SHEET'!$H$30:$H$229)","v":0},{"$f":"SUM(FEB!O71:R71)","v":0},null,0,null,0]
[13,null,{"$f":"IF('FUNDING SHEET'!A16=\"\",\"\",'FUNDING SHEET'!A16)","v":""},null,{"$f":"IF('FUNDING SHEET'!B16=\"\",\"\",'FUNDING SHEET'!B16)","v":""},null,null,null,{"$f":"IF('FUNDING SHEET'!C16=\"\",\"\",'FUNDING SHEET'!C16)","v":""},null,{"$f":"'FUNDING SHEET'!J16","v":"    "},null,null,{"$f":"SUMIF('FUNDING SHEET'!$J$4:$J$28,K72,'FUNDING SHEET'!$I$4:$I$28)+SUMIF('FUNDING SHEET'!$J$30:$J$229,K72,'FUNDING SHEET'!$H$30:$H$229)","v":0},{"$f":"SUM(FEB!O72:R72)","v":0},null,0,null,0]
[14,null,{"$f":"IF('FUNDING SHEET'!A17=\"\",\"\",'FUNDING SHEET'!A17)","v":""},null,{"$f":"IF('FUNDING SHEET'!B17=\"\",\"\",'FUNDING SHEET'!B17)","v":""},null,null,null,{"$f":"IF('FUNDING SHEET'!C17=\"\",\"\",'FUNDING SHEET'!C17)","v":""},null,{"$f":"'FUNDING SHEET'!J17","v":"    "},null,null,{"$f":"SUMIF('FUNDING SHEET'!$J$4:$J$28,K73,'FUNDING SHEET'!$I$4:$I$28)+SUMIF('FUNDING SHEET'!$J$30:$J$229,K73,'FUNDING SHEET'!$H$30:$H$229)","v":0},{"$f":"SUM(FEB!O73:R73)","v":0},null,0,null,0]
[15,null,{"$f":"IF('FUNDING SHEET'!A18=\"\",\"\",'FUNDING SHEET'!A18)","v":""},null,{"$f":"IF('FUNDING SHEET'!B18=\"\",\"\",'FUNDING SHEET'!B18)","v":""},null,null,null,{"$f":"IF('FUNDING SHEET'!C18=\"\",\"\",'FUNDING SHEET'!C18)","v":""},null,{"$f":"'FUNDING SHEET'!J18","v":"    "},null,null,{"$f":"SUMIF('FUNDING SHEET'!$J$4:$J$28,K74,'FUNDING SHEET'!$I$4:$I$28)+SUMIF('FUNDING SHEET'!$J$30:$J$229,K74,'FUNDING SHEET'!$H$30:$H$229)","v":0},{"$f":"SUM(FEB!O74:R74)","v":0},null,0,null,0]
[16,null,{"$f":"IF('FUNDING SHEET'!A19=\"\",\"\",'FUNDING SHEET'!A19)","v":""},null,{"$f":"IF('FUNDING SHEET'!B19=\"\",\"\",'FUNDING SHEET'!B19)","v":""},null,null,null,{"$f":"IF('FUNDING SHEET'!C19=\"\",\"\",'FUNDING SHEET'!C19)","v":""},null,{"$f":"'FUNDING SHEET'!J19","v":"    "},null,null,{"$f":"SUMIF('FUNDING SHEET'!$J$4:$J$28,K75,'FUNDING SHEET'!$I$4:$I$28)+SUMIF('FUNDING SHEET'!$J$30:$J$229,K75,'FUNDING SHEET'!$H$30:$H$229)","v":0},{"$f":"SUM(FEB!O75:R75)","v":0},null,0,null,0]
[17,null,{"$f":"IF('FUNDING SHEET'!A20=\"\",\"\",'FUNDING SHEET'!A20)","v":""},null,{"$f":"IF('FUNDING SHEET'!B20=\"\",\"\",'FUNDING SHEET'!B20)","v":""},null,null,null,{"$f":"IF('FUNDING SHEET'!C20=\"\",\"\",'FUNDING SHEET'!C20)","v":""},null,{"$f":"'FUNDING SHEET'!J20","v":"    "},null,null,{"$f":"SUMIF('FUNDING SHEET'!$J$4:$J$28,K76,'FUNDING SHEET'!$I$4:$I$28)+SUMIF('FUNDING SHEET'!$J$30:$J$229,K76,'FUNDING SHEET'!$H$30:$H$229)","v":0},{"$f":"SUM(FEB!O76:R76)","v":0},null,0,null,0]
[18,null,{"$f":"IF('FUNDING SHEET'!A21=\"\",\"\",'FUNDING SHEET'!A21)","v":""},null,{"$f":"IF('FUNDING SHEET'!B21=\"\",\"\",'FUNDING SHEET'!B21)","v":""},null,null,null,{"$f":"IF('FUNDING SHEET'!C21=\"\",\"\",'FUNDING SHEET'!C21)","v":""},null,{"$f":"'FUNDING SHEET'!J21","v":"    "},null,null,{"$f":"SUMIF('FUNDING SHEET'!$J$4:$J$28,K77,'FUNDING SHEET'!$I$4:$I$28)+SUMIF('FUNDING SHEET'!$J$30:$J$229,K77,'FUNDING SHEET'!$H$30:$H$229)","v":0},{"$f":"SUM(FEB!O77:R77)","v":0},null,0,null,0]
[19,null,{"$f":"IF('FUNDING SHEET'!A22=\"\",\"\",'FUNDING SHEET'!A22)","v":""},null,{"$f":"IF('FUNDING SHEET'!B22=\"\",\"\",'FUNDING SHEET'!B22)","v":""},null,null,null,{"$f":"IF('FUNDING SHEET'!C22=\"\",\"\",'FUNDING SHEET'!C22)","v":""},null,{"$f":"'FUNDING SHEET'!J22","v":"    "},null,null,{"$f":"SUMIF('FUNDING SHEET'!$J$4:$J$28,K78,'FUNDING SHEET'!$I$4:$I$28)+SUMIF('FUNDING SHEET'!$J$30:$J$229,K78,'FUNDING SHEET'!$H$30:$H$229)","v":0},{"$f":"SUM(FEB!O78:R78)","v":0},null,0,null,0]
[20,null,{"$f":"IF('FUNDING SHEET'!A23=\"\",\"\",'FUNDING SHEET'!A23)","v":""},null,{"$f":"IF('FUNDING SHEET'!B23=\"\",\"\",'FUNDING SHEET'!B23)","v":""},null,null,null,{"$f":"IF('FUNDING SHEET'!C23=\"\",\"\",'FUNDING SHEET'!C23)","v":""},null,{"$f":"'FUNDING SHEET'!J23","v":"    "},null,null,{"$f":"SUMIF('FUNDING SHEET'!$J$4:$J$28,K79,'FUNDING SHEET'!$I$4:$I$28)+SUMIF('FUNDING SHEET'!$J$30:$J$229,K79,'FUNDING SHEET'!$H$30:$H$229)","v":0},{"$f":"SUM(FEB!O79:R79)","v":0},null,0,null,0]
[21,null,{"$f":"IF('FUNDING SHEET'!A24=\"\",\"\",'FUNDING SHEET'!A24)","v":""},null,{"$f":"IF('FUNDING SHEET'!B24=\"\",\"\",'FUNDING SHEET'!B24)","v":""},null,null,null,{"$f":"IF('FUNDING SHEET'!C24=\"\",\"\",'FUNDING SHEET'!C24)","v":""},null,{"$f":"'FUNDING SHEET'!J24","v":"    "},null,null,{"$f":"SUMIF('FUNDING SHEET'!$J$4:$J$28,K80,'FUNDING SHEET'!$I$4:$I$28)+SUMIF('FUNDING SHEET'!$J$30:$J$229,K80,'FUNDING SHEET'!$H$30:$H$229)","v":0},{"$f":"SUM(FEB!O80:R80)","v":0},null,0,null,0]
[22,null,{"$f":"IF('FUNDING SHEET'!A25=\"\",\"\",'FUNDING SHEET'!A25)","v":""},null,{"$f":"IF('FUNDING SHEET'!B25=\"\",\"\",'FUNDING SHEET'!B25)","v":""},null,null,null,{"$f":"IF('FUNDING SHEET'!C25=\"\",\"\",'FUNDING SHEET'!C25)","v":""},null,{"$f":"'FUNDING SHEET'!J25","v":"    "},null,null,{"$f":"SUMIF('FUNDING SHEET'!$J$4:$J$28,K81,'FUNDING SHEET'!$I$4:$I$28)+SUMIF('FUNDING SHEET'!$J$30:$J$229,K81,'FUNDING SHEET'!$H$30:$H$229)","v":0},{"$f":"SUM(FEB!O81:R81)","v":0},null,0,null,0]
[23,null,{"$f":"IF('FUNDING SHEET'!A26=\"\",\"\",'FUNDING SHEET'!A26)","v":""},null,{"$f":"IF('FUNDING SHEET'!B26=\"\",\"\",'FUNDING SHEET'!B26)","v":""},null,null,null,{"$f":"IF('FUNDING SHEET'!C26=\"\",\"\",'FUNDING SHEET'!C26)","v":""},null,{"$f":"'FUNDING SHEET'!J26","v":"    "},null,null,{"$f":"SUMIF('FUNDING SHEET'!$J$4:$J$28,K82,'FUNDING SHEET'!$I$4:$I$28)+SUMIF('FUNDING SHEET'!$J$30:$J$229,K82,'FUNDING SHEET'!$H$30:$H$229)","v":0},{"$f":"SUM(FEB!O82:R82)","v":0},null,0,null,0]
[24,null,{"$f":"IF('FUNDING SHEET'!A27=\"\",\"\",'FUNDING SHEET'!A27)","v":""},null,{"$f":"IF('FUNDING SHEET'!B27=\"\",\"\",'FUNDING SHEET'!B27)","v":""},null,null,null,{"$f":"IF('FUNDING SHEET'!C27=\"\",\"\",'FUNDING SHEET'!C27)","v":""},null,{"$f":"'FUNDING SHEET'!J27","v":"    "},null,null,{"$f":"SUMIF('FUNDING SHEET'!$J$4:$J$28,K83,'FUNDING SHEET'!$I$4:$I$28)+SUMIF('FUNDING SHEET'!$J$30:$J$229,K83,'FUNDING SHEET'!$H$30:$H$229)","v":0},{"$f":"SUM(FEB!O83:R83)","v":0},null,0,null,0]
[25,null,{"$f":"IF('FUNDING SHEET'!A28=\"\",\"\",'FUNDING SHEET'!A28)","v":""},null,{"$f":"IF('FUNDING SHEET'!B28=\"\",\"\",'FUNDING SHEET'!B28)","v":""},null,null,null,{"$f":"IF('FUNDING SHEET'!C28=\"\",\"\",'FUNDING SHEET'!C28)","v":""},null,{"$f":"'FUNDING SHEET'!J28","v":"    "},null,null,{"$f":"SUMIF('FUNDING SHEET'!$J$4:$J$28,K84,'FUNDING SHEET'!$I$4:$I$28)+SUMIF('FUNDING SHEET'!$J$30:$J$229,K84,'FUNDING SHEET'!$H$30:$H$229)","v":0},{"$f":"SUM(FEB!O84:R84)","v":0},null,0,null,0]
[null,null,null,null,null,null,null,null,null,null,null,"TOTALS:",null,{"$f":"SUM(N60:N84)","v":0},{"$f":"SUM(O60:O84)","v":0},null,{"$f":"SUM(Q60:Q84)","v":0},null,{"$f":"SUM(S60:S84)","v":0}]

{"sheet":"APR","index":9,"n_rows":85,"n_cols":22,"rows_kept":85,"cut":false,"hidden":false,"merged":[[32,3,32,4],[33,3,33,4],[34,3,34,4],[35,3,35,4],[22,3,22,4],[23,3,23,4],[24,3,24,4],[25,3,25,4],[26,3,26,4],[27,3,27,4],[28,3,28,4],[29,3,29,4],[30,3,30,4],[80,5,80,7],[81,5,81,7],[84,14,84,15],[82,14,82,15],[82,16,82,17],[83,14,83,15],[83,16,83,17],[82,5,82,7],[83,5,83,7],[80,14,80,15],[80,16,80,17],[81,14,81,15],[81,16,81,17],[82,8,82,9],[82,10,82,11],[83,8,83,9],[83,10,83,11],[79,16,79,17],[72,5,72,7],[73,5,73,7],[76,14,76,15],[76,16,76,17],[77,14,77,15],[77,16,77,17],[74,14,74,15],[74,16,74,17],[75,14,75,15],[75,16,75,17],[74,5,74,7],[75,5,75,7],[76,5,76,7],[77,5,77,7],[72,14,72,15],[72,16,72,17],[73,14,73,15],[78,5,78,7],[79,5,79,7],[78,14,78,15],[78,16,78,17],[79,14,79,15],[73,16,73,17],[69,5,69,7],[70,5,70,7],[71,5,71,7],[66,8,66,9],[66,10,66,11],[70,14,70,15],[70,16,70,17],[71,14,71,15],[71,16,71,17],[69,14,69,15],[69,16,69,17],[69,8,69,9],[69,10,69,11],[70,8,70,9],[70,10,70,11],[71,8,71,9],[71,10,71,11],[64,5,64,7],[67,14,67,15],[66,14,66,15],[66,16,66,17],[67,16,67,17],[68,14,68,15],[68,16,68,17],[65,14,65,15],[65,16,65,17],[64,14,64,15],[64,16,64,17],[65,5,65,7],[66,5,66,7],[67,5,67,7],[68,5,68,7],[67,8,67,9],[67,10,67,11],[68,8,68,9],[68,10,68,11],[60,14,60,15],[63,14,63,15],[60,16,60,17],[55,3,55,4],[56,3,56,4],[57,0,57,18],[58,14,58,15],[58,16,58,17],[59,14,59,15],[59,16,59,17],[58,5,58,7],[59,5,59,7],[60,5,60,7],[61,5,61,7],[62,5,62,7],[63,5,63,7],[61,14,61,15],[61,16,61,17],[62,14,62,15],[62,16,62,17],[63,16,63,17],[60,8,60,9],[60,10,60,11],[61,8,61,9],[54,3,54,4],[43,3,43,4],[44,3,44,4],[45,3,45,4],[46,3,46,4],[47,3,47,4],[48,3,48,4],[49,3,49,4],[50,3,50,4],[51,3,51,4],[52,3,52,4],[53,3,53,4],[42,3,42,4],[6,13,6,15],[7,3,7,4],[8,3,8,4],[9,3,9,4],[10,3,10,4],[36,3,36,4],[37,3,37,4],[38,3,38,4],[39,3,39,4],[40,3,40,4],[41,3,41,4],[11,3,11,4],[12,3,12,4],[13,3,13,4],[14,3,14,4],[15,3,15,4],[16,3,16,4],[17,3,17,4],[18,3,18,4],[19,3,19,4],[20,3,20,4],[21,3,21,4],[31,3,31,4],[3,0,5,0],[3,2,4,5],[3,7,4,11],[3,13,4,16],[3,18,5,18],[5,3,5,4],[0,0,1,18],[2,0,2,5],[2,11,2,12],[2,13,2,14],[2,16,2,17],[2,7,2,8],[2,9,2,10],[5,9,5,10],[7,9,7,10],[8,9,8,10],[9,9,9,10],[10,9,10,10],[11,9,11,10],[12,9,12,10],[13,9,13,10],[14,9,14,10],[15,9,15,10],[16,9,16,10],[17,9,17,10],[18,9,18,10],[19,9,19,10],[20,9,20,10],[21,9,21,10],[22,9,22,10],[23,9,23,10],[24,9,24,10],[25,9,25,10],[26,9,26,10],[27,9,27,10],[28,9,28,10],[29,9,29,10],[30,9,30,10],[31,9,31,10],[32,9,32,10],[33,9,33,10],[34,9,34,10],[35,9,35,10],[36,9,36,10],[37,9,37,10],[38,9,38,10],[39,9,39,10],[40,9,40,10],[41,9,41,10],[42,9,42,10],[43,9,43,10],[44,9,44,10],[45,9,45,10],[46,9,46,10],[47,9,47,10],[48,9,48,10],[49,9,49,10],[50,9,50,10],[51,9,51,10],[52,9,52,10],[53,9,53,10],[54,9,54,10],[55,9,55,10],[56,9,56,10],[58,8,58,9],[58,10,58,11],[59,8,59,9],[59,10,59,11],[61,10,61,11],[62,8,62,9],[62,10,62,11],[63,8,63,9],[63,10,63,11],[64,8,64,9],[64,10,64,11],[65,8,65,9],[65,10,65,11],[74,8,74,9],[74,10,74,11],[75,8,75,9],[75,10,75,11],[76,8,76,9],[76,10,76,11],[72,8,72,9],[72,10,72,11],[73,8,73,9],[73,10,73,11],[77,8,77,9],[77,10,77,11],[78,8,78,9],[78,10,78,11],[79,8,79,9],[79,10,79,11],[80,8,80,9],[80,10,80,11],[81,8,81,9],[81,10,81,11]]}
["CARDHOLDER TRANSACTION LOG"]
[]
[null,null,null,null,null,null,null,{"$f":"'FUNDING SHEET'!$K$3","v":"CARDHOLDER NAME:"},null,{"$f":"'FUNDING SHEET'!$L$3","v":0},null,"CARD ACCOUNT NUMBER:",null,"XXXX-XXXX-XXXX-",null,{"$f":"'FUNDING SHEET'!$L$2","v":0},"FISCAL YEAR:",null,{"$f":"'FUNDING SHEET'!$L$1","v":0}]
["Log Number",null,"DATE",null,null,null,null,"PURCHASE DETAIL",null,null,null,null,null,"AMOUNT",null,null,null,null,"Account                     (see below)"]
[]
[null,null,"Date of Order","Date Received",null,"Statement Date",null,"Budget Object Class   (BOC)","VERNDOR           REQ # / CONTACT  (optional)","Item(s) purchased",null,"Vendor",null,"Amount","Paid by Conv. Check","Check Fee Amount (1.7%)","Total to Date"]
[null,null,null,null,null,null,null,null,null,null,null,null,null,"YEAR TO DATE EXPENDITURES",null,null,{"$f":"SUM(MAR!$Q$60:$R$84)+MAR!$Q$7","v":0},null,null,null,null,"ACCOUNT NUMBER"]
[1,null,null,null,null,null,null,{"$f":"IF(T8=$A$60,RIGHT($L$60,5),IF(T8=$A$61,RIGHT($L$61,5),IF(T8=$A$62,RIGHT($L$62,5),IF(T8=$A$63,RIGHT($L$63,5),IF(T8=$A$64,RIGHT($L$64,5),IF(T8=$A$65,RIGHT($L$65,5),IF(T8=$A$66,RIGHT($L$66,5),IF(T8=$A$67,RIGHT($L$67,5),IF(T8=$A$68,RIGHT($L$68,5),IF(T8=$A$69,RIGHT($L$69,5),IF(T8=$A$70,RIGHT($L$70,5),IF(T8=$A$71,RIGHT($L$71,5),IF(T8=$A$72,RIGHT($L$72,5),IF(T8=$A$73,RIGHT($L$73,5),IF(T8=$A$74,RIGHT($L$74,5),IF(T8=$A$75,RIGHT($L$75,5),IF(T8=$A$76,RIGHT($L$76,5),IF(T8=$A$77,RIGHT($L$77,5),IF(T8=$A$78,RIGHT($L$78,5),IF(T8=$A$79,RIGHT($L$79,5),IF(T8=$A$80,RIGHT($L$80,5),IF(T8=$A$81,RIGHT($L$81,5),IF(T8=$A$82,RIGHT($L$82,5),IF(T8=$A$83,RIGHT($L$83,5),IF(T8=$A$84,RIGHT($L$84,5),\"\")))))))))))))))))))))))))","v":""},null,null,null,null,null,null,null,{"$f":"IF(C8=\"\",\"\",IF(O8=\"Y\",N8*0.017,0))","v":""},{"$f":"IF(N8=\"\",\"\",Q7+N8+P8)","v":""},null,null,{"$f":"IF(F8=\"\",\"\",MONTH(F8))","v":""},null,{"$f":"IF('FUNDING SHEET'!A4=\"\",\"\",A60&\"   \"&'FUNDING SHEET'!D4&'FUNDING SHEET'!E4&\"  \"&'FUNDING SHEET'!F4)","v":""}]
[2,null,null,null,null,null,null,{"$f":"IF(T9=$A$60,RIGHT($L$60,5),IF(T9=$A$61,RIGHT($L$61,5),IF(T9=$A$62,RIGHT($L$62,5),IF(T9=$A$63,RIGHT($L$63,5),IF(T9=$A$64,RIGHT($L$64,5),IF(T9=$A$65,RIGHT($L$65,5),IF(T9=$A$66,RIGHT($L$66,5),IF(T9=$A$67,RIGHT($L$67,5),IF(T9=$A$68,RIGHT($L$68,5),IF(T9=$A$69,RIGHT($L$69,5),IF(T9=$A$70,RIGHT($L$70,5),IF(T9=$A$71,RIGHT($L$71,5),IF(T9=$A$72,RIGHT($L$72,5),IF(T9=$A$73,RIGHT($L$73,5),IF(T9=$A$74,RIGHT($L$74,5),IF(T9=$A$75,RIGHT($L$75,5),IF(T9=$A$76,RIGHT($L$76,5),IF(T9=$A$77,RIGHT($L$77,5),IF(T9=$A$78,RIGHT($L$78,5),IF(T9=$A$79,RIGHT($L$79,5),IF(T9=$A$80,RIGHT($L$80,5),IF(T9=$A$81,RIGHT($L$81,5),IF(T9=$A$82,RIGHT($L$82,5),IF(T9=$A$83,RIGHT($L$83,5),IF(T9=$A$84,RIGHT($L$84,5),\"\")))))))))))))))))))))))))","v":""},null,null,null,null,null,null,null,{"$f":"IF(C9=\"\",\"\",IF(O9=\"Y\",N9*0.017,0))","v":""},{"$f":"IF(N9=\"\",\"\",Q8+N9+P9)","v":""},null,null,{"$f":"IF(F9=\"\",\"\",MONTH(F9))","v":""},null,{"$f":"IF('FUNDING SHEET'!A5=\"\",\"\",A61&\"   \"&'FUNDING SHEET'!D5&'FUNDING SHEET'!E5&\"  \"&'FUNDING SHEET'!F5)","v":""}]
[3,null,null,null,null,null,null,"",null,null,null,null,null,null,null,"",{"$f":"IF(N10=\"\",\"\",Q9+N10+P10)","v":""},null,null,"",null,{"$f":"IF('FUNDING SHEET'!A6=\"\",\"\",A62&\"  \"&'FUNDING SHEET'!D6&\" \"&'FUNDING SHEET'!E6&\"  \"&'FUNDING SHEET'!F6)","v":""}]
[4,null,null,null,null,null,null,"",null,null,null,null,null,null,null,"","",null,null,"",null,{"$f":"IF('FUNDING SHEET'!A7=\"\",\"\",A63&\"  \"&'FUNDING SHEET'!D7&\" \"&'FUNDING SHEET'!E7&\"  \"&'FUNDING SHEET'!F7)","v":""}]
[5,null,null,null,null,null,null,"",null,null,null,null,null,null,null,"","",null,null,"",null,{"$f":"IF('FUNDING SHEET'!A8=\"\",\"\",A64&\"  \"&'FUNDING SHEET'!D8&\" \"&'FUNDING SHEET'!E8&\"  \"&'FUNDING SHEET'!F8)","v":""}]
[6,null,null,null,null,null,null,"",null,null,null,null,null,null,null,"","",null,null,"",null,{"$f":"IF('FUNDING SHEET'!A9=\"\",\"\",A65&\"  \"&'FUNDING SHEET'!D9&\" \"&'FUNDING SHEET'!E9&\"  \"&'FUNDING SHEET'!F9)","v":""}]
[7,null,null,null,null,null,null,"",null,null,null,null,null,null,null,"","",null,null,"",null,{"$f":"IF('FUNDING SHEET'!A10=\"\",\"\",A66&\"  \"&'FUNDING SHEET'!D10&\" \"&'FUNDING SHEET'!E10&\"  \"&'FUNDING SHEET'!F10)","v":""}]
[8,null,null,null,null,null,null,"",null,null,null,null,null,null,null,"","",null,null,"",null,{"$f":"IF('FUNDING SHEET'!A11=\"\",\"\",A67&\"  \"&'FUNDING SHEET'!D11&\" \"&'FUNDING SHEET'!E11&\"  \"&'FUNDING SHEET'!F11)","v":""}]
[9,null,null,null,null,null,null,"",null,null,null,null,null,null,null,"","",null,null,"",null,{"$f":"IF('FUNDING SHEET'!A12=\"\",\"\",A68&\"  \"&'FUNDING SHEET'!D12&\" \"&'FUNDING SHEET'!E12&\"  \"&'FUNDING SHEET'!F12)","v":""}]
[10,null,null,null,null,null,null,"",null,null,null,null,null,null,null,"","",null,null,"",null,{"$f":"IF('FUNDING SHEET'!A13=\"\",\"\",A69&\"  \"&'FUNDING SHEET'!D13&\" \"&'FUNDING SHEET'!E13&\"  \"&'FUNDING SHEET'!F13)","v":""}]
[11,null,null,null,null,null,null,"",null,null,null,null,null,null,null,"","",null,null,"",null,{"$f":"IF('FUNDING SHEET'!A14=\"\",\"\",A70&\"  \"&'FUNDING SHEET'!D14&\" \"&'FUNDING SHEET'!E14&\"  \"&'FUNDING SHEET'!F14)","v":""}]
[12,null,null,null,null,null,null,"",null,null,null,null,null,null,null,"","",null,null,"",null,{"$f":"IF('FUNDING SHEET'!A15=\"\",\"\",A71&\"  \"&'FUNDING SHEET'!D15&\" \"&'FUNDING SHEET'!E15&\"  \"&'FUNDING SHEET'!F15)","v":""}]
[13,null,null,null,null,null,null,"",null,null,null,null,null,null,null,"","",null,null,"",null,{"$f":"IF('FUNDING SHEET'!A16=\"\",\"\",A72&\"  \"&'FUNDING SHEET'!D16&\" \"&'FUNDING SHEET'!E16&\"  \"&'FUNDING SHEET'!F16)","v":""}]
[14,null,null,null,null,null,null,"",null,null,null,null,null,null,null,"","",null,null,"",null,{"$f":"IF('FUNDING SHEET'!A17=\"\",\"\",A73&\"  \"&'FUNDING SHEET'!D17&\" \"&'FUNDING SHEET'!E17&\"  \"&'FUNDING SHEET'!F17)","v":""}]
[15,null,null,null,null,null,null,"",null,null,null,null,null,null,null,"","",null,null,"",null,{"$f":"IF('FUNDING SHEET'!A18=\"\",\"\",A74&\"  \"&'FUNDING SHEET'!D18&\" \"&'FUNDING SHEET'!E18&\"  \"&'FUNDING SHEET'!F18)","v":""}]
[16,null,null,null,null,null,null,"",null,null,null,null,null,null,null,"","",null,null,"",null,{"$f":"IF('FUNDING SHEET'!A19=\"\",\"\",A75&\"  \"&'FUNDING SHEET'!D19&\" \"&'FUNDING SHEET'!E19&\"  \"&'FUNDING SHEET'!F19)","v":""}]
[17,null,null,null,null,null,null,"",null,null,null,null,null,null,null,"","",null,null,"",null,{"$f":"IF('FUNDING SHEET'!A20=\"\",\"\",A76&\"  \"&'FUNDING SHEET'!D20&\" \"&'FUNDING SHEET'!E20&\"  \"&'FUNDING SHEET'!F20)","v":""}]
[18,null,null,null,null,null,null,"",null,null,null,null,null,null,null,"","",null,null,"",null,{"$f":"IF('FUNDING SHEET'!A21=\"\",\"\",A77&\"  \"&'FUNDING SHEET'!D21&\" \"&'FUNDING SHEET'!E21&\"  \"&'FUNDING SHEET'!F21)","v":""}]
[19,null,null,null,null,null,null,"",null,null,null,null,null,null,null,"","",null,null,"",null,{"$f":"IF('FUNDING SHEET'!A22=\"\",\"\",A78&\"  \"&'FUNDING SHEET'!D22&\" \"&'FUNDING SHEET'!E22&\"  \"&'FUNDING SHEET'!F22)","v":""}]
[20,null,null,null,null,null,null,"",null,null,null,null,null,null,null,"","",null,null,"",null,{"$f":"IF('FUNDING SHEET'!A23=\"\",\"\",A79&\"  \"&'FUNDING SHEET'!D23&\" \"&'FUNDING SHEET'!E23&\"  \"&'FUNDING SHEET'!F23)","v":""}]
[21,null,null,null,null,null,null,"",null,null,null,null,null,null,null,"","",null,null,"",null,{"$f":"IF('FUNDING SHEET'!A24=\"\",\"\",A80&\"  \"&'FUNDING SHEET'!D24&\" \"&'FUNDING SHEET'!E24&\"  \"&'FUNDING SHEET'!F24)","v":""}]
[22,null,null,null,null,null,null,"",null,null,null,null,null,null,null,"","",null,null,"",null,{"$f":"IF('FUNDING SHEET'!A25=\"\",\"\",A81&\"  \"&'FUNDING SHEET'!D25&\" \"&'FUNDING SHEET'!E25&\"  \"&'FUNDING SHEET'!F25)","v":""}]
[23,null,null,null,null,null,null,"",null,null,null,null,null,null,null,"","",null,null,"",null,{"$f":"IF('FUNDING SHEET'!A26=\"\",\"\",A82&\"  \"&'FUNDING SHEET'!D26&\" \"&'FUNDING SHEET'!E26&\"  \"&'FUNDING SHEET'!F26)","v":""}]
[24,null,null,null,null,null,null,"",null,null,null,null,null,null,null,"","",null,null,"",null,{"$f":"IF('FUNDING SHEET'!A27=\"\",\"\",A83&\"  \"&'FUNDING SHEET'!D27&\" \"&'FUNDING SHEET'!E27&\"  \"&'FUNDING SHEET'!F27)","v":""}]
[25,null,null,null,null,null,null,"",null,null,null,null,null,null,null,"","",null,null,"",null,{"$f":"IF('FUNDING SHEET'!A28=\"\",\"\",A84&\"  \"&'FUNDING SHEET'!D28&\" \"&'FUNDING SHEET'!E28&\"  \"&'FUNDING SHEET'!F28)","v":""}]
[26,null,null,null,null,null,null,"",null,null,null,null,null,null,null,"","",null,null,""]
[27,null,null,null,null,null,null,"",null,null,null,null,null,null,null,"","",null,null,""]
[28,null,null,null,null,null,null,"",null,null,null,null,null,null,null,"","",null,null,""]
[29,null,null,null,null,null,null,"",null,null,null,null,null,null,null,"","",null,null,""]
[30,null,null,null,null,null,null,"",null,null,null,null,null,null,null,"","",null,null,""]
[31,null,null,null,null,null,null,"",null,null,null,null,null,null,null,"","",null,null,""]
[32,null,null,null,null,null,null,"",null,null,null,null,null,null,null,"","",null,null,""]
[33,null,null,null,null,null,null,"",null,null,null,null,null,null,null,"","",null,null,""]
[34,null,null,null,null,null,null,"",null,null,null,null,null,null,null,"","",null,null,""]
[35,null,null,null,null,null,null,"",null,null,null,null,null,null,null,"","",null,null,""]
[36,null,null,null,null,null,null,"",null,null,null,null,null,null,null,"","",null,null,""]
[37,null,null,null,null,null,null,"",null,null,null,null,null,null,null,"","",null,null,""]
[38,null,null,null,null,null,null,"",null,null,null,null,null,null,null,"","",null,null,""]
[39,null,null,null,null,null,null,"",null,null,null,null,null,null,null,"","",null,null,""]
[40,null,null,null,null,null,null,"",null,null,null,null,null,null,null,"","",null,null,""]
[41,null,null,null,null,null,null,"",null,null,null,null,null,null,null,"","",null,null,""]
[42,null,null,null,null,null,null,"",null,null,null,null,null,null,null,"","",null,null,""]
[43,null,null,null,null,null,null,"",null,null,null,null,null,null,null,"","",null,null,""]
[44,null,null,null,null,null,null,"",null,null,null,null,null,null,null,"","",null,null,""]
[45,null,null,null,null,null,null,"",null,null,null,null,null,null,null,"","",null,null,""]
[46,null,null,null,null,null,null,"",null,null,null,null,null,null,null,"","",null,null,""]
[47,null,null,null,null,null,null,"",null,null,null,null,null,null,null,"","",null,null,""]
[48,null,null,null,null,null,null,"",null,null,null,null,null,null,null,"","",null,null,""]
[49,null,null,null,null,null,null,"",null,null,null,null,null,null,null,"","",null,null,""]
[50,null,null,null,null,null,null,"",null,null,null,null,null,null,null,"","",null,null,""]
["ACCOUNT INFORMATION"]
["Line #",null,"Date",null,"PR #","PROJECT",null,null,"LINE ITEM NOMENCLATURE",null,"ACCOUNT NUMBER (WITH BOC)",null,null,"PR Funding","Previous Expenditures",null,"Current Expenditures",null,"Remaining Funds"]
[1,null,{"$f":"IF('FUNDING SHEET'!A4=\"\",\"\",'FUNDING SHEET'!A4)","v":""},null,{"$f":"IF('FUNDING SHEET'!B4=\"\",\"\",'FUNDING SHEET'!B4)","v":""},null,null,null,{"$f":"IF('FUNDING SHEET'!C4=\"\",\"\",'FUNDING SHEET'!C4)","v":""},null,{"$f":"'FUNDING SHEET'!J4","v":"    "},null,null,{"$f":"SUMIF('FUNDING SHEET'!$J$4:$J$28,K60,'FUNDING SHEET'!$I$4:$I$28)+SUMIF('FUNDING SHEET'!$J$30:$J$229,K60,'FUNDING SHEET'!$H$30:$H$229)","v":0},{"$f":"SUM(MAR!O60:R60)","v":0},null,{"$f":"SUMIF($S$8:$S$57,A60,$N$8:$N$57)+SUMIF($S$8:$S$57,A60,$P$8:$P$57)","v":0},null,{"$f":"N60-O60-Q60","v":0}]
[2,null,{"$f":"IF('FUNDING SHEET'!A5=\"\",\"\",'FUNDING SHEET'!A5)","v":""},null,{"$f":"IF('FUNDING SHEET'!B5=\"\",\"\",'FUNDING SHEET'!B5)","v":""},null,null,null,{"$f":"IF('FUNDING SHEET'!C5=\"\",\"\",'FUNDING SHEET'!C5)","v":""},null,{"$f":"'FUNDING SHEET'!J5","v":"    "},null,null,{"$f":"SUMIF('FUNDING SHEET'!$J$4:$J$28,K61,'FUNDING SHEET'!$I$4:$I$28)+SUMIF('FUNDING SHEET'!$J$30:$J$229,K61,'FUNDING SHEET'!$H$30:$H$229)","v":0},{"$f":"SUM(MAR!O61:R61)","v":0},null,0,null,0]
[3,null,{"$f":"IF('FUNDING SHEET'!A6=\"\",\"\",'FUNDING SHEET'!A6)","v":""},null,{"$f":"IF('FUNDING SHEET'!B6=\"\",\"\",'FUNDING SHEET'!B6)","v":""},null,null,null,{"$f":"IF('FUNDING SHEET'!C6=\"\",\"\",'FUNDING SHEET'!C6)","v":""},null,{"$f":"'FUNDING SHEET'!J6","v":"    "},null,null,{"$f":"SUMIF('FUNDING SHEET'!$J$4:$J$28,K62,'FUNDING SHEET'!$I$4:$I$28)+SUMIF('FUNDING SHEET'!$J$30:$J$229,K62,'FUNDING SHEET'!$H$30:$H$229)","v":0},{"$f":"SUM(MAR!O62:R62)","v":0},null,0,null,0]
[4,null,{"$f":"IF('FUNDING SHEET'!A7=\"\",\"\",'FUNDING SHEET'!A7)","v":""},null,{"$f":"IF('FUNDING SHEET'!B7=\"\",\"\",'FUNDING SHEET'!B7)","v":""},null,null,null,{"$f":"IF('FUNDING SHEET'!C7=\"\",\"\",'FUNDING SHEET'!C7)","v":""},null,{"$f":"'FUNDING SHEET'!J7","v":"    "},null,null,{"$f":"SUMIF('FUNDING SHEET'!$J$4:$J$28,K63,'FUNDING SHEET'!$I$4:$I$28)+SUMIF('FUNDING SHEET'!$J$30:$J$229,K63,'FUNDING SHEET'!$H$30:$H$229)","v":0},{"$f":"SUM(MAR!O63:R63)","v":0},null,0,null,0]
[5,null,{"$f":"IF('FUNDING SHEET'!A8=\"\",\"\",'FUNDING SHEET'!A8)","v":""},null,{"$f":"IF('FUNDING SHEET'!B8=\"\",\"\",'FUNDING SHEET'!B8)","v":""},null,null,null,{"$f":"IF('FUNDING SHEET'!C8=\"\",\"\",'FUNDING SHEET'!C8)","v":""},null,{"$f":"'FUNDING SHEET'!J8","v":"    "},null,null,{"$f":"SUMIF('FUNDING SHEET'!$J$4:$J$28,K64,'FUNDING SHEET'!$I$4:$I$28)+SUMIF('FUNDING SHEET'!$J$30:$J$229,K64,'FUNDING SHEET'!$H$30:$H$229)","v":0},{"$f":"SUM(MAR!O64:R64)","v":0},null,0,null,0]
[6,null,{"$f":"IF('FUNDING SHEET'!A9=\"\",\"\",'FUNDING SHEET'!A9)","v":""},null,{"$f":"IF('FUNDING SHEET'!B9=\"\",\"\",'FUNDING SHEET'!B9)","v":""},null,null,null,{"$f":"IF('FUNDING SHEET'!C9=\"\",\"\",'FUNDING SHEET'!C9)","v":""},null,{"$f":"'FUNDING SHEET'!J9","v":"    "},null,null,{"$f":"SUMIF('FUNDING SHEET'!$J$4:$J$28,K65,'FUNDING SHEET'!$I$4:$I$28)+SUMIF('FUNDING SHEET'!$J$30:$J$229,K65,'FUNDING SHEET'!$H$30:$H$229)","v":0},{"$f":"SUM(MAR!O65:R65)","v":0},null,0,null,0]
[7,null,{"$f":"IF('FUNDING SHEET'!A10=\"\",\"\",'FUNDING SHEET'!A10)","v":""},null,{"$f":"IF('FUNDING SHEET'!B10=\"\",\"\",'FUNDING SHEET'!B10)","v":""},null,null,null,{"$f":"IF('FUNDING SHEET'!C10=\"\",\"\",'FUNDING SHEET'!C10)","v":""},null,{"$f":"'FUNDING SHEET'!J10","v":"    "},null,null,{"$f":"SUMIF('FUNDING SHEET'!$J$4:$J$28,K66,'FUNDING SHEET'!$I$4:$I$28)+SUMIF('FUNDING SHEET'!$J$30:$J$229,K66,'FUNDING SHEET'!$H$30:$H$229)","v":0},{"$f":"SUM(MAR!O66:R66)","v":0},null,0,null,0]
[8,null,{"$f":"IF('FUNDING SHEET'!A11=\"\",\"\",'FUNDING SHEET'!A11)","v":""},null,{"$f":"IF('FUNDING SHEET'!B11=\"\",\"\",'FUNDING SHEET'!B11)","v":""},null,null,null,{"$f":"IF('FUNDING SHEET'!C11=\"\",\"\",'FUNDING SHEET'!C11)","v":""},null,{"$f":"'FUNDING SHEET'!J11","v":"    "},null,null,{"$f":"SUMIF('FUNDING SHEET'!$J$4:$J$28,K67,'FUNDING SHEET'!$I$4:$I$28)+SUMIF('FUNDING SHEET'!$J$30:$J$229,K67,'FUNDING SHEET'!$H$30:$H$229)","v":0},{"$f":"SUM(MAR!O67:R67)","v":0},null,0,null,0]
[9,null,{"$f":"IF('FUNDING SHEET'!A12=\"\",\"\",'FUNDING SHEET'!A12)","v":""},null,{"$f":"IF('FUNDING SHEET'!B12=\"\",\"\",'FUNDING SHEET'!B12)","v":""},null,null,null,{"$f":"IF('FUNDING SHEET'!C12=\"\",\"\",'FUNDING SHEET'!C12)","v":""},null,{"$f":"'FUNDING SHEET'!J12","v":"    "},null,null,{"$f":"SUMIF('FUNDING SHEET'!$J$4:$J$28,K68,'FUNDING SHEET'!$I$4:$I$28)+SUMIF('FUNDING SHEET'!$J$30:$J$229,K68,'FUNDING SHEET'!$H$30:$H$229)","v":0},{"$f":"SUM(MAR!O68:R68)","v":0},null,0,null,0]
[10,null,{"$f":"IF('FUNDING SHEET'!A13=\"\",\"\",'FUNDING SHEET'!A13)","v":""},null,{"$f":"IF('FUNDING SHEET'!B13=\"\",\"\",'FUNDING SHEET'!B13)","v":""},null,null,null,{"$f":"IF('FUNDING SHEET'!C13=\"\",\"\",'FUNDING SHEET'!C13)","v":""},null,{"$f":"'FUNDING SHEET'!J13","v":"    "},null,null,{"$f":"SUMIF('FUNDING SHEET'!$J$4:$J$28,K69,'FUNDING SHEET'!$I$4:$I$28)+SUMIF('FUNDING SHEET'!$J$30:$J$229,K69,'FUNDING SHEET'!$H$30:$H$229)","v":0},{"$f":"SUM(MAR!O69:R69)","v":0},null,0,null,0]
[11,null,{"$f":"IF('FUNDING SHEET'!A14=\"\",\"\",'FUNDING SHEET'!A14)","v":""},null,{"$f":"IF('FUNDING SHEET'!B14=\"\",\"\",'FUNDING SHEET'!B14)","v":""},null,null,null,{"$f":"IF('FUNDING SHEET'!C14=\"\",\"\",'FUNDING SHEET'!C14)","v":""},null,{"$f":"'FUNDING SHEET'!J14","v":"    "},null,null,{"$f":"SUMIF('FUNDING SHEET'!$J$4:$J$28,K70,'FUNDING SHEET'!$I$4:$I$28)+SUMIF('FUNDING SHEET'!$J$30:$J$229,K70,'FUNDING SHEET'!$H$30:$H$229)","v":0},{"$f":"SUM(MAR!O70:R70)","v":0},null,0,null,0]
[12,null,{"$f":"IF('FUNDING SHEET'!A15=\"\",\"\",'FUNDING SHEET'!A15)","v":""},null,{"$f":"IF('FUNDING SHEET'!B15=\"\",\"\",'FUNDING SHEET'!B15)","v":""},null,null,null,{"$f":"IF('FUNDING SHEET'!C15=\"\",\"\",'FUNDING SHEET'!C15)","v":""},null,{"$f":"'FUNDING SHEET'!J15","v":"    "},null,null,{"$f":"SUMIF('FUNDING SHEET'!$J$4:$J$28,K71,'FUNDING SHEET'!$I$4:$I$28)+SUMIF('FUNDING SHEET'!$J$30:$J$229,K71,'FUNDING SHEET'!$H$30:$H$229)","v":0},{"$f":"SUM(MAR!O71:R71)","v":0},null,0,null,0]
[13,null,{"$f":"IF('FUNDING SHEET'!A16=\"\",\"\",'FUNDING SHEET'!A16)","v":""},null,{"$f":"IF('FUNDING SHEET'!B16=\"\",\"\",'FUNDING SHEET'!B16)","v":""},null,null,null,{"$f":"IF('FUNDING SHEET'!C16=\"\",\"\",'FUNDING SHEET'!C16)","v":""},null,{"$f":"'FUNDING SHEET'!J16","v":"    "},null,null,{"$f":"SUMIF('FUNDING SHEET'!$J$4:$J$28,K72,'FUNDING SHEET'!$I$4:$I$28)+SUMIF('FUNDING SHEET'!$J$30:$J$229,K72,'FUNDING SHEET'!$H$30:$H$229)","v":0},{"$f":"SUM(MAR!O72:R72)","v":0},null,0,null,0]
[14,null,{"$f":"IF('FUNDING SHEET'!A17=\"\",\"\",'FUNDING SHEET'!A17)","v":""},null,{"$f":"IF('FUNDING SHEET'!B17=\"\",\"\",'FUNDING SHEET'!B17)","v":""},null,null,null,{"$f":"IF('FUNDING SHEET'!C17=\"\",\"\",'FUNDING SHEET'!C17)","v":""},null,{"$f":"'FUNDING SHEET'!J17","v":"    "},null,null,{"$f":"SUMIF('FUNDING SHEET'!$J$4:$J$28,K73,'FUNDING SHEET'!$I$4:$I$28)+SUMIF('FUNDING SHEET'!$J$30:$J$229,K73,'FUNDING SHEET'!$H$30:$H$229)","v":0},{"$f":"SUM(MAR!O73:R73)","v":0},null,0,null,0]
[15,null,{"$f":"IF('FUNDING SHEET'!A18=\"\",\"\",'FUNDING SHEET'!A18)","v":""},null,{"$f":"IF('FUNDING SHEET'!B18=\"\",\"\",'FUNDING SHEET'!B18)","v":""},null,null,null,{"$f":"IF('FUNDING SHEET'!C18=\"\",\"\",'FUNDING SHEET'!C18)","v":""},null,{"$f":"'FUNDING SHEET'!J18","v":"    "},null,null,{"$f":"SUMIF('FUNDING SHEET'!$J$4:$J$28,K74,'FUNDING SHEET'!$I$4:$I$28)+SUMIF('FUNDING SHEET'!$J$30:$J$229,K74,'FUNDING SHEET'!$H$30:$H$229)","v":0},{"$f":"SUM(MAR!O74:R74)","v":0},null,0,null,0]
[16,null,{"$f":"IF('FUNDING SHEET'!A19=\"\",\"\",'FUNDING SHEET'!A19)","v":""},null,{"$f":"IF('FUNDING SHEET'!B19=\"\",\"\",'FUNDING SHEET'!B19)","v":""},null,null,null,{"$f":"IF('FUNDING SHEET'!C19=\"\",\"\",'FUNDING SHEET'!C19)","v":""},null,{"$f":"'FUNDING SHEET'!J19","v":"    "},null,null,{"$f":"SUMIF('FUNDING SHEET'!$J$4:$J$28,K75,'FUNDING SHEET'!$I$4:$I$28)+SUMIF('FUNDING SHEET'!$J$30:$J$229,K75,'FUNDING SHEET'!$H$30:$H$229)","v":0},{"$f":"SUM(MAR!O75:R75)","v":0},null,0,null,0]
[17,null,{"$f":"IF('FUNDING SHEET'!A20=\"\",\"\",'FUNDING SHEET'!A20)","v":""},null,{"$f":"IF('FUNDING SHEET'!B20=\"\",\"\",'FUNDING SHEET'!B20)","v":""},null,null,null,{"$f":"IF('FUNDING SHEET'!C20=\"\",\"\",'FUNDING SHEET'!C20)","v":""},null,{"$f":"'FUNDING SHEET'!J20","v":"    "},null,null,{"$f":"SUMIF('FUNDING SHEET'!$J$4:$J$28,K76,'FUNDING SHEET'!$I$4:$I$28)+SUMIF('FUNDING SHEET'!$J$30:$J$229,K76,'FUNDING SHEET'!$H$30:$H$229)","v":0},{"$f":"SUM(MAR!O76:R76)","v":0},null,0,null,0]
[18,null,{"$f":"IF('FUNDING SHEET'!A21=\"\",\"\",'FUNDING SHEET'!A21)","v":""},null,{"$f":"IF('FUNDING SHEET'!B21=\"\",\"\",'FUNDING SHEET'!B21)","v":""},null,null,null,{"$f":"IF('FUNDING SHEET'!C21=\"\",\"\",'FUNDING SHEET'!C21)","v":""},null,{"$f":"'FUNDING SHEET'!J21","v":"    "},null,null,{"$f":"SUMIF('FUNDING SHEET'!$J$4:$J$28,K77,'FUNDING SHEET'!$I$4:$I$28)+SUMIF('FUNDING SHEET'!$J$30:$J$229,K77,'FUNDING SHEET'!$H$30:$H$229)","v":0},{"$f":"SUM(MAR!O77:R77)","v":0},null,0,null,0]
[19,null,{"$f":"IF('FUNDING SHEET'!A22=\"\",\"\",'FUNDING SHEET'!A22)","v":""},null,{"$f":"IF('FUNDING SHEET'!B22=\"\",\"\",'FUNDING SHEET'!B22)","v":""},null,null,null,{"$f":"IF('FUNDING SHEET'!C22=\"\",\"\",'FUNDING SHEET'!C22)","v":""},null,{"$f":"'FUNDING SHEET'!J22","v":"    "},null,null,{"$f":"SUMIF('FUNDING SHEET'!$J$4:$J$28,K78,'FUNDING SHEET'!$I$4:$I$28)+SUMIF('FUNDING SHEET'!$J$30:$J$229,K78,'FUNDING SHEET'!$H$30:$H$229)","v":0},{"$f":"SUM(MAR!O78:R78)","v":0},null,0,null,0]
[20,null,{"$f":"IF('FUNDING SHEET'!A23=\"\",\"\",'FUNDING SHEET'!A23)","v":""},null,{"$f":"IF('FUNDING SHEET'!B23=\"\",\"\",'FUNDING SHEET'!B23)","v":""},null,null,null,{"$f":"IF('FUNDING SHEET'!C23=\"\",\"\",'FUNDING SHEET'!C23)","v":""},null,{"$f":"'FUNDING SHEET'!J23","v":"    "},null,null,{"$f":"SUMIF('FUNDING SHEET'!$J$4:$J$28,K79,'FUNDING SHEET'!$I$4:$I$28)+SUMIF('FUNDING SHEET'!$J$30:$J$229,K79,'FUNDING SHEET'!$H$30:$H$229)","v":0},{"$f":"SUM(MAR!O79:R79)","v":0},null,0,null,0]
[21,null,{"$f":"IF('FUNDING SHEET'!A24=\"\",\"\",'FUNDING SHEET'!A24)","v":""},null,{"$f":"IF('FUNDING SHEET'!B24=\"\",\"\",'FUNDING SHEET'!B24)","v":""},null,null,null,{"$f":"IF('FUNDING SHEET'!C24=\"\",\"\",'FUNDING SHEET'!C24)","v":""},null,{"$f":"'FUNDING SHEET'!J24","v":"    "},null,null,{"$f":"SUMIF('FUNDING SHEET'!$J$4:$J$28,K80,'FUNDING SHEET'!$I$4:$I$28)+SUMIF('FUNDING SHEET'!$J$30:$J$229,K80,'FUNDING SHEET'!$H$30:$H$229)","v":0},{"$f":"SUM(MAR!O80:R80)","v":0},null,0,null,0]
[22,null,{"$f":"IF('FUNDING SHEET'!A25=\"\",\"\",'FUNDING SHEET'!A25)","v":""},null,{"$f":"IF('FUNDING SHEET'!B25=\"\",\"\",'FUNDING SHEET'!B25)","v":""},null,null,null,{"$f":"IF('FUNDING SHEET'!C25=\"\",\"\",'FUNDING SHEET'!C25)","v":""},null,{"$f":"'FUNDING SHEET'!J25","v":"    "},null,null,{"$f":"SUMIF('FUNDING SHEET'!$J$4:$J$28,K81,'FUNDING SHEET'!$I$4:$I$28)+SUMIF('FUNDING SHEET'!$J$30:$J$229,K81,'FUNDING SHEET'!$H$30:$H$229)","v":0},{"$f":"SUM(MAR!O81:R81)","v":0},null,0,null,0]
[23,null,{"$f":"IF('FUNDING SHEET'!A26=\"\",\"\",'FUNDING SHEET'!A26)","v":""},null,{"$f":"IF('FUNDING SHEET'!B26=\"\",\"\",'FUNDING SHEET'!B26)","v":""},null,null,null,{"$f":"IF('FUNDING SHEET'!C26=\"\",\"\",'FUNDING SHEET'!C26)","v":""},null,{"$f":"'FUNDING SHEET'!J26","v":"    "},null,null,{"$f":"SUMIF('FUNDING SHEET'!$J$4:$J$28,K82,'FUNDING SHEET'!$I$4:$I$28)+SUMIF('FUNDING SHEET'!$J$30:$J$229,K82,'FUNDING SHEET'!$H$30:$H$229)","v":0},{"$f":"SUM(MAR!O82:R82)","v":0},null,0,null,0]
[24,null,{"$f":"IF('FUNDING SHEET'!A27=\"\",\"\",'FUNDING SHEET'!A27)","v":""},null,{"$f":"IF('FUNDING SHEET'!B27=\"\",\"\",'FUNDING SHEET'!B27)","v":""},null,null,null,{"$f":"IF('FUNDING SHEET'!C27=\"\",\"\",'FUNDING SHEET'!C27)","v":""},null,{"$f":"'FUNDING SHEET'!J27","v":"    "},null,null,{"$f":"SUMIF('FUNDING SHEET'!$J$4:$J$28,K83,'FUNDING SHEET'!$I$4:$I$28)+SUMIF('FUNDING SHEET'!$J$30:$J$229,K83,'FUNDING SHEET'!$H$30:$H$229)","v":0},{"$f":"SUM(MAR!O83:R83)","v":0},null,0,null,0]
[25,null,{"$f":"IF('FUNDING SHEET'!A28=\"\",\"\",'FUNDING SHEET'!A28)","v":""},null,{"$f":"IF('FUNDING SHEET'!B28=\"\",\"\",'FUNDING SHEET'!B28)","v":""},null,null,null,{"$f":"IF('FUNDING SHEET'!C28=\"\",\"\",'FUNDING SHEET'!C28)","v":""},null,{"$f":"'FUNDING SHEET'!J28","v":"    "},null,null,{"$f":"SUMIF('FUNDING SHEET'!$J$4:$J$28,K84,'FUNDING SHEET'!$I$4:$I$28)+SUMIF('FUNDING SHEET'!$J$30:$J$229,K84,'FUNDING SHEET'!$H$30:$H$229)","v":0},{"$f":"SUM(MAR!O84:R84)","v":0},null,0,null,0]
[null,null,null,null,null,null,null,null,null,null,null,"TOTALS:",null,{"$f":"SUM(N60:N84)","v":0},{"$f":"SUM(O60:O84)","v":0},null,{"$f":"SUM(Q60:Q84)","v":0},null,{"$f":"SUM(S60:S84)","v":0}]

{"sheet":"MAY","index":10,"n_rows":85,"n_cols":22,"rows_kept":85,"cut":false,"hidden":false,"merged":[[32,3,32,4],[33,3,33,4],[34,3,34,4],[35,3,35,4],[23,3,23,4],[24,3,24,4],[25,3,25,4],[26,3,26,4],[27,3,27,4],[28,3,28,4],[29,3,29,4],[30,3,30,4],[31,3,31,4],[80,5,80,7],[81,5,81,7],[84,14,84,15],[82,14,82,15],[82,16,82,17],[83,14,83,15],[83,16,83,17],[82,5,82,7],[83,5,83,7],[80,14,80,15],[80,16,80,17],[81,14,81,15],[81,16,81,17],[82,8,82,9],[82,10,82,11],[83,8,83,9],[83,10,83,11],[79,16,79,17],[72,5,72,7],[73,5,73,7],[76,14,76,15],[76,16,76,17],[77,14,77,15],[77,16,77,17],[74,14,74,15],[74,16,74,17],[75,14,75,15],[75,16,75,17],[74,5,74,7],[75,5,75,7],[76,5,76,7],[77,5,77,7],[72,14,72,15],[72,16,72,17],[73,14,73,15],[78,5,78,7],[79,5,79,7],[78,14,78,15],[78,16,78,17],[79,14,79,15],[73,16,73,17],[69,5,69,7],[70,5,70,7],[71,5,71,7],[66,8,66,9],[66,10,66,11],[70,14,70,15],[70,16,70,17],[71,14,71,15],[71,16,71,17],[69,14,69,15],[69,16,69,17],[69,8,69,9],[69,10,69,11],[70,8,70,9],[70,10,70,11],[71,8,71,9],[71,10,71,11],[64,5,64,7],[67,14,67,15],[66,14,66,15],[66,16,66,17],[67,16,67,17],[68,14,68,15],[68,16,68,17],[65,14,65,15],[65,16,65,17],[64,14,64,15],[64,16,64,17],[65,5,65,7],[66,5,66,7],[67,5,67,7],[68,5,68,7],[67,8,67,9],[67,10,67,11],[68,8,68,9],[68,10,68,11],[60,14,60,15],[63,14,63,15],[60,16,60,17],[55,3,55,4],[56,3,56,4],[57,0,57,18],[58,14,58,15],[58,16,58,17],[59,14,59,15],[59,16,59,17],[58,5,58,7],[59,5,59,7],[60,5,60,7],[61,5,61,7],[62,5,62,7],[63,5,63,7],[61,14,61,15],[61,16,61,17],[62,14,62,15],[62,16,62,17],[63,16,63,17],[60,8,60,9],[60,10,60,11],[61,8,61,9],[54,3,54,4],[43,3,43,4],[44,3,44,4],[45,3,45,4],[46,3,46,4],[47,3,47,4],[48,3,48,4],[49,3,49,4],[50,3,50,4],[51,3,51,4],[52,3,52,4],[53,3,53,4],[42,3,42,4],[6,13,6,15],[7,3,7,4],[8,3,8,4],[9,3,9,4],[10,3,10,4],[36,3,36,4],[37,3,37,4],[38,3,38,4],[39,3,39,4],[40,3,40,4],[41,3,41,4],[11,3,11,4],[12,3,12,4],[13,3,13,4],[14,3,14,4],[15,3,15,4],[16,3,16,4],[17,3,17,4],[18,3,18,4],[19,3,19,4],[20,3,20,4],[21,3,21,4],[22,3,22,4],[3,0,5,0],[3,2,4,5],[3,7,4,11],[3,13,4,16],[3,18,5,18],[5,3,5,4],[0,0,1,18],[2,0,2,5],[2,11,2,12],[2,13,2,14],[2,16,2,17],[2,7,2,8],[2,9,2,10],[5,9,5,10],[7,9,7,10],[8,9,8,10],[9,9,9,10],[10,9,10,10],[11,9,11,10],[12,9,12,10],[13,9,13,10],[14,9,14,10],[15,9,15,10],[16,9,16,10],[17,9,17,10],[18,9,18,10],[19,9,19,10],[20,9,20,10],[21,9,21,10],[22,9,22,10],[23,9,23,10],[24,9,24,10],[25,9,25,10],[26,9,26,10],[27,9,27,10],[28,9,28,10],[29,9,29,10],[30,9,30,10],[31,9,31,10],[32,9,32,10],[33,9,33,10],[34,9,34,10],[35,9,35,10],[36,9,36,10],[37,9,37,10],[38,9,38,10],[39,9,39,10],[40,9,40,10],[41,9,41,10],[42,9,42,10],[43,9,43,10],[44,9,44,10],[45,9,45,10],[46,9,46,10],[47,9,47,10],[48,9,48,10],[49,9,49,10],[50,9,50,10],[51,9,51,10],[52,9,52,10],[53,9,53,10],[54,9,54,10],[55,9,55,10],[56,9,56,10],[58,8,58,9],[58,10,58,11],[59,8,59,9],[59,10,59,11],[61,10,61,11],[62,8,62,9],[62,10,62,11],[63,8,63,9],[63,10,63,11],[64,8,64,9],[64,10,64,11],[65,8,65,9],[65,10,65,11],[74,8,74,9],[74,10,74,11],[75,8,75,9],[75,10,75,11],[76,8,76,9],[76,10,76,11],[72,8,72,9],[72,10,72,11],[73,8,73,9],[73,10,73,11],[77,8,77,9],[77,10,77,11],[78,8,78,9],[78,10,78,11],[79,8,79,9],[79,10,79,11],[80,8,80,9],[80,10,80,11],[81,8,81,9],[81,10,81,11]]}
["CARDHOLDER TRANSACTION LOG"]
[]
[null,null,null,null,null,null,null,{"$f":"'FUNDING SHEET'!$K$3","v":"CARDHOLDER NAME:"},null,{"$f":"'FUNDING SHEET'!$L$3","v":0},null,"CARD ACCOUNT NUMBER:",null,"XXXX-XXXX-XXXX-",null,{"$f":"'FUNDING SHEET'!$L$2","v":0},"FISCAL YEAR:",null,{"$f":"'FUNDING SHEET'!$L$1","v":0}]
["Log Number",null,"DATE",null,null,null,null,"PURCHASE DETAIL",null,null,null,null,null,"AMOUNT",null,null,null,null,"Account                     (see below)"]
[]
[null,null,"Date of Order","Date Received",null,"Statement Date",null,"Budget Object Class   (BOC)","VERNDOR           REQ # / CONTACT  (optional)","Item(s) purchased",null,"Vendor",null,"Amount","Paid by Conv. Check","Check Fee Amount (1.7%)","Total to Date"]
[null,null,null,null,null,null,null,null,null,null,null,null,null,"YEAR TO DATE EXPENDITURES",null,null,{"$f":"SUM(APR!$Q$60:$R$84)+APR!$Q$7","v":0},null,null,null,null,"ACCOUNT NUMBER"]
[1,null,null,null,null,null,null,{"$f":"IF(T8=$A$60,RIGHT($L$60,5),IF(T8=$A$61,RIGHT($L$61,5),IF(T8=$A$62,RIGHT($L$62,5),IF(T8=$A$63,RIGHT($L$63,5),IF(T8=$A$64,RIGHT($L$64,5),IF(T8=$A$65,RIGHT($L$65,5),IF(T8=$A$66,RIGHT($L$66,5),IF(T8=$A$67,RIGHT($L$67,5),IF(T8=$A$68,RIGHT($L$68,5),IF(T8=$A$69,RIGHT($L$69,5),IF(T8=$A$70,RIGHT($L$70,5),IF(T8=$A$71,RIGHT($L$71,5),IF(T8=$A$72,RIGHT($L$72,5),IF(T8=$A$73,RIGHT($L$73,5),IF(T8=$A$74,RIGHT($L$74,5),IF(T8=$A$75,RIGHT($L$75,5),IF(T8=$A$76,RIGHT($L$76,5),IF(T8=$A$77,RIGHT($L$77,5),IF(T8=$A$78,RIGHT($L$78,5),IF(T8=$A$79,RIGHT($L$79,5),IF(T8=$A$80,RIGHT($L$80,5),IF(T8=$A$81,RIGHT($L$81,5),IF(T8=$A$82,RIGHT($L$82,5),IF(T8=$A$83,RIGHT($L$83,5),IF(T8=$A$84,RIGHT($L$84,5),\"\")))))))))))))))))))))))))","v":""},null,null,null,null,null,null,null,{"$f":"IF(C8=\"\",\"\",IF(O8=\"Y\",N8*0.017,0))","v":""},{"$f":"IF(N8=\"\",\"\",Q7+N8+P8)","v":""},null,null,{"$f":"IF(F8=\"\",\"\",MONTH(F8))","v":""},null,{"$f":"IF('FUNDING SHEET'!A4=\"\",\"\",A60&\"   \"&'FUNDING SHEET'!D4&'FUNDING SHEET'!E4&\"  \"&'FUNDING SHEET'!F4)","v":""}]
[2,null,null,null,null,null,null,{"$f":"IF(T9=$A$60,RIGHT($L$60,5),IF(T9=$A$61,RIGHT($L$61,5),IF(T9=$A$62,RIGHT($L$62,5),IF(T9=$A$63,RIGHT($L$63,5),IF(T9=$A$64,RIGHT($L$64,5),IF(T9=$A$65,RIGHT($L$65,5),IF(T9=$A$66,RIGHT($L$66,5),IF(T9=$A$67,RIGHT($L$67,5),IF(T9=$A$68,RIGHT($L$68,5),IF(T9=$A$69,RIGHT($L$69,5),IF(T9=$A$70,RIGHT($L$70,5),IF(T9=$A$71,RIGHT($L$71,5),IF(T9=$A$72,RIGHT($L$72,5),IF(T9=$A$73,RIGHT($L$73,5),IF(T9=$A$74,RIGHT($L$74,5),IF(T9=$A$75,RIGHT($L$75,5),IF(T9=$A$76,RIGHT($L$76,5),IF(T9=$A$77,RIGHT($L$77,5),IF(T9=$A$78,RIGHT($L$78,5),IF(T9=$A$79,RIGHT($L$79,5),IF(T9=$A$80,RIGHT($L$80,5),IF(T9=$A$81,RIGHT($L$81,5),IF(T9=$A$82,RIGHT($L$82,5),IF(T9=$A$83,RIGHT($L$83,5),IF(T9=$A$84,RIGHT($L$84,5),\"\")))))))))))))))))))))))))","v":""},null,null,null,null,null,null,null,{"$f":"IF(C9=\"\",\"\",IF(O9=\"Y\",N9*0.017,0))","v":""},{"$f":"IF(N9=\"\",\"\",Q8+N9+P9)","v":""},null,null,{"$f":"IF(F9=\"\",\"\",MONTH(F9))","v":""},null,{"$f":"IF('FUNDING SHEET'!A5=\"\",\"\",A61&\"   \"&'FUNDING SHEET'!D5&'FUNDING SHEET'!E5&\"  \"&'FUNDING SHEET'!F5)","v":""}]
[3,null,null,null,null,null,null,"",null,null,null,null,null,null,null,"",{"$f":"IF(N10=\"\",\"\",Q9+N10+P10)","v":""},null,null,"",null,{"$f":"IF('FUNDING SHEET'!A6=\"\",\"\",A62&\"  \"&'FUNDING SHEET'!D6&\" \"&'FUNDING SHEET'!E6&\"  \"&'FUNDING SHEET'!F6)","v":""}]
[4,null,null,null,null,null,null,"",null,null,null,null,null,null,null,"","",null,null,"",null,{"$f":"IF('FUNDING SHEET'!A7=\"\",\"\",A63&\"  \"&'FUNDING SHEET'!D7&\" \"&'FUNDING SHEET'!E7&\"  \"&'FUNDING SHEET'!F7)","v":""}]
[5,null,null,null,null,null,null,"",null,null,null,null,null,null,null,"","",null,null,"",null,{"$f":"IF('FUNDING SHEET'!A8=\"\",\"\",A64&\"  \"&'FUNDING SHEET'!D8&\" \"&'FUNDING SHEET'!E8&\"  \"&'FUNDING SHEET'!F8)","v":""}]
[6,null,null,null,null,null,null,"",null,null,null,null,null,null,null,"","",null,null,"",null,{"$f":"IF('FUNDING SHEET'!A9=\"\",\"\",A65&\"  \"&'FUNDING SHEET'!D9&\" \"&'FUNDING SHEET'!E9&\"  \"&'FUNDING SHEET'!F9)","v":""}]
[7,null,null,null,null,null,null,"",null,null,null,null,null,null,null,"","",null,null,"",null,{"$f":"IF('FUNDING SHEET'!A10=\"\",\"\",A66&\"  \"&'FUNDING SHEET'!D10&\" \"&'FUNDING SHEET'!E10&\"  \"&'FUNDING SHEET'!F10)","v":""}]
[8,null,null,null,null,null,null,"",null,null,null,null,null,null,null,"","",null,null,"",null,{"$f":"IF('FUNDING SHEET'!A11=\"\",\"\",A67&\"  \"&'FUNDING SHEET'!D11&\" \"&'FUNDING SHEET'!E11&\"  \"&'FUNDING SHEET'!F11)","v":""}]
[9,null,null,null,null,null,null,"",null,null,null,null,null,null,null,"","",null,null,"",null,{"$f":"IF('FUNDING SHEET'!A12=\"\",\"\",A68&\"  \"&'FUNDING SHEET'!D12&\" \"&'FUNDING SHEET'!E12&\"  \"&'FUNDING SHEET'!F12)","v":""}]
[10,null,null,null,null,null,null,"",null,null,null,null,null,null,null,"","",null,null,"",null,{"$f":"IF('FUNDING SHEET'!A13=\"\",\"\",A69&\"  \"&'FUNDING SHEET'!D13&\" \"&'FUNDING SHEET'!E13&\"  \"&'FUNDING SHEET'!F13)","v":""}]
[11,null,null,null,null,null,null,"",null,null,null,null,null,null,null,"","",null,null,"",null,{"$f":"IF('FUNDING SHEET'!A14=\"\",\"\",A70&\"  \"&'FUNDING SHEET'!D14&\" \"&'FUNDING SHEET'!E14&\"  \"&'FUNDING SHEET'!F14)","v":""}]
[12,null,null,null,null,null,null,"",null,null,null,null,null,null,null,"","",null,null,"",null,{"$f":"IF('FUNDING SHEET'!A15=\"\",\"\",A71&\"  \"&'FUNDING SHEET'!D15&\" \"&'FUNDING SHEET'!E15&\"  \"&'FUNDING SHEET'!F15)","v":""}]
[13,null,null,null,null,null,null,"",null,null,null,null,null,null,null,"","",null,null,"",null,{"$f":"IF('FUNDING SHEET'!A16=\"\",\"\",A72&\"  \"&'FUNDING SHEET'!D16&\" \"&'FUNDING SHEET'!E16&\"  \"&'FUNDING SHEET'!F16)","v":""}]
[14,null,null,null,null,null,null,"",null,null,null,null,null,null,null,"","",null,null,"",null,{"$f":"IF('FUNDING SHEET'!A17=\"\",\"\",A73&\"  \"&'FUNDING SHEET'!D17&\" \"&'FUNDING SHEET'!E17&\"  \"&'FUNDING SHEET'!F17)","v":""}]
[15,null,null,null,null,null,null,"",null,null,null,null,null,null,null,"","",null,null,"",null,{"$f":"IF('FUNDING SHEET'!A18=\"\",\"\",A74&\"  \"&'FUNDING SHEET'!D18&\" \"&'FUNDING SHEET'!E18&\"  \"&'FUNDING SHEET'!F18)","v":""}]
[16,null,null,null,null,null,null,"",null,null,null,null,null,null,null,"","",null,null,"",null,{"$f":"IF('FUNDING SHEET'!A19=\"\",\"\",A75&\"  \"&'FUNDING SHEET'!D19&\" \"&'FUNDING SHEET'!E19&\"  \"&'FUNDING SHEET'!F19)","v":""}]
[17,null,null,null,null,null,null,"",null,null,null,null,null,null,null,"","",null,null,"",null,{"$f":"IF('FUNDING SHEET'!A20=\"\",\"\",A76&\"  \"&'FUNDING SHEET'!D20&\" \"&'FUNDING SHEET'!E20&\"  \"&'FUNDING SHEET'!F20)","v":""}]
[18,null,null,null,null,null,null,"",null,null,null,null,null,null,null,"","",null,null,"",null,{"$f":"IF('FUNDING SHEET'!A21=\"\",\"\",A77&\"  \"&'FUNDING SHEET'!D21&\" \"&'FUNDING SHEET'!E21&\"  \"&'FUNDING SHEET'!F21)","v":""}]
[19,null,null,null,null,null,null,"",null,null,null,null,null,null,null,"","",null,null,"",null,{"$f":"IF('FUNDING SHEET'!A22=\"\",\"\",A78&\"  \"&'FUNDING SHEET'!D22&\" \"&'FUNDING SHEET'!E22&\"  \"&'FUNDING SHEET'!F22)","v":""}]
[20,null,null,null,null,null,null,"",null,null,null,null,null,null,null,"","",null,null,"",null,{"$f":"IF('FUNDING SHEET'!A23=\"\",\"\",A79&\"  \"&'FUNDING SHEET'!D23&\" \"&'FUNDING SHEET'!E23&\"  \"&'FUNDING SHEET'!F23)","v":""}]
[21,null,null,null,null,null,null,"",null,null,null,null,null,null,null,"","",null,null,"",null,{"$f":"IF('FUNDING SHEET'!A24=\"\",\"\",A80&\"  \"&'FUNDING SHEET'!D24&\" \"&'FUNDING SHEET'!E24&\"  \"&'FUNDING SHEET'!F24)","v":""}]
[22,null,null,null,null,null,null,"",null,null,null,null,null,null,null,"","",null,null,"",null,{"$f":"IF('FUNDING SHEET'!A25=\"\",\"\",A81&\"  \"&'FUNDING SHEET'!D25&\" \"&'FUNDING SHEET'!E25&\"  \"&'FUNDING SHEET'!F25)","v":""}]
[23,null,null,null,null,null,null,"",null,null,null,null,null,null,null,"","",null,null,"",null,{"$f":"IF('FUNDING SHEET'!A26=\"\",\"\",A82&\"  \"&'FUNDING SHEET'!D26&\" \"&'FUNDING SHEET'!E26&\"  \"&'FUNDING SHEET'!F26)","v":""}]
[24,null,null,null,null,null,null,"",null,null,null,null,null,null,null,"","",null,null,"",null,{"$f":"IF('FUNDING SHEET'!A27=\"\",\"\",A83&\"  \"&'FUNDING SHEET'!D27&\" \"&'FUNDING SHEET'!E27&\"  \"&'FUNDING SHEET'!F27)","v":""}]
[25,null,null,null,null,null,null,"",null,null,null,null,null,null,null,"","",null,null,"",null,{"$f":"IF('FUNDING SHEET'!A28=\"\",\"\",A84&\"  \"&'FUNDING SHEET'!D28&\" \"&'FUNDING SHEET'!E28&\"  \"&'FUNDING SHEET'!F28)","v":""}]
[26,null,null,null,null,null,null,"",null,null,null,null,null,null,null,"","",null,null,""]
[27,null,null,null,null,null,null,"",null,null,null,null,null,null,null,"","",null,null,""]
[28,null,null,null,null,null,null,"",null,null,null,null,null,null,null,"","",null,null,""]
[29,null,null,null,null,null,null,"",null,null,null,null,null,null,null,"","",null,null,""]
[30,null,null,null,null,null,null,"",null,null,null,null,null,null,null,"","",null,null,""]
[31,null,null,null,null,null,null,"",null,null,null,null,null,null,null,"","",null,null,""]
[32,null,null,null,null,null,null,"",null,null,null,null,null,null,null,"","",null,null,""]
[33,null,null,null,null,null,null,"",null,null,null,null,null,null,null,"","",null,null,""]
[34,null,null,null,null,null,null,"",null,null,null,null,null,null,null,"","",null,null,""]
[35,null,null,null,null,null,null,"",null,null,null,null,null,null,null,"","",null,null,""]
[36,null,null,null,null,null,null,"",null,null,null,null,null,null,null,"","",null,null,""]
[37,null,null,null,null,null,null,"",null,null,null,null,null,null,null,"","",null,null,""]
[38,null,null,null,null,null,null,"",null,null,null,null,null,null,null,"","",null,null,""]
[39,null,null,null,null,null,null,"",null,null,null,null,null,null,null,"","",null,null,""]
[40,null,null,null,null,null,null,"",null,null,null,null,null,null,null,"","",null,null,""]
[41,null,null,null,null,null,null,"",null,null,null,null,null,null,null,"","",null,null,""]
[42,null,null,null,null,null,null,"",null,null,null,null,null,null,null,"","",null,null,""]
[43,null,null,null,null,null,null,"",null,null,null,null,null,null,null,"","",null,null,""]
[44,null,null,null,null,null,null,"",null,null,null,null,null,null,null,"","",null,null,""]
[45,null,null,null,null,null,null,"",null,null,null,null,null,null,null,"","",null,null,""]
[46,null,null,null,null,null,null,"",null,null,null,null,null,null,null,"","",null,null,""]
[47,null,null,null,null,null,null,"",null,null,null,null,null,null,null,"","",null,null,""]
[48,null,null,null,null,null,null,"",null,null,null,null,null,null,null,"","",null,null,""]
[49,null,null,null,null,null,null,"",null,null,null,null,null,null,null,"","",null,null,""]
[50,null,null,null,null,null,null,"",null,null,null,null,null,null,null,"","",null,null,""]
["ACCOUNT INFORMATION"]
["Line #",null,"Date",null,"PR #","PROJECT",null,null,"LINE ITEM NOMENCLATURE",null,"ACCOUNT NUMBER (WITH BOC)",null,null,"PR Funding","Previous Expenditures",null,"Current Expenditures",null,"Remaining Funds"]
[1,null,{"$f":"IF('FUNDING SHEET'!A4=\"\",\"\",'FUNDING SHEET'!A4)","v":""},null,{"$f":"IF('FUNDING SHEET'!B4=\"\",\"\",'FUNDING SHEET'!B4)","v":""},null,null,null,{"$f":"IF('FUNDING SHEET'!C4=\"\",\"\",'FUNDING SHEET'!C4)","v":""},null,{"$f":"'FUNDING SHEET'!J4","v":"    "},null,null,{"$f":"SUMIF('FUNDING SHEET'!$J$4:$J$28,K60,'FUNDING SHEET'!$I$4:$I$28)+SUMIF('FUNDING SHEET'!$J$30:$J$229,K60,'FUNDING SHEET'!$H$30:$H$229)","v":0},{"$f":"SUM(APR!O60:R60)","v":0},null,{"$f":"SUMIF($S$8:$S$57,A60,$N$8:$N$57)+SUMIF($S$8:$S$57,A60,$P$8:$P$57)","v":0},null,{"$f":"N60-O60-Q60","v":0}]
[2,null,{"$f":"IF('FUNDING SHEET'!A5=\"\",\"\",'FUNDING SHEET'!A5)","v":""},null,{"$f":"IF('FUNDING SHEET'!B5=\"\",\"\",'FUNDING SHEET'!B5)","v":""},null,null,null,{"$f":"IF('FUNDING SHEET'!C5=\"\",\"\",'FUNDING SHEET'!C5)","v":""},null,{"$f":"'FUNDING SHEET'!J5","v":"    "},null,null,{"$f":"SUMIF('FUNDING SHEET'!$J$4:$J$28,K61,'FUNDING SHEET'!$I$4:$I$28)+SUMIF('FUNDING SHEET'!$J$30:$J$229,K61,'FUNDING SHEET'!$H$30:$H$229)","v":0},{"$f":"SUM(APR!O61:R61)","v":0},null,0,null,0]
[3,null,{"$f":"IF('FUNDING SHEET'!A6=\"\",\"\",'FUNDING SHEET'!A6)","v":""},null,{"$f":"IF('FUNDING SHEET'!B6=\"\",\"\",'FUNDING SHEET'!B6)","v":""},null,null,null,{"$f":"IF('FUNDING SHEET'!C6=\"\",\"\",'FUNDING SHEET'!C6)","v":""},null,{"$f":"'FUNDING SHEET'!J6","v":"    "},null,null,{"$f":"SUMIF('FUNDING SHEET'!$J$4:$J$28,K62,'FUNDING SHEET'!$I$4:$I$28)+SUMIF('FUNDING SHEET'!$J$30:$J$229,K62,'FUNDING SHEET'!$H$30:$H$229)","v":0},{"$f":"SUM(APR!O62:R62)","v":0},null,0,null,0]
[4,null,{"$f":"IF('FUNDING SHEET'!A7=\"\",\"\",'FUNDING SHEET'!A7)","v":""},null,{"$f":"IF('FUNDING SHEET'!B7=\"\",\"\",'FUNDING SHEET'!B7)","v":""},null,null,null,{"$f":"IF('FUNDING SHEET'!C7=\"\",\"\",'FUNDING SHEET'!C7)","v":""},null,{"$f":"'FUNDING SHEET'!J7","v":"    "},null,null,{"$f":"SUMIF('FUNDING SHEET'!$J$4:$J$28,K63,'FUNDING SHEET'!$I$4:$I$28)+SUMIF('FUNDING SHEET'!$J$30:$J$229,K63,'FUNDING SHEET'!$H$30:$H$229)","v":0},{"$f":"SUM(APR!O63:R63)","v":0},null,0,null,0]
[5,null,{"$f":"IF('FUNDING SHEET'!A8=\"\",\"\",'FUNDING SHEET'!A8)","v":""},null,{"$f":"IF('FUNDING SHEET'!B8=\"\",\"\",'FUNDING SHEET'!B8)","v":""},null,null,null,{"$f":"IF('FUNDING SHEET'!C8=\"\",\"\",'FUNDING SHEET'!C8)","v":""},null,{"$f":"'FUNDING SHEET'!J8","v":"    "},null,null,{"$f":"SUMIF('FUNDING SHEET'!$J$4:$J$28,K64,'FUNDING SHEET'!$I$4:$I$28)+SUMIF('FUNDING SHEET'!$J$30:$J$229,K64,'FUNDING SHEET'!$H$30:$H$229)","v":0},{"$f":"SUM(APR!O64:R64)","v":0},null,0,null,0]
[6,null,{"$f":"IF('FUNDING SHEET'!A9=\"\",\"\",'FUNDING SHEET'!A9)","v":""},null,{"$f":"IF('FUNDING SHEET'!B9=\"\",\"\",'FUNDING SHEET'!B9)","v":""},null,null,null,{"$f":"IF('FUNDING SHEET'!C9=\"\",\"\",'FUNDING SHEET'!C9)","v":""},null,{"$f":"'FUNDING SHEET'!J9","v":"    "},null,null,{"$f":"SUMIF('FUNDING SHEET'!$J$4:$J$28,K65,'FUNDING SHEET'!$I$4:$I$28)+SUMIF('FUNDING SHEET'!$J$30:$J$229,K65,'FUNDING SHEET'!$H$30:$H$229)","v":0},{"$f":"SUM(APR!O65:R65)","v":0},null,0,null,0]
[7,null,{"$f":"IF('FUNDING SHEET'!A10=\"\",\"\",'FUNDING SHEET'!A10)","v":""},null,{"$f":"IF('FUNDING SHEET'!B10=\"\",\"\",'FUNDING SHEET'!B10)","v":""},null,null,null,{"$f":"IF('FUNDING SHEET'!C10=\"\",\"\",'FUNDING SHEET'!C10)","v":""},null,{"$f":"'FUNDING SHEET'!J10","v":"    "},null,null,{"$f":"SUMIF('FUNDING SHEET'!$J$4:$J$28,K66,'FUNDING SHEET'!$I$4:$I$28)+SUMIF('FUNDING SHEET'!$J$30:$J$229,K66,'FUNDING SHEET'!$H$30:$H$229)","v":0},{"$f":"SUM(APR!O66:R66)","v":0},null,0,null,0]
[8,null,{"$f":"IF('FUNDING SHEET'!A11=\"\",\"\",'FUNDING SHEET'!A11)","v":""},null,{"$f":"IF('FUNDING SHEET'!B11=\"\",\"\",'FUNDING SHEET'!B11)","v":""},null,null,null,{"$f":"IF('FUNDING SHEET'!C11=\"\",\"\",'FUNDING SHEET'!C11)","v":""},null,{"$f":"'FUNDING SHEET'!J11","v":"    "},null,null,{"$f":"SUMIF('FUNDING SHEET'!$J$4:$J$28,K67,'FUNDING SHEET'!$I$4:$I$28)+SUMIF('FUNDING SHEET'!$J$30:$J$229,K67,'FUNDING SHEET'!$H$30:$H$229)","v":0},{"$f":"SUM(APR!O67:R67)","v":0},null,0,null,0]
[9,null,{"$f":"IF('FUNDING SHEET'!A12=\"\",\"\",'FUNDING SHEET'!A12)","v":""},null,{"$f":"IF('FUNDING SHEET'!B12=\"\",\"\",'FUNDING SHEET'!B12)","v":""},null,null,null,{"$f":"IF('FUNDING SHEET'!C12=\"\",\"\",'FUNDING SHEET'!C12)","v":""},null,{"$f":"'FUNDING SHEET'!J12","v":"    "},null,null,{"$f":"SUMIF('FUNDING SHEET'!$J$4:$J$28,K68,'FUNDING SHEET'!$I$4:$I$28)+SUMIF('FUNDING SHEET'!$J$30:$J$229,K68,'FUNDING SHEET'!$H$30:$H$229)","v":0},{"$f":"SUM(APR!O68:R68)","v":0},null,0,null,0]
[10,null,{"$f":"IF('FUNDING SHEET'!A13=\"\",\"\",'FUNDING SHEET'!A13)","v":""},null,{"$f":"IF('FUNDING SHEET'!B13=\"\",\"\",'FUNDING SHEET'!B13)","v":""},null,null,null,{"$f":"IF('FUNDING SHEET'!C13=\"\",\"\",'FUNDING SHEET'!C13)","v":""},null,{"$f":"'FUNDING SHEET'!J13","v":"    "},null,null,{"$f":"SUMIF('FUNDING SHEET'!$J$4:$J$28,K69,'FUNDING SHEET'!$I$4:$I$28)+SUMIF('FUNDING SHEET'!$J$30:$J$229,K69,'FUNDING SHEET'!$H$30:$H$229)","v":0},{"$f":"SUM(APR!O69:R69)","v":0},null,0,null,0]
[11,null,{"$f":"IF('FUNDING SHEET'!A14=\"\",\"\",'FUNDING SHEET'!A14)","v":""},null,{"$f":"IF('FUNDING SHEET'!B14=\"\",\"\",'FUNDING SHEET'!B14)","v":""},null,null,null,{"$f":"IF('FUNDING SHEET'!C14=\"\",\"\",'FUNDING SHEET'!C14)","v":""},null,{"$f":"'FUNDING SHEET'!J14","v":"    "},null,null,{"$f":"SUMIF('FUNDING SHEET'!$J$4:$J$28,K70,'FUNDING SHEET'!$I$4:$I$28)+SUMIF('FUNDING SHEET'!$J$30:$J$229,K70,'FUNDING SHEET'!$H$30:$H$229)","v":0},{"$f":"SUM(APR!O70:R70)","v":0},null,0,null,0]
[12,null,{"$f":"IF('FUNDING SHEET'!A15=\"\",\"\",'FUNDING SHEET'!A15)","v":""},null,{"$f":"IF('FUNDING SHEET'!B15=\"\",\"\",'FUNDING SHEET'!B15)","v":""},null,null,null,{"$f":"IF('FUNDING SHEET'!C15=\"\",\"\",'FUNDING SHEET'!C15)","v":""},null,{"$f":"'FUNDING SHEET'!J15","v":"    "},null,null,{"$f":"SUMIF('FUNDING SHEET'!$J$4:$J$28,K71,'FUNDING SHEET'!$I$4:$I$28)+SUMIF('FUNDING SHEET'!$J$30:$J$229,K71,'FUNDING SHEET'!$H$30:$H$229)","v":0},{"$f":"SUM(APR!O71:R71)","v":0},null,0,null,0]
[13,null,{"$f":"IF('FUNDING SHEET'!A16=\"\",\"\",'FUNDING SHEET'!A16)","v":""},null,{"$f":"IF('FUNDING SHEET'!B16=\"\",\"\",'FUNDING SHEET'!B16)","v":""},null,null,null,{"$f":"IF('FUNDING SHEET'!C16=\"\",\"\",'FUNDING SHEET'!C16)","v":""},null,{"$f":"'FUNDING SHEET'!J16","v":"    "},null,null,{"$f":"SUMIF('FUNDING SHEET'!$J$4:$J$28,K72,'FUNDING SHEET'!$I$4:$I$28)+SUMIF('FUNDING SHEET'!$J$30:$J$229,K72,'FUNDING SHEET'!$H$30:$H$229)","v":0},{"$f":"SUM(APR!O72:R72)","v":0},null,0,null,0]
[14,null,{"$f":"IF('FUNDING SHEET'!A17=\"\",\"\",'FUNDING SHEET'!A17)","v":""},null,{"$f":"IF('FUNDING SHEET'!B17=\"\",\"\",'FUNDING SHEET'!B17)","v":""},null,null,null,{"$f":"IF('FUNDING SHEET'!C17=\"\",\"\",'FUNDING SHEET'!C17)","v":""},null,{"$f":"'FUNDING SHEET'!J17","v":"    "},null,null,{"$f":"SUMIF('FUNDING SHEET'!$J$4:$J$28,K73,'FUNDING SHEET'!$I$4:$I$28)+SUMIF('FUNDING SHEET'!$J$30:$J$229,K73,'FUNDING SHEET'!$H$30:$H$229)","v":0},{"$f":"SUM(APR!O73:R73)","v":0},null,0,null,0]
[15,null,{"$f":"IF('FUNDING SHEET'!A18=\"\",\"\",'FUNDING SHEET'!A18)","v":""},null,{"$f":"IF('FUNDING SHEET'!B18=\"\",\"\",'FUNDING SHEET'!B18)","v":""},null,null,null,{"$f":"IF('FUNDING SHEET'!C18=\"\",\"\",'FUNDING SHEET'!C18)","v":""},null,{"$f":"'FUNDING SHEET'!J18","v":"    "},null,null,{"$f":"SUMIF('FUNDING SHEET'!$J$4:$J$28,K74,'FUNDING SHEET'!$I$4:$I$28)+SUMIF('FUNDING SHEET'!$J$30:$J$229,K74,'FUNDING SHEET'!$H$30:$H$229)","v":0},{"$f":"SUM(APR!O74:R74)","v":0},null,0,null,0]
[16,null,{"$f":"IF('FUNDING SHEET'!A19=\"\",\"\",'FUNDING SHEET'!A19)","v":""},null,{"$f":"IF('FUNDING SHEET'!B19=\"\",\"\",'FUNDING SHEET'!B19)","v":""},null,null,null,{"$f":"IF('FUNDING SHEET'!C19=\"\",\"\",'FUNDING SHEET'!C19)","v":""},null,{"$f":"'FUNDING SHEET'!J19","v":"    "},null,null,{"$f":"SUMIF('FUNDING SHEET'!$J$4:$J$28,K75,'FUNDING SHEET'!$I$4:$I$28)+SUMIF('FUNDING SHEET'!$J$30:$J$229,K75,'FUNDING SHEET'!$H$30:$H$229)","v":0},{"$f":"SUM(APR!O75:R75)","v":0},null,0,null,0]
[17,null,{"$f":"IF('FUNDING SHEET'!A20=\"\",\"\",'FUNDING SHEET'!A20)","v":""},null,{"$f":"IF('FUNDING SHEET'!B20=\"\",\"\",'FUNDING SHEET'!B20)","v":""},null,null,null,{"$f":"IF('FUNDING SHEET'!C20=\"\",\"\",'FUNDING SHEET'!C20)","v":""},null,{"$f":"'FUNDING SHEET'!J20","v":"    "},null,null,{"$f":"SUMIF('FUNDING SHEET'!$J$4:$J$28,K76,'FUNDING SHEET'!$I$4:$I$28)+SUMIF('FUNDING SHEET'!$J$30:$J$229,K76,'FUNDING SHEET'!$H$30:$H$229)","v":0},{"$f":"SUM(APR!O76:R76)","v":0},null,0,null,0]
[18,null,{"$f":"IF('FUNDING SHEET'!A21=\"\",\"\",'FUNDING SHEET'!A21)","v":""},null,{"$f":"IF('FUNDING SHEET'!B21=\"\",\"\",'FUNDING SHEET'!B21)","v":""},null,null,null,{"$f":"IF('FUNDING SHEET'!C21=\"\",\"\",'FUNDING SHEET'!C21)","v":""},null,{"$f":"'FUNDING SHEET'!J21","v":"    "},null,null,{"$f":"SUMIF('FUNDING SHEET'!$J$4:$J$28,K77,'FUNDING SHEET'!$I$4:$I$28)+SUMIF('FUNDING SHEET'!$J$30:$J$229,K77,'FUNDING SHEET'!$H$30:$H$229)","v":0},{"$f":"SUM(APR!O77:R77)","v":0},null,0,null,0]
[19,null,{"$f":"IF('FUNDING SHEET'!A22=\"\",\"\",'FUNDING SHEET'!A22)","v":""},null,{"$f":"IF('FUNDING SHEET'!B22=\"\",\"\",'FUNDING SHEET'!B22)","v":""},null,null,null,{"$f":"IF('FUNDING SHEET'!C22=\"\",\"\",'FUNDING SHEET'!C22)","v":""},null,{"$f":"'FUNDING SHEET'!J22","v":"    "},null,null,{"$f":"SUMIF('FUNDING SHEET'!$J$4:$J$28,K78,'FUNDING SHEET'!$I$4:$I$28)+SUMIF('FUNDING SHEET'!$J$30:$J$229,K78,'FUNDING SHEET'!$H$30:$H$229)","v":0},{"$f":"SUM(APR!O78:R78)","v":0},null,0,null,0]
[20,null,{"$f":"IF('FUNDING SHEET'!A23=\"\",\"\",'FUNDING SHEET'!A23)","v":""},null,{"$f":"IF('FUNDING SHEET'!B23=\"\",\"\",'FUNDING SHEET'!B23)","v":""},null,null,null,{"$f":"IF('FUNDING SHEET'!C23=\"\",\"\",'FUNDING SHEET'!C23)","v":""},null,{"$f":"'FUNDING SHEET'!J23","v":"    "},null,null,{"$f":"SUMIF('FUNDING SHEET'!$J$4:$J$28,K79,'FUNDING SHEET'!$I$4:$I$28)+SUMIF('FUNDING SHEET'!$J$30:$J$229,K79,'FUNDING SHEET'!$H$30:$H$229)","v":0},{"$f":"SUM(APR!O79:R79)","v":0},null,0,null,0]
[21,null,{"$f":"IF('FUNDING SHEET'!A24=\"\",\"\",'FUNDING SHEET'!A24)","v":""},null,{"$f":"IF('FUNDING SHEET'!B24=\"\",\"\",'FUNDING SHEET'!B24)","v":""},null,null,null,{"$f":"IF('FUNDING SHEET'!C24=\"\",\"\",'FUNDING SHEET'!C24)","v":""},null,{"$f":"'FUNDING SHEET'!J24","v":"    "},null,null,{"$f":"SUMIF('FUNDING SHEET'!$J$4:$J$28,K80,'FUNDING SHEET'!$I$4:$I$28)+SUMIF('FUNDING SHEET'!$J$30:$J$229,K80,'FUNDING SHEET'!$H$30:$H$229)","v":0},{"$f":"SUM(APR!O80:R80)","v":0},null,0,null,0]
[22,null,{"$f":"IF('FUNDING SHEET'!A25=\"\",\"\",'FUNDING SHEET'!A25)","v":""},null,{"$f":"IF('FUNDING SHEET'!B25=\"\",\"\",'FUNDING SHEET'!B25)","v":""},null,null,null,{"$f":"IF('FUNDING SHEET'!C25=\"\",\"\",'FUNDING SHEET'!C25)","v":""},null,{"$f":"'FUNDING SHEET'!J25","v":"    "},null,null,{"$f":"SUMIF('FUNDING SHEET'!$J$4:$J$28,K81,'FUNDING SHEET'!$I$4:$I$28)+SUMIF('FUNDING SHEET'!$J$30:$J$229,K81,'FUNDING SHEET'!$H$30:$H$229)","v":0},{"$f":"SUM(APR!O81:R81)","v":0},null,0,null,0]
[23,null,{"$f":"IF('FUNDING SHEET'!A26=\"\",\"\",'FUNDING SHEET'!A26)","v":""},null,{"$f":"IF('FUNDING SHEET'!B26=\"\",\"\",'FUNDING SHEET'!B26)","v":""},null,null,null,{"$f":"IF('FUNDING SHEET'!C26=\"\",\"\",'FUNDING SHEET'!C26)","v":""},null,{"$f":"'FUNDING SHEET'!J26","v":"    "},null,null,{"$f":"SUMIF('FUNDING SHEET'!$J$4:$J$28,K82,'FUNDING SHEET'!$I$4:$I$28)+SUMIF('FUNDING SHEET'!$J$30:$J$229,K82,'FUNDING SHEET'!$H$30:$H$229)","v":0},{"$f":"SUM(APR!O82:R82)","v":0},null,0,null,0]
[24,null,{"$f":"IF('FUNDING SHEET'!A27=\"\",\"\",'FUNDING SHEET'!A27)","v":""},null,{"$f":"IF('FUNDING SHEET'!B27=\"\",\"\",'FUNDING SHEET'!B27)","v":""},null,null,null,{"$f":"IF('FUNDING SHEET'!C27=\"\",\"\",'FUNDING SHEET'!C27)","v":""},null,{"$f":"'FUNDING SHEET'!J27","v":"    "},null,null,{"$f":"SUMIF('FUNDING SHEET'!$J$4:$J$28,K83,'FUNDING SHEET'!$I$4:$I$28)+SUMIF('FUNDING SHEET'!$J$30:$J$229,K83,'FUNDING SHEET'!$H$30:$H$229)","v":0},{"$f":"SUM(APR!O83:R83)","v":0},null,0,null,0]
[25,null,{"$f":"IF('FUNDING SHEET'!A28=\"\",\"\",'FUNDING SHEET'!A28)","v":""},null,{"$f":"IF('FUNDING SHEET'!B28=\"\",\"\",'FUNDING SHEET'!B28)","v":""},null,null,null,{"$f":"IF('FUNDING SHEET'!C28=\"\",\"\",'FUNDING SHEET'!C28)","v":""},null,{"$f":"'FUNDING SHEET'!J28","v":"    "},null,null,{"$f":"SUMIF('FUNDING SHEET'!$J$4:$J$28,K84,'FUNDING SHEET'!$I$4:$I$28)+SUMIF('FUNDING SHEET'!$J$30:$J$229,K84,'FUNDING SHEET'!$H$30:$H$229)","v":0},{"$f":"SUM(APR!O84:R84)","v":0},null,0,null,0]
[null,null,null,null,null,null,null,null,null,null,null,"TOTALS:",null,{"$f":"SUM(N60:N84)","v":0},{"$f":"SUM(O60:O84)","v":0},null,{"$f":"SUM(Q60:Q84)","v":0},null,{"$f":"SUM(S60:S84)","v":0}]

{"sheet":"JUN","index":11,"n_rows":85,"n_cols":22,"rows_kept":85,"cut":false,"hidden":false,"merged":[[32,3,32,4],[33,3,33,4],[34,3,34,4],[35,3,35,4],[23,3,23,4],[24,3,24,4],[25,3,25,4],[26,3,26,4],[27,3,27,4],[28,3,28,4],[29,3,29,4],[30,3,30,4],[31,3,31,4],[80,5,80,7],[81,5,81,7],[84,14,84,15],[82,14,82,15],[82,16,82,17],[83,14,83,15],[83,16,83,17],[82,5,82,7],[83,5,83,7],[80,14,80,15],[80,16,80,17],[81,14,81,15],[81,16,81,17],[82,8,82,9],[82,10,82,11],[83,8,83,9],[83,10,83,11],[79,16,79,17],[72,5,72,7],[73,5,73,7],[76,14,76,15],[76,16,76,17],[77,14,77,15],[77,16,77,17],[74,14,74,15],[74,16,74,17],[75,14,75,15],[75,16,75,17],[74,5,74,7],[75,5,75,7],[76,5,76,7],[77,5,77,7],[72,14,72,15],[72,16,72,17],[73,14,73,15],[78,5,78,7],[79,5,79,7],[78,14,78,15],[78,16,78,17],[79,14,79,15],[73,16,73,17],[69,5,69,7],[70,5,70,7],[71,5,71,7],[66,8,66,9],[66,10,66,11],[70,14,70,15],[70,16,70,17],[71,14,71,15],[71,16,71,17],[69,14,69,15],[69,16,69,17],[69,8,69,9],[69,10,69,11],[70,8,70,9],[70,10,70,11],[71,8,71,9],[71,10,71,11],[64,5,64,7],[67,14,67,15],[66,14,66,15],[66,16,66,17],[67,16,67,17],[68,14,68,15],[68,16,68,17],[65,14,65,15],[65,16,65,17],[64,14,64,15],[64,16,64,17],[65,5,65,7],[66,5,66,7],[67,5,67,7],[68,5,68,7],[67,8,67,9],[67,10,67,11],[68,8,68,9],[68,10,68,11],[60,14,60,15],[63,14,63,15],[60,16,60,17],[55,3,55,4],[56,3,56,4],[57,0,57,18],[58,14,58,15],[58,16,58,17],[59,14,59,15],[59,16,59,17],[58,5,58,7],[59,5,59,7],[60,5,60,7],[61,5,61,7],[62,5,62,7],[63,5,63,7],[61,14,61,15],[61,16,61,17],[62,14,62,15],[62,16,62,17],[63,16,63,17],[60,8,60,9],[60,10,60,11],[61,8,61,9],[54,3,54,4],[43,3,43,4],[44,3,44,4],[45,3,45,4],[46,3,46,4],[47,3,47,4],[48,3,48,4],[49,3,49,4],[50,3,50,4],[51,3,51,4],[52,3,52,4],[53,3,53,4],[42,3,42,4],[6,13,6,15],[7,3,7,4],[8,3,8,4],[9,3,9,4],[10,3,10,4],[36,3,36,4],[37,3,37,4],[38,3,38,4],[39,3,39,4],[40,3,40,4],[41,3,41,4],[11,3,11,4],[12,3,12,4],[13,3,13,4],[14,3,14,4],[15,3,15,4],[16,3,16,4],[17,3,17,4],[18,3,18,4],[19,3,19,4],[20,3,20,4],[21,3,21,4],[22,3,22,4],[3,0,5,0],[3,2,4,5],[3,7,4,11],[3,13,4,16],[3,18,5,18],[5,3,5,4],[0,0,1,18],[2,0,2,5],[2,11,2,12],[2,13,2,14],[2,16,2,17],[2,7,2,8],[2,9,2,10],[5,9,5,10],[7,9,7,10],[8,9,8,10],[9,9,9,10],[10,9,10,10],[11,9,11,10],[12,9,12,10],[13,9,13,10],[14,9,14,10],[15,9,15,10],[16,9,16,10],[17,9,17,10],[18,9,18,10],[19,9,19,10],[20,9,20,10],[21,9,21,10],[22,9,22,10],[23,9,23,10],[24,9,24,10],[25,9,25,10],[26,9,26,10],[27,9,27,10],[28,9,28,10],[29,9,29,10],[30,9,30,10],[31,9,31,10],[32,9,32,10],[33,9,33,10],[34,9,34,10],[35,9,35,10],[36,9,36,10],[37,9,37,10],[38,9,38,10],[39,9,39,10],[40,9,40,10],[41,9,41,10],[42,9,42,10],[43,9,43,10],[44,9,44,10],[45,9,45,10],[46,9,46,10],[47,9,47,10],[48,9,48,10],[49,9,49,10],[50,9,50,10],[51,9,51,10],[52,9,52,10],[53,9,53,10],[54,9,54,10],[55,9,55,10],[56,9,56,10],[58,8,58,9],[58,10,58,11],[59,8,59,9],[59,10,59,11],[61,10,61,11],[62,8,62,9],[62,10,62,11],[63,8,63,9],[63,10,63,11],[64,8,64,9],[64,10,64,11],[65,8,65,9],[65,10,65,11],[74,8,74,9],[74,10,74,11],[75,8,75,9],[75,10,75,11],[76,8,76,9],[76,10,76,11],[72,8,72,9],[72,10,72,11],[73,8,73,9],[73,10,73,11],[77,8,77,9],[77,10,77,11],[78,8,78,9],[78,10,78,11],[79,8,79,9],[79,10,79,11],[80,8,80,9],[80,10,80,11],[81,8,81,9],[81,10,81,11]]}
["CARDHOLDER TRANSACTION LOG"]
[]
[null,null,null,null,null,null,null,{"$f":"'FUNDING SHEET'!$K$3","v":"CARDHOLDER NAME:"},null,{"$f":"'FUNDING SHEET'!$L$3","v":0},null,"CARD ACCOUNT NUMBER:",null,"XXXX-XXXX-XXXX-",null,{"$f":"'FUNDING SHEET'!$L$2","v":0},"FISCAL YEAR:",null,{"$f":"'FUNDING SHEET'!$L$1","v":0}]
["Log Number",null,"DATE",null,null,null,null,"PURCHASE DETAIL",null,null,null,null,null,"AMOUNT",null,null,null,null,"Account                     (see below)"]
[]
[null,null,"Date of Order","Date Received",null,"Statement Date",null,"Budget Object Class   (BOC)","VERNDOR           REQ # / CONTACT  (optional)","Item(s) purchased",null,"Vendor",null,"Amount","Paid by Conv. Check","Check Fee Amount (1.7%)","Total to Date"]
[null,null,null,null,null,null,null,null,null,null,null,null,null,"YEAR TO DATE EXPENDITURES",null,null,{"$f":"SUM(MAY!$Q$60:$R$84)+MAY!$Q$7","v":0},null,null,null,null,"ACCOUNT NUMBER"]
[1,null,null,null,null,null,null,{"$f":"IF(T8=$A$60,RIGHT($L$60,5),IF(T8=$A$61,RIGHT($L$61,5),IF(T8=$A$62,RIGHT($L$62,5),IF(T8=$A$63,RIGHT($L$63,5),IF(T8=$A$64,RIGHT($L$64,5),IF(T8=$A$65,RIGHT($L$65,5),IF(T8=$A$66,RIGHT($L$66,5),IF(T8=$A$67,RIGHT($L$67,5),IF(T8=$A$68,RIGHT($L$68,5),IF(T8=$A$69,RIGHT($L$69,5),IF(T8=$A$70,RIGHT($L$70,5),IF(T8=$A$71,RIGHT($L$71,5),IF(T8=$A$72,RIGHT($L$72,5),IF(T8=$A$73,RIGHT($L$73,5),IF(T8=$A$74,RIGHT($L$74,5),IF(T8=$A$75,RIGHT($L$75,5),IF(T8=$A$76,RIGHT($L$76,5),IF(T8=$A$77,RIGHT($L$77,5),IF(T8=$A$78,RIGHT($L$78,5),IF(T8=$A$79,RIGHT($L$79,5),IF(T8=$A$80,RIGHT($L$80,5),IF(T8=$A$81,RIGHT($L$81,5),IF(T8=$A$82,RIGHT($L$82,5),IF(T8=$A$83,RIGHT($L$83,5),IF(T8=$A$84,RIGHT($L$84,5),\"\")))))))))))))))))))))))))","v":""},null,null,null,null,null,null,null,{"$f":"IF(C8=\"\",\"\",IF(O8=\"Y\",N8*0.017,0))","v":""},{"$f":"IF(N8=\"\",\"\",Q7+N8+P8)","v":""},null,null,{"$f":"IF(F8=\"\",\"\",MONTH(F8))","v":""},null,{"$f":"IF('FUNDING SHEET'!A4=\"\",\"\",A60&\"   \"&'FUNDING SHEET'!D4&'FUNDING SHEET'!E4&\"  \"&'FUNDING SHEET'!F4)","v":""}]
[2,null,null,null,null,null,null,{"$f":"IF(T9=$A$60,RIGHT($L$60,5),IF(T9=$A$61,RIGHT($L$61,5),IF(T9=$A$62,RIGHT($L$62,5),IF(T9=$A$63,RIGHT($L$63,5),IF(T9=$A$64,RIGHT($L$64,5),IF(T9=$A$65,RIGHT($L$65,5),IF(T9=$A$66,RIGHT($L$66,5),IF(T9=$A$67,RIGHT($L$67,5),IF(T9=$A$68,RIGHT($L$68,5),IF(T9=$A$69,RIGHT($L$69,5),IF(T9=$A$70,RIGHT($L$70,5),IF(T9=$A$71,RIGHT($L$71,5),IF(T9=$A$72,RIGHT($L$72,5),IF(T9=$A$73,RIGHT($L$73,5),IF(T9=$A$74,RIGHT($L$74,5),IF(T9=$A$75,RIGHT($L$75,5),IF(T9=$A$76,RIGHT($L$76,5),IF(T9=$A$77,RIGHT($L$77,5),IF(T9=$A$78,RIGHT($L$78,5),IF(T9=$A$79,RIGHT($L$79,5),IF(T9=$A$80,RIGHT($L$80,5),IF(T9=$A$81,RIGHT($L$81,5),IF(T9=$A$82,RIGHT($L$82,5),IF(T9=$A$83,RIGHT($L$83,5),IF(T9=$A$84,RIGHT($L$84,5),\"\")))))))))))))))))))))))))","v":""},null,null,null,null,null,null,null,{"$f":"IF(C9=\"\",\"\",IF(O9=\"Y\",N9*0.017,0))","v":""},{"$f":"IF(N9=\"\",\"\",Q8+N9+P9)","v":""},null,null,{"$f":"IF(F9=\"\",\"\",MONTH(F9))","v":""},null,{"$f":"IF('FUNDING SHEET'!A5=\"\",\"\",A61&\"   \"&'FUNDING SHEET'!D5&'FUNDING SHEET'!E5&\"  \"&'FUNDING SHEET'!F5)","v":""}]
[3,null,null,null,null,null,null,"",null,null,null,null,null,null,null,"",{"$f":"IF(N10=\"\",\"\",Q9+N10+P10)","v":""},null,null,"",null,{"$f":"IF('FUNDING SHEET'!A6=\"\",\"\",A62&\"  \"&'FUNDING SHEET'!D6&\" \"&'FUNDING SHEET'!E6&\"  \"&'FUNDING SHEET'!F6)","v":""}]
[4,null,null,null,null,null,null,"",null,null,null,null,null,null,null,"","",null,null,"",null,{"$f":"IF('FUNDING SHEET'!A7=\"\",\"\",A63&\"  \"&'FUNDING SHEET'!D7&\" \"&'FUNDING SHEET'!E7&\"  \"&'FUNDING SHEET'!F7)","v":""}]
[5,null,null,null,null,null,null,"",null,null,null,null,null,null,null,"","",null,null,"",null,{"$f":"IF('FUNDING SHEET'!A8=\"\",\"\",A64&\"  \"&'FUNDING SHEET'!D8&\" \"&'FUNDING SHEET'!E8&\"  \"&'FUNDING SHEET'!F8)","v":""}]
[6,null,null,null,null,null,null,"",null,null,null,null,null,null,null,"","",null,null,"",null,{"$f":"IF('FUNDING SHEET'!A9=\"\",\"\",A65&\"  \"&'FUNDING SHEET'!D9&\" \"&'FUNDING SHEET'!E9&\"  \"&'FUNDING SHEET'!F9)","v":""}]
[7,null,null,null,null,null,null,"",null,null,null,null,null,null,null,"","",null,null,"",null,{"$f":"IF('FUNDING SHEET'!A10=\"\",\"\",A66&\"  \"&'FUNDING SHEET'!D10&\" \"&'FUNDING SHEET'!E10&\"  \"&'FUNDING SHEET'!F10)","v":""}]
[8,null,null,null,null,null,null,"",null,null,null,null,null,null,null,"","",null,null,"",null,{"$f":"IF('FUNDING SHEET'!A11=\"\",\"\",A67&\"  \"&'FUNDING SHEET'!D11&\" \"&'FUNDING SHEET'!E11&\"  \"&'FUNDING SHEET'!F11)","v":""}]
[9,null,null,null,null,null,null,"",null,null,null,null,null,null,null,"","",null,null,"",null,{"$f":"IF('FUNDING SHEET'!A12=\"\",\"\",A68&\"  \"&'FUNDING SHEET'!D12&\" \"&'FUNDING SHEET'!E12&\"  \"&'FUNDING SHEET'!F12)","v":""}]
[10,null,null,null,null,null,null,"",null,null,null,null,null,null,null,"","",null,null,"",null,{"$f":"IF('FUNDING SHEET'!A13=\"\",\"\",A69&\"  \"&'FUNDING SHEET'!D13&\" \"&'FUNDING SHEET'!E13&\"  \"&'FUNDING SHEET'!F13)","v":""}]
[11,null,null,null,null,null,null,"",null,null,null,null,null,null,null,"","",null,null,"",null,{"$f":"IF('FUNDING SHEET'!A14=\"\",\"\",A70&\"  \"&'FUNDING SHEET'!D14&\" \"&'FUNDING SHEET'!E14&\"  \"&'FUNDING SHEET'!F14)","v":""}]
[12,null,null,null,null,null,null,"",null,null,null,null,null,null,null,"","",null,null,"",null,{"$f":"IF('FUNDING SHEET'!A15=\"\",\"\",A71&\"  \"&'FUNDING SHEET'!D15&\" \"&'FUNDING SHEET'!E15&\"  \"&'FUNDING SHEET'!F15)","v":""}]
[13,null,null,null,null,null,null,"",null,null,null,null,null,null,null,"","",null,null,"",null,{"$f":"IF('FUNDING SHEET'!A16=\"\",\"\",A72&\"  \"&'FUNDING SHEET'!D16&\" \"&'FUNDING SHEET'!E16&\"  \"&'FUNDING SHEET'!F16)","v":""}]
[14,null,null,null,null,null,null,"",null,null,null,null,null,null,null,"","",null,null,"",null,{"$f":"IF('FUNDING SHEET'!A17=\"\",\"\",A73&\"  \"&'FUNDING SHEET'!D17&\" \"&'FUNDING SHEET'!E17&\"  \"&'FUNDING SHEET'!F17)","v":""}]
[15,null,null,null,null,null,null,"",null,null,null,null,null,null,null,"","",null,null,"",null,{"$f":"IF('FUNDING SHEET'!A18=\"\",\"\",A74&\"  \"&'FUNDING SHEET'!D18&\" \"&'FUNDING SHEET'!E18&\"  \"&'FUNDING SHEET'!F18)","v":""}]
[16,null,null,null,null,null,null,"",null,null,null,null,null,null,null,"","",null,null,"",null,{"$f":"IF('FUNDING SHEET'!A19=\"\",\"\",A75&\"  \"&'FUNDING SHEET'!D19&\" \"&'FUNDING SHEET'!E19&\"  \"&'FUNDING SHEET'!F19)","v":""}]
[17,null,null,null,null,null,null,"",null,null,null,null,null,null,null,"","",null,null,"",null,{"$f":"IF('FUNDING SHEET'!A20=\"\",\"\",A76&\"  \"&'FUNDING SHEET'!D20&\" \"&'FUNDING SHEET'!E20&\"  \"&'FUNDING SHEET'!F20)","v":""}]
[18,null,null,null,null,null,null,"",null,null,null,null,null,null,null,"","",null,null,"",null,{"$f":"IF('FUNDING SHEET'!A21=\"\",\"\",A77&\"  \"&'FUNDING SHEET'!D21&\" \"&'FUNDING SHEET'!E21&\"  \"&'FUNDING SHEET'!F21)","v":""}]
[19,null,null,null,null,null,null,"",null,null,null,null,null,null,null,"","",null,null,"",null,{"$f":"IF('FUNDING SHEET'!A22=\"\",\"\",A78&\"  \"&'FUNDING SHEET'!D22&\" \"&'FUNDING SHEET'!E22&\"  \"&'FUNDING SHEET'!F22)","v":""}]
[20,null,null,null,null,null,null,"",null,null,null,null,null,null,null,"","",null,null,"",null,{"$f":"IF('FUNDING SHEET'!A23=\"\",\"\",A79&\"  \"&'FUNDING SHEET'!D23&\" \"&'FUNDING SHEET'!E23&\"  \"&'FUNDING SHEET'!F23)","v":""}]
[21,null,null,null,null,null,null,"",null,null,null,null,null,null,null,"","",null,null,"",null,{"$f":"IF('FUNDING SHEET'!A24=\"\",\"\",A80&\"  \"&'FUNDING SHEET'!D24&\" \"&'FUNDING SHEET'!E24&\"  \"&'FUNDING SHEET'!F24)","v":""}]
[22,null,null,null,null,null,null,"",null,null,null,null,null,null,null,"","",null,null,"",null,{"$f":"IF('FUNDING SHEET'!A25=\"\",\"\",A81&\"  \"&'FUNDING SHEET'!D25&\" \"&'FUNDING SHEET'!E25&\"  \"&'FUNDING SHEET'!F25)","v":""}]
[23,null,null,null,null,null,null,"",null,null,null,null,null,null,null,"","",null,null,"",null,{"$f":"IF('FUNDING SHEET'!A26=\"\",\"\",A82&\"  \"&'FUNDING SHEET'!D26&\" \"&'FUNDING SHEET'!E26&\"  \"&'FUNDING SHEET'!F26)","v":""}]
[24,null,null,null,null,null,null,"",null,null,null,null,null,null,null,"","",null,null,"",null,{"$f":"IF('FUNDING SHEET'!A27=\"\",\"\",A83&\"  \"&'FUNDING SHEET'!D27&\" \"&'FUNDING SHEET'!E27&\"  \"&'FUNDING SHEET'!F27)","v":""}]
[25,null,null,null,null,null,null,"",null,null,null,null,null,null,null,"","",null,null,"",null,{"$f":"IF('FUNDING SHEET'!A28=\"\",\"\",A84&\"  \"&'FUNDING SHEET'!D28&\" \"&'FUNDING SHEET'!E28&\"  \"&'FUNDING SHEET'!F28)","v":""}]
[26,null,null,null,null,null,null,"",null,null,null,null,null,null,null,"","",null,null,""]
[27,null,null,null,null,null,null,"",null,null,null,null,null,null,null,"","",null,null,""]
[28,null,null,null,null,null,null,"",null,null,null,null,null,null,null,"","",null,null,""]
[29,null,null,null,null,null,null,"",null,null,null,null,null,null,null,"","",null,null,""]
[30,null,null,null,null,null,null,"",null,null,null,null,null,null,null,"","",null,null,""]
[31,null,null,null,null,null,null,"",null,null,null,null,null,null,null,"","",null,null,""]
[32,null,null,null,null,null,null,"",null,null,null,null,null,null,null,"","",null,null,""]
[33,null,null,null,null,null,null,"",null,null,null,null,null,null,null,"","",null,null,""]
[34,null,null,null,null,null,null,"",null,null,null,null,null,null,null,"","",null,null,""]
[35,null,null,null,null,null,null,"",null,null,null,null,null,null,null,"","",null,null,""]
[36,null,null,null,null,null,null,"",null,null,null,null,null,null,null,"","",null,null,""]
[37,null,null,null,null,null,null,"",null,null,null,null,null,null,null,"","",null,null,""]
[38,null,null,null,null,null,null,"",null,null,null,null,null,null,null,"","",null,null,""]
[39,null,null,null,null,null,null,"",null,null,null,null,null,null,null,"","",null,null,""]
[40,null,null,null,null,null,null,"",null,null,null,null,null,null,null,"","",null,null,""]
[41,null,null,null,null,null,null,"",null,null,null,null,null,null,null,"","",null,null,""]
[42,null,null,null,null,null,null,"",null,null,null,null,null,null,null,"","",null,null,""]
[43,null,null,null,null,null,null,"",null,null,null,null,null,null,null,"","",null,null,""]
[44,null,null,null,null,null,null,"",null,null,null,null,null,null,null,"","",null,null,""]
[45,null,null,null,null,null,null,"",null,null,null,null,null,null,null,"","",null,null,""]
[46,null,null,null,null,null,null,"",null,null,null,null,null,null,null,"","",null,null,""]
[47,null,null,null,null,null,null,"",null,null,null,null,null,null,null,"","",null,null,""]
[48,null,null,null,null,null,null,"",null,null,null,null,null,null,null,"","",null,null,""]
[49,null,null,null,null,null,null,"",null,null,null,null,null,null,null,"","",null,null,""]
[50,null,null,null,null,null,null,"",null,null,null,null,null,null,null,"","",null,null,""]
["ACCOUNT INFORMATION"]
["Line #",null,"Date",null,"PR #","PROJECT",null,null,"LINE ITEM NOMENCLATURE",null,"ACCOUNT NUMBER (WITH BOC)",null,null,"PR Funding","Previous Expenditures",null,"Current Expenditures",null,"Remaining Funds"]
[1,null,{"$f":"IF('FUNDING SHEET'!A4=\"\",\"\",'FUNDING SHEET'!A4)","v":""},null,{"$f":"IF('FUNDING SHEET'!B4=\"\",\"\",'FUNDING SHEET'!B4)","v":""},null,null,null,{"$f":"IF('FUNDING SHEET'!C4=\"\",\"\",'FUNDING SHEET'!C4)","v":""},null,{"$f":"'FUNDING SHEET'!J4","v":"    "},null,null,{"$f":"SUMIF('FUNDING SHEET'!$J$4:$J$28,K60,'FUNDING SHEET'!$I$4:$I$28)+SUMIF('FUNDING SHEET'!$J$30:$J$229,K60,'FUNDING SHEET'!$H$30:$H$229)","v":0},{"$f":"SUM(MAY!O60:R60)","v":0},null,{"$f":"SUMIF($S$8:$S$57,A60,$N$8:$N$57)+SUMIF($S$8:$S$57,A60,$P$8:$P$57)","v":0},null,{"$f":"N60-O60-Q60","v":0}]
[2,null,{"$f":"IF('FUNDING SHEET'!A5=\"\",\"\",'FUNDING SHEET'!A5)","v":""},null,{"$f":"IF('FUNDING SHEET'!B5=\"\",\"\",'FUNDING SHEET'!B5)","v":""},null,null,null,{"$f":"IF('FUNDING SHEET'!C5=\"\",\"\",'FUNDING SHEET'!C5)","v":""},null,{"$f":"'FUNDING SHEET'!J5","v":"    "},null,null,{"$f":"SUMIF('FUNDING SHEET'!$J$4:$J$28,K61,'FUNDING SHEET'!$I$4:$I$28)+SUMIF('FUNDING SHEET'!$J$30:$J$229,K61,'FUNDING SHEET'!$H$30:$H$229)","v":0},{"$f":"SUM(MAY!O61:R61)","v":0},null,0,null,0]
[3,null,{"$f":"IF('FUNDING SHEET'!A6=\"\",\"\",'FUNDING SHEET'!A6)","v":""},null,{"$f":"IF('FUNDING SHEET'!B6=\"\",\"\",'FUNDING SHEET'!B6)","v":""},null,null,null,{"$f":"IF('FUNDING SHEET'!C6=\"\",\"\",'FUNDING SHEET'!C6)","v":""},null,{"$f":"'FUNDING SHEET'!J6","v":"    "},null,null,{"$f":"SUMIF('FUNDING SHEET'!$J$4:$J$28,K62,'FUNDING SHEET'!$I$4:$I$28)+SUMIF('FUNDING SHEET'!$J$30:$J$229,K62,'FUNDING SHEET'!$H$30:$H$229)","v":0},{"$f":"SUM(MAY!O62:R62)","v":0},null,0,null,0]
[4,null,{"$f":"IF('FUNDING SHEET'!A7=\"\",\"\",'FUNDING SHEET'!A7)","v":""},null,{"$f":"IF('FUNDING SHEET'!B7=\"\",\"\",'FUNDING SHEET'!B7)","v":""},null,null,null,{"$f":"IF('FUNDING SHEET'!C7=\"\",\"\",'FUNDING SHEET'!C7)","v":""},null,{"$f":"'FUNDING SHEET'!J7","v":"    "},null,null,{"$f":"SUMIF('FUNDING SHEET'!$J$4:$J$28,K63,'FUNDING SHEET'!$I$4:$I$28)+SUMIF('FUNDING SHEET'!$J$30:$J$229,K63,'FUNDING SHEET'!$H$30:$H$229)","v":0},{"$f":"SUM(MAY!O63:R63)","v":0},null,0,null,0]
[5,null,{"$f":"IF('FUNDING SHEET'!A8=\"\",\"\",'FUNDING SHEET'!A8)","v":""},null,{"$f":"IF('FUNDING SHEET'!B8=\"\",\"\",'FUNDING SHEET'!B8)","v":""},null,null,null,{"$f":"IF('FUNDING SHEET'!C8=\"\",\"\",'FUNDING SHEET'!C8)","v":""},null,{"$f":"'FUNDING SHEET'!J8","v":"    "},null,null,{"$f":"SUMIF('FUNDING SHEET'!$J$4:$J$28,K64,'FUNDING SHEET'!$I$4:$I$28)+SUMIF('FUNDING SHEET'!$J$30:$J$229,K64,'FUNDING SHEET'!$H$30:$H$229)","v":0},{"$f":"SUM(MAY!O64:R64)","v":0},null,0,null,0]
[6,null,{"$f":"IF('FUNDING SHEET'!A9=\"\",\"\",'FUNDING SHEET'!A9)","v":""},null,{"$f":"IF('FUNDING SHEET'!B9=\"\",\"\",'FUNDING SHEET'!B9)","v":""},null,null,null,{"$f":"IF('FUNDING SHEET'!C9=\"\",\"\",'FUNDING SHEET'!C9)","v":""},null,{"$f":"'FUNDING SHEET'!J9","v":"    "},null,null,{"$f":"SUMIF('FUNDING SHEET'!$J$4:$J$28,K65,'FUNDING SHEET'!$I$4:$I$28)+SUMIF('FUNDING SHEET'!$J$30:$J$229,K65,'FUNDING SHEET'!$H$30:$H$229)","v":0},{"$f":"SUM(MAY!O65:R65)","v":0},null,0,null,0]
[7,null,{"$f":"IF('FUNDING SHEET'!A10=\"\",\"\",'FUNDING SHEET'!A10)","v":""},null,{"$f":"IF('FUNDING SHEET'!B10=\"\",\"\",'FUNDING SHEET'!B10)","v":""},null,null,null,{"$f":"IF('FUNDING SHEET'!C10=\"\",\"\",'FUNDING SHEET'!C10)","v":""},null,{"$f":"'FUNDING SHEET'!J10","v":"    "},null,null,{"$f":"SUMIF('FUNDING SHEET'!$J$4:$J$28,K66,'FUNDING SHEET'!$I$4:$I$28)+SUMIF('FUNDING SHEET'!$J$30:$J$229,K66,'FUNDING SHEET'!$H$30:$H$229)","v":0},{"$f":"SUM(MAY!O66:R66)","v":0},null,0,null,0]
[8,null,{"$f":"IF('FUNDING SHEET'!A11=\"\",\"\",'FUNDING SHEET'!A11)","v":""},null,{"$f":"IF('FUNDING SHEET'!B11=\"\",\"\",'FUNDING SHEET'!B11)","v":""},null,null,null,{"$f":"IF('FUNDING SHEET'!C11=\"\",\"\",'FUNDING SHEET'!C11)","v":""},null,{"$f":"'FUNDING SHEET'!J11","v":"    "},null,null,{"$f":"SUMIF('FUNDING SHEET'!$J$4:$J$28,K67,'FUNDING SHEET'!$I$4:$I$28)+SUMIF('FUNDING SHEET'!$J$30:$J$229,K67,'FUNDING SHEET'!$H$30:$H$229)","v":0},{"$f":"SUM(MAY!O67:R67)","v":0},null,0,null,0]
[9,null,{"$f":"IF('FUNDING SHEET'!A12=\"\",\"\",'FUNDING SHEET'!A12)","v":""},null,{"$f":"IF('FUNDING SHEET'!B12=\"\",\"\",'FUNDING SHEET'!B12)","v":""},null,null,null,{"$f":"IF('FUNDING SHEET'!C12=\"\",\"\",'FUNDING SHEET'!C12)","v":""},null,{"$f":"'FUNDING SHEET'!J12","v":"    "},null,null,{"$f":"SUMIF('FUNDING SHEET'!$J$4:$J$28,K68,'FUNDING SHEET'!$I$4:$I$28)+SUMIF('FUNDING SHEET'!$J$30:$J$229,K68,'FUNDING SHEET'!$H$30:$H$229)","v":0},{"$f":"SUM(MAY!O68:R68)","v":0},null,0,null,0]
[10,null,{"$f":"IF('FUNDING SHEET'!A13=\"\",\"\",'FUNDING SHEET'!A13)","v":""},null,{"$f":"IF('FUNDING SHEET'!B13=\"\",\"\",'FUNDING SHEET'!B13)","v":""},null,null,null,{"$f":"IF('FUNDING SHEET'!C13=\"\",\"\",'FUNDING SHEET'!C13)","v":""},null,{"$f":"'FUNDING SHEET'!J13","v":"    "},null,null,{"$f":"SUMIF('FUNDING SHEET'!$J$4:$J$28,K69,'FUNDING SHEET'!$I$4:$I$28)+SUMIF('FUNDING SHEET'!$J$30:$J$229,K69,'FUNDING SHEET'!$H$30:$H$229)","v":0},{"$f":"SUM(MAY!O69:R69)","v":0},null,0,null,0]
[11,null,{"$f":"IF('FUNDING SHEET'!A14=\"\",\"\",'FUNDING SHEET'!A14)","v":""},null,{"$f":"IF('FUNDING SHEET'!B14=\"\",\"\",'FUNDING SHEET'!B14)","v":""},null,null,null,{"$f":"IF('FUNDING SHEET'!C14=\"\",\"\",'FUNDING SHEET'!C14)","v":""},null,{"$f":"'FUNDING SHEET'!J14","v":"    "},null,null,{"$f":"SUMIF('FUNDING SHEET'!$J$4:$J$28,K70,'FUNDING SHEET'!$I$4:$I$28)+SUMIF('FUNDING SHEET'!$J$30:$J$229,K70,'FUNDING SHEET'!$H$30:$H$229)","v":0},{"$f":"SUM(MAY!O70:R70)","v":0},null,0,null,0]
[12,null,{"$f":"IF('FUNDING SHEET'!A15=\"\",\"\",'FUNDING SHEET'!A15)","v":""},null,{"$f":"IF('FUNDING SHEET'!B15=\"\",\"\",'FUNDING SHEET'!B15)","v":""},null,null,null,{"$f":"IF('FUNDING SHEET'!C15=\"\",\"\",'FUNDING SHEET'!C15)","v":""},null,{"$f":"'FUNDING SHEET'!J15","v":"    "},null,null,{"$f":"SUMIF('FUNDING SHEET'!$J$4:$J$28,K71,'FUNDING SHEET'!$I$4:$I$28)+SUMIF('FUNDING SHEET'!$J$30:$J$229,K71,'FUNDING SHEET'!$H$30:$H$229)","v":0},{"$f":"SUM(MAY!O71:R71)","v":0},null,0,null,0]
[13,null,{"$f":"IF('FUNDING SHEET'!A16=\"\",\"\",'FUNDING SHEET'!A16)","v":""},null,{"$f":"IF('FUNDING SHEET'!B16=\"\",\"\",'FUNDING SHEET'!B16)","v":""},null,null,null,{"$f":"IF('FUNDING SHEET'!C16=\"\",\"\",'FUNDING SHEET'!C16)","v":""},null,{"$f":"'FUNDING SHEET'!J16","v":"    "},null,null,{"$f":"SUMIF('FUNDING SHEET'!$J$4:$J$28,K72,'FUNDING SHEET'!$I$4:$I$28)+SUMIF('FUNDING SHEET'!$J$30:$J$229,K72,'FUNDING SHEET'!$H$30:$H$229)","v":0},{"$f":"SUM(MAY!O72:R72)","v":0},null,0,null,0]
[14,null,{"$f":"IF('FUNDING SHEET'!A17=\"\",\"\",'FUNDING SHEET'!A17)","v":""},null,{"$f":"IF('FUNDING SHEET'!B17=\"\",\"\",'FUNDING SHEET'!B17)","v":""},null,null,null,{"$f":"IF('FUNDING SHEET'!C17=\"\",\"\",'FUNDING SHEET'!C17)","v":""},null,{"$f":"'FUNDING SHEET'!J17","v":"    "},null,null,{"$f":"SUMIF('FUNDING SHEET'!$J$4:$J$28,K73,'FUNDING SHEET'!$I$4:$I$28)+SUMIF('FUNDING SHEET'!$J$30:$J$229,K73,'FUNDING SHEET'!$H$30:$H$229)","v":0},{"$f":"SUM(MAY!O73:R73)","v":0},null,0,null,0]
[15,null,{"$f":"IF('FUNDING SHEET'!A18=\"\",\"\",'FUNDING SHEET'!A18)","v":""},null,{"$f":"IF('FUNDING SHEET'!B18=\"\",\"\",'FUNDING SHEET'!B18)","v":""},null,null,null,{"$f":"IF('FUNDING SHEET'!C18=\"\",\"\",'FUNDING SHEET'!C18)","v":""},null,{"$f":"'FUNDING SHEET'!J18","v":"    "},null,null,{"$f":"SUMIF('FUNDING SHEET'!$J$4:$J$28,K74,'FUNDING SHEET'!$I$4:$I$28)+SUMIF('FUNDING SHEET'!$J$30:$J$229,K74,'FUNDING SHEET'!$H$30:$H$229)","v":0},{"$f":"SUM(MAY!O74:R74)","v":0},null,0,null,0]
[16,null,{"$f":"IF('FUNDING SHEET'!A19=\"\",\"\",'FUNDING SHEET'!A19)","v":""},null,{"$f":"IF('FUNDING SHEET'!B19=\"\",\"\",'FUNDING SHEET'!B19)","v":""},null,null,null,{"$f":"IF('FUNDING SHEET'!C19=\"\",\"\",'FUNDING SHEET'!C19)","v":""},null,{"$f":"'FUNDING SHEET'!J19","v":"    "},null,null,{"$f":"SUMIF('FUNDING SHEET'!$J$4:$J$28,K75,'FUNDING SHEET'!$I$4:$I$28)+SUMIF('FUNDING SHEET'!$J$30:$J$229,K75,'FUNDING SHEET'!$H$30:$H$229)","v":0},{"$f":"SUM(MAY!O75:R75)","v":0},null,0,null,0]
[17,null,{"$f":"IF('FUNDING SHEET'!A20=\"\",\"\",'FUNDING SHEET'!A20)","v":""},null,{"$f":"IF('FUNDING SHEET'!B20=\"\",\"\",'FUNDING SHEET'!B20)","v":""},null,null,null,{"$f":"IF('FUNDING SHEET'!C20=\"\",\"\",'FUNDING SHEET'!C20)","v":""},null,{"$f":"'FUNDING SHEET'!J20","v":"    "},null,null,{"$f":"SUMIF('FUNDING SHEET'!$J$4:$J$28,K76,'FUNDING SHEET'!$I$4:$I$28)+SUMIF('FUNDING SHEET'!$J$30:$J$229,K76,'FUNDING SHEET'!$H$30:$H$229)","v":0},{"$f":"SUM(MAY!O76:R76)","v":0},null,0,null,0]
[18,null,{"$f":"IF('FUNDING SHEET'!A21=\"\",\"\",'FUNDING SHEET'!A21)","v":""},null,{"$f":"IF('FUNDING SHEET'!B21=\"\",\"\",'FUNDING SHEET'!B21)","v":""},null,null,null,{"$f":"IF('FUNDING SHEET'!C21=\"\",\"\",'FUNDING SHEET'!C21)","v":""},null,{"$f":"'FUNDING SHEET'!J21","v":"    "},null,null,{"$f":"SUMIF('FUNDING SHEET'!$J$4:$J$28,K77,'FUNDING SHEET'!$I$4:$I$28)+SUMIF('FUNDING SHEET'!$J$30:$J$229,K77,'FUNDING SHEET'!$H$30:$H$229)","v":0},{"$f":"SUM(MAY!O77:R77)","v":0},null,0,null,0]
[19,null,{"$f":"IF('FUNDING SHEET'!A22=\"\",\"\",'FUNDING SHEET'!A22)","v":""},null,{"$f":"IF('FUNDING SHEET'!B22=\"\",\"\",'FUNDING SHEET'!B22)","v":""},null,null,null,{"$f":"IF('FUNDING SHEET'!C22=\"\",\"\",'FUNDING SHEET'!C22)","v":""},null,{"$f":"'FUNDING SHEET'!J22","v":"    "},null,null,{"$f":"SUMIF('FUNDING SHEET'!$J$4:$J$28,K78,'FUNDING SHEET'!$I$4:$I$28)+SUMIF('FUNDING SHEET'!$J$30:$J$229,K78,'FUNDING SHEET'!$H$30:$H$229)","v":0},{"$f":"SUM(MAY!O78:R78)","v":0},null,0,null,0]
[20,null,{"$f":"IF('FUNDING SHEET'!A23=\"\",\"\",'FUNDING SHEET'!A23)","v":""},null,{"$f":"IF('FUNDING SHEET'!B23=\"\",\"\",'FUNDING SHEET'!B23)","v":""},null,null,null,{"$f":"IF('FUNDING SHEET'!C23=\"\",\"\",'FUNDING SHEET'!C23)","v":""},null,{"$f":"'FUNDING SHEET'!J23","v":"    "},null,null,{"$f":"SUMIF('FUNDING SHEET'!$J$4:$J$28,K79,'FUNDING SHEET'!$I$4:$I$28)+SUMIF('FUNDING SHEET'!$J$30:$J$229,K79,'FUNDING SHEET'!$H$30:$H$229)","v":0},{"$f":"SUM(MAY!O79:R79)","v":0},null,0,null,0]
[21,null,{"$f":"IF('FUNDING SHEET'!A24=\"\",\"\",'FUNDING SHEET'!A24)","v":""},null,{"$f":"IF('FUNDING SHEET'!B24=\"\",\"\",'FUNDING SHEET'!B24)","v":""},null,null,null,{"$f":"IF('FUNDING SHEET'!C24=\"\",\"\",'FUNDING SHEET'!C24)","v":""},null,{"$f":"'FUNDING SHEET'!J24","v":"    "},null,null,{"$f":"SUMIF('FUNDING SHEET'!$J$4:$J$28,K80,'FUNDING SHEET'!$I$4:$I$28)+SUMIF('FUNDING SHEET'!$J$30:$J$229,K80,'FUNDING SHEET'!$H$30:$H$229)","v":0},{"$f":"SUM(MAY!O80:R80)","v":0},null,0,null,0]
[22,null,{"$f":"IF('FUNDING SHEET'!A25=\"\",\"\",'FUNDING SHEET'!A25)","v":""},null,{"$f":"IF('FUNDING SHEET'!B25=\"\",\"\",'FUNDING SHEET'!B25)","v":""},null,null,null,{"$f":"IF('FUNDING SHEET'!C25=\"\",\"\",'FUNDING SHEET'!C25)","v":""},null,{"$f":"'FUNDING SHEET'!J25","v":"    "},null,null,{"$f":"SUMIF('FUNDING SHEET'!$J$4:$J$28,K81,'FUNDING SHEET'!$I$4:$I$28)+SUMIF('FUNDING SHEET'!$J$30:$J$229,K81,'FUNDING SHEET'!$H$30:$H$229)","v":0},{"$f":"SUM(MAY!O81:R81)","v":0},null,0,null,0]
[23,null,{"$f":"IF('FUNDING SHEET'!A26=\"\",\"\",'FUNDING SHEET'!A26)","v":""},null,{"$f":"IF('FUNDING SHEET'!B26=\"\",\"\",'FUNDING SHEET'!B26)","v":""},null,null,null,{"$f":"IF('FUNDING SHEET'!C26=\"\",\"\",'FUNDING SHEET'!C26)","v":""},null,{"$f":"'FUNDING SHEET'!J26","v":"    "},null,null,{"$f":"SUMIF('FUNDING SHEET'!$J$4:$J$28,K82,'FUNDING SHEET'!$I$4:$I$28)+SUMIF('FUNDING SHEET'!$J$30:$J$229,K82,'FUNDING SHEET'!$H$30:$H$229)","v":0},{"$f":"SUM(MAY!O82:R82)","v":0},null,0,null,0]
[24,null,{"$f":"IF('FUNDING SHEET'!A27=\"\",\"\",'FUNDING SHEET'!A27)","v":""},null,{"$f":"IF('FUNDING SHEET'!B27=\"\",\"\",'FUNDING SHEET'!B27)","v":""},null,null,null,{"$f":"IF('FUNDING SHEET'!C27=\"\",\"\",'FUNDING SHEET'!C27)","v":""},null,{"$f":"'FUNDING SHEET'!J27","v":"    "},null,null,{"$f":"SUMIF('FUNDING SHEET'!$J$4:$J$28,K83,'FUNDING SHEET'!$I$4:$I$28)+SUMIF('FUNDING SHEET'!$J$30:$J$229,K83,'FUNDING SHEET'!$H$30:$H$229)","v":0},{"$f":"SUM(MAY!O83:R83)","v":0},null,0,null,0]
[25,null,{"$f":"IF('FUNDING SHEET'!A28=\"\",\"\",'FUNDING SHEET'!A28)","v":""},null,{"$f":"IF('FUNDING SHEET'!B28=\"\",\"\",'FUNDING SHEET'!B28)","v":""},null,null,null,{"$f":"IF('FUNDING SHEET'!C28=\"\",\"\",'FUNDING SHEET'!C28)","v":""},null,{"$f":"'FUNDING SHEET'!J28","v":"    "},null,null,{"$f":"SUMIF('FUNDING SHEET'!$J$4:$J$28,K84,'FUNDING SHEET'!$I$4:$I$28)+SUMIF('FUNDING SHEET'!$J$30:$J$229,K84,'FUNDING SHEET'!$H$30:$H$229)","v":0},{"$f":"SUM(MAY!O84:R84)","v":0},null,0,null,0]
[null,null,null,null,null,null,null,null,null,null,null,"TOTALS:",null,{"$f":"SUM(N60:N84)","v":0},{"$f":"SUM(O60:O84)","v":0},null,{"$f":"SUM(Q60:Q84)","v":0},null,{"$f":"SUM(S60:S84)","v":0}]

{"sheet":"JUL","index":12,"n_rows":85,"n_cols":22,"rows_kept":85,"cut":false,"hidden":false,"merged":[[29,3,29,4],[30,3,30,4],[31,3,31,4],[32,3,32,4],[33,3,33,4],[34,3,34,4],[35,3,35,4],[20,3,20,4],[21,3,21,4],[22,3,22,4],[23,3,23,4],[24,3,24,4],[25,3,25,4],[26,3,26,4],[27,3,27,4],[28,3,28,4],[11,3,11,4],[12,3,12,4],[13,3,13,4],[14,3,14,4],[15,3,15,4],[16,3,16,4],[17,3,17,4],[18,3,18,4],[19,3,19,4],[80,5,80,7],[81,5,81,7],[84,14,84,15],[82,14,82,15],[82,16,82,17],[83,14,83,15],[83,16,83,17],[82,5,82,7],[83,5,83,7],[80,14,80,15],[80,16,80,17],[81,14,81,15],[81,16,81,17],[81,8,81,9],[81,10,81,11],[82,8,82,9],[82,10,82,11],[83,8,83,9],[83,10,83,11],[79,16,79,17],[72,5,72,7],[73,5,73,7],[76,14,76,15],[76,16,76,17],[77,14,77,15],[77,16,77,17],[74,14,74,15],[74,16,74,17],[75,14,75,15],[75,16,75,17],[74,5,74,7],[75,5,75,7],[76,5,76,7],[77,5,77,7],[72,14,72,15],[72,16,72,17],[73,14,73,15],[78,5,78,7],[79,5,79,7],[78,14,78,15],[78,16,78,17],[79,14,79,15],[73,16,73,17],[69,5,69,7],[70,5,70,7],[71,5,71,7],[65,8,65,9],[65,10,65,11],[70,14,70,15],[70,16,70,17],[71,14,71,15],[71,16,71,17],[69,14,69,15],[69,16,69,17],[69,8,69,9],[69,10,69,11],[70,8,70,9],[70,10,70,11],[71,8,71,9],[71,10,71,11],[64,5,64,7],[67,14,67,15],[66,14,66,15],[66,16,66,17],[67,16,67,17],[68,14,68,15],[68,16,68,17],[65,14,65,15],[65,16,65,17],[64,14,64,15],[64,16,64,17],[65,5,65,7],[66,5,66,7],[67,5,67,7],[68,5,68,7],[66,8,66,9],[66,10,66,11],[67,8,67,9],[67,10,67,11],[68,8,68,9],[68,10,68,11],[60,14,60,15],[63,14,63,15],[60,16,60,17],[55,3,55,4],[56,3,56,4],[57,0,57,18],[58,14,58,15],[58,16,58,17],[59,14,59,15],[59,16,59,17],[58,5,58,7],[59,5,59,7],[60,5,60,7],[61,5,61,7],[62,5,62,7],[63,5,63,7],[61,14,61,15],[61,16,61,17],[62,14,62,15],[62,16,62,17],[63,16,63,17],[59,8,59,9],[59,10,59,11],[60,8,60,9],[54,3,54,4],[43,3,43,4],[44,3,44,4],[45,3,45,4],[46,3,46,4],[47,3,47,4],[48,3,48,4],[49,3,49,4],[50,3,50,4],[51,3,51,4],[52,3,52,4],[53,3,53,4],[2,7,2,8],[3,18,5,18],[5,3,5,4],[0,0,1,18],[2,0,2,5],[2,11,2,12],[2,13,2,14],[2,16,2,17],[42,3,42,4],[6,13,6,15],[3,0,5,0],[3,2,4,5],[3,7,4,11],[3,13,4,16],[7,3,7,4],[8,3,8,4],[9,3,9,4],[10,3,10,4],[36,3,36,4],[37,3,37,4],[38,3,38,4],[39,3,39,4],[40,3,40,4],[41,3,41,4],[2,9,2,10],[5,9,5,10],[7,9,7,10],[8,9,8,10],[9,9,9,10],[10,9,10,10],[11,9,11,10],[12,9,12,10],[13,9,13,10],[14,9,14,10],[15,9,15,10],[16,9,16,10],[17,9,17,10],[18,9,18,10],[19,9,19,10],[20,9,20,10],[21,9,21,10],[22,9,22,10],[23,9,23,10],[24,9,24,10],[25,9,25,10],[26,9,26,10],[27,9,27,10],[28,9,28,10],[29,9,29,10],[30,9,30,10],[31,9,31,10],[32,9,32,10],[33,9,33,10],[34,9,34,10],[35,9,35,10],[36,9,36,10],[37,9,37,10],[38,9,38,10],[39,9,39,10],[40,9,40,10],[41,9,41,10],[42,9,42,10],[43,9,43,10],[44,9,44,10],[45,9,45,10],[46,9,46,10],[47,9,47,10],[48,9,48,10],[49,9,49,10],[50,9,50,10],[51,9,51,10],[52,9,52,10],[53,9,53,10],[54,9,54,10],[55,9,55,10],[56,9,56,10],[58,8,58,9],[58,10,58,11],[72,8,72,9],[72,10,72,11],[73,8,73,9],[73,10,73,11],[76,8,76,9],[76,10,76,11],[60,10,60,11],[61,8,61,9],[61,10,61,11],[62,8,62,9],[62,10,62,11],[63,8,63,9],[63,10,63,11],[64,8,64,9],[64,10,64,11],[77,8,77,9],[77,10,77,11],[78,8,78,9],[78,10,78,11],[79,8,79,9],[79,10,79,11],[80,8,80,9],[80,10,80,11],[74,8,74,9],[74,10,74,11],[75,8,75,9],[75,10,75,11]]}
["CARDHOLDER TRANSACTION LOG"]
[]
[null,null,null,null,null,null,null,{"$f":"'FUNDING SHEET'!$K$3","v":"CARDHOLDER NAME:"},null,{"$f":"'FUNDING SHEET'!$L$3","v":0},null,"CARD ACCOUNT NUMBER:",null,"XXXX-XXXX-XXXX-",null,{"$f":"'FUNDING SHEET'!$L$2","v":0},"FISCAL YEAR:",null,{"$f":"'FUNDING SHEET'!$L$1","v":0}]
["Log Number",null,"DATE",null,null,null,null,"PURCHASE DETAIL",null,null,null,null,null,"AMOUNT",null,null,null,null,"Account                     (see below)"]
[]
[null,null,"Date of Order","Date Received",null,"Statement Date",null,"Budget Object Class   (BOC)","VERNDOR           REQ # / CONTACT  (optional)","Item(s) purchased",null,"Vendor",null,"Amount","Paid by Conv. Check","Check Fee Amount (1.7%)","Total to Date"]
[null,null,null,null,null,null,null,null,null,null,null,null,null,"YEAR TO DATE EXPENDITURES",null,null,{"$f":"SUM(JUN!$Q$60:$R$84)+JUN!$Q$7","v":0},null,null,null,null,"ACCOUNT NUMBER"]
[1,null,null,null,null,null,null,{"$f":"IF(T8=$A$60,RIGHT($L$60,5),IF(T8=$A$61,RIGHT($L$61,5),IF(T8=$A$62,RIGHT($L$62,5),IF(T8=$A$63,RIGHT($L$63,5),IF(T8=$A$64,RIGHT($L$64,5),IF(T8=$A$65,RIGHT($L$65,5),IF(T8=$A$66,RIGHT($L$66,5),IF(T8=$A$67,RIGHT($L$67,5),IF(T8=$A$68,RIGHT($L$68,5),IF(T8=$A$69,RIGHT($L$69,5),IF(T8=$A$70,RIGHT($L$70,5),IF(T8=$A$71,RIGHT($L$71,5),IF(T8=$A$72,RIGHT($L$72,5),IF(T8=$A$73,RIGHT($L$73,5),IF(T8=$A$74,RIGHT($L$74,5),IF(T8=$A$75,RIGHT($L$75,5),IF(T8=$A$76,RIGHT($L$76,5),IF(T8=$A$77,RIGHT($L$77,5),IF(T8=$A$78,RIGHT($L$78,5),IF(T8=$A$79,RIGHT($L$79,5),IF(T8=$A$80,RIGHT($L$80,5),IF(T8=$A$81,RIGHT($L$81,5),IF(T8=$A$82,RIGHT($L$82,5),IF(T8=$A$83,RIGHT($L$83,5),IF(T8=$A$84,RIGHT($L$84,5),\"\")))))))))))))))))))))))))","v":""},null,null,null,null,null,null,null,{"$f":"IF(C8=\"\",\"\",IF(O8=\"Y\",N8*0.017,0))","v":""},{"$f":"IF(N8=\"\",\"\",Q7+N8+P8)","v":""},null,null,{"$f":"IF(F8=\"\",\"\",MONTH(F8))","v":""},null,{"$f":"IF('FUNDING SHEET'!A4=\"\",\"\",A60&\"   \"&'FUNDING SHEET'!D4&'FUNDING SHEET'!E4&\"  \"&'FUNDING SHEET'!F4)","v":""}]
[2,null,null,null,null,null,null,{"$f":"IF(T9=$A$60,RIGHT($L$60,5),IF(T9=$A$61,RIGHT($L$61,5),IF(T9=$A$62,RIGHT($L$62,5),IF(T9=$A$63,RIGHT($L$63,5),IF(T9=$A$64,RIGHT($L$64,5),IF(T9=$A$65,RIGHT($L$65,5),IF(T9=$A$66,RIGHT($L$66,5),IF(T9=$A$67,RIGHT($L$67,5),IF(T9=$A$68,RIGHT($L$68,5),IF(T9=$A$69,RIGHT($L$69,5),IF(T9=$A$70,RIGHT($L$70,5),IF(T9=$A$71,RIGHT($L$71,5),IF(T9=$A$72,RIGHT($L$72,5),IF(T9=$A$73,RIGHT($L$73,5),IF(T9=$A$74,RIGHT($L$74,5),IF(T9=$A$75,RIGHT($L$75,5),IF(T9=$A$76,RIGHT($L$76,5),IF(T9=$A$77,RIGHT($L$77,5),IF(T9=$A$78,RIGHT($L$78,5),IF(T9=$A$79,RIGHT($L$79,5),IF(T9=$A$80,RIGHT($L$80,5),IF(T9=$A$81,RIGHT($L$81,5),IF(T9=$A$82,RIGHT($L$82,5),IF(T9=$A$83,RIGHT($L$83,5),IF(T9=$A$84,RIGHT($L$84,5),\"\")))))))))))))))))))))))))","v":""},null,null,null,null,null,null,null,{"$f":"IF(C9=\"\",\"\",IF(O9=\"Y\",N9*0.017,0))","v":""},{"$f":"IF(N9=\"\",\"\",Q8+N9+P9)","v":""},null,null,{"$f":"IF(F9=\"\",\"\",MONTH(F9))","v":""},null,{"$f":"IF('FUNDING SHEET'!A5=\"\",\"\",A61&\"   \"&'FUNDING SHEET'!D5&'FUNDING SHEET'!E5&\"  \"&'FUNDING SHEET'!F5)","v":""}]
[3,null,null,null,null,null,null,"",null,null,null,null,null,null,null,"",{"$f":"IF(N10=\"\",\"\",Q9+N10+P10)","v":""},null,null,"",null,{"$f":"IF('FUNDING SHEET'!A6=\"\",\"\",A62&\"  \"&'FUNDING SHEET'!D6&\" \"&'FUNDING SHEET'!E6&\"  \"&'FUNDING SHEET'!F6)","v":""}]
[4,null,null,null,null,null,null,"",null,null,null,null,null,null,null,"","",null,null,"",null,{"$f":"IF('FUNDING SHEET'!A7=\"\",\"\",A63&\"  \"&'FUNDING SHEET'!D7&\" \"&'FUNDING SHEET'!E7&\"  \"&'FUNDING SHEET'!F7)","v":""}]
[5,null,null,null,null,null,null,"",null,null,null,null,null,null,null,"","",null,null,"",null,{"$f":"IF('FUNDING SHEET'!A8=\"\",\"\",A64&\"  \"&'FUNDING SHEET'!D8&\" \"&'FUNDING SHEET'!E8&\"  \"&'FUNDING SHEET'!F8)","v":""}]
[6,null,null,null,null,null,null,"",null,null,null,null,null,null,null,"","",null,null,"",null,{"$f":"IF('FUNDING SHEET'!A9=\"\",\"\",A65&\"  \"&'FUNDING SHEET'!D9&\" \"&'FUNDING SHEET'!E9&\"  \"&'FUNDING SHEET'!F9)","v":""}]
[7,null,null,null,null,null,null,"",null,null,null,null,null,null,null,"","",null,null,"",null,{"$f":"IF('FUNDING SHEET'!A10=\"\",\"\",A66&\"  \"&'FUNDING SHEET'!D10&\" \"&'FUNDING SHEET'!E10&\"  \"&'FUNDING SHEET'!F10)","v":""}]
[8,null,null,null,null,null,null,"",null,null,null,null,null,null,null,"","",null,null,"",null,{"$f":"IF('FUNDING SHEET'!A11=\"\",\"\",A67&\"  \"&'FUNDING SHEET'!D11&\" \"&'FUNDING SHEET'!E11&\"  \"&'FUNDING SHEET'!F11)","v":""}]
[9,null,null,null,null,null,null,"",null,null,null,null,null,null,null,"","",null,null,"",null,{"$f":"IF('FUNDING SHEET'!A12=\"\",\"\",A68&\"  \"&'FUNDING SHEET'!D12&\" \"&'FUNDING SHEET'!E12&\"  \"&'FUNDING SHEET'!F12)","v":""}]
[10,null,null,null,null,null,null,"",null,null,null,null,null,null,null,"","",null,null,"",null,{"$f":"IF('FUNDING SHEET'!A13=\"\",\"\",A69&\"  \"&'FUNDING SHEET'!D13&\" \"&'FUNDING SHEET'!E13&\"  \"&'FUNDING SHEET'!F13)","v":""}]
[11,null,null,null,null,null,null,"",null,null,null,null,null,null,null,"","",null,null,"",null,{"$f":"IF('FUNDING SHEET'!A14=\"\",\"\",A70&\"  \"&'FUNDING SHEET'!D14&\" \"&'FUNDING SHEET'!E14&\"  \"&'FUNDING SHEET'!F14)","v":""}]
[12,null,null,null,null,null,null,"",null,null,null,null,null,null,null,"","",null,null,"",null,{"$f":"IF('FUNDING SHEET'!A15=\"\",\"\",A71&\"  \"&'FUNDING SHEET'!D15&\" \"&'FUNDING SHEET'!E15&\"  \"&'FUNDING SHEET'!F15)","v":""}]
[13,null,null,null,null,null,null,"",null,null,null,null,null,null,null,"","",null,null,"",null,{"$f":"IF('FUNDING SHEET'!A16=\"\",\"\",A72&\"  \"&'FUNDING SHEET'!D16&\" \"&'FUNDING SHEET'!E16&\"  \"&'FUNDING SHEET'!F16)","v":""}]
[14,null,null,null,null,null,null,"",null,null,null,null,null,null,null,"","",null,null,"",null,{"$f":"IF('FUNDING SHEET'!A17=\"\",\"\",A73&\"  \"&'FUNDING SHEET'!D17&\" \"&'FUNDING SHEET'!E17&\"  \"&'FUNDING SHEET'!F17)","v":""}]
[15,null,null,null,null,null,null,"",null,null,null,null,null,null,null,"","",null,null,"",null,{"$f":"IF('FUNDING SHEET'!A18=\"\",\"\",A74&\"  \"&'FUNDING SHEET'!D18&\" \"&'FUNDING SHEET'!E18&\"  \"&'FUNDING SHEET'!F18)","v":""}]
[16,null,null,null,null,null,null,"",null,null,null,null,null,null,null,"","",null,null,"",null,{"$f":"IF('FUNDING SHEET'!A19=\"\",\"\",A75&\"  \"&'FUNDING SHEET'!D19&\" \"&'FUNDING SHEET'!E19&\"  \"&'FUNDING SHEET'!F19)","v":""}]
[17,null,null,null,null,null,null,"",null,null,null,null,null,null,null,"","",null,null,"",null,{"$f":"IF('FUNDING SHEET'!A20=\"\",\"\",A76&\"  \"&'FUNDING SHEET'!D20&\" \"&'FUNDING SHEET'!E20&\"  \"&'FUNDING SHEET'!F20)","v":""}]
[18,null,null,null,null,null,null,"",null,null,null,null,null,null,null,"","",null,null,"",null,{"$f":"IF('FUNDING SHEET'!A21=\"\",\"\",A77&\"  \"&'FUNDING SHEET'!D21&\" \"&'FUNDING SHEET'!E21&\"  \"&'FUNDING SHEET'!F21)","v":""}]
[19,null,null,null,null,null,null,"",null,null,null,null,null,null,null,"","",null,null,"",null,{"$f":"IF('FUNDING SHEET'!A22=\"\",\"\",A78&\"  \"&'FUNDING SHEET'!D22&\" \"&'FUNDING SHEET'!E22&\"  \"&'FUNDING SHEET'!F22)","v":""}]
[20,null,null,null,null,null,null,"",null,null,null,null,null,null,null,"","",null,null,"",null,{"$f":"IF('FUNDING SHEET'!A23=\"\",\"\",A79&\"  \"&'FUNDING SHEET'!D23&\" \"&'FUNDING SHEET'!E23&\"  \"&'FUNDING SHEET'!F23)","v":""}]
[21,null,null,null,null,null,null,"",null,null,null,null,null,null,null,"","",null,null,"",null,{"$f":"IF('FUNDING SHEET'!A24=\"\",\"\",A80&\"  \"&'FUNDING SHEET'!D24&\" \"&'FUNDING SHEET'!E24&\"  \"&'FUNDING SHEET'!F24)","v":""}]
[22,null,null,null,null,null,null,"",null,null,null,null,null,null,null,"","",null,null,"",null,{"$f":"IF('FUNDING SHEET'!A25=\"\",\"\",A81&\"  \"&'FUNDING SHEET'!D25&\" \"&'FUNDING SHEET'!E25&\"  \"&'FUNDING SHEET'!F25)","v":""}]
[23,null,null,null,null,null,null,"",null,null,null,null,null,null,null,"","",null,null,"",null,{"$f":"IF('FUNDING SHEET'!A26=\"\",\"\",A82&\"  \"&'FUNDING SHEET'!D26&\" \"&'FUNDING SHEET'!E26&\"  \"&'FUNDING SHEET'!F26)","v":""}]
[24,null,null,null,null,null,null,"",null,null,null,null,null,null,null,"","",null,null,"",null,{"$f":"IF('FUNDING SHEET'!A27=\"\",\"\",A83&\"  \"&'FUNDING SHEET'!D27&\" \"&'FUNDING SHEET'!E27&\"  \"&'FUNDING SHEET'!F27)","v":""}]
[25,null,null,null,null,null,null,"",null,null,null,null,null,null,null,"","",null,null,"",null,{"$f":"IF('FUNDING SHEET'!A28=\"\",\"\",A84&\"  \"&'FUNDING SHEET'!D28&\" \"&'FUNDING SHEET'!E28&\"  \"&'FUNDING SHEET'!F28)","v":""}]
[26,null,null,null,null,null,null,"",null,null,null,null,null,null,null,"","",null,null,""]
[27,null,null,null,null,null,null,"",null,null,null,null,null,null,null,"","",null,null,""]
[28,null,null,null,null,null,null,"",null,null,null,null,null,null,null,"","",null,null,""]
[29,null,null,null,null,null,null,"",null,null,null,null,null,null,null,"","",null,null,""]
[30,null,null,null,null,null,null,"",null,null,null,null,null,null,null,"","",null,null,""]
[31,null,null,null,null,null,null,"",null,null,null,null,null,null,null,"","",null,null,""]
[32,null,null,null,null,null,null,"",null,null,null,null,null,null,null,"","",null,null,""]
[33,null,null,null,null,null,null,"",null,null,null,null,null,null,null,"","",null,null,""]
[34,null,null,null,null,null,null,"",null,null,null,null,null,null,null,"","",null,null,""]
[35,null,null,null,null,null,null,"",null,null,null,null,null,null,null,"","",null,null,""]
[36,null,null,null,null,null,null,"",null,null,null,null,null,null,null,"","",null,null,""]
[37,null,null,null,null,null,null,"",null,null,null,null,null,null,null,"","",null,null,""]
[38,null,null,null,null,null,null,"",null,null,null,null,null,null,null,"","",null,null,""]
[39,null,null,null,null,null,null,"",null,null,null,null,null,null,null,"","",null,null,""]
[40,null,null,null,null,null,null,"",null,null,null,null,null,null,null,"","",null,null,""]
[41,null,null,null,null,null,null,"",null,null,null,null,null,null,null,"","",null,null,""]
[42,null,null,null,null,null,null,"",null,null,null,null,null,null,null,"","",null,null,""]
[43,null,null,null,null,null,null,"",null,null,null,null,null,null,null,"","",null,null,""]
[44,null,null,null,null,null,null,"",null,null,null,null,null,null,null,"","",null,null,""]
[45,null,null,null,null,null,null,"",null,null,null,null,null,null,null,"","",null,null,""]
[46,null,null,null,null,null,null,"",null,null,null,null,null,null,null,"","",null,null,""]
[47,null,null,null,null,null,null,"",null,null,null,null,null,null,null,"","",null,null,""]
[48,null,null,null,null,null,null,"",null,null,null,null,null,null,null,"","",null,null,""]
[49,null,null,null,null,null,null,"",null,null,null,null,null,null,null,"","",null,null,""]
[50,null,null,null,null,null,null,"",null,null,null,null,null,null,null,"","",null,null,""]
["ACCOUNT INFORMATION"]
["Line #",null,"Date",null,"PR #","PROJECT",null,null,"LINE ITEM NOMENCLATURE",null,"ACCOUNT NUMBER (WITH BOC)",null,null,"PR Funding","Previous Expenditures",null,"Current Expenditures",null,"Remaining Funds"]
[1,null,{"$f":"IF('FUNDING SHEET'!A4=\"\",\"\",'FUNDING SHEET'!A4)","v":""},null,{"$f":"IF('FUNDING SHEET'!B4=\"\",\"\",'FUNDING SHEET'!B4)","v":""},null,null,null,{"$f":"IF('FUNDING SHEET'!C4=\"\",\"\",'FUNDING SHEET'!C4)","v":""},null,{"$f":"'FUNDING SHEET'!J4","v":"    "},null,null,{"$f":"SUMIF('FUNDING SHEET'!$J$4:$J$28,K60,'FUNDING SHEET'!$I$4:$I$28)+SUMIF('FUNDING SHEET'!$J$30:$J$229,K60,'FUNDING SHEET'!$H$30:$H$229)","v":0},{"$f":"SUM(JUN!O60:R60)","v":0},null,{"$f":"SUMIF($S$8:$S$57,A60,$N$8:$N$57)+SUMIF($S$8:$S$57,A60,$P$8:$P$57)","v":0},null,{"$f":"N60-O60-Q60","v":0}]
[2,null,{"$f":"IF('FUNDING SHEET'!A5=\"\",\"\",'FUNDING SHEET'!A5)","v":""},null,{"$f":"IF('FUNDING SHEET'!B5=\"\",\"\",'FUNDING SHEET'!B5)","v":""},null,null,null,{"$f":"IF('FUNDING SHEET'!C5=\"\",\"\",'FUNDING SHEET'!C5)","v":""},null,{"$f":"'FUNDING SHEET'!J5","v":"    "},null,null,{"$f":"SUMIF('FUNDING SHEET'!$J$4:$J$28,K61,'FUNDING SHEET'!$I$4:$I$28)+SUMIF('FUNDING SHEET'!$J$30:$J$229,K61,'FUNDING SHEET'!$H$30:$H$229)","v":0},{"$f":"SUM(JUN!O61:R61)","v":0},null,0,null,0]
[3,null,{"$f":"IF('FUNDING SHEET'!A6=\"\",\"\",'FUNDING SHEET'!A6)","v":""},null,{"$f":"IF('FUNDING SHEET'!B6=\"\",\"\",'FUNDING SHEET'!B6)","v":""},null,null,null,{"$f":"IF('FUNDING SHEET'!C6=\"\",\"\",'FUNDING SHEET'!C6)","v":""},null,{"$f":"'FUNDING SHEET'!J6","v":"    "},null,null,{"$f":"SUMIF('FUNDING SHEET'!$J$4:$J$28,K62,'FUNDING SHEET'!$I$4:$I$28)+SUMIF('FUNDING SHEET'!$J$30:$J$229,K62,'FUNDING SHEET'!$H$30:$H$229)","v":0},{"$f":"SUM(JUN!O62:R62)","v":0},null,0,null,0]
[4,null,{"$f":"IF('FUNDING SHEET'!A7=\"\",\"\",'FUNDING SHEET'!A7)","v":""},null,{"$f":"IF('FUNDING SHEET'!B7=\"\",\"\",'FUNDING SHEET'!B7)","v":""},null,null,null,{"$f":"IF('FUNDING SHEET'!C7=\"\",\"\",'FUNDING SHEET'!C7)","v":""},null,{"$f":"'FUNDING SHEET'!J7","v":"    "},null,null,{"$f":"SUMIF('FUNDING SHEET'!$J$4:$J$28,K63,'FUNDING SHEET'!$I$4:$I$28)+SUMIF('FUNDING SHEET'!$J$30:$J$229,K63,'FUNDING SHEET'!$H$30:$H$229)","v":0},{"$f":"SUM(JUN!O63:R63)","v":0},null,0,null,0]
[5,null,{"$f":"IF('FUNDING SHEET'!A8=\"\",\"\",'FUNDING SHEET'!A8)","v":""},null,{"$f":"IF('FUNDING SHEET'!B8=\"\",\"\",'FUNDING SHEET'!B8)","v":""},null,null,null,{"$f":"IF('FUNDING SHEET'!C8=\"\",\"\",'FUNDING SHEET'!C8)","v":""},null,{"$f":"'FUNDING SHEET'!J8","v":"    "},null,null,{"$f":"SUMIF('FUNDING SHEET'!$J$4:$J$28,K64,'FUNDING SHEET'!$I$4:$I$28)+SUMIF('FUNDING SHEET'!$J$30:$J$229,K64,'FUNDING SHEET'!$H$30:$H$229)","v":0},{"$f":"SUM(JUN!O64:R64)","v":0},null,0,null,0]
[6,null,{"$f":"IF('FUNDING SHEET'!A9=\"\",\"\",'FUNDING SHEET'!A9)","v":""},null,{"$f":"IF('FUNDING SHEET'!B9=\"\",\"\",'FUNDING SHEET'!B9)","v":""},null,null,null,{"$f":"IF('FUNDING SHEET'!C9=\"\",\"\",'FUNDING SHEET'!C9)","v":""},null,{"$f":"'FUNDING SHEET'!J9","v":"    "},null,null,{"$f":"SUMIF('FUNDING SHEET'!$J$4:$J$28,K65,'FUNDING SHEET'!$I$4:$I$28)+SUMIF('FUNDING SHEET'!$J$30:$J$229,K65,'FUNDING SHEET'!$H$30:$H$229)","v":0},{"$f":"SUM(JUN!O65:R65)","v":0},null,0,null,0]
[7,null,{"$f":"IF('FUNDING SHEET'!A10=\"\",\"\",'FUNDING SHEET'!A10)","v":""},null,{"$f":"IF('FUNDING SHEET'!B10=\"\",\"\",'FUNDING SHEET'!B10)","v":""},null,null,null,{"$f":"IF('FUNDING SHEET'!C10=\"\",\"\",'FUNDING SHEET'!C10)","v":""},null,{"$f":"'FUNDING SHEET'!J10","v":"    "},null,null,{"$f":"SUMIF('FUNDING SHEET'!$J$4:$J$28,K66,'FUNDING SHEET'!$I$4:$I$28)+SUMIF('FUNDING SHEET'!$J$30:$J$229,K66,'FUNDING SHEET'!$H$30:$H$229)","v":0},{"$f":"SUM(JUN!O66:R66)","v":0},null,0,null,0]
[8,null,{"$f":"IF('FUNDING SHEET'!A11=\"\",\"\",'FUNDING SHEET'!A11)","v":""},null,{"$f":"IF('FUNDING SHEET'!B11=\"\",\"\",'FUNDING SHEET'!B11)","v":""},null,null,null,{"$f":"IF('FUNDING SHEET'!C11=\"\",\"\",'FUNDING SHEET'!C11)","v":""},null,{"$f":"'FUNDING SHEET'!J11","v":"    "},null,null,{"$f":"SUMIF('FUNDING SHEET'!$J$4:$J$28,K67,'FUNDING SHEET'!$I$4:$I$28)+SUMIF('FUNDING SHEET'!$J$30:$J$229,K67,'FUNDING SHEET'!$H$30:$H$229)","v":0},{"$f":"SUM(JUN!O67:R67)","v":0},null,0,null,0]
[9,null,{"$f":"IF('FUNDING SHEET'!A12=\"\",\"\",'FUNDING SHEET'!A12)","v":""},null,{"$f":"IF('FUNDING SHEET'!B12=\"\",\"\",'FUNDING SHEET'!B12)","v":""},null,null,null,{"$f":"IF('FUNDING SHEET'!C12=\"\",\"\",'FUNDING SHEET'!C12)","v":""},null,{"$f":"'FUNDING SHEET'!J12","v":"    "},null,null,{"$f":"SUMIF('FUNDING SHEET'!$J$4:$J$28,K68,'FUNDING SHEET'!$I$4:$I$28)+SUMIF('FUNDING SHEET'!$J$30:$J$229,K68,'FUNDING SHEET'!$H$30:$H$229)","v":0},{"$f":"SUM(JUN!O68:R68)","v":0},null,0,null,0]
[10,null,{"$f":"IF('FUNDING SHEET'!A13=\"\",\"\",'FUNDING SHEET'!A13)","v":""},null,{"$f":"IF('FUNDING SHEET'!B13=\"\",\"\",'FUNDING SHEET'!B13)","v":""},null,null,null,{"$f":"IF('FUNDING SHEET'!C13=\"\",\"\",'FUNDING SHEET'!C13)","v":""},null,{"$f":"'FUNDING SHEET'!J13","v":"    "},null,null,{"$f":"SUMIF('FUNDING SHEET'!$J$4:$J$28,K69,'FUNDING SHEET'!$I$4:$I$28)+SUMIF('FUNDING SHEET'!$J$30:$J$229,K69,'FUNDING SHEET'!$H$30:$H$229)","v":0},{"$f":"SUM(JUN!O69:R69)","v":0},null,0,null,0]
[11,null,{"$f":"IF('FUNDING SHEET'!A14=\"\",\"\",'FUNDING SHEET'!A14)","v":""},null,{"$f":"IF('FUNDING SHEET'!B14=\"\",\"\",'FUNDING SHEET'!B14)","v":""},null,null,null,{"$f":"IF('FUNDING SHEET'!C14=\"\",\"\",'FUNDING SHEET'!C14)","v":""},null,{"$f":"'FUNDING SHEET'!J14","v":"    "},null,null,{"$f":"SUMIF('FUNDING SHEET'!$J$4:$J$28,K70,'FUNDING SHEET'!$I$4:$I$28)+SUMIF('FUNDING SHEET'!$J$30:$J$229,K70,'FUNDING SHEET'!$H$30:$H$229)","v":0},{"$f":"SUM(JUN!O70:R70)","v":0},null,0,null,0]
[12,null,{"$f":"IF('FUNDING SHEET'!A15=\"\",\"\",'FUNDING SHEET'!A15)","v":""},null,{"$f":"IF('FUNDING SHEET'!B15=\"\",\"\",'FUNDING SHEET'!B15)","v":""},null,null,null,{"$f":"IF('FUNDING SHEET'!C15=\"\",\"\",'FUNDING SHEET'!C15)","v":""},null,{"$f":"'FUNDING SHEET'!J15","v":"    "},null,null,{"$f":"SUMIF('FUNDING SHEET'!$J$4:$J$28,K71,'FUNDING SHEET'!$I$4:$I$28)+SUMIF('FUNDING SHEET'!$J$30:$J$229,K71,'FUNDING SHEET'!$H$30:$H$229)","v":0},{"$f":"SUM(JUN!O71:R71)","v":0},null,0,null,0]
[13,null,{"$f":"IF('FUNDING SHEET'!A16=\"\",\"\",'FUNDING SHEET'!A16)","v":""},null,{"$f":"IF('FUNDING SHEET'!B16=\"\",\"\",'FUNDING SHEET'!B16)","v":""},null,null,null,{"$f":"IF('FUNDING SHEET'!C16=\"\",\"\",'FUNDING SHEET'!C16)","v":""},null,{"$f":"'FUNDING SHEET'!J16","v":"    "},null,null,{"$f":"SUMIF('FUNDING SHEET'!$J$4:$J$28,K72,'FUNDING SHEET'!$I$4:$I$28)+SUMIF('FUNDING SHEET'!$J$30:$J$229,K72,'FUNDING SHEET'!$H$30:$H$229)","v":0},{"$f":"SUM(JUN!O72:R72)","v":0},null,0,null,0]
[14,null,{"$f":"IF('FUNDING SHEET'!A17=\"\",\"\",'FUNDING SHEET'!A17)","v":""},null,{"$f":"IF('FUNDING SHEET'!B17=\"\",\"\",'FUNDING SHEET'!B17)","v":""},null,null,null,{"$f":"IF('FUNDING SHEET'!C17=\"\",\"\",'FUNDING SHEET'!C17)","v":""},null,{"$f":"'FUNDING SHEET'!J17","v":"    "},null,null,{"$f":"SUMIF('FUNDING SHEET'!$J$4:$J$28,K73,'FUNDING SHEET'!$I$4:$I$28)+SUMIF('FUNDING SHEET'!$J$30:$J$229,K73,'FUNDING SHEET'!$H$30:$H$229)","v":0},{"$f":"SUM(JUN!O73:R73)","v":0},null,0,null,0]
[15,null,{"$f":"IF('FUNDING SHEET'!A18=\"\",\"\",'FUNDING SHEET'!A18)","v":""},null,{"$f":"IF('FUNDING SHEET'!B18=\"\",\"\",'FUNDING SHEET'!B18)","v":""},null,null,null,{"$f":"IF('FUNDING SHEET'!C18=\"\",\"\",'FUNDING SHEET'!C18)","v":""},null,{"$f":"'FUNDING SHEET'!J18","v":"    "},null,null,{"$f":"SUMIF('FUNDING SHEET'!$J$4:$J$28,K74,'FUNDING SHEET'!$I$4:$I$28)+SUMIF('FUNDING SHEET'!$J$30:$J$229,K74,'FUNDING SHEET'!$H$30:$H$229)","v":0},{"$f":"SUM(JUN!O74:R74)","v":0},null,0,null,0]
[16,null,{"$f":"IF('FUNDING SHEET'!A19=\"\",\"\",'FUNDING SHEET'!A19)","v":""},null,{"$f":"IF('FUNDING SHEET'!B19=\"\",\"\",'FUNDING SHEET'!B19)","v":""},null,null,null,{"$f":"IF('FUNDING SHEET'!C19=\"\",\"\",'FUNDING SHEET'!C19)","v":""},null,{"$f":"'FUNDING SHEET'!J19","v":"    "},null,null,{"$f":"SUMIF('FUNDING SHEET'!$J$4:$J$28,K75,'FUNDING SHEET'!$I$4:$I$28)+SUMIF('FUNDING SHEET'!$J$30:$J$229,K75,'FUNDING SHEET'!$H$30:$H$229)","v":0},{"$f":"SUM(JUN!O75:R75)","v":0},null,0,null,0]
[17,null,{"$f":"IF('FUNDING SHEET'!A20=\"\",\"\",'FUNDING SHEET'!A20)","v":""},null,{"$f":"IF('FUNDING SHEET'!B20=\"\",\"\",'FUNDING SHEET'!B20)","v":""},null,null,null,{"$f":"IF('FUNDING SHEET'!C20=\"\",\"\",'FUNDING SHEET'!C20)","v":""},null,{"$f":"'FUNDING SHEET'!J20","v":"    "},null,null,{"$f":"SUMIF('FUNDING SHEET'!$J$4:$J$28,K76,'FUNDING SHEET'!$I$4:$I$28)+SUMIF('FUNDING SHEET'!$J$30:$J$229,K76,'FUNDING SHEET'!$H$30:$H$229)","v":0},{"$f":"SUM(JUN!O76:R76)","v":0},null,0,null,0]
[18,null,{"$f":"IF('FUNDING SHEET'!A21=\"\",\"\",'FUNDING SHEET'!A21)","v":""},null,{"$f":"IF('FUNDING SHEET'!B21=\"\",\"\",'FUNDING SHEET'!B21)","v":""},null,null,null,{"$f":"IF('FUNDING SHEET'!C21=\"\",\"\",'FUNDING SHEET'!C21)","v":""},null,{"$f":"'FUNDING SHEET'!J21","v":"    "},null,null,{"$f":"SUMIF('FUNDING SHEET'!$J$4:$J$28,K77,'FUNDING SHEET'!$I$4:$I$28)+SUMIF('FUNDING SHEET'!$J$30:$J$229,K77,'FUNDING SHEET'!$H$30:$H$229)","v":0},{"$f":"SUM(JUN!O77:R77)","v":0},null,0,null,0]
[19,null,{"$f":"IF('FUNDING SHEET'!A22=\"\",\"\",'FUNDING SHEET'!A22)","v":""},null,{"$f":"IF('FUNDING SHEET'!B22=\"\",\"\",'FUNDING SHEET'!B22)","v":""},null,null,null,{"$f":"IF('FUNDING SHEET'!C22=\"\",\"\",'FUNDING SHEET'!C22)","v":""},null,{"$f":"'FUNDING SHEET'!J22","v":"    "},null,null,{"$f":"SUMIF('FUNDING SHEET'!$J$4:$J$28,K78,'FUNDING SHEET'!$I$4:$I$28)+SUMIF('FUNDING SHEET'!$J$30:$J$229,K78,'FUNDING SHEET'!$H$30:$H$229)","v":0},{"$f":"SUM(JUN!O78:R78)","v":0},null,0,null,0]
[20,null,{"$f":"IF('FUNDING SHEET'!A23=\"\",\"\",'FUNDING SHEET'!A23)","v":""},null,{"$f":"IF('FUNDING SHEET'!B23=\"\",\"\",'FUNDING SHEET'!B23)","v":""},null,null,null,{"$f":"IF('FUNDING SHEET'!C23=\"\",\"\",'FUNDING SHEET'!C23)","v":""},null,{"$f":"'FUNDING SHEET'!J23","v":"    "},null,null,{"$f":"SUMIF('FUNDING SHEET'!$J$4:$J$28,K79,'FUNDING SHEET'!$I$4:$I$28)+SUMIF('FUNDING SHEET'!$J$30:$J$229,K79,'FUNDING SHEET'!$H$30:$H$229)","v":0},{"$f":"SUM(JUN!O79:R79)","v":0},null,0,null,0]
[21,null,{"$f":"IF('FUNDING SHEET'!A24=\"\",\"\",'FUNDING SHEET'!A24)","v":""},null,{"$f":"IF('FUNDING SHEET'!B24=\"\",\"\",'FUNDING SHEET'!B24)","v":""},null,null,null,{"$f":"IF('FUNDING SHEET'!C24=\"\",\"\",'FUNDING SHEET'!C24)","v":""},null,{"$f":"'FUNDING SHEET'!J24","v":"    "},null,null,{"$f":"SUMIF('FUNDING SHEET'!$J$4:$J$28,K80,'FUNDING SHEET'!$I$4:$I$28)+SUMIF('FUNDING SHEET'!$J$30:$J$229,K80,'FUNDING SHEET'!$H$30:$H$229)","v":0},{"$f":"SUM(JUN!O80:R80)","v":0},null,0,null,0]
[22,null,{"$f":"IF('FUNDING SHEET'!A25=\"\",\"\",'FUNDING SHEET'!A25)","v":""},null,{"$f":"IF('FUNDING SHEET'!B25=\"\",\"\",'FUNDING SHEET'!B25)","v":""},null,null,null,{"$f":"IF('FUNDING SHEET'!C25=\"\",\"\",'FUNDING SHEET'!C25)","v":""},null,{"$f":"'FUNDING SHEET'!J25","v":"    "},null,null,{"$f":"SUMIF('FUNDING SHEET'!$J$4:$J$28,K81,'FUNDING SHEET'!$I$4:$I$28)+SUMIF('FUNDING SHEET'!$J$30:$J$229,K81,'FUNDING SHEET'!$H$30:$H$229)","v":0},{"$f":"SUM(JUN!O81:R81)","v":0},null,0,null,0]
[23,null,{"$f":"IF('FUNDING SHEET'!A26=\"\",\"\",'FUNDING SHEET'!A26)","v":""},null,{"$f":"IF('FUNDING SHEET'!B26=\"\",\"\",'FUNDING SHEET'!B26)","v":""},null,null,null,{"$f":"IF('FUNDING SHEET'!C26=\"\",\"\",'FUNDING SHEET'!C26)","v":""},null,{"$f":"'FUNDING SHEET'!J26","v":"    "},null,null,{"$f":"SUMIF('FUNDING SHEET'!$J$4:$J$28,K82,'FUNDING SHEET'!$I$4:$I$28)+SUMIF('FUNDING SHEET'!$J$30:$J$229,K82,'FUNDING SHEET'!$H$30:$H$229)","v":0},{"$f":"SUM(JUN!O82:R82)","v":0},null,0,null,0]
[24,null,{"$f":"IF('FUNDING SHEET'!A27=\"\",\"\",'FUNDING SHEET'!A27)","v":""},null,{"$f":"IF('FUNDING SHEET'!B27=\"\",\"\",'FUNDING SHEET'!B27)","v":""},null,null,null,{"$f":"IF('FUNDING SHEET'!C27=\"\",\"\",'FUNDING SHEET'!C27)","v":""},null,{"$f":"'FUNDING SHEET'!J27","v":"    "},null,null,{"$f":"SUMIF('FUNDING SHEET'!$J$4:$J$28,K83,'FUNDING SHEET'!$I$4:$I$28)+SUMIF('FUNDING SHEET'!$J$30:$J$229,K83,'FUNDING SHEET'!$H$30:$H$229)","v":0},{"$f":"SUM(JUN!O83:R83)","v":0},null,0,null,0]
[25,null,{"$f":"IF('FUNDING SHEET'!A28=\"\",\"\",'FUNDING SHEET'!A28)","v":""},null,{"$f":"IF('FUNDING SHEET'!B28=\"\",\"\",'FUNDING SHEET'!B28)","v":""},null,null,null,{"$f":"IF('FUNDING SHEET'!C28=\"\",\"\",'FUNDING SHEET'!C28)","v":""},null,{"$f":"'FUNDING SHEET'!J28","v":"    "},null,null,{"$f":"SUMIF('FUNDING SHEET'!$J$4:$J$28,K84,'FUNDING SHEET'!$I$4:$I$28)+SUMIF('FUNDING SHEET'!$J$30:$J$229,K84,'FUNDING SHEET'!$H$30:$H$229)","v":0},{"$f":"SUM(JUN!O84:R84)","v":0},null,0,null,0]
[null,null,null,null,null,null,null,null,null,null,null,"TOTALS:",null,{"$f":"SUM(N60:N84)","v":0},{"$f":"SUM(O60:O84)","v":0},null,{"$f":"SUM(Q60:Q84)","v":0},null,{"$f":"SUM(S60:S84)","v":0}]

{"sheet":"AUG","index":13,"n_rows":85,"n_cols":22,"rows_kept":85,"cut":false,"hidden":false,"merged":[[32,3,32,4],[33,3,33,4],[34,3,34,4],[35,3,35,4],[23,3,23,4],[24,3,24,4],[25,3,25,4],[26,3,26,4],[27,3,27,4],[28,3,28,4],[29,3,29,4],[30,3,30,4],[31,3,31,4],[80,5,80,7],[81,5,81,7],[84,14,84,15],[82,14,82,15],[82,16,82,17],[83,14,83,15],[83,16,83,17],[82,5,82,7],[83,5,83,7],[80,14,80,15],[80,16,80,17],[81,14,81,15],[81,16,81,17],[82,8,82,9],[82,10,82,11],[83,8,83,9],[83,10,83,11],[79,16,79,17],[72,5,72,7],[73,5,73,7],[76,14,76,15],[76,16,76,17],[77,14,77,15],[77,16,77,17],[74,14,74,15],[74,16,74,17],[75,14,75,15],[75,16,75,17],[74,5,74,7],[75,5,75,7],[76,5,76,7],[77,5,77,7],[72,14,72,15],[72,16,72,17],[73,14,73,15],[78,5,78,7],[79,5,79,7],[78,14,78,15],[78,16,78,17],[79,14,79,15],[73,16,73,17],[69,5,69,7],[70,5,70,7],[71,5,71,7],[66,8,66,9],[66,10,66,11],[70,14,70,15],[70,16,70,17],[71,14,71,15],[71,16,71,17],[69,14,69,15],[69,16,69,17],[69,8,69,9],[69,10,69,11],[70,8,70,9],[70,10,70,11],[71,8,71,9],[71,10,71,11],[64,5,64,7],[67,14,67,15],[66,14,66,15],[66,16,66,17],[67,16,67,17],[68,14,68,15],[68,16,68,17],[65,14,65,15],[65,16,65,17],[64,14,64,15],[64,16,64,17],[65,5,65,7],[66,5,66,7],[67,5,67,7],[68,5,68,7],[67,8,67,9],[67,10,67,11],[68,8,68,9],[68,10,68,11],[60,14,60,15],[63,14,63,15],[60,16,60,17],[55,3,55,4],[56,3,56,4],[57,0,57,18],[58,14,58,15],[58,16,58,17],[59,14,59,15],[59,16,59,17],[58,5,58,7],[59,5,59,7],[60,5,60,7],[61,5,61,7],[62,5,62,7],[63,5,63,7],[61,14,61,15],[61,16,61,17],[62,14,62,15],[62,16,62,17],[63,16,63,17],[60,8,60,9],[60,10,60,11],[61,8,61,9],[54,3,54,4],[43,3,43,4],[44,3,44,4],[45,3,45,4],[46,3,46,4],[47,3,47,4],[48,3,48,4],[49,3,49,4],[50,3,50,4],[51,3,51,4],[52,3,52,4],[53,3,53,4],[42,3,42,4],[6,13,6,15],[7,3,7,4],[8,3,8,4],[9,3,9,4],[10,3,10,4],[36,3,36,4],[37,3,37,4],[38,3,38,4],[39,3,39,4],[40,3,40,4],[41,3,41,4],[11,3,11,4],[12,3,12,4],[13,3,13,4],[14,3,14,4],[15,3,15,4],[16,3,16,4],[17,3,17,4],[18,3,18,4],[19,3,19,4],[20,3,20,4],[21,3,21,4],[22,3,22,4],[3,0,5,0],[3,2,4,5],[3,7,4,11],[3,13,4,16],[3,18,5,18],[5,3,5,4],[0,0,1,18],[2,0,2,5],[2,11,2,12],[2,13,2,14],[2,16,2,17],[2,7,2,8],[2,9,2,10],[5,9,5,10],[7,9,7,10],[8,9,8,10],[9,9,9,10],[10,9,10,10],[11,9,11,10],[12,9,12,10],[13,9,13,10],[14,9,14,10],[15,9,15,10],[16,9,16,10],[17,9,17,10],[18,9,18,10],[19,9,19,10],[20,9,20,10],[21,9,21,10],[22,9,22,10],[23,9,23,10],[24,9,24,10],[25,9,25,10],[26,9,26,10],[27,9,27,10],[28,9,28,10],[29,9,29,10],[30,9,30,10],[31,9,31,10],[32,9,32,10],[33,9,33,10],[34,9,34,10],[35,9,35,10],[36,9,36,10],[37,9,37,10],[38,9,38,10],[39,9,39,10],[40,9,40,10],[41,9,41,10],[42,9,42,10],[43,9,43,10],[44,9,44,10],[45,9,45,10],[46,9,46,10],[47,9,47,10],[48,9,48,10],[49,9,49,10],[50,9,50,10],[51,9,51,10],[52,9,52,10],[53,9,53,10],[54,9,54,10],[55,9,55,10],[56,9,56,10],[58,8,58,9],[58,10,58,11],[59,8,59,9],[59,10,59,11],[61,10,61,11],[62,8,62,9],[62,10,62,11],[63,8,63,9],[63,10,63,11],[64,8,64,9],[64,10,64,11],[65,8,65,9],[65,10,65,11],[74,8,74,9],[74,10,74,11],[75,8,75,9],[75,10,75,11],[76,8,76,9],[76,10,76,11],[72,8,72,9],[72,10,72,11],[73,8,73,9],[73,10,73,11],[77,8,77,9],[77,10,77,11],[78,8,78,9],[78,10,78,11],[79,8,79,9],[79,10,79,11],[80,8,80,9],[80,10,80,11],[81,8,81,9],[81,10,81,11]]}
["CARDHOLDER TRANSACTION LOG"]
[]
[null,null,null,null,null,null,null,{"$f":"'FUNDING SHEET'!$K$3","v":"CARDHOLDER NAME:"},null,{"$f":"'FUNDING SHEET'!$L$3","v":0},null,"CARD ACCOUNT NUMBER:",null,"XXXX-XXXX-XXXX-",null,{"$f":"'FUNDING SHEET'!$L$2","v":0},"FISCAL YEAR:",null,{"$f":"'FUNDING SHEET'!$L$1","v":0}]
["Log Number",null,"DATE",null,null,null,null,"PURCHASE DETAIL",null,null,null,null,null,"AMOUNT",null,null,null,null,"Account                     (see below)"]
[]
[null,null,"Date of Order","Date Received",null,"Statement Date",null,"Budget Object Class   (BOC)","VERNDOR           REQ # / CONTACT  (optional)","Item(s) purchased",null,"Vendor",null,"Amount","Paid by Conv. Check","Check Fee Amount (1.7%)","Total to Date"]
[null,null,null,null,null,null,null,null,null,null,null,null,null,"YEAR TO DATE EXPENDITURES",null,null,{"$f":"SUM(JUL!$Q$60:$R$84)+JUL!$Q$7","v":0},null,null,null,null,"ACCOUNT NUMBER"]
[1,null,null,null,null,null,null,{"$f":"IF(T8=$A$60,RIGHT($L$60,5),IF(T8=$A$61,RIGHT($L$61,5),IF(T8=$A$62,RIGHT($L$62,5),IF(T8=$A$63,RIGHT($L$63,5),IF(T8=$A$64,RIGHT($L$64,5),IF(T8=$A$65,RIGHT($L$65,5),IF(T8=$A$66,RIGHT($L$66,5),IF(T8=$A$67,RIGHT($L$67,5),IF(T8=$A$68,RIGHT($L$68,5),IF(T8=$A$69,RIGHT($L$69,5),IF(T8=$A$70,RIGHT($L$70,5),IF(T8=$A$71,RIGHT($L$71,5),IF(T8=$A$72,RIGHT($L$72,5),IF(T8=$A$73,RIGHT($L$73,5),IF(T8=$A$74,RIGHT($L$74,5),IF(T8=$A$75,RIGHT($L$75,5),IF(T8=$A$76,RIGHT($L$76,5),IF(T8=$A$77,RIGHT($L$77,5),IF(T8=$A$78,RIGHT($L$78,5),IF(T8=$A$79,RIGHT($L$79,5),IF(T8=$A$80,RIGHT($L$80,5),IF(T8=$A$81,RIGHT($L$81,5),IF(T8=$A$82,RIGHT($L$82,5),IF(T8=$A$83,RIGHT($L$83,5),IF(T8=$A$84,RIGHT($L$84,5),\"\")))))))))))))))))))))))))","v":""},null,null,null,null,null,null,null,{"$f":"IF(C8=\"\",\"\",IF(O8=\"Y\",N8*0.017,0))","v":""},{"$f":"IF(N8=\"\",\"\",Q7+N8+P8)","v":""},null,null,{"$f":"IF(F8=\"\",\"\",MONTH(F8))","v":""},null,{"$f":"IF('FUNDING SHEET'!A4=\"\",\"\",A60&\"   \"&'FUNDING SHEET'!D4&'FUNDING SHEET'!E4&\"  \"&'FUNDING SHEET'!F4)","v":""}]
[2,null,null,null,null,null,null,{"$f":"IF(T9=$A$60,RIGHT($L$60,5),IF(T9=$A$61,RIGHT($L$61,5),IF(T9=$A$62,RIGHT($L$62,5),IF(T9=$A$63,RIGHT($L$63,5),IF(T9=$A$64,RIGHT($L$64,5),IF(T9=$A$65,RIGHT($L$65,5),IF(T9=$A$66,RIGHT($L$66,5),IF(T9=$A$67,RIGHT($L$67,5),IF(T9=$A$68,RIGHT($L$68,5),IF(T9=$A$69,RIGHT($L$69,5),IF(T9=$A$70,RIGHT($L$70,5),IF(T9=$A$71,RIGHT($L$71,5),IF(T9=$A$72,RIGHT($L$72,5),IF(T9=$A$73,RIGHT($L$73,5),IF(T9=$A$74,RIGHT($L$74,5),IF(T9=$A$75,RIGHT($L$75,5),IF(T9=$A$76,RIGHT($L$76,5),IF(T9=$A$77,RIGHT($L$77,5),IF(T9=$A$78,RIGHT($L$78,5),IF(T9=$A$79,RIGHT($L$79,5),IF(T9=$A$80,RIGHT($L$80,5),IF(T9=$A$81,RIGHT($L$81,5),IF(T9=$A$82,RIGHT($L$82,5),IF(T9=$A$83,RIGHT($L$83,5),IF(T9=$A$84,RIGHT($L$84,5),\"\")))))))))))))))))))))))))","v":""},null,null,null,null,null,null,null,{"$f":"IF(C9=\"\",\"\",IF(O9=\"Y\",N9*0.017,0))","v":""},{"$f":"IF(N9=\"\",\"\",Q8+N9+P9)","v":""},null,null,{"$f":"IF(F9=\"\",\"\",MONTH(F9))","v":""},null,{"$f":"IF('FUNDING SHEET'!A5=\"\",\"\",A61&\"   \"&'FUNDING SHEET'!D5&'FUNDING SHEET'!E5&\"  \"&'FUNDING SHEET'!F5)","v":""}]
[3,null,null,null,null,null,null,"",null,null,null,null,null,null,null,"",{"$f":"IF(N10=\"\",\"\",Q9+N10+P10)","v":""},null,null,"",null,{"$f":"IF('FUNDING SHEET'!A6=\"\",\"\",A62&\"  \"&'FUNDING SHEET'!D6&\" \"&'FUNDING SHEET'!E6&\"  \"&'FUNDING SHEET'!F6)","v":""}]
[4,null,null,null,null,null,null,"",null,null,null,null,null,null,null,"","",null,null,"",null,{"$f":"IF('FUNDING SHEET'!A7=\"\",\"\",A63&\"  \"&'FUNDING SHEET'!D7&\" \"&'FUNDING SHEET'!E7&\"  \"&'FUNDING SHEET'!F7)","v":""}]
[5,null,null,null,null,null,null,"",null,null,null,null,null,null,null,"","",null,null,"",null,{"$f":"IF('FUNDING SHEET'!A8=\"\",\"\",A64&\"  \"&'FUNDING SHEET'!D8&\" \"&'FUNDING SHEET'!E8&\"  \"&'FUNDING SHEET'!F8)","v":""}]
[6,null,null,null,null,null,null,"",null,null,null,null,null,null,null,"","",null,null,"",null,{"$f":"IF('FUNDING SHEET'!A9=\"\",\"\",A65&\"  \"&'FUNDING SHEET'!D9&\" \"&'FUNDING SHEET'!E9&\"  \"&'FUNDING SHEET'!F9)","v":""}]
[7,null,null,null,null,null,null,"",null,null,null,null,null,null,null,"","",null,null,"",null,{"$f":"IF('FUNDING SHEET'!A10=\"\",\"\",A66&\"  \"&'FUNDING SHEET'!D10&\" \"&'FUNDING SHEET'!E10&\"  \"&'FUNDING SHEET'!F10)","v":""}]
[8,null,null,null,null,null,null,"",null,null,null,null,null,null,null,"","",null,null,"",null,{"$f":"IF('FUNDING SHEET'!A11=\"\",\"\",A67&\"  \"&'FUNDING SHEET'!D11&\" \"&'FUNDING SHEET'!E11&\"  \"&'FUNDING SHEET'!F11)","v":""}]
[9,null,null,null,null,null,null,"",null,null,null,null,null,null,null,"","",null,null,"",null,{"$f":"IF('FUNDING SHEET'!A12=\"\",\"\",A68&\"  \"&'FUNDING SHEET'!D12&\" \"&'FUNDING SHEET'!E12&\"  \"&'FUNDING SHEET'!F12)","v":""}]
[10,null,null,null,null,null,null,"",null,null,null,null,null,null,null,"","",null,null,"",null,{"$f":"IF('FUNDING SHEET'!A13=\"\",\"\",A69&\"  \"&'FUNDING SHEET'!D13&\" \"&'FUNDING SHEET'!E13&\"  \"&'FUNDING SHEET'!F13)","v":""}]
[11,null,null,null,null,null,null,"",null,null,null,null,null,null,null,"","",null,null,"",null,{"$f":"IF('FUNDING SHEET'!A14=\"\",\"\",A70&\"  \"&'FUNDING SHEET'!D14&\" \"&'FUNDING SHEET'!E14&\"  \"&'FUNDING SHEET'!F14)","v":""}]
[12,null,null,null,null,null,null,"",null,null,null,null,null,null,null,"","",null,null,"",null,{"$f":"IF('FUNDING SHEET'!A15=\"\",\"\",A71&\"  \"&'FUNDING SHEET'!D15&\" \"&'FUNDING SHEET'!E15&\"  \"&'FUNDING SHEET'!F15)","v":""}]
[13,null,null,null,null,null,null,"",null,null,null,null,null,null,null,"","",null,null,"",null,{"$f":"IF('FUNDING SHEET'!A16=\"\",\"\",A72&\"  \"&'FUNDING SHEET'!D16&\" \"&'FUNDING SHEET'!E16&\"  \"&'FUNDING SHEET'!F16)","v":""}]
[14,null,null,null,null,null,null,"",null,null,null,null,null,null,null,"","",null,null,"",null,{"$f":"IF('FUNDING SHEET'!A17=\"\",\"\",A73&\"  \"&'FUNDING SHEET'!D17&\" \"&'FUNDING SHEET'!E17&\"  \"&'FUNDING SHEET'!F17)","v":""}]
[15,null,null,null,null,null,null,"",null,null,null,null,null,null,null,"","",null,null,"",null,{"$f":"IF('FUNDING SHEET'!A18=\"\",\"\",A74&\"  \"&'FUNDING SHEET'!D18&\" \"&'FUNDING SHEET'!E18&\"  \"&'FUNDING SHEET'!F18)","v":""}]
[16,null,null,null,null,null,null,"",null,null,null,null,null,null,null,"","",null,null,"",null,{"$f":"IF('FUNDING SHEET'!A19=\"\",\"\",A75&\"  \"&'FUNDING SHEET'!D19&\" \"&'FUNDING SHEET'!E19&\"  \"&'FUNDING SHEET'!F19)","v":""}]
[17,null,null,null,null,null,null,"",null,null,null,null,null,null,null,"","",null,null,"",null,{"$f":"IF('FUNDING SHEET'!A20=\"\",\"\",A76&\"  \"&'FUNDING SHEET'!D20&\" \"&'FUNDING SHEET'!E20&\"  \"&'FUNDING SHEET'!F20)","v":""}]
[18,null,null,null,null,null,null,"",null,null,null,null,null,null,null,"","",null,null,"",null,{"$f":"IF('FUNDING SHEET'!A21=\"\",\"\",A77&\"  \"&'FUNDING SHEET'!D21&\" \"&'FUNDING SHEET'!E21&\"  \"&'FUNDING SHEET'!F21)","v":""}]
[19,null,null,null,null,null,null,"",null,null,null,null,null,null,null,"","",null,null,"",null,{"$f":"IF('FUNDING SHEET'!A22=\"\",\"\",A78&\"  \"&'FUNDING SHEET'!D22&\" \"&'FUNDING SHEET'!E22&\"  \"&'FUNDING SHEET'!F22)","v":""}]
[20,null,null,null,null,null,null,"",null,null,null,null,null,null,null,"","",null,null,"",null,{"$f":"IF('FUNDING SHEET'!A23=\"\",\"\",A79&\"  \"&'FUNDING SHEET'!D23&\" \"&'FUNDING SHEET'!E23&\"  \"&'FUNDING SHEET'!F23)","v":""}]
[21,null,null,null,null,null,null,"",null,null,null,null,null,null,null,"","",null,null,"",null,{"$f":"IF('FUNDING SHEET'!A24=\"\",\"\",A80&\"  \"&'FUNDING SHEET'!D24&\" \"&'FUNDING SHEET'!E24&\"  \"&'FUNDING SHEET'!F24)","v":""}]
[22,null,null,null,null,null,null,"",null,null,null,null,null,null,null,"","",null,null,"",null,{"$f":"IF('FUNDING SHEET'!A25=\"\",\"\",A81&\"  \"&'FUNDING SHEET'!D25&\" \"&'FUNDING SHEET'!E25&\"  \"&'FUNDING SHEET'!F25)","v":""}]
[23,null,null,null,null,null,null,"",null,null,null,null,null,null,null,"","",null,null,"",null,{"$f":"IF('FUNDING SHEET'!A26=\"\",\"\",A82&\"  \"&'FUNDING SHEET'!D26&\" \"&'FUNDING SHEET'!E26&\"  \"&'FUNDING SHEET'!F26)","v":""}]
[24,null,null,null,null,null,null,"",null,null,null,null,null,null,null,"","",null,null,"",null,{"$f":"IF('FUNDING SHEET'!A27=\"\",\"\",A83&\"  \"&'FUNDING SHEET'!D27&\" \"&'FUNDING SHEET'!E27&\"  \"&'FUNDING SHEET'!F27)","v":""}]
[25,null,null,null,null,null,null,"",null,null,null,null,null,null,null,"","",null,null,"",null,{"$f":"IF('FUNDING SHEET'!A28=\"\",\"\",A84&\"  \"&'FUNDING SHEET'!D28&\" \"&'FUNDING SHEET'!E28&\"  \"&'FUNDING SHEET'!F28)","v":""}]
[26,null,null,null,null,null,null,"",null,null,null,null,null,null,null,"","",null,null,""]
[27,null,null,null,null,null,null,"",null,null,null,null,null,null,null,"","",null,null,""]
[28,null,null,null,null,null,null,"",null,null,null,null,null,null,null,"","",null,null,""]
[29,null,null,null,null,null,null,"",null,null,null,null,null,null,null,"","",null,null,""]
[30,null,null,null,null,null,null,"",null,null,null,null,null,null,null,"","",null,null,""]
[31,null,null,null,null,null,null,"",null,null,null,null,null,null,null,"","",null,null,""]
[32,null,null,null,null,null,null,"",null,null,null,null,null,null,null,"","",null,null,""]
[33,null,null,null,null,null,null,"",null,null,null,null,null,null,null,"","",null,null,""]
[34,null,null,null,null,null,null,"",null,null,null,null,null,null,null,"","",null,null,""]
[35,null,null,null,null,null,null,"",null,null,null,null,null,null,null,"","",null,null,""]
[36,null,null,null,null,null,null,"",null,null,null,null,null,null,null,"","",null,null,""]
[37,null,null,null,null,null,null,"",null,null,null,null,null,null,null,"","",null,null,""]
[38,null,null,null,null,null,null,"",null,null,null,null,null,null,null,"","",null,null,""]
[39,null,null,null,null,null,null,"",null,null,null,null,null,null,null,"","",null,null,""]
[40,null,null,null,null,null,null,"",null,null,null,null,null,null,null,"","",null,null,""]
[41,null,null,null,null,null,null,"",null,null,null,null,null,null,null,"","",null,null,""]
[42,null,null,null,null,null,null,"",null,null,null,null,null,null,null,"","",null,null,""]
[43,null,null,null,null,null,null,"",null,null,null,null,null,null,null,"","",null,null,""]
[44,null,null,null,null,null,null,"",null,null,null,null,null,null,null,"","",null,null,""]
[45,null,null,null,null,null,null,"",null,null,null,null,null,null,null,"","",null,null,""]
[46,null,null,null,null,null,null,"",null,null,null,null,null,null,null,"","",null,null,""]
[47,null,null,null,null,null,null,"",null,null,null,null,null,null,null,"","",null,null,""]
[48,null,null,null,null,null,null,"",null,null,null,null,null,null,null,"","",null,null,""]
[49,null,null,null,null,null,null,"",null,null,null,null,null,null,null,"","",null,null,""]
[50,null,null,null,null,null,null,"",null,null,null,null,null,null,null,"","",null,null,""]
["ACCOUNT INFORMATION"]
["Line #",null,"Date",null,"PR #","PROJECT",null,null,"LINE ITEM NOMENCLATURE",null,"ACCOUNT NUMBER (WITH BOC)",null,null,"PR Funding","Previous Expenditures",null,"Current Expenditures",null,"Remaining Funds"]
[1,null,{"$f":"IF('FUNDING SHEET'!A4=\"\",\"\",'FUNDING SHEET'!A4)","v":""},null,{"$f":"IF('FUNDING SHEET'!B4=\"\",\"\",'FUNDING SHEET'!B4)","v":""},null,null,null,{"$f":"IF('FUNDING SHEET'!C4=\"\",\"\",'FUNDING SHEET'!C4)","v":""},null,{"$f":"'FUNDING SHEET'!J4","v":"    "},null,null,{"$f":"SUMIF('FUNDING SHEET'!$J$4:$J$28,K60,'FUNDING SHEET'!$I$4:$I$28)+SUMIF('FUNDING SHEET'!$J$30:$J$229,K60,'FUNDING SHEET'!$H$30:$H$229)","v":0},{"$f":"SUM(JUL!O60:R60)","v":0},null,{"$f":"SUMIF($S$8:$S$57,A60,$N$8:$N$57)+SUMIF($S$8:$S$57,A60,$P$8:$P$57)","v":0},null,{"$f":"N60-O60-Q60","v":0}]
[2,null,{"$f":"IF('FUNDING SHEET'!A5=\"\",\"\",'FUNDING SHEET'!A5)","v":""},null,{"$f":"IF('FUNDING SHEET'!B5=\"\",\"\",'FUNDING SHEET'!B5)","v":""},null,null,null,{"$f":"IF('FUNDING SHEET'!C5=\"\",\"\",'FUNDING SHEET'!C5)","v":""},null,{"$f":"'FUNDING SHEET'!J5","v":"    "},null,null,{"$f":"SUMIF('FUNDING SHEET'!$J$4:$J$28,K61,'FUNDING SHEET'!$I$4:$I$28)+SUMIF('FUNDING SHEET'!$J$30:$J$229,K61,'FUNDING SHEET'!$H$30:$H$229)","v":0},{"$f":"SUM(JUL!O61:R61)","v":0},null,0,null,0]
[3,null,{"$f":"IF('FUNDING SHEET'!A6=\"\",\"\",'FUNDING SHEET'!A6)","v":""},null,{"$f":"IF('FUNDING SHEET'!B6=\"\",\"\",'FUNDING SHEET'!B6)","v":""},null,null,null,{"$f":"IF('FUNDING SHEET'!C6=\"\",\"\",'FUNDING SHEET'!C6)","v":""},null,{"$f":"'FUNDING SHEET'!J6","v":"    "},null,null,{"$f":"SUMIF('FUNDING SHEET'!$J$4:$J$28,K62,'FUNDING SHEET'!$I$4:$I$28)+SUMIF('FUNDING SHEET'!$J$30:$J$229,K62,'FUNDING SHEET'!$H$30:$H$229)","v":0},{"$f":"SUM(JUL!O62:R62)","v":0},null,0,null,0]
[4,null,{"$f":"IF('FUNDING SHEET'!A7=\"\",\"\",'FUNDING SHEET'!A7)","v":""},null,{"$f":"IF('FUNDING SHEET'!B7=\"\",\"\",'FUNDING SHEET'!B7)","v":""},null,null,null,{"$f":"IF('FUNDING SHEET'!C7=\"\",\"\",'FUNDING SHEET'!C7)","v":""},null,{"$f":"'FUNDING SHEET'!J7","v":"    "},null,null,{"$f":"SUMIF('FUNDING SHEET'!$J$4:$J$28,K63,'FUNDING SHEET'!$I$4:$I$28)+SUMIF('FUNDING SHEET'!$J$30:$J$229,K63,'FUNDING SHEET'!$H$30:$H$229)","v":0},{"$f":"SUM(JUL!O63:R63)","v":0},null,0,null,0]
[5,null,{"$f":"IF('FUNDING SHEET'!A8=\"\",\"\",'FUNDING SHEET'!A8)","v":""},null,{"$f":"IF('FUNDING SHEET'!B8=\"\",\"\",'FUNDING SHEET'!B8)","v":""},null,null,null,{"$f":"IF('FUNDING SHEET'!C8=\"\",\"\",'FUNDING SHEET'!C8)","v":""},null,{"$f":"'FUNDING SHEET'!J8","v":"    "},null,null,{"$f":"SUMIF('FUNDING SHEET'!$J$4:$J$28,K64,'FUNDING SHEET'!$I$4:$I$28)+SUMIF('FUNDING SHEET'!$J$30:$J$229,K64,'FUNDING SHEET'!$H$30:$H$229)","v":0},{"$f":"SUM(JUL!O64:R64)","v":0},null,0,null,0]
[6,null,{"$f":"IF('FUNDING SHEET'!A9=\"\",\"\",'FUNDING SHEET'!A9)","v":""},null,{"$f":"IF('FUNDING SHEET'!B9=\"\",\"\",'FUNDING SHEET'!B9)","v":""},null,null,null,{"$f":"IF('FUNDING SHEET'!C9=\"\",\"\",'FUNDING SHEET'!C9)","v":""},null,{"$f":"'FUNDING SHEET'!J9","v":"    "},null,null,{"$f":"SUMIF('FUNDING SHEET'!$J$4:$J$28,K65,'FUNDING SHEET'!$I$4:$I$28)+SUMIF('FUNDING SHEET'!$J$30:$J$229,K65,'FUNDING SHEET'!$H$30:$H$229)","v":0},{"$f":"SUM(JUL!O65:R65)","v":0},null,0,null,0]
[7,null,{"$f":"IF('FUNDING SHEET'!A10=\"\",\"\",'FUNDING SHEET'!A10)","v":""},null,{"$f":"IF('FUNDING SHEET'!B10=\"\",\"\",'FUNDING SHEET'!B10)","v":""},null,null,null,{"$f":"IF('FUNDING SHEET'!C10=\"\",\"\",'FUNDING SHEET'!C10)","v":""},null,{"$f":"'FUNDING SHEET'!J10","v":"    "},null,null,{"$f":"SUMIF('FUNDING SHEET'!$J$4:$J$28,K66,'FUNDING SHEET'!$I$4:$I$28)+SUMIF('FUNDING SHEET'!$J$30:$J$229,K66,'FUNDING SHEET'!$H$30:$H$229)","v":0},{"$f":"SUM(JUL!O66:R66)","v":0},null,0,null,0]
[8,null,{"$f":"IF('FUNDING SHEET'!A11=\"\",\"\",'FUNDING SHEET'!A11)","v":""},null,{"$f":"IF('FUNDING SHEET'!B11=\"\",\"\",'FUNDING SHEET'!B11)","v":""},null,null,null,{"$f":"IF('FUNDING SHEET'!C11=\"\",\"\",'FUNDING SHEET'!C11)","v":""},null,{"$f":"'FUNDING SHEET'!J11","v":"    "},null,null,{"$f":"SUMIF('FUNDING SHEET'!$J$4:$J$28,K67,'FUNDING SHEET'!$I$4:$I$28)+SUMIF('FUNDING SHEET'!$J$30:$J$229,K67,'FUNDING SHEET'!$H$30:$H$229)","v":0},{"$f":"SUM(JUL!O67:R67)","v":0},null,0,null,0]
[9,null,{"$f":"IF('FUNDING SHEET'!A12=\"\",\"\",'FUNDING SHEET'!A12)","v":""},null,{"$f":"IF('FUNDING SHEET'!B12=\"\",\"\",'FUNDING SHEET'!B12)","v":""},null,null,null,{"$f":"IF('FUNDING SHEET'!C12=\"\",\"\",'FUNDING SHEET'!C12)","v":""},null,{"$f":"'FUNDING SHEET'!J12","v":"    "},null,null,{"$f":"SUMIF('FUNDING SHEET'!$J$4:$J$28,K68,'FUNDING SHEET'!$I$4:$I$28)+SUMIF('FUNDING SHEET'!$J$30:$J$229,K68,'FUNDING SHEET'!$H$30:$H$229)","v":0},{"$f":"SUM(JUL!O68:R68)","v":0},null,0,null,0]
[10,null,{"$f":"IF('FUNDING SHEET'!A13=\"\",\"\",'FUNDING SHEET'!A13)","v":""},null,{"$f":"IF('FUNDING SHEET'!B13=\"\",\"\",'FUNDING SHEET'!B13)","v":""},null,null,null,{"$f":"IF('FUNDING SHEET'!C13=\"\",\"\",'FUNDING SHEET'!C13)","v":""},null,{"$f":"'FUNDING SHEET'!J13","v":"    "},null,null,{"$f":"SUMIF('FUNDING SHEET'!$J$4:$J$28,K69,'FUNDING SHEET'!$I$4:$I$28)+SUMIF('FUNDING SHEET'!$J$30:$J$229,K69,'FUNDING SHEET'!$H$30:$H$229)","v":0},{"$f":"SUM(JUL!O69:R69)","v":0},null,0,null,0]
[11,null,{"$f":"IF('FUNDING SHEET'!A14=\"\",\"\",'FUNDING SHEET'!A14)","v":""},null,{"$f":"IF('FUNDING SHEET'!B14=\"\",\"\",'FUNDING SHEET'!B14)","v":""},null,null,null,{"$f":"IF('FUNDING SHEET'!C14=\"\",\"\",'FUNDING SHEET'!C14)","v":""},null,{"$f":"'FUNDING SHEET'!J14","v":"    "},null,null,{"$f":"SUMIF('FUNDING SHEET'!$J$4:$J$28,K70,'FUNDING SHEET'!$I$4:$I$28)+SUMIF('FUNDING SHEET'!$J$30:$J$229,K70,'FUNDING SHEET'!$H$30:$H$229)","v":0},{"$f":"SUM(JUL!O70:R70)","v":0},null,0,null,0]
[12,null,{"$f":"IF('FUNDING SHEET'!A15=\"\",\"\",'FUNDING SHEET'!A15)","v":""},null,{"$f":"IF('FUNDING SHEET'!B15=\"\",\"\",'FUNDING SHEET'!B15)","v":""},null,null,null,{"$f":"IF('FUNDING SHEET'!C15=\"\",\"\",'FUNDING SHEET'!C15)","v":""},null,{"$f":"'FUNDING SHEET'!J15","v":"    "},null,null,{"$f":"SUMIF('FUNDING SHEET'!$J$4:$J$28,K71,'FUNDING SHEET'!$I$4:$I$28)+SUMIF('FUNDING SHEET'!$J$30:$J$229,K71,'FUNDING SHEET'!$H$30:$H$229)","v":0},{"$f":"SUM(JUL!O71:R71)","v":0},null,0,null,0]
[13,null,{"$f":"IF('FUNDING SHEET'!A16=\"\",\"\",'FUNDING SHEET'!A16)","v":""},null,{"$f":"IF('FUNDING SHEET'!B16=\"\",\"\",'FUNDING SHEET'!B16)","v":""},null,null,null,{"$f":"IF('FUNDING SHEET'!C16=\"\",\"\",'FUNDING SHEET'!C16)","v":""},null,{"$f":"'FUNDING SHEET'!J16","v":"    "},null,null,{"$f":"SUMIF('FUNDING SHEET'!$J$4:$J$28,K72,'FUNDING SHEET'!$I$4:$I$28)+SUMIF('FUNDING SHEET'!$J$30:$J$229,K72,'FUNDING SHEET'!$H$30:$H$229)","v":0},{"$f":"SUM(JUL!O72:R72)","v":0},null,0,null,0]
[14,null,{"$f":"IF('FUNDING SHEET'!A17=\"\",\"\",'FUNDING SHEET'!A17)","v":""},null,{"$f":"IF('FUNDING SHEET'!B17=\"\",\"\",'FUNDING SHEET'!B17)","v":""},null,null,null,{"$f":"IF('FUNDING SHEET'!C17=\"\",\"\",'FUNDING SHEET'!C17)","v":""},null,{"$f":"'FUNDING SHEET'!J17","v":"    "},null,null,{"$f":"SUMIF('FUNDING SHEET'!$J$4:$J$28,K73,'FUNDING SHEET'!$I$4:$I$28)+SUMIF('FUNDING SHEET'!$J$30:$J$229,K73,'FUNDING SHEET'!$H$30:$H$229)","v":0},{"$f":"SUM(JUL!O73:R73)","v":0},null,0,null,0]
[15,null,{"$f":"IF('FUNDING SHEET'!A18=\"\",\"\",'FUNDING SHEET'!A18)","v":""},null,{"$f":"IF('FUNDING SHEET'!B18=\"\",\"\",'FUNDING SHEET'!B18)","v":""},null,null,null,{"$f":"IF('FUNDING SHEET'!C18=\"\",\"\",'FUNDING SHEET'!C18)","v":""},null,{"$f":"'FUNDING SHEET'!J18","v":"    "},null,null,{"$f":"SUMIF('FUNDING SHEET'!$J$4:$J$28,K74,'FUNDING SHEET'!$I$4:$I$28)+SUMIF('FUNDING SHEET'!$J$30:$J$229,K74,'FUNDING SHEET'!$H$30:$H$229)","v":0},{"$f":"SUM(JUL!O74:R74)","v":0},null,0,null,0]
[16,null,{"$f":"IF('FUNDING SHEET'!A19=\"\",\"\",'FUNDING SHEET'!A19)","v":""},null,{"$f":"IF('FUNDING SHEET'!B19=\"\",\"\",'FUNDING SHEET'!B19)","v":""},null,null,null,{"$f":"IF('FUNDING SHEET'!C19=\"\",\"\",'FUNDING SHEET'!C19)","v":""},null,{"$f":"'FUNDING SHEET'!J19","v":"    "},null,null,{"$f":"SUMIF('FUNDING SHEET'!$J$4:$J$28,K75,'FUNDING SHEET'!$I$4:$I$28)+SUMIF('FUNDING SHEET'!$J$30:$J$229,K75,'FUNDING SHEET'!$H$30:$H$229)","v":0},{"$f":"SUM(JUL!O75:R75)","v":0},null,0,null,0]
[17,null,{"$f":"IF('FUNDING SHEET'!A20=\"\",\"\",'FUNDING SHEET'!A20)","v":""},null,{"$f":"IF('FUNDING SHEET'!B20=\"\",\"\",'FUNDING SHEET'!B20)","v":""},null,null,null,{"$f":"IF('FUNDING SHEET'!C20=\"\",\"\",'FUNDING SHEET'!C20)","v":""},null,{"$f":"'FUNDING SHEET'!J20","v":"    "},null,null,{"$f":"SUMIF('FUNDING SHEET'!$J$4:$J$28,K76,'FUNDING SHEET'!$I$4:$I$28)+SUMIF('FUNDING SHEET'!$J$30:$J$229,K76,'FUNDING SHEET'!$H$30:$H$229)","v":0},{"$f":"SUM(JUL!O76:R76)","v":0},null,0,null,0]
[18,null,{"$f":"IF('FUNDING SHEET'!A21=\"\",\"\",'FUNDING SHEET'!A21)","v":""},null,{"$f":"IF('FUNDING SHEET'!B21=\"\",\"\",'FUNDING SHEET'!B21)","v":""},null,null,null,{"$f":"IF('FUNDING SHEET'!C21=\"\",\"\",'FUNDING SHEET'!C21)","v":""},null,{"$f":"'FUNDING SHEET'!J21","v":"    "},null,null,{"$f":"SUMIF('FUNDING SHEET'!$J$4:$J$28,K77,'FUNDING SHEET'!$I$4:$I$28)+SUMIF('FUNDING SHEET'!$J$30:$J$229,K77,'FUNDING SHEET'!$H$30:$H$229)","v":0},{"$f":"SUM(JUL!O77:R77)","v":0},null,0,null,0]
[19,null,{"$f":"IF('FUNDING SHEET'!A22=\"\",\"\",'FUNDING SHEET'!A22)","v":""},null,{"$f":"IF('FUNDING SHEET'!B22=\"\",\"\",'FUNDING SHEET'!B22)","v":""},null,null,null,{"$f":"IF('FUNDING SHEET'!C22=\"\",\"\",'FUNDING SHEET'!C22)","v":""},null,{"$f":"'FUNDING SHEET'!J22","v":"    "},null,null,{"$f":"SUMIF('FUNDING SHEET'!$J$4:$J$28,K78,'FUNDING SHEET'!$I$4:$I$28)+SUMIF('FUNDING SHEET'!$J$30:$J$229,K78,'FUNDING SHEET'!$H$30:$H$229)","v":0},{"$f":"SUM(JUL!O78:R78)","v":0},null,0,null,0]
[20,null,{"$f":"IF('FUNDING SHEET'!A23=\"\",\"\",'FUNDING SHEET'!A23)","v":""},null,{"$f":"IF('FUNDING SHEET'!B23=\"\",\"\",'FUNDING SHEET'!B23)","v":""},null,null,null,{"$f":"IF('FUNDING SHEET'!C23=\"\",\"\",'FUNDING SHEET'!C23)","v":""},null,{"$f":"'FUNDING SHEET'!J23","v":"    "},null,null,{"$f":"SUMIF('FUNDING SHEET'!$J$4:$J$28,K79,'FUNDING SHEET'!$I$4:$I$28)+SUMIF('FUNDING SHEET'!$J$30:$J$229,K79,'FUNDING SHEET'!$H$30:$H$229)","v":0},{"$f":"SUM(JUL!O79:R79)","v":0},null,0,null,0]
[21,null,{"$f":"IF('FUNDING SHEET'!A24=\"\",\"\",'FUNDING SHEET'!A24)","v":""},null,{"$f":"IF('FUNDING SHEET'!B24=\"\",\"\",'FUNDING SHEET'!B24)","v":""},null,null,null,{"$f":"IF('FUNDING SHEET'!C24=\"\",\"\",'FUNDING SHEET'!C24)","v":""},null,{"$f":"'FUNDING SHEET'!J24","v":"    "},null,null,{"$f":"SUMIF('FUNDING SHEET'!$J$4:$J$28,K80,'FUNDING SHEET'!$I$4:$I$28)+SUMIF('FUNDING SHEET'!$J$30:$J$229,K80,'FUNDING SHEET'!$H$30:$H$229)","v":0},{"$f":"SUM(JUL!O80:R80)","v":0},null,0,null,0]
[22,null,{"$f":"IF('FUNDING SHEET'!A25=\"\",\"\",'FUNDING SHEET'!A25)","v":""},null,{"$f":"IF('FUNDING SHEET'!B25=\"\",\"\",'FUNDING SHEET'!B25)","v":""},null,null,null,{"$f":"IF('FUNDING SHEET'!C25=\"\",\"\",'FUNDING SHEET'!C25)","v":""},null,{"$f":"'FUNDING SHEET'!J25","v":"    "},null,null,{"$f":"SUMIF('FUNDING SHEET'!$J$4:$J$28,K81,'FUNDING SHEET'!$I$4:$I$28)+SUMIF('FUNDING SHEET'!$J$30:$J$229,K81,'FUNDING SHEET'!$H$30:$H$229)","v":0},{"$f":"SUM(JUL!O81:R81)","v":0},null,0,null,0]
[23,null,{"$f":"IF('FUNDING SHEET'!A26=\"\",\"\",'FUNDING SHEET'!A26)","v":""},null,{"$f":"IF('FUNDING SHEET'!B26=\"\",\"\",'FUNDING SHEET'!B26)","v":""},null,null,null,{"$f":"IF('FUNDING SHEET'!C26=\"\",\"\",'FUNDING SHEET'!C26)","v":""},null,{"$f":"'FUNDING SHEET'!J26","v":"    "},null,null,{"$f":"SUMIF('FUNDING SHEET'!$J$4:$J$28,K82,'FUNDING SHEET'!$I$4:$I$28)+SUMIF('FUNDING SHEET'!$J$30:$J$229,K82,'FUNDING SHEET'!$H$30:$H$229)","v":0},{"$f":"SUM(JUL!O82:R82)","v":0},null,0,null,0]
[24,null,{"$f":"IF('FUNDING SHEET'!A27=\"\",\"\",'FUNDING SHEET'!A27)","v":""},null,{"$f":"IF('FUNDING SHEET'!B27=\"\",\"\",'FUNDING SHEET'!B27)","v":""},null,null,null,{"$f":"IF('FUNDING SHEET'!C27=\"\",\"\",'FUNDING SHEET'!C27)","v":""},null,{"$f":"'FUNDING SHEET'!J27","v":"    "},null,null,{"$f":"SUMIF('FUNDING SHEET'!$J$4:$J$28,K83,'FUNDING SHEET'!$I$4:$I$28)+SUMIF('FUNDING SHEET'!$J$30:$J$229,K83,'FUNDING SHEET'!$H$30:$H$229)","v":0},{"$f":"SUM(JUL!O83:R83)","v":0},null,0,null,0]
[25,null,{"$f":"IF('FUNDING SHEET'!A28=\"\",\"\",'FUNDING SHEET'!A28)","v":""},null,{"$f":"IF('FUNDING SHEET'!B28=\"\",\"\",'FUNDING SHEET'!B28)","v":""},null,null,null,{"$f":"IF('FUNDING SHEET'!C28=\"\",\"\",'FUNDING SHEET'!C28)","v":""},null,{"$f":"'FUNDING SHEET'!J28","v":"    "},null,null,{"$f":"SUMIF('FUNDING SHEET'!$J$4:$J$28,K84,'FUNDING SHEET'!$I$4:$I$28)+SUMIF('FUNDING SHEET'!$J$30:$J$229,K84,'FUNDING SHEET'!$H$30:$H$229)","v":0},{"$f":"SUM(JUL!O84:R84)","v":0},null,0,null,0]
[null,null,null,null,null,null,null,null,null,null,null,"TOTALS:",null,{"$f":"SUM(N60:N84)","v":0},{"$f":"SUM(O60:O84)","v":0},null,{"$f":"SUM(Q60:Q84)","v":0},null,{"$f":"SUM(S60:S84)","v":0}]

{"sheet":"SEP","index":14,"n_rows":85,"n_cols":22,"rows_kept":85,"cut":false,"hidden":false,"merged":[[32,3,32,4],[33,3,33,4],[34,3,34,4],[35,3,35,4],[23,3,23,4],[24,3,24,4],[25,3,25,4],[26,3,26,4],[27,3,27,4],[28,3,28,4],[29,3,29,4],[30,3,30,4],[31,3,31,4],[80,5,80,7],[81,5,81,7],[84,14,84,15],[82,14,82,15],[82,16,82,17],[83,14,83,15],[83,16,83,17],[82,5,82,7],[83,5,83,7],[80,14,80,15],[80,16,80,17],[81,14,81,15],[81,16,81,17],[82,8,82,9],[82,10,82,11],[83,8,83,9],[83,10,83,11],[79,16,79,17],[72,5,72,7],[73,5,73,7],[76,14,76,15],[76,16,76,17],[77,14,77,15],[77,16,77,17],[74,14,74,15],[74,16,74,17],[75,14,75,15],[75,16,75,17],[74,5,74,7],[75,5,75,7],[76,5,76,7],[77,5,77,7],[72,14,72,15],[72,16,72,17],[73,14,73,15],[78,5,78,7],[79,5,79,7],[78,14,78,15],[78,16,78,17],[79,14,79,15],[73,16,73,17],[69,5,69,7],[70,5,70,7],[71,5,71,7],[66,8,66,9],[66,10,66,11],[70,14,70,15],[70,16,70,17],[71,14,71,15],[71,16,71,17],[69,14,69,15],[69,16,69,17],[69,8,69,9],[69,10,69,11],[70,8,70,9],[70,10,70,11],[71,8,71,9],[71,10,71,11],[64,5,64,7],[67,14,67,15],[66,14,66,15],[66,16,66,17],[67,16,67,17],[68,14,68,15],[68,16,68,17],[65,14,65,15],[65,16,65,17],[64,14,64,15],[64,16,64,17],[65,5,65,7],[66,5,66,7],[67,5,67,7],[68,5,68,7],[67,8,67,9],[67,10,67,11],[68,8,68,9],[68,10,68,11],[60,14,60,15],[63,14,63,15],[60,16,60,17],[55,3,55,4],[56,3,56,4],[57,0,57,18],[58,14,58,15],[58,16,58,17],[59,14,59,15],[59,16,59,17],[58,5,58,7],[59,5,59,7],[60,5,60,7],[61,5,61,7],[62,5,62,7],[63,5,63,7],[61,14,61,15],[61,16,61,17],[62,14,62,15],[62,16,62,17],[63,16,63,17],[60,8,60,9],[60,10,60,11],[61,8,61,9],[54,3,54,4],[43,3,43,4],[44,3,44,4],[45,3,45,4],[46,3,46,4],[47,3,47,4],[48,3,48,4],[49,3,49,4],[50,3,50,4],[51,3,51,4],[52,3,52,4],[53,3,53,4],[42,3,42,4],[6,13,6,15],[7,3,7,4],[8,3,8,4],[9,3,9,4],[10,3,10,4],[36,3,36,4],[37,3,37,4],[38,3,38,4],[39,3,39,4],[40,3,40,4],[41,3,41,4],[11,3,11,4],[12,3,12,4],[13,3,13,4],[14,3,14,4],[15,3,15,4],[16,3,16,4],[17,3,17,4],[18,3,18,4],[19,3,19,4],[20,3,20,4],[21,3,21,4],[22,3,22,4],[3,0,5,0],[3,2,4,5],[3,7,4,11],[3,13,4,16],[3,18,5,18],[5,3,5,4],[0,0,1,18],[2,0,2,5],[2,11,2,12],[2,13,2,14],[2,16,2,17],[2,7,2,8],[2,9,2,10],[5,9,5,10],[7,9,7,10],[8,9,8,10],[9,9,9,10],[10,9,10,10],[11,9,11,10],[12,9,12,10],[13,9,13,10],[14,9,14,10],[15,9,15,10],[16,9,16,10],[17,9,17,10],[18,9,18,10],[19,9,19,10],[20,9,20,10],[21,9,21,10],[22,9,22,10],[23,9,23,10],[24,9,24,10],[25,9,25,10],[26,9,26,10],[27,9,27,10],[28,9,28,10],[29,9,29,10],[30,9,30,10],[31,9,31,10],[32,9,32,10],[33,9,33,10],[34,9,34,10],[35,9,35,10],[36,9,36,10],[37,9,37,10],[38,9,38,10],[39,9,39,10],[40,9,40,10],[41,9,41,10],[42,9,42,10],[43,9,43,10],[44,9,44,10],[45,9,45,10],[46,9,46,10],[47,9,47,10],[48,9,48,10],[49,9,49,10],[50,9,50,10],[51,9,51,10],[52,9,52,10],[53,9,53,10],[54,9,54,10],[55,9,55,10],[56,9,56,10],[58,8,58,9],[58,10,58,11],[59,8,59,9],[59,10,59,11],[61,10,61,11],[62,8,62,9],[62,10,62,11],[63,8,63,9],[63,10,63,11],[64,8,64,9],[64,10,64,11],[65,8,65,9],[65,10,65,11],[74,8,74,9],[74,10,74,11],[75,8,75,9],[75,10,75,11],[76,8,76,9],[76,10,76,11],[72,8,72,9],[72,10,72,11],[73,8,73,9],[73,10,73,11],[77,8,77,9],[77,10,77,11],[78,8,78,9],[78,10,78,11],[79,8,79,9],[79,10,79,11],[80,8,80,9],[80,10,80,11],[81,8,81,9],[81,10,81,11]]}
["CARDHOLDER TRANSACTION LOG"]
[]
[null,null,null,null,null,null,null,{"$f":"'FUNDING SHEET'!$K$3","v":"CARDHOLDER NAME:"},null,{"$f":"'FUNDING SHEET'!$L$3","v":0},null,"CARD ACCOUNT NUMBER:",null,"XXXX-XXXX-XXXX-",null,{"$f":"'FUNDING SHEET'!$L$2","v":0},"FISCAL YEAR:",null,{"$f":"'FUNDING SHEET'!$L$1","v":0}]
["Log Number",null,"DATE",null,null,null,null,"PURCHASE DETAIL",null,null,null,null,null,"AMOUNT",null,null,null,null,"Account                     (see below)"]
[]
[null,null,"Date of Order","Date Received",null,"Statement Date",null,"Budget Object Class   (BOC)","VERNDOR           REQ # / CONTACT  (optional)","Item(s) purchased",null,"Vendor",null,"Amount","Paid by Conv. Check","Check Fee Amount (1.7%)","Total to Date"]
[null,null,null,null,null,null,null,null,null,null,null,null,null,"YEAR TO DATE EXPENDITURES",null,null,{"$f":"SUM(AUG!$Q$60:$R$84)+AUG!$Q$7","v":0},null,null,null,null,"ACCOUNT NUMBER"]
[1,null,null,null,null,null,null,{"$f":"IF(T8=$A$60,RIGHT($L$60,5),IF(T8=$A$61,RIGHT($L$61,5),IF(T8=$A$62,RIGHT($L$62,5),IF(T8=$A$63,RIGHT($L$63,5),IF(T8=$A$64,RIGHT($L$64,5),IF(T8=$A$65,RIGHT($L$65,5),IF(T8=$A$66,RIGHT($L$66,5),IF(T8=$A$67,RIGHT($L$67,5),IF(T8=$A$68,RIGHT($L$68,5),IF(T8=$A$69,RIGHT($L$69,5),IF(T8=$A$70,RIGHT($L$70,5),IF(T8=$A$71,RIGHT($L$71,5),IF(T8=$A$72,RIGHT($L$72,5),IF(T8=$A$73,RIGHT($L$73,5),IF(T8=$A$74,RIGHT($L$74,5),IF(T8=$A$75,RIGHT($L$75,5),IF(T8=$A$76,RIGHT($L$76,5),IF(T8=$A$77,RIGHT($L$77,5),IF(T8=$A$78,RIGHT($L$78,5),IF(T8=$A$79,RIGHT($L$79,5),IF(T8=$A$80,RIGHT($L$80,5),IF(T8=$A$81,RIGHT($L$81,5),IF(T8=$A$82,RIGHT($L$82,5),IF(T8=$A$83,RIGHT($L$83,5),IF(T8=$A$84,RIGHT($L$84,5),\"\")))))))))))))))))))))))))","v":""},null,null,null,null,null,null,null,{"$f":"IF(C8=\"\",\"\",IF(O8=\"Y\",N8*0.017,0))","v":""},{"$f":"IF(N8=\"\",\"\",Q7+N8+P8)","v":""},null,null,{"$f":"IF(F8=\"\",\"\",MONTH(F8))","v":""},null,{"$f":"IF('FUNDING SHEET'!A4=\"\",\"\",A60&\"   \"&'FUNDING SHEET'!D4&'FUNDING SHEET'!E4&\"  \"&'FUNDING SHEET'!F4)","v":""}]
[2,null,null,null,null,null,null,{"$f":"IF(T9=$A$60,RIGHT($L$60,5),IF(T9=$A$61,RIGHT($L$61,5),IF(T9=$A$62,RIGHT($L$62,5),IF(T9=$A$63,RIGHT($L$63,5),IF(T9=$A$64,RIGHT($L$64,5),IF(T9=$A$65,RIGHT($L$65,5),IF(T9=$A$66,RIGHT($L$66,5),IF(T9=$A$67,RIGHT($L$67,5),IF(T9=$A$68,RIGHT($L$68,5),IF(T9=$A$69,RIGHT($L$69,5),IF(T9=$A$70,RIGHT($L$70,5),IF(T9=$A$71,RIGHT($L$71,5),IF(T9=$A$72,RIGHT($L$72,5),IF(T9=$A$73,RIGHT($L$73,5),IF(T9=$A$74,RIGHT($L$74,5),IF(T9=$A$75,RIGHT($L$75,5),IF(T9=$A$76,RIGHT($L$76,5),IF(T9=$A$77,RIGHT($L$77,5),IF(T9=$A$78,RIGHT($L$78,5),IF(T9=$A$79,RIGHT($L$79,5),IF(T9=$A$80,RIGHT($L$80,5),IF(T9=$A$81,RIGHT($L$81,5),IF(T9=$A$82,RIGHT($L$82,5),IF(T9=$A$83,RIGHT($L$83,5),IF(T9=$A$84,RIGHT($L$84,5),\"\")))))))))))))))))))))))))","v":""},null,null,null,null,null,null,null,{"$f":"IF(C9=\"\",\"\",IF(O9=\"Y\",N9*0.017,0))","v":""},{"$f":"IF(N9=\"\",\"\",Q8+N9+P9)","v":""},null,null,{"$f":"IF(F9=\"\",\"\",MONTH(F9))","v":""},null,{"$f":"IF('FUNDING SHEET'!A5=\"\",\"\",A61&\"   \"&'FUNDING SHEET'!D5&'FUNDING SHEET'!E5&\"  \"&'FUNDING SHEET'!F5)","v":""}]
[3,null,null,null,null,null,null,"",null,null,null,null,null,null,null,"",{"$f":"IF(N10=\"\",\"\",Q9+N10+P10)","v":""},null,null,"",null,{"$f":"IF('FUNDING SHEET'!A6=\"\",\"\",A62&\"  \"&'FUNDING SHEET'!D6&\" \"&'FUNDING SHEET'!E6&\"  \"&'FUNDING SHEET'!F6)","v":""}]
[4,null,null,null,null,null,null,"",null,null,null,null,null,null,null,"","",null,null,"",null,{"$f":"IF('FUNDING SHEET'!A7=\"\",\"\",A63&\"  \"&'FUNDING SHEET'!D7&\" \"&'FUNDING SHEET'!E7&\"  \"&'FUNDING SHEET'!F7)","v":""}]
[5,null,null,null,null,null,null,"",null,null,null,null,null,null,null,"","",null,null,"",null,{"$f":"IF('FUNDING SHEET'!A8=\"\",\"\",A64&\"  \"&'FUNDING SHEET'!D8&\" \"&'FUNDING SHEET'!E8&\"  \"&'FUNDING SHEET'!F8)","v":""}]
[6,null,null,null,null,null,null,"",null,null,null,null,null,null,null,"","",null,null,"",null,{"$f":"IF('FUNDING SHEET'!A9=\"\",\"\",A65&\"  \"&'FUNDING SHEET'!D9&\" \"&'FUNDING SHEET'!E9&\"  \"&'FUNDING SHEET'!F9)","v":""}]
[7,null,null,null,null,null,null,"",null,null,null,null,null,null,null,"","",null,null,"",null,{"$f":"IF('FUNDING SHEET'!A10=\"\",\"\",A66&\"  \"&'FUNDING SHEET'!D10&\" \"&'FUNDING SHEET'!E10&\"  \"&'FUNDING SHEET'!F10)","v":""}]
[8,null,null,null,null,null,null,"",null,null,null,null,null,null,null,"","",null,null,"",null,{"$f":"IF('FUNDING SHEET'!A11=\"\",\"\",A67&\"  \"&'FUNDING SHEET'!D11&\" \"&'FUNDING SHEET'!E11&\"  \"&'FUNDING SHEET'!F11)","v":""}]
[9,null,null,null,null,null,null,"",null,null,null,null,null,null,null,"","",null,null,"",null,{"$f":"IF('FUNDING SHEET'!A12=\"\",\"\",A68&\"  \"&'FUNDING SHEET'!D12&\" \"&'FUNDING SHEET'!E12&\"  \"&'FUNDING SHEET'!F12)","v":""}]
[10,null,null,null,null,null,null,"",null,null,null,null,null,null,null,"","",null,null,"",null,{"$f":"IF('FUNDING SHEET'!A13=\"\",\"\",A69&\"  \"&'FUNDING SHEET'!D13&\" \"&'FUNDING SHEET'!E13&\"  \"&'FUNDING SHEET'!F13)","v":""}]
[11,null,null,null,null,null,null,"",null,null,null,null,null,null,null,"","",null,null,"",null,{"$f":"IF('FUNDING SHEET'!A14=\"\",\"\",A70&\"  \"&'FUNDING SHEET'!D14&\" \"&'FUNDING SHEET'!E14&\"  \"&'FUNDING SHEET'!F14)","v":""}]
[12,null,null,null,null,null,null,"",null,null,null,null,null,null,null,"","",null,null,"",null,{"$f":"IF('FUNDING SHEET'!A15=\"\",\"\",A71&\"  \"&'FUNDING SHEET'!D15&\" \"&'FUNDING SHEET'!E15&\"  \"&'FUNDING SHEET'!F15)","v":""}]
[13,null,null,null,null,null,null,"",null,null,null,null,null,null,null,"","",null,null,"",null,{"$f":"IF('FUNDING SHEET'!A16=\"\",\"\",A72&\"  \"&'FUNDING SHEET'!D16&\" \"&'FUNDING SHEET'!E16&\"  \"&'FUNDING SHEET'!F16)","v":""}]
[14,null,null,null,null,null,null,"",null,null,null,null,null,null,null,"","",null,null,"",null,{"$f":"IF('FUNDING SHEET'!A17=\"\",\"\",A73&\"  \"&'FUNDING SHEET'!D17&\" \"&'FUNDING SHEET'!E17&\"  \"&'FUNDING SHEET'!F17)","v":""}]
[15,null,null,null,null,null,null,"",null,null,null,null,null,null,null,"","",null,null,"",null,{"$f":"IF('FUNDING SHEET'!A18=\"\",\"\",A74&\"  \"&'FUNDING SHEET'!D18&\" \"&'FUNDING SHEET'!E18&\"  \"&'FUNDING SHEET'!F18)","v":""}]
[16,null,null,null,null,null,null,"",null,null,null,null,null,null,null,"","",null,null,"",null,{"$f":"IF('FUNDING SHEET'!A19=\"\",\"\",A75&\"  \"&'FUNDING SHEET'!D19&\" \"&'FUNDING SHEET'!E19&\"  \"&'FUNDING SHEET'!F19)","v":""}]
[17,null,null,null,null,null,null,"",null,null,null,null,null,null,null,"","",null,null,"",null,{"$f":"IF('FUNDING SHEET'!A20=\"\",\"\",A76&\"  \"&'FUNDING SHEET'!D20&\" \"&'FUNDING SHEET'!E20&\"  \"&'FUNDING SHEET'!F20)","v":""}]
[18,null,null,null,null,null,null,"",null,null,null,null,null,null,null,"","",null,null,"",null,{"$f":"IF('FUNDING SHEET'!A21=\"\",\"\",A77&\"  \"&'FUNDING SHEET'!D21&\" \"&'FUNDING SHEET'!E21&\"  \"&'FUNDING SHEET'!F21)","v":""}]
[19,null,null,null,null,null,null,"",null,null,null,null,null,null,null,"","",null,null,"",null,{"$f":"IF('FUNDING SHEET'!A22=\"\",\"\",A78&\"  \"&'FUNDING SHEET'!D22&\" \"&'FUNDING SHEET'!E22&\"  \"&'FUNDING SHEET'!F22)","v":""}]
[20,null,null,null,null,null,null,"",null,null,null,null,null,null,null,"","",null,null,"",null,{"$f":"IF('FUNDING SHEET'!A23=\"\",\"\",A79&\"  \"&'FUNDING SHEET'!D23&\" \"&'FUNDING SHEET'!E23&\"  \"&'FUNDING SHEET'!F23)","v":""}]
[21,null,null,null,null,null,null,"",null,null,null,null,null,null,null,"","",null,null,"",null,{"$f":"IF('FUNDING SHEET'!A24=\"\",\"\",A80&\"  \"&'FUNDING SHEET'!D24&\" \"&'FUNDING SHEET'!E24&\"  \"&'FUNDING SHEET'!F24)","v":""}]
[22,null,null,null,null,null,null,"",null,null,null,null,null,null,null,"","",null,null,"",null,{"$f":"IF('FUNDING SHEET'!A25=\"\",\"\",A81&\"  \"&'FUNDING SHEET'!D25&\" \"&'FUNDING SHEET'!E25&\"  \"&'FUNDING SHEET'!F25)","v":""}]
[23,null,null,null,null,null,null,"",null,null,null,null,null,null,null,"","",null,null,"",null,{"$f":"IF('FUNDING SHEET'!A26=\"\",\"\",A82&\"  \"&'FUNDING SHEET'!D26&\" \"&'FUNDING SHEET'!E26&\"  \"&'FUNDING SHEET'!F26)","v":""}]
[24,null,null,null,null,null,null,"",null,null,null,null,null,null,null,"","",null,null,"",null,{"$f":"IF('FUNDING SHEET'!A27=\"\",\"\",A83&\"  \"&'FUNDING SHEET'!D27&\" \"&'FUNDING SHEET'!E27&\"  \"&'FUNDING SHEET'!F27)","v":""}]
[25,null,null,null,null,null,null,"",null,null,null,null,null,null,null,"","",null,null,"",null,{"$f":"IF('FUNDING SHEET'!A28=\"\",\"\",A84&\"  \"&'FUNDING SHEET'!D28&\" \"&'FUNDING SHEET'!E28&\"  \"&'FUNDING SHEET'!F28)","v":""}]
[26,null,null,null,null,null,null,"",null,null,null,null,null,null,null,"","",null,null,""]
[27,null,null,null,null,null,null,"",null,null,null,null,null,null,null,"","",null,null,""]
[28,null,null,null,null,null,null,"",null,null,null,null,null,null,null,"","",null,null,""]
[29,null,null,null,null,null,null,"",null,null,null,null,null,null,null,"","",null,null,""]
[30,null,null,null,null,null,null,"",null,null,null,null,null,null,null,"","",null,null,""]
[31,null,null,null,null,null,null,"",null,null,null,null,null,null,null,"","",null,null,""]
[32,null,null,null,null,null,null,"",null,null,null,null,null,null,null,"","",null,null,""]
[33,null,null,null,null,null,null,"",null,null,null,null,null,null,null,"","",null,null,""]
[34,null,null,null,null,null,null,"",null,null,null,null,null,null,null,"","",null,null,""]
[35,null,null,null,null,null,null,"",null,null,null,null,null,null,null,"","",null,null,""]
[36,null,null,null,null,null,null,"",null,null,null,null,null,null,null,"","",null,null,""]
[37,null,null,null,null,null,null,"",null,null,null,null,null,null,null,"","",null,null,""]
[38,null,null,null,null,null,null,"",null,null,null,null,null,null,null,"","",null,null,""]
[39,null,null,null,null,null,null,"",null,null,null,null,null,null,null,"","",null,null,""]
[40,null,null,null,null,null,null,"",null,null,null,null,null,null,null,"","",null,null,""]
[41,null,null,null,null,null,null,"",null,null,null,null,null,null,null,"","",null,null,""]
[42,null,null,null,null,null,null,"",null,null,null,null,null,null,null,"","",null,null,""]
[43,null,null,null,null,null,null,"",null,null,null,null,null,null,null,"","",null,null,""]
[44,null,null,null,null,null,null,"",null,null,null,null,null,null,null,"","",null,null,""]
[45,null,null,null,null,null,null,"",null,null,null,null,null,null,null,"","",null,null,""]
[46,null,null,null,null,null,null,"",null,null,null,null,null,null,null,"","",null,null,""]
[47,null,null,null,null,null,null,"",null,null,null,null,null,null,null,"","",null,null,""]
[48,null,null,null,null,null,null,"",null,null,null,null,null,null,null,"","",null,null,""]
[49,null,null,null,null,null,null,"",null,null,null,null,null,null,null,"","",null,null,""]
[50,null,null,null,null,null,null,"",null,null,null,null,null,null,null,"","",null,null,""]
["ACCOUNT INFORMATION"]
["Line #",null,"Date",null,"PR #","PROJECT",null,null,"LINE ITEM NOMENCLATURE",null,"ACCOUNT NUMBER (WITH BOC)",null,null,"PR Funding","Previous Expenditures",null,"Current Expenditures",null,"Remaining Funds"]
[1,null,{"$f":"IF('FUNDING SHEET'!A4=\"\",\"\",'FUNDING SHEET'!A4)","v":""},null,{"$f":"IF('FUNDING SHEET'!B4=\"\",\"\",'FUNDING SHEET'!B4)","v":""},null,null,null,{"$f":"IF('FUNDING SHEET'!C4=\"\",\"\",'FUNDING SHEET'!C4)","v":""},null,{"$f":"'FUNDING SHEET'!J4","v":"    "},null,null,{"$f":"SUMIF('FUNDING SHEET'!$J$4:$J$28,K60,'FUNDING SHEET'!$I$4:$I$28)+SUMIF('FUNDING SHEET'!$J$30:$J$229,K60,'FUNDING SHEET'!$H$30:$H$229)","v":0},{"$f":"SUM(AUG!O60:R60)","v":0},null,{"$f":"SUMIF($S$8:$S$57,A60,$N$8:$N$57)+SUMIF($S$8:$S$57,A60,$P$8:$P$57)","v":0},null,{"$f":"N60-O60-Q60","v":0}]
[2,null,{"$f":"IF('FUNDING SHEET'!A5=\"\",\"\",'FUNDING SHEET'!A5)","v":""},null,{"$f":"IF('FUNDING SHEET'!B5=\"\",\"\",'FUNDING SHEET'!B5)","v":""},null,null,null,{"$f":"IF('FUNDING SHEET'!C5=\"\",\"\",'FUNDING SHEET'!C5)","v":""},null,{"$f":"'FUNDING SHEET'!J5","v":"    "},null,null,{"$f":"SUMIF('FUNDING SHEET'!$J$4:$J$28,K61,'FUNDING SHEET'!$I$4:$I$28)+SUMIF('FUNDING SHEET'!$J$30:$J$229,K61,'FUNDING SHEET'!$H$30:$H$229)","v":0},{"$f":"SUM(AUG!O61:R61)","v":0},null,0,null,0]
[3,null,{"$f":"IF('FUNDING SHEET'!A6=\"\",\"\",'FUNDING SHEET'!A6)","v":""},null,{"$f":"IF('FUNDING SHEET'!B6=\"\",\"\",'FUNDING SHEET'!B6)","v":""},null,null,null,{"$f":"IF('FUNDING SHEET'!C6=\"\",\"\",'FUNDING SHEET'!C6)","v":""},null,{"$f":"'FUNDING SHEET'!J6","v":"    "},null,null,{"$f":"SUMIF('FUNDING SHEET'!$J$4:$J$28,K62,'FUNDING SHEET'!$I$4:$I$28)+SUMIF('FUNDING SHEET'!$J$30:$J$229,K62,'FUNDING SHEET'!$H$30:$H$229)","v":0},{"$f":"SUM(AUG!O62:R62)","v":0},null,0,null,0]
[4,null,{"$f":"IF('FUNDING SHEET'!A7=\"\",\"\",'FUNDING SHEET'!A7)","v":""},null,{"$f":"IF('FUNDING SHEET'!B7=\"\",\"\",'FUNDING SHEET'!B7)","v":""},null,null,null,{"$f":"IF('FUNDING SHEET'!C7=\"\",\"\",'FUNDING SHEET'!C7)","v":""},null,{"$f":"'FUNDING SHEET'!J7","v":"    "},null,null,{"$f":"SUMIF('FUNDING SHEET'!$J$4:$J$28,K63,'FUNDING SHEET'!$I$4:$I$28)+SUMIF('FUNDING SHEET'!$J$30:$J$229,K63,'FUNDING SHEET'!$H$30:$H$229)","v":0},{"$f":"SUM(AUG!O63:R63)","v":0},null,0,null,0]
[5,null,{"$f":"IF('FUNDING SHEET'!A8=\"\",\"\",'FUNDING SHEET'!A8)","v":""},null,{"$f":"IF('FUNDING SHEET'!B8=\"\",\"\",'FUNDING SHEET'!B8)","v":""},null,null,null,{"$f":"IF('FUNDING SHEET'!C8=\"\",\"\",'FUNDING SHEET'!C8)","v":""},null,{"$f":"'FUNDING SHEET'!J8","v":"    "},null,null,{"$f":"SUMIF('FUNDING SHEET'!$J$4:$J$28,K64,'FUNDING SHEET'!$I$4:$I$28)+SUMIF('FUNDING SHEET'!$J$30:$J$229,K64,'FUNDING SHEET'!$H$30:$H$229)","v":0},{"$f":"SUM(AUG!O64:R64)","v":0},null,0,null,0]
[6,null,{"$f":"IF('FUNDING SHEET'!A9=\"\",\"\",'FUNDING SHEET'!A9)","v":""},null,{"$f":"IF('FUNDING SHEET'!B9=\"\",\"\",'FUNDING SHEET'!B9)","v":""},null,null,null,{"$f":"IF('FUNDING SHEET'!C9=\"\",\"\",'FUNDING SHEET'!C9)","v":""},null,{"$f":"'FUNDING SHEET'!J9","v":"    "},null,null,{"$f":"SUMIF('FUNDING SHEET'!$J$4:$J$28,K65,'FUNDING SHEET'!$I$4:$I$28)+SUMIF('FUNDING SHEET'!$J$30:$J$229,K65,'FUNDING SHEET'!$H$30:$H$229)","v":0},{"$f":"SUM(AUG!O65:R65)","v":0},null,0,null,0]
[7,null,{"$f":"IF('FUNDING SHEET'!A10=\"\",\"\",'FUNDING SHEET'!A10)","v":""},null,{"$f":"IF('FUNDING SHEET'!B10=\"\",\"\",'FUNDING SHEET'!B10)","v":""},null,null,null,{"$f":"IF('FUNDING SHEET'!C10=\"\",\"\",'FUNDING SHEET'!C10)","v":""},null,{"$f":"'FUNDING SHEET'!J10","v":"    "},null,null,{"$f":"SUMIF('FUNDING SHEET'!$J$4:$J$28,K66,'FUNDING SHEET'!$I$4:$I$28)+SUMIF('FUNDING SHEET'!$J$30:$J$229,K66,'FUNDING SHEET'!$H$30:$H$229)","v":0},{"$f":"SUM(AUG!O66:R66)","v":0},null,0,null,0]
[8,null,{"$f":"IF('FUNDING SHEET'!A11=\"\",\"\",'FUNDING SHEET'!A11)","v":""},null,{"$f":"IF('FUNDING SHEET'!B11=\"\",\"\",'FUNDING SHEET'!B11)","v":""},null,null,null,{"$f":"IF('FUNDING SHEET'!C11=\"\",\"\",'FUNDING SHEET'!C11)","v":""},null,{"$f":"'FUNDING SHEET'!J11","v":"    "},null,null,{"$f":"SUMIF('FUNDING SHEET'!$J$4:$J$28,K67,'FUNDING SHEET'!$I$4:$I$28)+SUMIF('FUNDING SHEET'!$J$30:$J$229,K67,'FUNDING SHEET'!$H$30:$H$229)","v":0},{"$f":"SUM(AUG!O67:R67)","v":0},null,0,null,0]
[9,null,{"$f":"IF('FUNDING SHEET'!A12=\"\",\"\",'FUNDING SHEET'!A12)","v":""},null,{"$f":"IF('FUNDING SHEET'!B12=\"\",\"\",'FUNDING SHEET'!B12)","v":""},null,null,null,{"$f":"IF('FUNDING SHEET'!C12=\"\",\"\",'FUNDING SHEET'!C12)","v":""},null,{"$f":"'FUNDING SHEET'!J12","v":"    "},null,null,{"$f":"SUMIF('FUNDING SHEET'!$J$4:$J$28,K68,'FUNDING SHEET'!$I$4:$I$28)+SUMIF('FUNDING SHEET'!$J$30:$J$229,K68,'FUNDING SHEET'!$H$30:$H$229)","v":0},{"$f":"SUM(AUG!O68:R68)","v":0},null,0,null,0]
[10,null,{"$f":"IF('FUNDING SHEET'!A13=\"\",\"\",'FUNDING SHEET'!A13)","v":""},null,{"$f":"IF('FUNDING SHEET'!B13=\"\",\"\",'FUNDING SHEET'!B13)","v":""},null,null,null,{"$f":"IF('FUNDING SHEET'!C13=\"\",\"\",'FUNDING SHEET'!C13)","v":""},null,{"$f":"'FUNDING SHEET'!J13","v":"    "},null,null,{"$f":"SUMIF('FUNDING SHEET'!$J$4:$J$28,K69,'FUNDING SHEET'!$I$4:$I$28)+SUMIF('FUNDING SHEET'!$J$30:$J$229,K69,'FUNDING SHEET'!$H$30:$H$229)","v":0},{"$f":"SUM(AUG!O69:R69)","v":0},null,0,null,0]
[11,null,{"$f":"IF('FUNDING SHEET'!A14=\"\",\"\",'FUNDING SHEET'!A14)","v":""},null,{"$f":"IF('FUNDING SHEET'!B14=\"\",\"\",'FUNDING SHEET'!B14)","v":""},null,null,null,{"$f":"IF('FUNDING SHEET'!C14=\"\",\"\",'FUNDING SHEET'!C14)","v":""},null,{"$f":"'FUNDING SHEET'!J14","v":"    "},null,null,{"$f":"SUMIF('FUNDING SHEET'!$J$4:$J$28,K70,'FUNDING SHEET'!$I$4:$I$28)+SUMIF('FUNDING SHEET'!$J$30:$J$229,K70,'FUNDING SHEET'!$H$30:$H$229)","v":0},{"$f":"SUM(AUG!O70:R70)","v":0},null,0,null,0]
[12,null,{"$f":"IF('FUNDING SHEET'!A15=\"\",\"\",'FUNDING SHEET'!A15)","v":""},null,{"$f":"IF('FUNDING SHEET'!B15=\"\",\"\",'FUNDING SHEET'!B15)","v":""},null,null,null,{"$f":"IF('FUNDING SHEET'!C15=\"\",\"\",'FUNDING SHEET'!C15)","v":""},null,{"$f":"'FUNDING SHEET'!J15","v":"    "},null,null,{"$f":"SUMIF('FUNDING SHEET'!$J$4:$J$28,K71,'FUNDING SHEET'!$I$4:$I$28)+SUMIF('FUNDING SHEET'!$J$30:$J$229,K71,'FUNDING SHEET'!$H$30:$H$229)","v":0},{"$f":"SUM(AUG!O71:R71)","v":0},null,0,null,0]
[13,null,{"$f":"IF('FUNDING SHEET'!A16=\"\",\"\",'FUNDING SHEET'!A16)","v":""},null,{"$f":"IF('FUNDING SHEET'!B16=\"\",\"\",'FUNDING SHEET'!B16)","v":""},null,null,null,{"$f":"IF('FUNDING SHEET'!C16=\"\",\"\",'FUNDING SHEET'!C16)","v":""},null,{"$f":"'FUNDING SHEET'!J16","v":"    "},null,null,{"$f":"SUMIF('FUNDING SHEET'!$J$4:$J$28,K72,'FUNDING SHEET'!$I$4:$I$28)+SUMIF('FUNDING SHEET'!$J$30:$J$229,K72,'FUNDING SHEET'!$H$30:$H$229)","v":0},{"$f":"SUM(AUG!O72:R72)","v":0},null,0,null,0]
[14,null,{"$f":"IF('FUNDING SHEET'!A17=\"\",\"\",'FUNDING SHEET'!A17)","v":""},null,{"$f":"IF('FUNDING SHEET'!B17=\"\",\"\",'FUNDING SHEET'!B17)","v":""},null,null,null,{"$f":"IF('FUNDING SHEET'!C17=\"\",\"\",'FUNDING SHEET'!C17)","v":""},null,{"$f":"'FUNDING SHEET'!J17","v":"    "},null,null,{"$f":"SUMIF('FUNDING SHEET'!$J$4:$J$28,K73,'FUNDING SHEET'!$I$4:$I$28)+SUMIF('FUNDING SHEET'!$J$30:$J$229,K73,'FUNDING SHEET'!$H$30:$H$229)","v":0},{"$f":"SUM(AUG!O73:R73)","v":0},null,0,null,0]
[15,null,{"$f":"IF('FUNDING SHEET'!A18=\"\",\"\",'FUNDING SHEET'!A18)","v":""},null,{"$f":"IF('FUNDING SHEET'!B18=\"\",\"\",'FUNDING SHEET'!B18)","v":""},null,null,null,{"$f":"IF('FUNDING SHEET'!C18=\"\",\"\",'FUNDING SHEET'!C18)","v":""},null,{"$f":"'FUNDING SHEET'!J18","v":"    "},null,null,{"$f":"SUMIF('FUNDING SHEET'!$J$4:$J$28,K74,'FUNDING SHEET'!$I$4:$I$28)+SUMIF('FUNDING SHEET'!$J$30:$J$229,K74,'FUNDING SHEET'!$H$30:$H$229)","v":0},{"$f":"SUM(AUG!O74:R74)","v":0},null,0,null,0]
[16,null,{"$f":"IF('FUNDING SHEET'!A19=\"\",\"\",'FUNDING SHEET'!A19)","v":""},null,{"$f":"IF('FUNDING SHEET'!B19=\"\",\"\",'FUNDING SHEET'!B19)","v":""},null,null,null,{"$f":"IF('FUNDING SHEET'!C19=\"\",\"\",'FUNDING SHEET'!C19)","v":""},null,{"$f":"'FUNDING SHEET'!J19","v":"    "},null,null,{"$f":"SUMIF('FUNDING SHEET'!$J$4:$J$28,K75,'FUNDING SHEET'!$I$4:$I$28)+SUMIF('FUNDING SHEET'!$J$30:$J$229,K75,'FUNDING SHEET'!$H$30:$H$229)","v":0},{"$f":"SUM(AUG!O75:R75)","v":0},null,0,null,0]
[17,null,{"$f":"IF('FUNDING SHEET'!A20=\"\",\"\",'FUNDING SHEET'!A20)","v":""},null,{"$f":"IF('FUNDING SHEET'!B20=\"\",\"\",'FUNDING SHEET'!B20)","v":""},null,null,null,{"$f":"IF('FUNDING SHEET'!C20=\"\",\"\",'FUNDING SHEET'!C20)","v":""},null,{"$f":"'FUNDING SHEET'!J20","v":"    "},null,null,{"$f":"SUMIF('FUNDING SHEET'!$J$4:$J$28,K76,'FUNDING SHEET'!$I$4:$I$28)+SUMIF('FUNDING SHEET'!$J$30:$J$229,K76,'FUNDING SHEET'!$H$30:$H$229)","v":0},{"$f":"SUM(AUG!O76:R76)","v":0},null,0,null,0]
[18,null,{"$f":"IF('FUNDING SHEET'!A21=\"\",\"\",'FUNDING SHEET'!A21)","v":""},null,{"$f":"IF('FUNDING SHEET'!B21=\"\",\"\",'FUNDING SHEET'!B21)","v":""},null,null,null,{"$f":"IF('FUNDING SHEET'!C21=\"\",\"\",'FUNDING SHEET'!C21)","v":""},null,{"$f":"'FUNDING SHEET'!J21","v":"    "},null,null,{"$f":"SUMIF('FUNDING SHEET'!$J$4:$J$28,K77,'FUNDING SHEET'!$I$4:$I$28)+SUMIF('FUNDING SHEET'!$J$30:$J$229,K77,'FUNDING SHEET'!$H$30:$H$229)","v":0},{"$f":"SUM(AUG!O77:R77)","v":0},null,0,null,0]
[19,null,{"$f":"IF('FUNDING SHEET'!A22=\"\",\"\",'FUNDING SHEET'!A22)","v":""},null,{"$f":"IF('FUNDING SHEET'!B22=\"\",\"\",'FUNDING SHEET'!B22)","v":""},null,null,null,{"$f":"IF('FUNDING SHEET'!C22=\"\",\"\",'FUNDING SHEET'!C22)","v":""},null,{"$f":"'FUNDING SHEET'!J22","v":"    "},null,null,{"$f":"SUMIF('FUNDING SHEET'!$J$4:$J$28,K78,'FUNDING SHEET'!$I$4:$I$28)+SUMIF('FUNDING SHEET'!$J$30:$J$229,K78,'FUNDING SHEET'!$H$30:$H$229)","v":0},{"$f":"SUM(AUG!O78:R78)","v":0},null,0,null,0]
[20,null,{"$f":"IF('FUNDING SHEET'!A23=\"\",\"\",'FUNDING SHEET'!A23)","v":""},null,{"$f":"IF('FUNDING SHEET'!B23=\"\",\"\",'FUNDING SHEET'!B23)","v":""},null,null,null,{"$f":"IF('FUNDING SHEET'!C23=\"\",\"\",'FUNDING SHEET'!C23)","v":""},null,{"$f":"'FUNDING SHEET'!J23","v":"    "},null,null,{"$f":"SUMIF('FUNDING SHEET'!$J$4:$J$28,K79,'FUNDING SHEET'!$I$4:$I$28)+SUMIF('FUNDING SHEET'!$J$30:$J$229,K79,'FUNDING SHEET'!$H$30:$H$229)","v":0},{"$f":"SUM(AUG!O79:R79)","v":0},null,0,null,0]
[21,null,{"$f":"IF('FUNDING SHEET'!A24=\"\",\"\",'FUNDING SHEET'!A24)","v":""},null,{"$f":"IF('FUNDING SHEET'!B24=\"\",\"\",'FUNDING SHEET'!B24)","v":""},null,null,null,{"$f":"IF('FUNDING SHEET'!C24=\"\",\"\",'FUNDING SHEET'!C24)","v":""},null,{"$f":"'FUNDING SHEET'!J24","v":"    "},null,null,{"$f":"SUMIF('FUNDING SHEET'!$J$4:$J$28,K80,'FUNDING SHEET'!$I$4:$I$28)+SUMIF('FUNDING SHEET'!$J$30:$J$229,K80,'FUNDING SHEET'!$H$30:$H$229)","v":0},{"$f":"SUM(AUG!O80:R80)","v":0},null,0,null,0]
[22,null,{"$f":"IF('FUNDING SHEET'!A25=\"\",\"\",'FUNDING SHEET'!A25)","v":""},null,{"$f":"IF('FUNDING SHEET'!B25=\"\",\"\",'FUNDING SHEET'!B25)","v":""},null,null,null,{"$f":"IF('FUNDING SHEET'!C25=\"\",\"\",'FUNDING SHEET'!C25)","v":""},null,{"$f":"'FUNDING SHEET'!J25","v":"    "},null,null,{"$f":"SUMIF('FUNDING SHEET'!$J$4:$J$28,K81,'FUNDING SHEET'!$I$4:$I$28)+SUMIF('FUNDING SHEET'!$J$30:$J$229,K81,'FUNDING SHEET'!$H$30:$H$229)","v":0},{"$f":"SUM(AUG!O81:R81)","v":0},null,0,null,0]
[23,null,{"$f":"IF('FUNDING SHEET'!A26=\"\",\"\",'FUNDING SHEET'!A26)","v":""},null,{"$f":"IF('FUNDING SHEET'!B26=\"\",\"\",'FUNDING SHEET'!B26)","v":""},null,null,null,{"$f":"IF('FUNDING SHEET'!C26=\"\",\"\",'FUNDING SHEET'!C26)","v":""},null,{"$f":"'FUNDING SHEET'!J26","v":"    "},null,null,{"$f":"SUMIF('FUNDING SHEET'!$J$4:$J$28,K82,'FUNDING SHEET'!$I$4:$I$28)+SUMIF('FUNDING SHEET'!$J$30:$J$229,K82,'FUNDING SHEET'!$H$30:$H$229)","v":0},{"$f":"SUM(AUG!O82:R82)","v":0},null,0,null,0]
[24,null,{"$f":"IF('FUNDING SHEET'!A27=\"\",\"\",'FUNDING SHEET'!A27)","v":""},null,{"$f":"IF('FUNDING SHEET'!B27=\"\",\"\",'FUNDING SHEET'!B27)","v":""},null,null,null,{"$f":"IF('FUNDING SHEET'!C27=\"\",\"\",'FUNDING SHEET'!C27)","v":""},null,{"$f":"'FUNDING SHEET'!J27","v":"    "},null,null,{"$f":"SUMIF('FUNDING SHEET'!$J$4:$J$28,K83,'FUNDING SHEET'!$I$4:$I$28)+SUMIF('FUNDING SHEET'!$J$30:$J$229,K83,'FUNDING SHEET'!$H$30:$H$229)","v":0},{"$f":"SUM(AUG!O83:R83)","v":0},null,0,null,0]
[25,null,{"$f":"IF('FUNDING SHEET'!A28=\"\",\"\",'FUNDING SHEET'!A28)","v":""},null,{"$f":"IF('FUNDING SHEET'!B28=\"\",\"\",'FUNDING SHEET'!B28)","v":""},null,null,null,{"$f":"IF('FUNDING SHEET'!C28=\"\",\"\",'FUNDING SHEET'!C28)","v":""},null,{"$f":"'FUNDING SHEET'!J28","v":"    "},null,null,{"$f":"SUMIF('FUNDING SHEET'!$J$4:$J$28,K84,'FUNDING SHEET'!$I$4:$I$28)+SUMIF('FUNDING SHEET'!$J$30:$J$229,K84,'FUNDING SHEET'!$H$30:$H$229)","v":0},{"$f":"SUM(AUG!O84:R84)","v":0},null,0,null,0]
[null,null,null,null,null,null,null,null,null,null,null,"TOTALS:",null,{"$f":"SUM(N60:N84)","v":0},{"$f":"SUM(O60:O84)","v":0},null,{"$f":"SUM(Q60:Q84)","v":0},null,{"$f":"SUM(S60:S84)","v":0}]